{"text_format":"1","workbook":"xlsx","n_sheets":38,"sheets":["Start","InternVorlagen","InternInfos","InternVorlagenAuswertung","InternAuswertung","InternDaten","Allg. Betriebsdaten_GF","Allg. Betriebsdaten_SW","Erhebungen_GF","Erhebungen_SW","GF_SP","GF_GW","GF_GWAUTO","GF_MB","GF_SB","SW_EINZEL","SW_BUCHT","SW_SB","SW_SCHWANZ","SW_BESTAND","ET_AZ","Ergebnisse_GF","Ergebnisse_SW","Allg. Betriebsdaten","Erhebungen","RD_MILCH","RD_KALB","RD_EINZEL","RD_HORN","RD_BUCHT","RD_BUCHTKALB","RD_VERLUSTE","RD_EINZELAUSWEICH","Ergebnisse","Information_SW","Information_GF","Information","Impressum"],"not_rendered":{"charts":0,"images":6,"macros":1,"external_links":0,"defined_names":86,"comments":1,"pivot_tables":0},"unopened":[],"bounds":{"document_bytes":16777216,"sheet_cells":100000,"rows_first":2000,"rows_last":500,"rows_between":2000,"halvings":0,"cell_chars":16384,"cell_head_chars":4096},"cells_cut":0,"cells_raw":0,"read":"whole","date_system":"1900"}

{"sheet":"Start","index":0,"n_rows":39,"n_cols":12,"rows_kept":39,"cut":false,"hidden":false,"merged":[[9,4,9,10]]}
[]
[]
[]
[]
[]
[]
[]
[]
[null,null,null,null,"Mit dieser Excel-Anwendung können Sie Tierschutzindikatoren erheben, verrechnen und in einer Ergebnisübersicht darstellen."]
[null,null,null,null,"Für die Nutzung sind die KTBL-Veröffentlichungen „Tierschutzindikatoren: Leitfäden für die Praxis“ erforderlich, in denen die Methoden der Datenerhebung ausführlich beschrieben werden."]
[]
[null,null,null,null,"Zum Bearbeiten klicken Sie ggf. auf den Button „Bearbeitung aktivieren“, danach in der Sicherheitswarnung „Makros …“ auf „Inhalt aktivieren“."]
[null,null,null,null,"Falls Sie einzelne Formulare mit der Hand ausfüllen möchten, nutzen Sie die Druckfunktion. Erläuterungen finden Sie jeweils unter dem Symbol ?."]
[]
[]
[null,null,null,null,"Für welche Tierart möchten Sie die Anwendung nutzen?"]
[]
[null,null,null,null,null,"Geflügel","(Jung- und Legehennen, Masthühner, Mastputen)",null,null,"loslegen ..."]
[]
[null,null,null,null,null,"Rind","(Milchkühe, Aufzuchtkälber, Mastrinder)",null,null,"loslegen ..."]
[]
[null,null,null,null,null,"Schwein","(Sauenhaltung, Saugferkel, Aufzuchtferkel und Mastschweine)",null,null,"loslegen ..."]
[]
[]
[]
[]
[]
[]
[]
[]
[]
[]
[]
[]
[]
[]
[]
[]
[null,null,null,null,null,null,null,null,null,null,null,"© www.agrarfoto.com; Cmon | www.fotolia.com; C. Gajo KTBL"]

{"sheet":"InternVorlagen","index":1,"n_rows":411,"n_cols":23,"rows_kept":411,"cut":false,"hidden":true,"merged":[[1,16,1,18],[29,16,29,18],[56,16,56,18],[208,19,208,20],[166,15,166,19],[124,15,124,19],[2,12,2,13],[30,12,30,13],[57,12,57,13],[210,19,210,20],[310,19,310,20],[84,15,84,19],[308,11,308,12],[210,11,210,15],[31,12,31,14],[58,12,58,14],[3,12,3,14],[234,19,234,20],[236,11,236,15],[157,21,157,22],[311,19,311,20],[312,11,312,15],[312,19,312,20],[236,19,236,20],[268,11,268,12],[270,19,270,20],[271,19,271,20],[272,11,272,15],[272,19,272,20],[206,11,206,12],[232,11,232,12],[235,19,235,20],[209,19,209,20],[389,11,389,15],[389,19,389,20],[361,11,361,15],[361,19,361,20],[360,19,360,20],[336,11,336,12],[339,19,339,20],[385,11,385,12],[387,19,387,20],[388,19,388,20],[338,19,338,20],[340,11,340,15],[357,11,357,12],[359,19,359,20]]}
["BEREICH_START",null,null,null,null,null,"SW_SAU"]
["FORMULAR|I>C1|M>D1|Q>E1",null,null,"POS>M",null,"X",null,null,"Sauen",null,null,"Jahr",null,null,"Halbjahr",null,null,null,null,null,"Erhebung löschen ..."]
[null,null,null,"BETRIEBID>M",null,null,{"$f":"\"T01>\" &IF(OR(BetriebID_SW<>\"\",M3<>\"\",M4<>\"\"),\"[\" & IF(M3<>\"\",M3,BetriebID_SW) & IF(M4<>\"\",\" | \" & M4,\"\") &\"] \",\"\")  & I2 & \" (\" & Q2 & \" \" & M2 & \")\"","v":"T01>Sauen ( )"},null,null,null,null,"Betriebs-ID"]
["FORMULAR|M>F1",null,null,"STALL>M",null,"P",{"$f":"\"T02>\"&Q2&\" \"&M2&\" \"& G5","v":"T02>  "},null,null,null,null,"Betriebsteil/Stall",null,null,null,null,null,null,null,null,"Erhebung drucken ..."]
[null,null,null,null,null,null,{"$f":"IF(OR(BetriebID_SW<>\"\",M3<>\"\",M4<>\"\"),\"[\"&IF(M3<>\"\",M3,BetriebID_SW)& IF(AND(OR(BetriebID_SW<>\"\",M3<>\"\"),M4<>\"\"),\" | \",\"\") & IF(M4<>\"\",M4,\"\")&\"] \",\"\")","v":""}]
[null,null,null,null,null,null,null,null,"Stichproben"]
["FORMULAR|E>B1",null,null,null,"SW_SAU",null,null,null,null,"Anzahl Tiere im …"]
[null,null,null,null,null,null,null,null,null,"Sauen",null,null,"Wartestall",null,"Deckstall",null,"Abferkelstall"]
[]
[null,null,null,null,null,null,null,null,null,"Auswahlregel",null,null,{"$f":"IF(M9>0,IF(M9<=30,\"Jede\",\"Jede \" & ROUND(M9/30,1) &\".\"),\"\")","v":""},null,{"$f":"IF(O9>0,IF(O9<=30,\"Jede\",\"Jede \" & ROUND(O9/30,1) &\".\"),\"\")","v":""},null,{"$f":"IF(Q9>0,IF(Q9<=20,\"Jede\",\"Jede \" & ROUND(Q9/20,1) &\".\"),\"\")","v":""},{"$f":"IF(M10&O10&Q10=\"\",\"\",\"Sau untersuchen.\")","v":""}]
[]
["STICHPROBE_START",null,null,null,null,null,null,null,null,null,"Formular",null,null,null,"Datum"]
["FORMULAR|K>H1|L>I1|O>J1","GEN_ID","SW_EINZEL","SW_DECK",2,"GEN_Z","F11",null,null,null,"Tierbeurteilung/Wasser - Deckstall",null,"ausfüllen ..."]
["FORMULAR|K>H1|L>I1|O>J1","GEN_ID","SW_EINZEL","SW_WARTE",4,"GEN_Z","F12",null,null,null,"Tierbeurteilung/Wasser - Wartestall",null,"ausfüllen ..."]
["FORMULAR|K>H1|L>I1|O>J1","GEN_ID","SW_EINZEL","SW_ABFERKEL",4,"GEN_Z","F13",null,null,null,"Tierbeurteilung/Wasser - Abferkelstall",null,"ausfüllen ..."]
["STICHPROBE_ENDE"]
[null,null,null,null,null,null,null,null,"Fortlaufende Erhebungen"]
["LAUFEND_START",null,null,null,null,null,null,null,null,null,"Formular",null,null,null,"Datum"]
["FORMULAR|K>H1|L>I1|O>J1|Q>K1","GEN_ID","ET_AZ","SW",null,"GEN_Z","F20",null,null,null,"Antibiotikaeinsatz",null,"ausfüllen ..."]
["LAUFEND_ENDE"]
[null,null,null,null,null,null,null,null,"Abschlusserhebungen"]
["ABSCHLUSS_START",null,null,null,null,null,null,null,null,null,"Formular",null,null,null,"Datum"]
["FORMULAR|K>H1|L>I1|O>J1|Q>K1","GEN_ID","SW_SB","SW_SAU",null,"GEN_Z","F40",null,null,null,"Schlachtbefunde",null,"ausfüllen ..."]
["FORMULAR|K>H1|L>I1|O>J1|Q>K1","GEN_ID","SW_BESTAND",null,null,"GEN_Z","F50",null,null,null,"Bestandsbezogene Indikatoren",null,"ausfüllen ..."]
["ABSCHLUSS_ENDE"]
[]
["BEREICH_ENDE"]
[]
["BEREICH_START",null,null,null,null,null,"SW_FERKEL"]
["FORMULAR|I>C1|M>D1|Q>E1",null,null,"POS>M",null,"X",null,null,"Aufzuchtferkel",null,null,"Jahr",null,null,"Halbjahr",null,null,null,null,null,"Erhebung löschen ..."]
["FORMULAR|E>B1",null,null,"BETRIEBID>M","SW_FERKEL",null,{"$f":"\"T01>\" & IF(OR(BetriebID_SW<>\"\",M31<>\"\",M32<>\"\"),\"[\" & IF(M31<>\"\",M31,BetriebID_SW) & IF(M32<>\"\",\" | \" & M32,\"\") &\"] \",\"\")  & I30 & \" (\" & Q30 & \" \" & M30 & \")\"","v":"T01>Aufzuchtferkel ( )"},null,null,null,null,"Betriebs-ID"]
["FORMULAR|M>F1",null,null,"STALL>M",null,"P",{"$f":"\"T02>\"&Q30&\" \"&M30&\" \"& G33","v":"T02>  "},null,null,null,null,"Betriebsteil/Stall",null,null,null,null,null,null,null,null,"Erhebung drucken ..."]
[null,null,null,null,null,null,{"$f":"IF(OR(BetriebID_SW<>\"\",M31<>\"\",M32<>\"\"),\"[\"&IF(M31<>\"\",M31,BetriebID_SW)& IF(AND(OR(BetriebID_SW<>\"\",M31<>\"\"),M32<>\"\"),\" | \",\"\") & IF(M32<>\"\",M32,\"\")&\"] \",\"\")","v":""}]
[null,null,null,null,null,null,null,null,"Stichproben"]
[null,null,null,null,null,null,null,null,null,"Ferkelaufzucht",null,null,"Anzahl Tiere",null,"Anzahl Buchten"]
[]
[null,null,null,null,null,null,null,null,null,"Auswahlregel",null,null,{"$f":"IF(M36>0,IF(M36<=150,\"Bei Tierbeständen mit \"&M36&\" Tieren sollten alle Tiere untersucht werden.\",IF(O36=\"\",\"Bitte Anzahl Buchten eintragen\",IF(O36>10,\"150 Tiere aus 10 zufällig ausgewählten Buchen (jeweils 15 Tiere) untersuchen.\",\"Aus jeder Bucht \"&(ROUND(150/O36,0))&\" zufällig ausgewählte Tiere untersuchen (insg. 150 Tiere).\"))),\"\")","v":""}]
[]
["STICHPROBE_START",null,null,null,null,null,null,null,null,null,"Formular",null,null,null,"Datum"]
["FORMULAR|K>H1|L>I1|O>J1|Q>K1","GEN_ID","SW_BUCHT",null,1,"GEN_Z",{"$f":"\"F1\" & TEXT(E40,\"00\")","v":"F101"},null,null,null,{"$f":"\"Tierbeurteilung/Wasser - Bucht \" & E40","v":"Tierbeurteilung/Wasser - Bucht 1"},null,"ausfüllen ...",null,null,null,null,null,null,null,"Neue Bucht hinzufügen ..."]
["FORMULAR|K>H1|L>I1|O>J1|Q>K1","GEN_ID","SW_BUCHT",null,2,"GEN_Z",{"$f":"\"F1\" & TEXT(E41,\"00\")","v":"F102"},null,null,null,{"$f":"\"Tierbeurteilung/Wasser - Bucht \" & E41","v":"Tierbeurteilung/Wasser - Bucht 2"},null,"ausfüllen ..."]
["STICHPROBE_ENDE"]
[null,null,null,null,null,null,null,null,"Fortlaufende Erhebungen"]
["LAUFEND_START",null,null,null,null,null,null,null,null,null,"Formular",null,null,null,"Datum"]
["FORMULAR|K>H1|L>I1|O>J1|Q>K1","GEN_ID","ET_AZ","SW",null,"GEN_Z","F20",null,null,null,"Antibiotikaeinsatz",null,"ausfüllen ..."]
["FORMULAR|K>H1|L>I1|O>J1|Q>K1","GEN_ID","SW_SCHWANZ",null,null,"GEN_Z","F30",null,null,null,"Schwanzlänge",null,"ausfüllen ..."]
["LAUFEND_ENDE"]
[null,null,null,null,null,null,null,null,"Abschlusserhebungen"]
["ABSCHLUSS_START",null,null,null,null,null,null,null,null,null,"Formular",null,null,null,"Datum"]
["FORMULAR|K>H1|L>I1|O>J1|Q>K1","GEN_ID","SW_SB","MAST",null,"GEN_Z","F40",null,null,null,"Schlachtbefunde",null,"ausfüllen ..."]
["FORMULAR|K>H1|L>I1|O>J1|Q>K1","GEN_ID","SW_BESTAND",null,null,"GEN_Z","F50",null,null,null,"Bestandsbezogene Indikatoren",null,"ausfüllen ..."]
["ABSCHLUSS_ENDE"]
[]
["BEREICH_ENDE"]
[]
["BEREICH_START",null,null,null,null,null,"SW_MAST"]
["FORMULAR|I>C1|M>D1|Q>E1",null,null,"POS>M",null,"X",null,null,"Mastschweine",null,null,"Jahr",null,null,"Halbjahr",null,null,null,null,null,"Erhebung löschen ..."]
["FORMULAR|E>B1",null,null,"BETRIEBID>M","SW_MAST",null,{"$f":"\"T01>\" & IF(OR(BetriebID_SW<>\"\",M58<>\"\",M59<>\"\"),\"[\" & IF(M58<>\"\",M58,BetriebID_SW) & IF(M59<>\"\",\" | \" & M59,\"\") &\"] \",\"\") & I57 & \" (\" & Q57 & \" \" & M57 & \")\"","v":"T01>Mastschweine ( )"},null,null,null,null,"Betriebs-ID"]
["FORMULAR|M>F1",null,null,"STALL>M",null,"P",{"$f":"\"T02>\"&Q57&\" \"&M57&\" \"& G60","v":"T02>  "},null,null,null,null,"Betriebsteil/Stall",null,null,null,null,null,null,null,null,"Erhebung drucken ..."]
[null,null,null,null,null,null,{"$f":"IF(OR(BetriebID_SW<>\"\",M58<>\"\",M59<>\"\"),\"[\"&IF(M58<>\"\",M58,BetriebID_SW)& IF(AND(OR(BetriebID_SW<>\"\",M58<>\"\"),M59<>\"\"),\" | \",\"\") & IF(M59<>\"\",M59,\"\")&\"] \",\"\")","v":""}]
[null,null,null,null,null,null,null,null,"Stichproben"]
[null,null,null,null,null,null,null,null,null,"Schweinemast",null,null,"Anzahl Tiere",null,"Anzahl Buchten"]
[]
[null,null,null,null,null,null,null,null,null,"Auswahlregel",null,null,{"$f":"IF(M63>0,IF(M63<=150,\"Bei Tierbeständen mit \"&M63&\" Tieren sollten alle Tiere untersucht werden.\",IF(O63=\"\",\"Bitte Anzahl Buchten eintragen\",IF(O63>10,\"150 Tiere aus 10 zufällig ausgewählten Buchen (jeweils 15 Tiere) untersuchen.\",\"Aus jeder Bucht \"&(ROUND(150/O63,0))&\" zufällig ausgewählte Tiere untersuchen (insg. 150 Tiere).\"))),\"\")","v":""}]
[]
["STICHPROBE_START",null,null,null,null,null,null,null,null,null,"Formular",null,null,null,"Datum"]
["FORMULAR|K>H1|L>I1|O>J1|Q>K1","GEN_ID","SW_BUCHT",null,1,"GEN_Z",{"$f":"\"F1\" & TEXT(E67,\"00\")","v":"F101"},null,null,null,{"$f":"\"Tierbeurteilung/Wasser - Bucht \" & E67","v":"Tierbeurteilung/Wasser - Bucht 1"},null,"ausfüllen ...",null,null,null,null,null,null,null,"Neue Bucht hinzufügen ..."]
["FORMULAR|K>H1|L>I1|O>J1|Q>K1","GEN_ID","SW_BUCHT",null,2,"GEN_Z",{"$f":"\"F1\" & TEXT(E68,\"00\")","v":"F102"},null,null,null,{"$f":"\"Tierbeurteilung/Wasser - Bucht \" & E68","v":"Tierbeurteilung/Wasser - Bucht 2"},null,"ausfüllen ..."]
["STICHPROBE_ENDE"]
[null,null,null,null,null,null,null,null,"Fortlaufende Erhebungen"]
["LAUFEND_START",null,null,null,null,null,null,null,null,null,"Formular",null,null,null,"Datum"]
["FORMULAR|K>H1|L>I1|O>J1|Q>K1","GEN_ID","ET_AZ","SW",null,"GEN_Z","F20",null,null,null,"Antibiotikaeinsatz",null,"ausfüllen ..."]
["FORMULAR|K>H1|L>I1|O>J1|Q>K1","GEN_ID","SW_SCHWANZ",null,null,"GEN_Z","F30",null,null,null,"Schwanzlänge",null,"ausfüllen ..."]
["LAUFEND_ENDE"]
[null,null,null,null,null,null,null,null,"Abschlusserhebungen"]
["ABSCHLUSS_START",null,null,null,null,null,null,null,null,null,"Formular",null,null,null,"Datum"]
["FORMULAR|K>H1|L>I1|O>J1|Q>K1","GEN_ID","SW_SB","MAST",null,"GEN_Z","F40",null,null,null,"Schlachtbefunde",null,"ausfüllen ..."]
["FORMULAR|K>H1|L>I1|O>J1|Q>K1","GEN_ID","SW_BESTAND",null,null,"GEN_Z","F50",null,null,null,"Bestandsbezogene Indikatoren",null,"ausfüllen ..."]
["ABSCHLUSS_ENDE"]
[]
["BEREICH_ENDE"]
[]
["BEREICH_START",null,null,null,null,null,"RD_MILCH"]
["FORMULAR|I>C1|N>D1",null,null,"POS>N",null,"X",null,null,"Milchkühe",null,null,"Jahr",null,null,null,"Betriebsteil/Stall",null,null,null,null,null,null,"Erhebung löschen ..."]
["FORMULAR|P>E1",null,null,"BETRIEBID>N|STALL>P",null,null,null,null,null,null,null,"Betriebs-ID"]
["FORMULAR|E>M1",null,null,null,{"$f":"S95","v":0},"P",{"$f":"\"T01>\" & G88 & I84 & \" (Jahr \"  & N84 & \")\"","v":"T01>Milchkühe (Jahr )"},null,null,null,null,null,null,null,null,null,null,null,null,null,null,null,"Erhebung drucken ..."]
[null,null,null,null,null,null,{"$f":"\"T02>\" & \"Jahr \"  & N84 & \" \" & G88","v":"T02>Jahr  "}]
["FORMULAR|E>N1",null,null,null,{"$f":"S109","v":0},null,{"$f":"IF(OR(Intern_BetriebID<>\"\",N85<>\"\",P85<>\"\"),\"[\"&IF(N85<>\"\",N85,Intern_BetriebID)& IF(AND(OR(Intern_BetriebID<>\"\",N85<>\"\"),P85<>\"\"),\" | \",\"\") & IF(P85<>\"\",P85,\"\")&\"] \",\"\")","v":""},null,"Erhebung Sommerhalbjahr"]
[null,null,null,null,null,null,null,null,null,"Gesamtherde",null,null,null,null,null,null,null,"Stichprobenempfehlung"]
[null,null,null,null,null,null,null,null,null,null,null,null,null,"Laktierend",null,"Trockenstehend",null,"(Tierbeurteilung, Ausweichdistanz)"]
[null,null,null,null,null,null,null,null,null,"Haltungsform",null,"Anzahl Tiere",null,"Anzahl Tiere",null,"Anzahl Tiere",null,null,"Tiere insg.","Laktierend","Trockenstehend"]
[null,null,null,null,null,null,null,null,null,"Liegeboxenlaufstall",null,{"$f":"N92+P92","v":0},null,null,null,null,null,null,{"$f":"IF(L95>0,ROUND(L92/L95*S95,0),0)","v":0},{"$f":"IF(L92>0,ROUND(N92/L92*S92,0),0)","v":0},{"$f":"S92-T92","v":0}]
["FORMULAR|E>B1",null,null,null,"RD_MILCH",null,null,null,null,"Freie Liegefläche",null,{"$f":"N93+P93","v":0},null,null,null,null,null,null,{"$f":"IF(L95>0,ROUND(L93/L95*S95,0),0)","v":0},{"$f":"IF(L93>0,ROUND(N93/L93*S93,0),0)","v":0},{"$f":"S93-T93","v":0}]
[null,null,null,null,null,null,null,null,null,"Anbindehaltung",null,{"$f":"N94+P94","v":0},null,null,null,null,null,null,{"$f":"IF(L95>0,ROUND(L94/L95*S95,0),0)","v":0},{"$f":"IF(L94>0,ROUND(N94/L94*S94,0),0)","v":0},{"$f":"S94-T94","v":0}]
[null,null,null,{"$f":"L95","v":0},{"$f":"VLOOKUP(TEXT(D95,\"00000\"),Intern_RD_Stichprobe,2,TRUE)","v":0},{"$f":"VLOOKUP(TEXT(D95,\"00000\"),Intern_RD_Stichprobe,3,TRUE)","v":30},{"$f":"VLOOKUP(TEXT(D95,\"00000\"),Intern_RD_Stichprobe,4,TRUE)","v":0},null,null,"Herdengröße",null,{"$f":"SUM(L92:L94)","v":0},null,null,null,null,null,"Anzahl",{"$f":"IF(L95>0,MIN(F95+INT((L95-E95)*G95),L95),0)","v":0},{"$f":"IF(L95>0,INT(SUM(N92:N94)/L95*S95),0)","v":0},{"$f":"S95-T95","v":0}]
[]
["SOMMER_START",null,null,null,null,null,null,null,null,null,"Formular",null,null,null,null,"Datum"]
["FORMULAR|K>H1|P>J1","GEN_ID","RD_EINZELAUSWEICH","RD_MILCHAUSWEICH",1,"GEN_Z","F13",null,null,null,"Ausweichdistanz",null,null,"ausfüllen ..."]
["FORMULAR|K>H1|P>J1","GEN_ID","RD_EINZEL","RD_MILCH",1,"GEN_Z","F11",null,null,null,"Tierbeurteilung",null,null,"ausfüllen ..."]
["FORMULAR|K>H1|P>J1","GEN_ID","RD_BUCHT",null,1,"GEN_Z","F14",null,null,null,"Liegeplatz/Aufstehverh./Wasserversorgung",null,null,"ausfüllen ..."]
["SOMMER_ENDE"]
[null,null,null,null,null,null,null,null,"Erhebung Winterhalbjahr"]
[null,null,null,null,null,null,null,null,null,"Gesamtherde",null,null,null,null,null,null,null,"Stichprobenempfehlung"]
[null,null,null,null,null,null,null,null,null,null,null,null,null,"Laktierend",null,"Trockenstehend",null,"(Tierbeurteilung, Ausweichdistanz)"]
[null,null,null,null,null,null,null,null,null,"Haltungsform",null,"Anzahl Tiere",null,"Anzahl Tiere",null,"Anzahl Tiere",null,null,"Tiere insg.","Laktierend","Trockenstehend"]
[null,null,null,null,null,null,null,null,null,"Liegeboxenlaufstall",null,{"$f":"N106+P106","v":0},null,null,null,null,null,null,{"$f":"IF(L109>0,ROUND(L106/L109*S109,0),0)","v":0},{"$f":"IF(L106>0,ROUND(N106/L106*S106,0),0)","v":0},{"$f":"S106-T106","v":0}]
[null,null,null,null,null,null,null,null,null,"Freie Liegefläche",null,{"$f":"N107+P107","v":0},null,null,null,null,null,null,{"$f":"IF(L109>0,ROUND(L107/L109*S109,0),0)","v":0},{"$f":"IF(L107>0,ROUND(N107/L107*S107,0),0)","v":0},{"$f":"S107-T107","v":0}]
[null,null,null,null,null,null,null,null,null,"Anbindehaltung",null,{"$f":"N108+P108","v":0},null,null,null,null,null,null,{"$f":"IF(L109>0,ROUND(L108/L109*S109,0),0)","v":0},{"$f":"IF(L108>0,ROUND(N108/L108*S108,0),0)","v":0},{"$f":"S108-T108","v":0}]
[null,null,null,{"$f":"L109","v":0},{"$f":"VLOOKUP(TEXT(D109,\"00000\"),Intern_RD_Stichprobe,2,TRUE)","v":0},{"$f":"VLOOKUP(TEXT(D109,\"00000\"),Intern_RD_Stichprobe,3,TRUE)","v":30},{"$f":"VLOOKUP(TEXT(D109,\"00000\"),Intern_RD_Stichprobe,4,TRUE)","v":0},null,null,"Herdengröße",null,{"$f":"SUM(L106:L108)","v":0},null,null,null,null,null,"Anzahl",{"$f":"IF(L109>0,MIN(F109+INT((L109-E109)*G109),L109),0)","v":0},{"$f":"IF(L109>0,INT(SUM(N106:N108)/L109*S109),0)","v":0},{"$f":"S109-T109","v":0}]
[]
["WINTER_START",null,null,null,null,null,null,null,null,null,"Formular",null,null,null,null,"Datum"]
["FORMULAR|K>H1|P>J1","GEN_ID","RD_EINZELAUSWEICH","RD_MILCHAUSWEICH",2,"GEN_Z","F23",null,null,null,"Ausweichdistanz",null,null,"ausfüllen ..."]
["FORMULAR|K>H1|P>J1","GEN_ID","RD_EINZEL","RD_MILCH",2,"GEN_Z","F21",null,null,null,"Tierbeurteilung",null,null,"ausfüllen ..."]
["FORMULAR|K>H1|P>J1","GEN_ID","RD_BUCHT",null,2,"GEN_Z","F24",null,null,null,"Liegeplatz/Aufstehverh./Wasserversorgung",null,null,"ausfüllen ..."]
["WINTER_ENDE"]
[null,null,null,null,null,null,null,null,"Fortlaufende Erhebungen"]
["ABSCHLUSS_START",null,null,null,null,null,null,null,null,null,"Formular",null,null,null,null,"Datum"]
["FORMULAR|K>H1|P>J1","GEN_ID","RD_MILCH",null,null,"GEN_Z","F31",null,null,null,{"$f":"IF(Intern_RD_MLP,\"MLP-Daten\",\"Mastitis\")& \"/Geburten/Nutzungsdauer/Tierverluste\"","v":"MLP-Daten/Geburten/Nutzungsdauer/Tierverluste"},null,null,"ausfüllen ..."]
["ABSCHLUSS_ENDE"]
[]
["BEREICH_ENDE"]
[]
["BEREICH_START",null,null,null,null,null,"RD_KALB"]
["FORMULAR|I>C1|N>D1",null,null,"POS>N",null,"X",null,null,"Aufzuchtkälber",null,null,"Jahr",null,null,null,"Betriebsteil/Stall",null,null,null,null,null,null,"Erhebung löschen ..."]
["FORMULAR|P>E1",null,null,"BETRIEBID>N|STALL>P",null,null,null,null,null,null,null,"Betriebs-ID"]
[null,null,null,null,null,"P",{"$f":"\"T01>\" & G128 & I124 & \" (Jahr \"  & N124 & \")\"","v":"T01>Aufzuchtkälber (Jahr )"},null,null,null,null,null,null,null,null,null,null,null,null,null,null,null,"Erhebung drucken ..."]
[null,null,null,null,null,null,{"$f":"\"T02>\" & \"Jahr \"  & N124 & \" \" & G128","v":"T02>Jahr  "}]
[null,null,null,null,null,null,{"$f":"IF(OR(Intern_BetriebID<>\"\",N125<>\"\",P125<>\"\"),\"[\"&IF(N125<>\"\",N125,Intern_BetriebID)& IF(AND(OR(Intern_BetriebID<>\"\",N125<>\"\"),P125<>\"\"),\" | \",\"\") & IF(P125<>\"\",P125,\"\")&\"] \",\"\")","v":""},null,"Erhebung Sommerhalbjahr"]
["FORMULAR|E>B1",null,null,null,"RD_KALB",null,null,null,null,"Gesamtherde",null,null,null,null,null,null,null,"Stichprobenempfehlung (Verschmutzung)"]
["FORMULAR|E>M1",null,null,null,{"$f":"S137","v":0},null,null,null,null,"Haltungsform",null,"Anzahl Tiere",null,"Anz. Buchten",null,null,null,null,"Tiere insg.","Auswahlempfehlung"]
["FORMULAR|E>N1",null,null,null,{"$f":"S151","v":0},null,null,null,null,null,"Einzelboxen",null,null,{"$f":"L131","v":0},null,null,null,null,{"$f":"IF(L137>0,ROUND(L131/L137*S137,0),0)","v":0},{"$f":"IF(S131>0,\"Je Bucht 1 Kalb untersuchen.\",\"\")","v":""}]
[null,null,null,null,null,null,null,null,null,null,"Einzel-Iglu",null,null,{"$f":"L132","v":0},null,null,null,null,{"$f":"IF(L137>0,ROUND(L132/L137*S137,0),0)","v":0},{"$f":"IF(S132>0,\"Je Bucht 1 Kalb untersuchen.\",\"\")","v":""}]
[null,null,null,null,null,null,null,null,null,null,"Gruppenbox",null,null,null,null,null,null,null,{"$f":"IF(L137>0,ROUND(L133/L137*S137,0),0)","v":0},{"$f":"IF(AND(S133>0,N133>0),\"Je Bucht \" & ROUND(S133/N133,0)&\" Kälber untersuchen.\",\"\")","v":""}]
[null,null,null,null,null,null,null,null,null,null,"Gruppen-Iglu",null,null,null,null,null,null,null,{"$f":"IF(L137>0,ROUND(L134/L137*S137,0),0)","v":0},{"$f":"IF(AND(S134>0,N134>0),\"Je Bucht \" & ROUND(S134/N134,0)&\" Kälber untersuchen.\",\"\")","v":""}]
[null,null,null,null,null,null,null,null,null,null,"Boxenlaufstall",null,null,null,null,null,null,null,{"$f":"IF(L137>0,ROUND(L135/L137*S137,0),0)","v":0},{"$f":"IF(AND(S135>0,N135>0),\"Je Bucht \" & ROUND(S135/N135,0)&\" Kälber untersuchen.\",\"\")","v":""}]
[null,null,null,null,null,null,null,null,null,null,"Zweiflächensystem",null,null,null,null,null,null,null,{"$f":"IF(L137>0,ROUND(L136/L137*S137,0),0)","v":0},{"$f":"IF(AND(S136>0,N136>0),\"Je Bucht \" & ROUND(S136/N136,0)&\" Kälber untersuchen.\",\"\")","v":""}]
[null,null,null,{"$f":"L137","v":0},{"$f":"VLOOKUP(TEXT(D137,\"00000\"),Intern_RD_StichprobeKalb,2,TRUE)","v":0},{"$f":"VLOOKUP(TEXT(D137,\"00000\"),Intern_RD_StichprobeKalb,3,TRUE)","v":30},{"$f":"VLOOKUP(TEXT(D137,\"00000\"),Intern_RD_StichprobeKalb,4,TRUE)","v":0},null,null,"Herdengröße",null,{"$f":"SUM(L131:L136)","v":0},null,null,null,null,null,"Anzahl",{"$f":"IF(D137>0,MIN(F137+INT((D137-E137)*G137),D137),0)","v":0}]
[]
["SOMMER_START",null,null,null,null,null,null,null,null,null,"Formular",null,null,null,null,"Datum"]
["FORMULAR|K>H1|P>J1","GEN_ID","RD_BUCHTKALB",null,1,"GEN_Z","F11",null,null,null,"Tierbeurteilung",null,null,"ausfüllen ..."]
["SOMMER_ENDE"]
[null,null,null,null,null,null,null,null,"Erhebung Winterhalbjahr"]
[null,null,null,null,null,null,null,null,null,"Gesamtherde",null,null,null,null,null,null,null,"Stichprobenempfehlung (Verschmutzung)"]
[null,null,null,null,null,null,null,null,null,"Haltungsform",null,"Anzahl Tiere",null,"Anz. Buchten",null,null,null,null,"Tiere insg.","Auswahlempfehlung"]
[null,null,null,null,null,null,null,null,null,null,"Einzelboxen",null,null,{"$f":"L145","v":0},null,null,null,null,{"$f":"IF(L151>0,ROUND(L145/L151*S151,0),0)","v":0},{"$f":"IF(S145>0,\"Je Bucht 1 Kalb untersuchen.\",\"\")","v":""}]
[null,null,null,null,null,null,null,null,null,null,"Einzel-Iglu",null,null,{"$f":"L146","v":0},null,null,null,null,{"$f":"IF(L151>0,ROUND(L146/L151*S151,0),0)","v":0},{"$f":"IF(S146>0,\"Je Bucht 1 Kalb untersuchen.\",\"\")","v":""}]
[null,null,null,null,null,null,null,null,null,null,"Gruppenbox",null,null,null,null,null,null,null,{"$f":"IF(L151>0,ROUND(L147/L151*S151,0),0)","v":0},{"$f":"IF(AND(S147>0,N147>0),\"Je Bucht \" & ROUND(S147/N147,0)&\" Kälber untersuchen.\",\"\")","v":""}]
[null,null,null,null,null,null,null,null,null,null,"Gruppen-Iglu",null,null,null,null,null,null,null,{"$f":"IF(L151>0,ROUND(L148/L151*S151,0),0)","v":0},{"$f":"IF(AND(S148>0,N148>0),\"Je Bucht \" & ROUND(S148/N148,0)&\" Kälber untersuchen.\",\"\")","v":""}]
[null,null,null,null,null,null,null,null,null,null,"Boxenlaufstall",null,null,null,null,null,null,null,{"$f":"IF(L151>0,ROUND(L149/L151*S151,0),0)","v":0},{"$f":"IF(AND(S149>0,N149>0),\"Je Bucht \" & ROUND(S149/N149,0)&\" Kälber untersuchen.\",\"\")","v":""}]
[null,null,null,null,null,null,null,null,null,null,"Zweiflächensystem",null,null,null,null,null,null,null,{"$f":"IF(L151>0,ROUND(L150/L151*S151,0),0)","v":0},{"$f":"IF(AND(S150>0,N150>0),\"Je Bucht \" & ROUND(S150/N150,0)&\" Kälber untersuchen.\",\"\")","v":""}]
[null,null,null,{"$f":"L151","v":0},{"$f":"VLOOKUP(TEXT(D151,\"00000\"),Intern_RD_StichprobeKalb,2,TRUE)","v":0},{"$f":"VLOOKUP(TEXT(D151,\"00000\"),Intern_RD_StichprobeKalb,3,TRUE)","v":30},{"$f":"VLOOKUP(TEXT(D151,\"00000\"),Intern_RD_StichprobeKalb,4,TRUE)","v":0},null,null,"Herdengröße",null,{"$f":"SUM(L145:L150)","v":0},null,null,null,null,null,"Anzahl",{"$f":"IF(D151>0,MIN(F151+INT((D151-E151)*G151),D151),0)","v":0}]
[]
["WINTER_START",null,null,null,null,null,null,null,null,null,"Formular",null,null,null,null,"Datum"]
["FORMULAR|K>H1|P>J1","GEN_ID","RD_BUCHTKALB",null,2,"GEN_Z","F21",null,null,null,"Tierbeurteilung",null,null,"ausfüllen ..."]
["WINTER_ENDE"]
[null,null,null,null,null,null,null,null,"Fortlaufende Erhebungen"]
["ABSCHLUSS_START",null,null,null,null,null,null,null,null,null,"Formular",null,null,null,null,"Datum"]
["FORMULAR|K>H1|P>J1","GEN_ID","RD_HORN",null,1,"GEN_Z",{"$f":"\"F4\" & TEXT(E158,\"00\")","v":"F401"},null,null,null,{"$f":"\"Komplikationen nach Enthornung - Blatt \" & E158","v":"Komplikationen nach Enthornung - Blatt 1"},null,null,"ausfüllen ...",null,null,null,null,null,null,null,"Neues Blatt hinzufügen ..."]
["FORMULAR|K>H1|P>J1","GEN_ID","RD_HORN",null,2,"GEN_Z",{"$f":"\"F4\" & TEXT(E159,\"00\")","v":"F402"},null,null,null,{"$f":"\"Komplikationen nach Enthornung - Blatt \" & E159","v":"Komplikationen nach Enthornung - Blatt 2"},null,null,"ausfüllen ..."]
["FORMULAR|K>H1|P>J1","GEN_ID","RD_KALB",null,null,"GEN_Z","F31",null,null,null,"Behandlungen/Tierverluste",null,null,"ausfüllen ..."]
["ABSCHLUSS_ENDE"]
[]
["BEREICH_ENDE"]
[]
["BEREICH_START",null,null,null,null,null,"RD_MAST"]
["FORMULAR|I>C1|N>D1",null,null,"POS>N",null,"X",null,null,"Mastrinder",null,null,"Jahr",null,null,null,"Betriebsteil/Stall",null,null,null,null,null,null,"Erhebung löschen ..."]
["FORMULAR|P>E1",null,null,"BETRIEBID>N|STALL>P",null,null,null,null,null,null,null,"Betriebs-ID"]
["FORMULAR|E>B1",null,null,null,"RD_MAST","P",{"$f":"\"T01>\" & G170 & I166 & \" (Jahr \"  & N166 & \")\"","v":"T01>Mastrinder (Jahr )"},null,null,null,null,null,null,null,null,null,null,null,null,null,null,null,"Erhebung drucken ..."]
[null,null,null,null,null,null,{"$f":"\"T02>\" & \"Jahr \"  & N166 & \" \" & G170","v":"T02>Jahr  "}]
[null,null,null,null,null,null,{"$f":"IF(OR(Intern_BetriebID<>\"\",N167<>\"\",P167<>\"\"),\"[\"&IF(N167<>\"\",N167,Intern_BetriebID)& IF(AND(OR(Intern_BetriebID<>\"\",N167<>\"\"),P167<>\"\"),\" | \",\"\") & IF(P167<>\"\",P167,\"\")&\"] \",\"\")","v":""},null,"Erhebung Sommerhalbjahr"]
["FORMULAR|E>M1",null,null,null,{"$f":"S177","v":0},null,null,null,null,"Gesamtherde",null,null,null,null,null,null,null,"Stichprobenempfehlung (Tierbeurteilung)"]
["FORMULAR|E>N1",null,null,null,{"$f":"S190","v":0},null,null,null,null,"Haltungsform",null,"Anzahl Tiere",null,"Anz. Buchten",null,null,null,null,"Tiere insg.","Auswahlempfehlung"]
[null,null,null,null,null,null,null,null,null,null,"Vollspaltenbucht",null,null,null,null,null,null,null,{"$f":"IF(L177>0,ROUND(L173/L177*S177,0),0)","v":0},{"$f":"IF(AND(S173>0,N173>0),\"Je Bucht \" & ROUND(S173/N173,0)&\" Rinder untersuchen.\",\"\")","v":""}]
[null,null,null,null,null,null,null,null,null,null,"Zweiflächensystem",null,null,null,null,null,null,null,{"$f":"IF(L177>0,ROUND(L174/L177*S177,0),0)","v":0},{"$f":"IF(AND(S174>0,N174>0),\"Je Bucht \" & ROUND(S174/N174,0)&\" Rinder untersuchen.\",\"\")","v":""}]
[null,null,null,null,null,null,null,null,null,null,"Boxenlaufstall",null,null,null,null,null,null,null,{"$f":"IF(L177>0,ROUND(L175/L177*S177,0),0)","v":0},{"$f":"IF(AND(S175>0,N175>0),\"Je Bucht \" & ROUND(S175/N175,0)&\" Rinder untersuchen.\",\"\")","v":""}]
[null,null,null,null,null,null,null,null,null,null,"Anbindehaltung",null,null,null,null,null,null,null,{"$f":"IF(L177>0,ROUND(L176/L177*S177,0),0)","v":0},{"$f":"IF(AND(S176>0,N176>0),\"Je Bucht \" & ROUND(S176/N176,0)&\" Rinder untersuchen.\",\"\")","v":""}]
[null,null,null,{"$f":"L177","v":0},{"$f":"VLOOKUP(TEXT(D177,\"00000\"),Intern_RD_Stichprobe,2,TRUE)","v":0},{"$f":"VLOOKUP(TEXT(D177,\"00000\"),Intern_RD_Stichprobe,3,TRUE)","v":30},{"$f":"VLOOKUP(TEXT(D177,\"00000\"),Intern_RD_Stichprobe,4,TRUE)","v":0},null,null,"Herdengröße",null,{"$f":"SUM(L173:L176)","v":0},null,null,null,null,null,"Anzahl",{"$f":"IF(D177>0,MIN(F177+INT((D177-E177)*G177),D177),0)","v":0}]
[]
["SOMMER_START",null,null,null,null,null,null,null,null,null,"Formular",null,null,null,null,"Datum"]
["FORMULAR|K>H1|P>J1","GEN_ID","RD_EINZEL","RD_MAST",1,"GEN_Z","F11",null,null,null,"Tierbeurteilung",null,null,"ausfüllen ..."]
["FORMULAR|K>H1|P>J1","GEN_ID","RD_BUCHT","RD_MAST",1,"GEN_Z","F12",null,null,null,"Fläche/Wasserversorgung/Zungenrollen",null,null,"ausfüllen ..."]
["SOMMER_ENDE"]
[null,null,null,null,null,null,null,null,"Erhebung Winterhalbjahr"]
[null,null,null,null,null,null,null,null,null,"Gesamtherde",null,null,null,null,null,null,null,"Stichprobenempfehlung (Tierbeurteilung)"]
[null,null,null,null,null,null,null,null,null,"Haltungsform",null,"Anzahl Tiere",null,"Anz. Buchten",null,null,null,null,"Tiere insg.","Auswahlempfehlung"]
[null,null,null,null,null,null,null,null,null,null,"Vollspaltenbucht",null,null,null,null,null,null,null,{"$f":"IF(L190>0,ROUND(L186/L190*S190,0),0)","v":0},{"$f":"IF(AND(S186>0,N186>0),\"Je Bucht \" & ROUND(S186/N186,0)&\" Rinder untersuchen.\",\"\")","v":""}]
[null,null,null,null,null,null,null,null,null,null,"Zweiflächensystem",null,null,null,null,null,null,null,{"$f":"IF(L190>0,ROUND(L187/L190*S190,0),0)","v":0},{"$f":"IF(AND(S187>0,N187>0),\"Je Bucht \" & ROUND(S187/N187,0)&\" Rinder untersuchen.\",\"\")","v":""}]
[null,null,null,null,null,null,null,null,null,null,"Boxenlaufstall",null,null,null,null,null,null,null,{"$f":"IF(L190>0,ROUND(L188/L190*S190,0),0)","v":0},{"$f":"IF(AND(S188>0,N188>0),\"Je Bucht \" & ROUND(S188/N188,0)&\" Rinder untersuchen.\",\"\")","v":""}]
[null,null,null,null,null,null,null,null,null,null,"Anbindehaltung",null,null,null,null,null,null,null,{"$f":"IF(L190>0,ROUND(L189/L190*S190,0),0)","v":0},{"$f":"IF(AND(S189>0,N189>0),\"Je Bucht \" & ROUND(S189/N189,0)&\" Rinder untersuchen.\",\"\")","v":""}]
[null,null,null,{"$f":"L190","v":0},{"$f":"VLOOKUP(TEXT(D190,\"00000\"),Intern_RD_Stichprobe,2,TRUE)","v":0},{"$f":"VLOOKUP(TEXT(D190,\"00000\"),Intern_RD_Stichprobe,3,TRUE)","v":30},{"$f":"VLOOKUP(TEXT(D190,\"00000\"),Intern_RD_Stichprobe,4,TRUE)","v":0},null,null,"Herdengröße",null,{"$f":"SUM(L186:L189)","v":0},null,null,null,null,null,"Anzahl",{"$f":"IF(D190>0,MIN(F190+INT((D190-E190)*G190),D190),0)","v":0}]
[]
["WINTER_START",null,null,null,null,null,null,null,null,null,"Formular",null,null,null,null,"Datum"]
["FORMULAR|K>H1|P>J1","GEN_ID","RD_EINZEL","RD_MAST",2,"GEN_Z","F21",null,null,null,"Tierbeurteilung",null,null,"ausfüllen ..."]
["FORMULAR|K>H1|P>J1","GEN_ID","RD_BUCHT","RD_MAST",2,"GEN_Z","F22",null,null,null,"Fläche/Wasserversorgung/Zungenrollen",null,null,"ausfüllen ..."]
["WINTER_ENDE"]
[null,null,null,null,null,null,null,null,"Fortlaufende Erhebungen"]
["ABSCHLUSS_START",null,null,null,null,null,null,null,null,null,"Formular",null,null,null,null,"Datum"]
["FORMULAR|K>H1|P>J1","GEN_ID","RD_VERLUSTE","RD_MAST",null,"GEN_Z","F31",null,null,null,"Tierverluste",null,null,"ausfüllen ..."]
["ABSCHLUSS_ENDE"]
[]
["BEREICH_ENDE"]
[]
[]
["BEREICH_START",null,null,null,null,null,"GF_HENNE1"]
["FORMULAR|I>C1",null,null,null,null,"X",null,null,"Junghennen",null,null,null,null,null,null,null,null,null,null,null,"Erhebung löschen ..."]
[]
[null,null,null,"BETRIEBID>L",null,"P",{"$f":"\"T01>\"& IF(L207<>\"\",\"[\" & L207 & \"] \",\"\") & I205 & \" (Stall: \" & L211 & \" / Schlupfdatum: \" & TEXT(P208,\"tt.MM.jjjj\") & \")\"","v":"T01>Junghennen (Stall:  / Schlupfdatum: 00.01.1900)"},null,null,null,"Betriebs-ID",null,null,null,null,null,null,null,null,null,"Erhebung drucken ..."]
["FORMULAR|P>F1",null,null,"POS>L",null,null,{"$f":"\"T02>\"& IF(L207<>\"\",\"[\" & L207 & \"] \",\"\") &  \" Stall: \" & L211 & \" / Schlupfdatum: \" & TEXT(P208,\"tt.MM.jjjj\")","v":"T02> Stall:  / Schlupfdatum: 00.01.1900"},null,null,null,"Durchgang",null,null,"Schlupfdatum"]
["FORMULAR|L>E1",null,null,null,null,null,{"$f":"\"T04>\" & L209","v":"T04>"},null,null,null,"Herdengröße (Einstallung)",null,null,"Einstalldatum",null,null,null,"Genetik (Herkunft)"]
["FORMULAR|E>B1",null,null,null,"GF_HENNE",null,null,null,null,null,"Abteilgröße",null,null,"Schlachtdatum",null,null,null,"Brüterei"]
["FORMULAR|L>D1",null,null,"STALL>L",null,null,null,null,null,null,"Stall/Herde",null,null,null,null,null,null,"Schlachthof"]
[]
[null,null,null,null,null,null,null,null,"Stichproben"]
["STICHPROBE_START",null,null,null,null,null,null,null,null,null,"Formular",null,null,"Datum",null,"Sollgewicht"]
["FORMULAR|K>H1|N>J1|P>K1","GEN_ID","GF_SP","LH_LW04",4,"GEN_Z","F11",null,null,null,"Tierbeurteilung (LW 4)","ausfüllen ..."]
["FORMULAR|K>H1|N>J1|P>K1","GEN_ID","GF_SP","LH_LW12",12,"GEN_Z","F12",null,null,null,"Tierbeurteilung (LW 12)","ausfüllen ..."]
["FORMULAR|K>H1|N>J1|P>K1","GEN_ID","GF_SP","LH_LW16",16,"GEN_Z","F13",null,null,null,"Tierbeurteilung (LW 16)","ausfüllen ..."]
["STICHPROBE_ENDE"]
[]
[null,null,null,null,null,null,null,null,"Fortlaufende Erhebungen"]
["LAUFEND_START",null,null,null,null,null,null,null,null,null,"Formular",null,null,"Datum"]
["FORMULAR|K>H1|N>J1|P>K1","GEN_ID","ET_AZ","GF",null,"GEN_Z","F20",null,null,null,"Arzneimitteleinsatz","ausfüllen ..."]
["FORMULAR|K>H1|N>J1|E>L1","GEN_ID","GF_GW","GF_HENNE",1,"GEN_Z","F30",null,null,null,"Tiergewichte/Uniformität (LW 1-24)","ausfüllen ..."]
["FORMULAR|K>H1|N>J1|P>K1","GEN_ID","GF_MB","LH_TV",1,"GEN_Z",{"$f":"\"F4\" & TEXT(E224,\"00\")","v":"F401"},null,null,null,{"$f":"\"Verluste, Wasser, Eier - \" & E224 & \". Monat\"","v":"Verluste, Wasser, Eier - 1. Monat"},"ausfüllen ...",null,null,null,null,null,null,null,null,"weiteren Monat hinzufügen ..."]
["FORMULAR|K>H1|N>J1|P>K1","GEN_ID","GF_MB","LH_TV",2,"GEN_Z",{"$f":"\"F4\" & TEXT(E225,\"00\")","v":"F402"},null,null,null,{"$f":"\"Verluste, Wasser, Eier - \" & E225 & \". Monat\"","v":"Verluste, Wasser, Eier - 2. Monat"},"ausfüllen ..."]
["LAUFEND_ENDE"]
[]
["BEREICH_ENDE"]
[]
["BEREICH_START",null,null,null,null,null,"GF_HENNE2"]
["FORMULAR|I>C1",null,null,null,null,"X",null,null,"Legehennen",null,null,null,null,null,null,null,null,null,null,null,"Erhebung löschen ..."]
[]
[null,null,null,"BETRIEBID>L",null,"P",{"$f":"\"T01>\"& IF(L233<>\"\",\"[\" & L233 & \"] \",\"\") & I231 & \" (Stall: \" & L237 & \" / Schlupfdatum: \" & TEXT(P234,\"tt.MM.jjjj\") & \")\"","v":"T01>Legehennen (Stall:  / Schlupfdatum: 00.01.1900)"},null,null,null,"Betriebs-ID",null,null,null,null,null,null,null,null,null,"Erhebung drucken ..."]
["FORMULAR|P>F1",null,null,"POS>L",null,null,{"$f":"\"T02>\"& IF(L233<>\"\",\"[\" & L233 & \"] \",\"\") &  \" Stall: \" & L237 & \" / Schlupfdatum: \" & TEXT(P234,\"tt.MM.jjjj\")","v":"T02> Stall:  / Schlupfdatum: 00.01.1900"},null,null,null,"Durchgang",null,null,"Schlupfdatum"]
["FORMULAR|L>E1",null,null,null,null,null,{"$f":"\"T04>\" & L235","v":"T04>"},null,null,null,"Herdengröße (Einstallung)",null,null,"Einstalldatum",null,null,null,"Genetik (Herkunft)"]
["FORMULAR|E>B1",null,null,null,"GF_HENNE",null,null,null,null,null,"Abteilgröße",null,null,"Schlachtdatum",null,null,null,"Aufzüchter"]
["FORMULAR|L>D1",null,null,"STALL>L",null,null,null,null,null,null,"Stall/Herde",null,null,null,null,null,null,"Schlachthof"]
[]
[null,null,null,null,null,null,null,null,"Stichproben"]
["STICHPROBE_START",null,null,null,null,null,null,null,null,null,"Formular",null,null,"Datum",null,"Sollgewicht"]
["FORMULAR|K>H1|N>J1|P>K1","GEN_ID","GF_SP","LH_STALL","Stall","GEN_Z","F14",null,null,null,"Tierbeurteilung (Einstallen)","ausfüllen ..."]
["FORMULAR|K>H1|N>J1|P>K1","GEN_ID","GF_SP","LH_LW25",25,"GEN_Z","F15",null,null,null,"Tierbeurteilung (LW 25)","ausfüllen ..."]
["FORMULAR|K>H1|N>J1|P>K1","GEN_ID","GF_SP","LH_LW37",37,"GEN_Z","F16",null,null,null,"Tierbeurteilung (LW 37)","ausfüllen ..."]
["FORMULAR|K>H1|N>J1|P>K1","GEN_ID","GF_SP","LH_LW49",49,"GEN_Z","F17",null,null,null,"Tierbeurteilung (LW 49)","ausfüllen ..."]
["FORMULAR|K>H1|N>J1|P>K1","GEN_ID","GF_SP","LH_LW61",61,"GEN_Z","F18",null,null,null,"Tierbeurteilung (LW 61)","ausfüllen ..."]
["STICHPROBE_ENDE"]
[]
[null,null,null,null,null,null,null,null,"Fortlaufende Erhebungen"]
["LAUFEND_START",null,null,null,null,null,null,null,null,null,"Formular",null,null,"Datum"]
["FORMULAR|K>H1|N>J1|P>K1","GEN_ID","ET_AZ","GF",null,"GEN_Z","F20",null,null,null,"Arzneimitteleinsatz","ausfüllen ..."]
["FORMULAR|K>H1|N>J1|E>L1","GEN_ID","GF_GW","GF_HENNE",1,"GEN_Z","F30",null,null,null,"Tiergewichte/Uniformität (LW 1-24)","ausfüllen ..."]
["FORMULAR|K>H1|N>J1|E>L1","GEN_ID","GF_GW","GF_HENNE",25,"GEN_Z","F31",null,null,null,"Tiergewichte/Uniformität (LW 25-48)","ausfüllen ..."]
["FORMULAR|K>H1|N>J1|E>L1","GEN_ID","GF_GW","GF_HENNE",49,"GEN_Z","F32",null,null,null,"Tiergewichte/Uniformität (LW 49-72)","ausfüllen ..."]
["FORMULAR|K>H1|N>J1|E>L1","GEN_ID","GF_GW","GF_HENNE",73,"GEN_Z","F33",null,null,null,"Tiergewichte/Uniformität (LW 73-96)","ausfüllen ..."]
["FORMULAR|K>H1|N>J1|P>K1","GEN_ID","GF_MB","LH_TV",1,"GEN_Z",{"$f":"\"F4\" & TEXT(E255,\"00\")","v":"F401"},null,null,null,{"$f":"\"Verluste, Wasser, Eier - \" & E255 & \". Monat\"","v":"Verluste, Wasser, Eier - 1. Monat"},"ausfüllen ...",null,null,null,null,null,null,null,null,"weiteren Monat hinzufügen ..."]
["FORMULAR|K>H1|N>J1|P>K1","GEN_ID","GF_MB","LH_TV",2,"GEN_Z",{"$f":"\"F4\" & TEXT(E256,\"00\")","v":"F402"},null,null,null,{"$f":"\"Verluste, Wasser, Eier - \" & E256 & \". Monat\"","v":"Verluste, Wasser, Eier - 2. Monat"},"ausfüllen ..."]
["LAUFEND_ENDE"]
[]
[null,null,null,null,null,null,null,null,"Abschlusserhebungen"]
["ABSCHLUSS_START",null,null,null,null,null,null,null,null,null,"Formular",null,null,"Datum"]
["FORMULAR|K>H1|N>J1|P>K1","GEN_ID","GF_SB",null,null,"GEN_Z","F50",null,null,null,"Schlachthofindikatoren","ausfüllen ..."]
["ABSCHLUSS_ENDE"]
[]
["BEREICH_ENDE"]
[]
["BEREICH_START",null,null,null,null,null,"GF_HENNE3"]
["FORMULAR|I>C1",null,null,null,null,"X",null,null,"Jung- und Legehennen",null,null,null,null,null,null,null,null,null,null,null,"Erhebung löschen ..."]
[]
[null,null,null,"BETRIEBID>L",null,"P",{"$f":"\"T01>\"& IF(L269<>\"\",\"[\" & L269 & \"] \",\"\") & I267 & \" (Stall: \" & L273 & \" / Schlupfdatum: \" & TEXT(P270,\"tt.MM.jjjj\") & \")\"","v":"T01>Jung- und Legehennen (Stall:  / Schlupfdatum: 00.01.1900)"},null,null,null,"Betriebs-ID",null,null,null,null,null,null,null,null,null,"Erhebung drucken ..."]
["FORMULAR|P>F1",null,null,"POS>L",null,null,{"$f":"\"T02>\"& IF(L269<>\"\",\"[\" & L269 & \"] \",\"\") &  \" Stall: \" & L273 & \" / Schlupfdatum: \" & TEXT(P270,\"tt.MM.jjjj\")","v":"T02> Stall:  / Schlupfdatum: 00.01.1900"},null,null,null,"Durchgang",null,null,"Schlupfdatum"]
["FORMULAR|L>E1",null,null,null,null,null,{"$f":"\"T04>\" & L271","v":"T04>"},null,null,null,"Herdengröße (Einstallung)",null,null,"Einstalldatum",null,null,null,"Genetik (Herkunft)"]
["FORMULAR|E>B1",null,null,null,"GF_HENNE",null,null,null,null,null,"Abteilgröße",null,null,"Schlachtdatum",null,null,null,"Brüterei"]
["FORMULAR|L>D1",null,null,"STALL>L",null,null,null,null,null,null,"Stall/Herde",null,null,null,null,null,null,"Schlachthof"]
[]
[null,null,null,null,null,null,null,null,"Stichproben"]
["STICHPROBE_START",null,null,null,null,null,null,null,null,null,"Formular",null,null,"Datum",null,"Sollgewicht"]
["FORMULAR|K>H1|N>J1|P>K1","GEN_ID","GF_SP","LH_LW04",4,"GEN_Z","F11",null,null,null,"Tierbeurteilung (LW 4)","ausfüllen ..."]
["FORMULAR|K>H1|N>J1|P>K1","GEN_ID","GF_SP","LH_LW12",12,"GEN_Z","F12",null,null,null,"Tierbeurteilung (LW 12)","ausfüllen ..."]
["FORMULAR|K>H1|N>J1|P>K1","GEN_ID","GF_SP","LH_LW16",16,"GEN_Z","F13",null,null,null,"Tierbeurteilung (LW 16)","ausfüllen ..."]
["FORMULAR|K>H1|N>J1|P>K1","GEN_ID","GF_SP","LH_STALL","Stall","GEN_Z","F14",null,null,null,"Tierbeurteilung (Einstallen)","ausfüllen ..."]
["FORMULAR|K>H1|N>J1|P>K1","GEN_ID","GF_SP","LH_LW25",25,"GEN_Z","F15",null,null,null,"Tierbeurteilung (LW 25)","ausfüllen ..."]
["FORMULAR|K>H1|N>J1|P>K1","GEN_ID","GF_SP","LH_LW37",37,"GEN_Z","F16",null,null,null,"Tierbeurteilung (LW 37)","ausfüllen ..."]
["FORMULAR|K>H1|N>J1|P>K1","GEN_ID","GF_SP","LH_LW49",49,"GEN_Z","F17",null,null,null,"Tierbeurteilung (LW 49)","ausfüllen ..."]
["FORMULAR|K>H1|N>J1|P>K1","GEN_ID","GF_SP","LH_LW61",61,"GEN_Z","F18",null,null,null,"Tierbeurteilung (LW 61)","ausfüllen ..."]
["STICHPROBE_ENDE"]
[]
[null,null,null,null,null,null,null,null,"Fortlaufende Erhebungen"]
["LAUFEND_START",null,null,null,null,null,null,null,null,null,"Formular",null,null,"Datum"]
["FORMULAR|K>H1|N>J1|P>K1","GEN_ID","ET_AZ","GF",null,"GEN_Z","F20",null,null,null,"Arzneimitteleinsatz","ausfüllen ..."]
["FORMULAR|K>H1|N>J1|E>L1","GEN_ID","GF_GW","GF_HENNE",1,"GEN_Z","F30",null,null,null,"Tiergewichte/Uniformität (LW 1-24)","ausfüllen ..."]
["FORMULAR|K>H1|N>J1|E>L1","GEN_ID","GF_GW","GF_HENNE",25,"GEN_Z","F31",null,null,null,"Tiergewichte/Uniformität (LW 25-48)","ausfüllen ..."]
["FORMULAR|K>H1|N>J1|E>L1","GEN_ID","GF_GW","GF_HENNE",49,"GEN_Z","F32",null,null,null,"Tiergewichte/Uniformität (LW 49-72)","ausfüllen ..."]
["FORMULAR|K>H1|N>J1|E>L1","GEN_ID","GF_GW","GF_HENNE",73,"GEN_Z","F33",null,null,null,"Tiergewichte/Uniformität (LW 73-96)","ausfüllen ..."]
["FORMULAR|K>H1|N>J1|P>K1","GEN_ID","GF_MB","LH_TV",1,"GEN_Z",{"$f":"\"F4\" & TEXT(E294,\"00\")","v":"F401"},null,null,null,{"$f":"\"Verluste, Wasser, Eier - \" & E294 & \". Monat\"","v":"Verluste, Wasser, Eier - 1. Monat"},"ausfüllen ...",null,null,null,null,null,null,null,null,"weiteren Monat hinzufügen ..."]
["FORMULAR|K>H1|N>J1|P>K1","GEN_ID","GF_MB","LH_TV",2,"GEN_Z",{"$f":"\"F4\" & TEXT(E295,\"00\")","v":"F402"},null,null,null,{"$f":"\"Verluste, Wasser, Eier - \" & E295 & \". Monat\"","v":"Verluste, Wasser, Eier - 2. Monat"},"ausfüllen ..."]
["LAUFEND_ENDE"]
[]
[null,null,null,null,null,null,null,null,"Abschlusserhebungen"]
["ABSCHLUSS_START",null,null,null,null,null,null,null,null,null,"Formular",null,null,"Datum"]
["FORMULAR|K>H1|N>J1|P>K1","GEN_ID","GF_SB",null,null,"GEN_Z","F50",null,null,null,"Schlachthofindikatoren","ausfüllen ..."]
["ABSCHLUSS_ENDE"]
[]
["BEREICH_ENDE"]
[]
[]
["BEREICH_START",null,null,null,null,null,"GF_HUHN"]
["FORMULAR|I>C1",null,null,null,null,"X",null,null,"Masthühner",null,null,null,null,null,null,null,null,null,null,null,"Erhebung löschen ..."]
[]
[null,null,null,"BETRIEBID>L",null,"P",{"$f":"\"T01>\"& IF(L309<>\"\",\"[\" & L309 & \"] \",\"\") & I307 & \" (Stall: \" & L313 & \" / Schlupfdatum: \" & TEXT(P310,\"tt.MM.jjjj\") & \")\"","v":"T01>Masthühner (Stall:  / Schlupfdatum: 00.01.1900)"},null,null,null,"Betriebs-ID",null,null,null,null,null,null,null,null,null,"Erhebung drucken ..."]
["FORMULAR|P>F1",null,null,"POS>L",null,null,{"$f":"\"T02>\"& IF(L309<>\"\",\"[\" & L309 & \"] \",\"\") &  \" Stall: \" & L313 & \" / Schlupfdatum: \" & TEXT(P310,\"tt.MM.jjjj\")","v":"T02> Stall:  / Schlupfdatum: 00.01.1900"},null,null,null,"Durchgang",null,null,"Schlupfdatum"]
["FORMULAR|L>E1",null,null,null,null,null,{"$f":"\"T04>\" & L311","v":"T04>"},null,null,null,"Herdengröße (Einstallung)",null,null,"Einstalldatum",null,null,null,"Genetik (Herkunft)"]
["FORMULAR|E>B1|F>K1",null,null,null,"GF_HUHN",35,null,null,null,null,null,null,null,"Ausstalldatum",null,null,null,"Brüterei"]
["FORMULAR|L>D1",null,null,"STALL>L",null,null,null,null,null,null,"Stall/Herde",null,null,null,null,null,null,"Schlachthof"]
[]
[null,null,null,null,null,null,null,null,"Stichproben"]
["STICHPROBE_START",null,null,null,null,null,null,null,null,null,"Formular",null,null,"Datum"]
["FORMULAR|K>H1|N>J1|P>K1","GEN_ID","GF_SP","MH_LW02",2,"GEN_Z","F11",null,null,null,"Tierbeurteilung (LW 2)","ausfüllen ..."]
["FORMULAR|K>H1|N>J1|P>K1","GEN_ID","GF_SP","MH_LWENDE",5,"GEN_Z","F12",null,null,null,"Tierbeurteilung (letzte LW)","ausfüllen ..."]
["STICHPROBE_ENDE"]
[null,null,null,null,null,null,null,null,"Fortlaufende Erhebungen"]
["LAUFEND_START",null,null,null,null,null,null,null,null,null,"Formular",null,null,"Datum"]
["FORMULAR|K>H1|N>J1|P>K1","GEN_ID","ET_AZ","GF",null,"GEN_Z","F20",null,null,null,"Arzneimittel","ausfüllen ..."]
["FORMULAR|K>H1|N>J1|E>L1","GEN_ID","GF_GW","GF_HUHN",1,"GEN_Z","F30",null,null,null,"Tiergewichte/Uniformität (Futterphase 1-5)","ausfüllen ..."]
["FORMULAR|K>H1|N>J1|P>K1","GEN_ID","GF_MB","MH_TV",1,"GEN_Z",{"$f":"\"F4\" & TEXT(E324,\"00\")","v":"F401"},null,null,null,{"$f":"\"Verluste, Wasserverbrauch - \" & E324 & \". Monat\"","v":"Verluste, Wasserverbrauch - 1. Monat"},"ausfüllen ...",null,null,null,null,null,null,null,null,"weiteren Monat hinzufügen ..."]
["FORMULAR|K>H1|N>J1|P>K1","GEN_ID","GF_MB","MH_TV",2,"GEN_Z","F402",null,null,null,{"$f":"\"Verluste, Wasserverbrauch - \" & E325 & \". Monat\"","v":"Verluste, Wasserverbrauch - 2. Monat"},"ausfüllen ..."]
["LAUFEND_ENDE"]
[null,null,null,null,null,null,null,null,"Abschlusserhebungen"]
["ABSCHLUSS_START",null,null,null,null,null,null,null,null,null,"Formular",null,null,"Datum"]
["FORMULAR|K>H1|N>J1|P>K1","GEN_ID","GF_SB",null,null,"GEN_Z","F50",null,null,null,"Schlachthofindikatoren","ausfüllen ..."]
["ABSCHLUSS_ENDE"]
[]
["BEREICH_ENDE"]
[]
["BEREICH_START",null,null,null,null,null,"GF_PUTE1"]
["FORMULAR|I>C1",null,null,null,null,"X",null,null,"Jungputen",null,null,null,null,null,null,null,null,null,null,null,"Erhebung löschen ..."]
[]
[null,null,null,"BETRIEBID>L",null,"P",{"$f":"\"T01>\"& IF(L337<>\"\",\"[\" & L337 & \"] \",\"\") & I335 & \" (Stall: \" & L341 & \" / Schlupfdatum: \" & TEXT(P338,\"tt.MM.jjjj\") & \")\"","v":"T01>Jungputen (Stall:  / Schlupfdatum: 00.01.1900)"},null,null,null,"Betriebs-ID",null,null,null,null,null,null,null,null,null,"Erhebung drucken ..."]
["FORMULAR|P>F1",null,null,"POS>L",null,null,{"$f":"\"T02>\"& IF(L337<>\"\",\"[\" & L337 & \"] \",\"\") &  \" Stall: \" & L341 & \" / Schlupfdatum: \" & TEXT(P338,\"tt.MM.jjjj\")","v":"T02> Stall:  / Schlupfdatum: 00.01.1900"},null,null,null,"Durchgang",null,null,"Schlupfdatum"]
["FORMULAR|L>E1",null,null,null,null,null,{"$f":"\"T04>\" & L339","v":"T04>"},null,null,null,"Herdengröße (Einstallung)",null,null,"Einstalldatum",null,null,null,"Genetik (Herkunft)"]
["FORMULAR|E>B1|F>K1",null,null,null,"GF_PUTE",{"$f":"IF(COUNT(L340)=1,L340,28)","v":28},null,null,null,null,"Aufzuchtdauer (Tage)",null,null,"Ausstalldatum",null,null,null,"Brüterei"]
["FORMULAR|L>D1",null,null,"STALL>L",null,null,null,null,null,null,"Stall/Herde"]
[]
[null,null,null,null,null,null,null,null,"Stichproben"]
["STICHPROBE_START",null,null,null,null,null,null,null,null,null,"Formular",null,null,"Datum",null,"Sollgewicht"]
["FORMULAR|K>H1|N>J1|P>K1","GEN_ID","GF_SP","MP_LW05",5,"GEN_Z","F11",null,null,null,"Tierbeurteilung (LW 5)","ausfüllen ..."]
["STICHPROBE_ENDE"]
[null,null,null,null,null,null,null,null,"Fortlaufende Erhebungen"]
["LAUFEND_START",null,null,null,null,null,null,null,null,null,"Formular",null,null,"Datum"]
["FORMULAR|K>H1|N>J1|P>K1","GEN_ID","ET_AZ","GF",null,"GEN_Z","F20",null,null,null,"Arzneimittel","ausfüllen ..."]
["FORMULAR|K>H1|N>J1|E>L1","GEN_ID","GF_GW","GF_AUFZUCHT",1,"GEN_Z","F30",null,null,null,"Tiergewichte/Uniformität (Aufzucht)","ausfüllen ..."]
["FORMULAR|K>H1|N>J1","GEN_ID","GF_MB","MP_TV",1,"GEN_Z",{"$f":"\"F4\" & TEXT(E351,\"00\")","v":"F401"},null,null,null,"Verluste, Wasserverbrauch - Aufzucht","ausfüllen ..."]
["LAUFEND_ENDE"]
["BEREICH_ENDE"]
[]
["BEREICH_START",null,null,null,null,null,"GF_PUTE2"]
["FORMULAR|I>C1",null,null,null,null,"X",null,null,"Mastputen",null,null,null,null,null,null,null,null,null,null,null,"Erhebung löschen ..."]
[]
[null,null,null,"BETRIEBID>L",null,"P",{"$f":"\"T01>\"& IF(L358<>\"\",\"[\" & L358 & \"] \",\"\") & I356 & \" (Stall: \" & L362 & \" / Schlupfdatum: \" & TEXT(P359,\"tt.MM.jjjj\") & \")\"","v":"T01>Mastputen (Stall:  / Schlupfdatum: 00.01.1900)"},null,null,null,"Betriebs-ID",null,null,null,null,null,null,null,null,null,"Erhebung drucken ..."]
["FORMULAR|P>F1",null,null,"POS>L",null,null,{"$f":"\"T02>\"& IF(L358<>\"\",\"[\" & L358 & \"] \",\"\") &  \" Stall: \" & L362 & \" / Schlupfdatum: \" & TEXT(P359,\"tt.MM.jjjj\")","v":"T02> Stall:  / Schlupfdatum: 00.01.1900"},null,null,null,"Durchgang",null,null,"Schlupfdatum"]
["FORMULAR|L>E1",null,null,null,null,null,{"$f":"\"T04>\" & L360","v":"T04>"},null,null,null,"Herdengröße (Einstallung)",null,null,"Einstalldatum",null,null,null,"Genetik (Herkunft)"]
["FORMULAR|E>B1|F>K1",null,null,null,"GF_PUTE",{"$f":"IF(COUNT(L361)=1,L361,28)","v":28},null,null,null,null,"Alter Jungputen bei Einstallung (Tage)",null,null,"Ausstalldatum",null,null,null,"Aufzüchter"]
["FORMULAR|L>D1",null,null,"STALL>L",null,null,null,null,null,null,"Stall/Herde",null,null,null,null,null,null,"Schlachthof"]
[]
[null,null,null,null,null,null,null,null,"Stichproben"]
["STICHPROBE_START",null,null,null,null,null,null,null,null,null,"Formular",null,null,"Datum",null,"Sollgewicht"]
["FORMULAR|K>H1|N>J1|P>K1","GEN_ID","GF_SP","MP_LW08",8,"GEN_Z","F12",null,null,null,"Tierbeurteilung (LW 8)","ausfüllen ..."]
["FORMULAR|K>H1|N>J1|P>K1","GEN_ID","GF_SP","MP_LW12",12,"GEN_Z","F13",null,null,null,"Tierbeurteilung (LW 12)","ausfüllen ..."]
["FORMULAR|K>H1|N>J1|P>K1","GEN_ID","GF_SP","MP_LWENDE",1,"GEN_Z","F14",null,null,null,"Tierbeurteilung (letzter Lebensmonat)","ausfüllen ..."]
["STICHPROBE_ENDE"]
[null,null,null,null,null,null,null,null,"Fortlaufende Erhebungen"]
["LAUFEND_START",null,null,null,null,null,null,null,null,null,"Formular",null,null,"Datum"]
["FORMULAR|K>H1|N>J1|P>K1","GEN_ID","ET_AZ","GF",null,"GEN_Z","F20",null,null,null,"Arzneimittel","ausfüllen ..."]
["FORMULAR|K>H1|N>J1|E>L1","GEN_ID","GF_GW","GF_MAST",{"$f":"IF(COUNT(L361)=1,INT((L361-1)/7)+2,1)","v":1},"GEN_Z","F30",null,null,null,"Tiergewichte/Uniformität (wöchentlich)","ausfüllen ..."]
["FORMULAR|K>H1|N>J1|P>K1","GEN_ID","GF_MB","MP_TV",2,"GEN_Z",{"$f":"\"F4\" & TEXT(E374-1,\"00\")","v":"F401"},null,null,null,{"$f":"\"Verluste, Wasserverbrauch - \" & (E374-1) & \". Monat\"","v":"Verluste, Wasserverbrauch - 1. Monat"},"ausfüllen ...",null,null,null,null,null,null,null,null,"weiteren Monat hinzufügen ..."]
["FORMULAR|K>H1|N>J1|P>K1","GEN_ID","GF_MB","MP_TV",3,"GEN_Z",{"$f":"\"F4\" & TEXT(E375-1,\"00\")","v":"F402"},null,null,null,{"$f":"\"Verluste, Wasserverbrauch - \" & (E375-1) & \". Monat\"","v":"Verluste, Wasserverbrauch - 2. Monat"},"ausfüllen ..."]
["LAUFEND_ENDE"]
[null,null,null,null,null,null,null,null,"Abschlusserhebungen"]
["ABSCHLUSS_START",null,null,null,null,null,null,null,null,null,"Formular","Datum",null,"Datum"]
["FORMULAR|K>H1|N>J1|P>K1","GEN_ID","GF_SB",null,null,"GEN_Z","F50",null,null,null,"Schlachthofindikatoren","ausfüllen ..."]
["ABSCHLUSS_ENDE"]
["BEREICH_ENDE"]
[]
["BEREICH_START",null,null,null,null,null,"GF_PUTE3"]
["FORMULAR|I>C1",null,null,null,null,"X",null,null,"Jung-/Mastputen",null,null,null,null,null,null,null,null,null,null,null,"Erhebung löschen ..."]
[]
[null,null,null,"BETRIEBID>L",null,"P",{"$f":"\"T01>\"& IF(L386<>\"\",\"[\" & L386 & \"] \",\"\") & I384 & \" (Stall: \" & L390 & \" / Schlupfdatum: \" & TEXT(P387,\"tt.MM.jjjj\") & \")\"","v":"T01>Jung-/Mastputen (Stall:  / Schlupfdatum: 00.01.1900)"},null,null,null,"Betriebs-ID",null,null,null,null,null,null,null,null,null,"Erhebung drucken ..."]
["FORMULAR|P>F1",null,null,"POS>L",null,null,{"$f":"\"T02>\"& IF(L386<>\"\",\"[\" & L386 & \"] \",\"\") &  \" Stall: \" & L390 & \" / Schlupfdatum: \" & TEXT(P387,\"tt.MM.jjjj\")","v":"T02> Stall:  / Schlupfdatum: 00.01.1900"},null,null,null,"Durchgang",null,null,"Schlupfdatum"]
["FORMULAR|L>E1",null,null,null,null,null,{"$f":"\"T04>\" & L388","v":"T04>"},null,null,null,"Herdengröße (Einstallung)",null,null,"Einstalldatum",null,null,null,"Genetik (Herkunft)"]
["FORMULAR|E>B1|F>K1",null,null,null,"GF_PUTE",{"$f":"IF(COUNT(L389)=1,L389,28)","v":28},null,null,null,null,"Aufzuchtdauer (Tage)",null,null,"Ausstalldatum",null,null,null,"Brüterei"]
["FORMULAR|L>D1",null,null,"STALL>L",null,null,null,null,null,null,"Stall/Herde",null,null,null,null,null,null,"Schlachthof"]
[]
[null,null,null,null,null,null,null,null,"Stichproben"]
["STICHPROBE_START",null,null,null,null,null,null,null,null,null,"Formular",null,null,"Datum",null,"Sollgewicht"]
["FORMULAR|K>H1|N>J1|P>K1","GEN_ID","GF_SP","MP_LW05",5,"GEN_Z","F11",null,null,null,"Tierbeurteilung (LW 5)","ausfüllen ..."]
["FORMULAR|K>H1|N>J1|P>K1","GEN_ID","GF_SP","MP_LW08",8,"GEN_Z","F12",null,null,null,"Tierbeurteilung (LW 8)","ausfüllen ..."]
["FORMULAR|K>H1|N>J1|P>K1","GEN_ID","GF_SP","MP_LW12",12,"GEN_Z","F13",null,null,null,"Tierbeurteilung (LW 12)","ausfüllen ..."]
["FORMULAR|K>H1|N>J1|P>K1","GEN_ID","GF_SP","MP_LWENDE",1,"GEN_Z","F14",null,null,null,"Tierbeurteilung (letzter Lebensmonat)","ausfüllen ..."]
["STICHPROBE_ENDE"]
[null,null,null,null,null,null,null,null,"Fortlaufende Erhebungen"]
["LAUFEND_START",null,null,null,null,null,null,null,null,null,"Formular",null,null,"Datum"]
["FORMULAR|K>H1|N>J1|P>K1","GEN_ID","ET_AZ","GF",null,"GEN_Z","F20",null,null,null,"Arzneimittel","ausfüllen ..."]
["FORMULAR|K>H1|N>J1|E>L1","GEN_ID","GF_GW","GF_AUFZUCHT",1,"GEN_Z","F30",null,null,null,"Tiergewichte/Uniformität (Aufzucht)","ausfüllen ..."]
["FORMULAR|K>H1|N>J1|E>L1","GEN_ID","GF_GW","GF_MAST",{"$f":"IF(COUNT(L389)=1,INT((L389-1)/7)+2,1)","v":1},"GEN_Z","F31",null,null,null,"Tiergewichte/Uniformität (wöchentlich)","ausfüllen ..."]
["FORMULAR|K>H1|N>J1|P>K1","GEN_ID","GF_MB","MP_TV",1,"GEN_Z",{"$f":"\"F4\" & TEXT(E404,\"00\")","v":"F401"},null,null,null,"Verluste, Wasserverbrauch - Aufzucht","ausfüllen ...",null,null,null,null,null,null,null,null,"weiteren Monat hinzufügen ..."]
["FORMULAR|K>H1|N>J1|P>K1","GEN_ID","GF_MB","MP_TV",2,"GEN_Z",{"$f":"\"F4\" & TEXT(E405,\"00\")","v":"F402"},null,null,null,{"$f":"\"Verluste, Wasserverbrauch - \" & (E405-1) & \". Monat\"","v":"Verluste, Wasserverbrauch - 1. Monat"},"ausfüllen ..."]
["LAUFEND_ENDE"]
[null,null,null,null,null,null,null,null,"Abschlusserhebungen"]
["ABSCHLUSS_START",null,null,null,null,null,null,null,null,null,"Formular","Datum",null,"Datum"]
["FORMULAR|K>H1|N>J1|P>K1","GEN_ID","GF_SB",null,null,"GEN_Z","F50",null,null,null,"Schlachthofindikatoren","ausfüllen ..."]
["ABSCHLUSS_ENDE"]
["BEREICH_ENDE"]

{"sheet":"InternInfos","index":2,"n_rows":118,"n_cols":14,"rows_kept":118,"cut":false,"hidden":true,"merged":[]}
["Intern_FormID",1]
["Intern_GENZyklus",1]
["Intern_NameErhebung","Erhebungen"]
["Formel",{"$f":"IF(Intern_BetriebIDErhebung<>\"\",Intern_BetriebIDErhebung,IF(Intern_StartAuswahl=\"GF\",BetriebID_GF,IF(Intern_StartAuswahl=\"SW\",BetriebID_SW,IF(Intern_StartAuswahl=\"RD\",BetriebID_RD,0))))","v":0}]
["Intern_BetriebID",{"$f":"IF(B4=0,Intern_BetriebName,B4)","v":""}]
["Intern_BetriebIDErhebung"]
["Intern_BetriebName",{"$f":"IF(Intern_StartAuswahl=\"GF\",'Allg. Betriebsdaten_GF'!H9,\"\") & IF(Intern_StartAuswahl=\"SW\",'Allg. Betriebsdaten_SW'!H9,\"\") & IF(Intern_StartAuswahl=\"RD\",'Allg. Betriebsdaten'!H9,\"\")","v":""}]
["Intern_RD_MLP",{"$f":"I59=1","v":true}]
["Intern_GFStallzahl",{"$f":"COUNTIF(Betrieb_Stallliste_GF,\"*\")","v":0}]
["Intern_StartAuswahl","RD"]
["Intern_StartAnzeigen","J"]
["Intern_EiKoTiger","Eigenkontrolle Tiergerechtheit"]
["Intern_KopiereWerte",false]
["Intern_ErsterStall",{"$f":"IF(Intern_StartAuswahl=\"RD\",'Allg. Betriebsdaten'!G28,\"\") & IF(Intern_StartAuswahl=\"GF\",'Allg. Betriebsdaten_GF'!G24,\"\") & IF(Intern_StartAuswahl=\"SW\",'Allg. Betriebsdaten_SW'!G23,\"\")","v":""}]
["Intern_LastFormTyp","RD_BUCHT"]
["Intern_LastrowDaten",41]
["Intern_LastPDFOrdner"]
["Intern_Version",17]
[]
["Ansteuerung der Ansichten für Stichprobenformular"]
["Ansicht","Titel","Bezeichnung","Spaltenanzeige"]
["LH_LW04","LW 4","Junghennen","W01;W02;W05;W06;W07"]
["LH_LW12","LW 12","Junghennen","W01;W02;W05;W06;W07;W12"]
["LH_LW16","LW 16","Junghennen","W01;W02;W03;W05;W12"]
["LH_LW25","LW 25","Legehennen","W01;W02;W05;W06;W07;W12"]
["LH_LW37","LW 37","Legehennen","W01;W02;W03;W05;W06;W07;W09;W12"]
["LH_LW49","LW 49","Legehennen","W01;W02;W05;W06;W07;W12"]
["LH_LW61","LW 61","Legehennen","W01;W02;W03;W05;W06;W07;W09;W12"]
["LH_STALL","Einstallen","Legehennen","W01;W02;W03;W05;W06;W07;W09;W12"]
["MH_LW02","LW 2","Masthühner",{"$f":"\"W01;W08;W14;W15\" & H30","v":"W01;W08;W14;W15"},null,null,null,{"$f":"IF(LEFT('Allg. Betriebsdaten_GF'!H12,5)=\"UNIKS\",\";W12\",\"\")","v":""}]
["MH_LWENDE","Letzte LW","Masthühner",{"$f":"\"W01;W09;W11;W15\" & H30","v":"W01;W09;W11;W15"}]
["MP_LW05","LW 5","Mastputen","W01;W04;W05;W06;W10;W11;W12;W15"]
["MP_LW08","LW 8","Mastputen","W01;W04;W12;W14;W15"]
["MP_LW12","LW 12","Mastputen","W01;W12;W14;W15"]
["MP_LWENDE","Letzte LW","Mastputen","W01;W05;W06;W10;W11;W15"]
["RD_MAST",null,null,"W01;W02;W03;W11;W12;W13;W14;W15;W19;W20;W21;W22;W23;W24;W25;W26;W27;W29"]
["RD_MILCH",null,null,"W01;W02;W04;W05;W06;W07;W08;W09;R10;W16;W17;W18;W20;W21;W22;W23;W24;W25;W27;W28:W29"]
["RD_MILCHAUSWEICH",null,null,"W01;W02;W30"]
["ZZZZZ"]
[]
[]
[]
[]
["Listenwerte für Datenprüfungen"]
[null,"Halbjahr",null,"Geschlecht",null,"Maststufen",null,"Bonitur Fußballen"]
[null,"Sommerhalbjahr",null,"M",null,"A",null,"A"]
[null,"Winterhalbjahr",null,"W",null,"M",null,"B"]
[null,null,null,null,null,"E",null,"C"]
[]
[]
["Listeninhalte und Ergebniszellen für DropDownListen"]
[]
["Auswahl Hennen",null,null,null,null,"Auswahl Rind",null,null,null,null,"Auswahl Schwein"]
[null,null,{"$f":"IF(AND(Intern_GF_Junghennen,Intern_GF_Legehennen),\"Jung-/Legehennen\",IF(Intern_GF_Junghennen,C55,IF(Intern_GF_Legehennen,C56,\"Keine\")))","v":"Keine"},{"$f":"IF(OR(Intern_GF_Junghennen,Intern_GF_Legehennen),TRUE,FALSE)","v":false},null,null,null,"Milchkühe",true,null,null,"Sauen/Saugferkel",false]
[null,null,"Junghennen",false,null,null,null,"Aufzuchtkälber",true,null,null,"Aufzuchtferkel",false]
[null,null,"Legehennen",false,null,null,null,"Mastrinder",true,null,null,"Mastschweine",false]
[null,null,"Masthühner",false]
[null,null,"Jungputen",false,null,"MLP"]
[null,null,"Mastputen",false,null,null,"Ja",null,1]
[null,null,{"$f":"IF(AND(D58,D59),\"Mastputen/Jungputen\",IF(D58,\"Jungputen\",IF(D59,\"Mastputen\",\"Keine\")))","v":"Keine"},{"$f":"OR(D58,D59)","v":false},null,null,"Nein"]
[]
[]
[null,null,null,null,null,null,null,null,null,null,"Schwein Wasserbedarf"]
[null,null,null,null,null,null,null,null,null,null,null,"---"]
[null,null,null,null,null,"Stichprobe Milchkühe/Aufzuchtkälber",null,null,null,null,null,"Aufzuchtferkel bis 29 kg",0.5,0.7]
[null,null,null,null,null,"00000",0,30,0,null,null,"Vormast 30 bis 50 kg",0.6,1]
[null,null,null,null,null,"00031",31,31,{"$f":"4/19","v":0.21052631578947401},null,null,"Mittelmast 50 bis 80 kg",0.8,1.2]
["Auswahl Masthuhn",null,null,2,null,"00051",51,36,{"$f":"I67","v":0.21052631578947401},null,null,"Endmast 80 bis 120 kg",1.5,1.8]
[null,"---",null,null,null,"00070",0,40,0]
[null,"Kurzmast",null,null,null,"00073",0,41,0]
[null,"Mittellangmast",null,null,null,"00076",0,42,0,null,"Zahlenformat vom Schlachthof"]
[null,"Langmast",null,null,null,"00079",0,43,0,null,null,"Schlachtbefunde mit absoluten Angaben"]
[null,"Splittingverfahren",null,null,null,"00082",0,44,0,null,null,"Schlachtbefunde mit Prozentangaben"]
[null,"sonstiges",null,null,null,"00085",0,45,0]
[null,null,null,null,null,"00088",0,46,0]
[null,null,null,null,null,"00091",0,47,0]
[null,null,null,null,null,"00094",0,48,0]
[null,null,null,null,null,"00097",0,49,0]
[null,null,null,null,null,"00100",100,50,{"$f":"10/50","v":0.2}]
[null,null,null,null,null,"00150",150,60,{"$f":"5/50","v":0.1}]
[null,null,null,null,null,"00200",200,65,{"$f":"5/50","v":0.1}]
[null,null,null,null,null,"00250",250,70,{"$f":"5/50","v":0.1}]
[null,null,null,null,null,"00300",300,75,{"$f":"5/200","v":2.5000000000000001E-2}]
[null,null,null,null,null,"00500",500,80,{"$f":"5/300","v":1.6666666666666701E-2}]
["Auswahl Mastpute",null,null,3,null,"00800",800,85,{"$f":"5/200","v":2.5000000000000001E-2}]
[null,"---",null,null,null,"01000",1000,90]
[null,"21 Wochen Rhythmus",null,null,null,"09999",9999,90]
[null,"18-19 Wochen Rhythmus",null,null,null,"99999",99999,90]
[null,"Kurzmast"]
[]
["Auswahl Haltung",null,null,3,null,"00000",0,30,0]
[null,"---",null,null,null,"00031",31,31,{"$f":"4/19","v":0.21052631578947401}]
[null,"Freilandhaltung",null,null,null,"00051",51,36,{"$f":"I92","v":0.21052631578947401}]
[null,"Bodenhaltung",null,null,null,"00070",70,40,{"$f":"10/29","v":0.34482758620689702}]
[null,"Volierenhaltung",null,null,null,"00100",100,50,{"$f":"10/50","v":0.2}]
[null,"Kleingruppenhaltung",null,null,null,"00150",150,60,{"$f":"5/50","v":0.1}]
[null,null,null,null,null,"00200",200,65,{"$f":"5/50","v":0.1}]
["Auswahl AK",null,null,1,null,"00250",250,70]
[null,"---",null,null,null,"01000",1000,70]
[null,"Familienarbeitskräfte",null,null,null,"09999",9999,70]
[null,"Fremdarbeitskräfte",null,null,null,"99999",99999,70]
[]
["Auswahl Erwerb",null,null,2]
[null,"---"]
[null,"Haupterwerb"]
[null,"Nebenerwerb"]
[]
["Auswahl Bewirt",null,null,2]
[null,"---"]
[null,"Ökologisch"]
[null,"Konventionell"]
[]
["Auswahl Spezialisierung"]
[null,"---"]
[null,"< 25%"]
[null,"25-50%"]
[null,"50-75%"]
[null,">75%"]

{"sheet":"InternVorlagenAuswertung","index":3,"n_rows":670,"n_cols":63,"rows_kept":670,"cut":false,"hidden":true,"merged":[]}
["BEREICH_START",null,null,null,null,null,null,null,null,null,null,null,null,null,null,null,null,null,null,"RD_MILCH",null,null,null,null,null,null,null,null,null,null,null,null,null,null,null,null,null,null,null,null,null,null,null,null,null,"Milchkühe",null,null,null,null,null,null,null,null,null,null,null,"#DATUM#"]
["AA>T02",null,null,null,null,null,null,null,null,null,null,null,null,null,null,null,null,null,null,null,null,null,null,null,null,null,null,null,null,null,null,null,null,null,null,null,null,null,null,null,null,null,null,null,null,null,{"$f":"AA2","v":0}]
["AA>F11|",null,"AC>F21|",null,null,null,null,"Allg. Indikatoren",null,null,null,null,"n","AB>F11|",null,"AD>F21|"]
["AA>F13|",null,"AC>F23|",null,null,null,null,"Ausweichdistanz",null,null,null,null,"n","AB>F13|",null,"AD>F23|",null,null,null,null,null,null,null,null,null,null,null,null,null,null,null,null,null,null,null,null,null,null,null,null,null,null,null,null,null,null,null,null,null,null,null,null,null,"Sommer-",null,"Winter-"]
[null,null,null,null,null,null,null,null,null,null,null,null,null,null,null,null,null,null,null,"Stichproben",null,null,null,null,null,null,null,null,null,null,null,null,null,null,null,null,null,null,null,null,null,null,null,null,null,null,null,null,null,null,null,null,null,"halbjahr",null,"halbjahr"]
[null,null,null,null,null,null,null,null,null,null,null,null,null,null,null,null,null,null,null,null,null,null,null,null,null,null,null,null,null,null,null,null,null,null,null,null,null,null,null,null,null,null,null,null,null,null,null,null,null,null,null,null,null,"Ergeb-","Beurteilte","Ergeb-","Beurteilte"]
[null,null,null,null,null,null,null,null,null,null,null,null,null,null,null,null,null,null,null,null,null,null,null,null,null,null,null,null,null,null,null,null,null,null,null,null,null,null,null,null,null,null,null,null,null,null,null,null,null,null,null,null,null,"nisse","Tiere (insg.)","nisse","Tiere (insg.)"]
[{"$f":"A4&H8","v":"AA>F13|911|W30"},null,{"$f":"C4&H8","v":"AC>F23|911|W30"},null,null,null,null,"911|W30",null,null,null,null,null,{"$f":"N4&R8","v":"AB>F13|904|W30"},null,{"$f":"P4&R8","v":"AD>F23|904|W30"},null,"904|W30",null,null,null,null,null,null,null,null,null,null,null,null,null,null,null,null,null,null,null,null,null,null,null,null,null,null,null,null,"Ausweichdistanz",null,null,null,null,null,"Bonitur 1",{"$f":"IF(AB8>0,AA8/100,\"\")","v":""},{"$f":"IF(AB8>0,\"[\"&AB8&\"]\",\"\")","v":""},{"$f":"IF(AD8>0,AC8/100,\"\")","v":""},{"$f":"IF(AD8>0,\"[\"&AD8&\"]\",\"\")","v":""}]
[{"$f":"A4&H9","v":"AA>F13|912|W30"},null,{"$f":"C4&H9","v":"AC>F23|912|W30"},null,null,null,null,"912|W30",null,null,null,null,null,{"$f":"N4&R9","v":"AB>F13|904|W30"},null,{"$f":"P4&R9","v":"AD>F23|904|W30"},null,"904|W30",null,null,null,null,null,null,null,null,null,null,null,null,null,null,null,null,null,null,null,null,null,null,null,null,null,null,null,null,null,null,null,null,null,null,"Bonitur 2",{"$f":"IF(AB9>0,AA9/100,\"\")","v":""},{"$f":"IF(AB9>0,\"[\"&AB9&\"]\",\"\")","v":""},{"$f":"IF(AD9>0,AC9/100,\"\")","v":""},{"$f":"IF(AD9>0,\"[\"&AD9&\"]\",\"\")","v":""}]
[{"$f":"A3&H10","v":"AA>F11|911|W10"},null,{"$f":"C3&H10","v":"AC>F21|911|W10"},null,null,null,null,"911|W10",null,null,null,null,null,{"$f":"N3&R10","v":"AB>F11|904|W10"},null,{"$f":"P3&R10","v":"AD>F21|904|W10"},null,"904|W10",null,null,null,null,null,null,null,null,null,null,null,null,null,null,null,null,null,null,null,null,null,null,null,null,null,null,null,null,"Körperkondition",null,null,null,null,null,"zu mager",{"$f":"IF(AB10>0,AA10/100,\"\")","v":""},"",{"$f":"IF(AD10>0,AC10/100,\"\")","v":""},""]
[{"$f":"A3&H11","v":"AA>F11|912|W10"},null,{"$f":"C3&H11","v":"AC>F21|912|W10"},null,null,null,null,"912|W10",null,null,null,null,null,{"$f":"N3&R11","v":"AB>F11|904|W10"},null,{"$f":"P3&R11","v":"AD>F21|904|W10"},null,"904|W10",null,null,null,null,null,null,null,null,null,null,null,null,null,null,null,null,null,null,null,null,null,null,null,null,null,null,null,null,null,null,null,null,null,null,"zu fett","","","",""]
[null,null,null,null,null,null,null,null,null,null,null,null,null,null,null,null,null,null,null,null,null,null,null,null,null,null,null,null,null,null,null,null,null,null,null,null,null,null,null,null,null,null,null,null,null,null,"Verschmutzung"]
[{"$f":"A3&H13","v":"AA>F11|911|W16"},null,{"$f":"C3&H13","v":"AC>F21|911|W16"},null,null,null,null,"911|W16",null,null,null,null,null,{"$f":"N3&R13","v":"AB>F11|904|W16"},null,{"$f":"P3&R13","v":"AD>F21|904|W16"},null,"904|W16",null,null,null,null,null,null,null,null,null,null,null,null,null,null,null,null,null,null,null,null,null,null,null,null,null,null,null,null,null,"Unteres Hinterbein",null,null,null,null,"Bonitur 1",{"$f":"IF(AB13>0,AA13/100,\"\")","v":""},{"$f":"IF(AB13>0,\"[\"&AB13&\"]\",\"\")","v":""},{"$f":"IF(AD13>0,AC13/100,\"\")","v":""},{"$f":"IF(AD13>0,\"[\"&AD13&\"]\",\"\")","v":""}]
[{"$f":"A3&H14","v":"AA>F11|911|W17"},null,{"$f":"C3&H14","v":"AC>F21|911|W17"},null,null,null,null,"911|W17",null,null,null,null,null,{"$f":"N3&R14","v":"AB>F11|904|W17"},null,{"$f":"P3&R14","v":"AD>F21|904|W17"},null,"904|W17",null,null,null,null,null,null,null,null,null,null,null,null,null,null,null,null,null,null,null,null,null,null,null,null,null,null,null,null,null,"Oberes Hinterbein",null,null,null,null,"Bonitur 1","","","",""]
[{"$f":"A3&H15","v":"AA>F11|911|W18"},null,{"$f":"C3&H15","v":"AC>F21|911|W18"},null,null,null,null,"911|W18",null,null,null,null,null,{"$f":"N3&R15","v":"AB>F11|904|W18"},null,{"$f":"P3&R15","v":"AD>F21|904|W18"},null,"904|W18",null,null,null,null,null,null,null,null,null,null,null,null,null,null,null,null,null,null,null,null,null,null,null,null,null,null,null,null,null,"Euter",null,null,null,null,"Bonitur 1","","","",""]
[null,null,null,null,null,null,null,null,null,null,null,null,null,null,null,null,null,null,null,null,null,null,null,null,null,null,null,null,null,null,null,null,null,null,null,null,null,null,null,null,null,null,null,null,null,null,"Integumentschäden"]
[{"$f":"A3&H17","v":"AA>F11|920|W21"},null,{"$f":"C3&H17","v":"AC>F21|920|W21"},null,null,null,null,"920|W21",null,null,null,null,null,{"$f":"N3&R17","v":"AB>F11|920|W25"},null,{"$f":"P3&R17","v":"AD>F21|920|W25"},null,"920|W25",null,null,null,null,null,null,null,null,null,null,null,null,null,null,null,null,null,null,null,null,null,null,null,null,null,null,null,null,"Tiere mit Integumentschäden ",null,null,null,null,null,null,{"$f":"IF(AB17>0,AA17/100,\"\")","v":""},{"$f":"IF(AB17>0,\"[\"&AB17&\"]\",\"\")","v":""},{"$f":"IF(AD17>0,AC17/100,\"\")","v":""},{"$f":"IF(AD17>0,\"[\"&AD17&\"]\",\"\")","v":""}]
[{"$f":"A3&H18","v":"AA>F11|911|W24"},null,{"$f":"C3&H18","v":"AC>F21|911|W24"},null,null,null,null,"911|W24",null,null,null,null,null,{"$f":"N3&R18","v":"AB>F11|904|W24"},null,{"$f":"P3&R18","v":"AD>F21|904|W24"},null,"904|W24",null,null,null,null,null,null,null,null,null,null,null,null,null,null,null,null,null,null,null,null,null,null,null,null,null,null,null,null,null,"Sprunggelenk",null,"Wunde/Kruste",null,null,"Bonitur 1",{"$f":"IF(AB18>0,AA18/100,\"\")","v":""},{"$f":"IF(AB18>0,\"[\"&AB18&\"]\",\"\")","v":""},{"$f":"IF(AD18>0,AC18/100,\"\")","v":""},{"$f":"IF(AD18>0,\"[\"&AD18&\"]\",\"\")","v":""}]
[{"$f":"A3&H19","v":"AA>F11|911|W25"},null,{"$f":"C3&H19","v":"AC>F21|911|W25"},null,null,null,null,"911|W25",null,null,null,null,null,{"$f":"N3&R19","v":"AB>F11|904|W25"},null,{"$f":"P3&R19","v":"AD>F21|904|W25"},null,"904|W25",null,null,null,null,null,null,null,null,null,null,null,null,null,null,null,null,null,null,null,null,null,null,null,null,null,null,null,null,null,null,null,"Schwellung",null,null,"Bonitur 1","","","",""]
[{"$f":"A3&H20","v":"AA>F11|911|W22"},null,{"$f":"C3&H20","v":"AC>F21|911|W22"},null,null,null,null,"911|W22",null,null,null,null,null,{"$f":"N3&R20","v":"AB>F11|904|W22"},null,{"$f":"P3&R20","v":"AD>F21|904|W22"},null,"904|W22",null,null,null,null,null,null,null,null,null,null,null,null,null,null,null,null,null,null,null,null,null,null,null,null,null,null,null,null,null,"Vorderfußwurzelgelenk",null,"Wunde/Kruste",null,null,"Bonitur 1","","","",""]
[{"$f":"A3&H21","v":"AA>F11|911|W23"},null,{"$f":"C3&H21","v":"AC>F21|911|W23"},null,null,null,null,"911|W23",null,null,null,null,null,{"$f":"N3&R21","v":"AB>F11|904|W23"},null,{"$f":"P3&R21","v":"AD>F21|904|W23"},null,"904|W23",null,null,null,null,null,null,null,null,null,null,null,null,null,null,null,null,null,null,null,null,null,null,null,null,null,null,null,null,null,null,null,"Schwellung",null,null,"Bonitur 1","","","",""]
[{"$f":"A3&H22","v":"AA>F11|911|W20"},null,{"$f":"C3&H22","v":"AC>F21|911|W20"},null,null,null,null,"911|W20",null,null,null,null,null,{"$f":"N3&R22","v":"AB>F11|904|W20"},null,{"$f":"P3&R22","v":"AD>F21|904|W20"},null,"904|W20",null,null,null,null,null,null,null,null,null,null,null,null,null,null,null,null,null,null,null,null,null,null,null,null,null,null,null,null,null,"Nacken",null,"Wunde/Kruste",null,null,"Bonitur 1","","","",""]
[{"$f":"A3&H23","v":"AA>F11|911|W21"},null,{"$f":"C3&H23","v":"AC>F21|911|W21"},null,null,null,null,"911|W21",null,null,null,null,null,{"$f":"N3&R23","v":"AB>F11|904|W21"},null,{"$f":"P3&R23","v":"AD>F21|904|W21"},null,"904|W21",null,null,null,null,null,null,null,null,null,null,null,null,null,null,null,null,null,null,null,null,null,null,null,null,null,null,null,null,null,null,null,"Schwellung",null,null,"Bonitur 1","","","",""]
[{"$f":"A3&H24","v":"AA>F11|911|W27"},null,{"$f":"C3&H24","v":"AC>F21|911|W27"},null,null,null,null,"911|W27",null,null,null,null,null,{"$f":"N3&R24","v":"AB>F11|904|W27"},null,{"$f":"P3&R24","v":"AD>F21|904|W27"},null,"904|W27",null,null,null,null,null,null,null,null,null,null,null,null,null,null,null,null,null,null,null,null,null,null,null,null,null,null,null,null,"Klauenzustand",null,null,null,null,null,"Bonitur 1","","","",""]
[{"$f":"A3&H25","v":"AA>F11|911|W28"},null,{"$f":"C3&H25","v":"AC>F21|911|W28"},null,null,null,null,"911|W28",null,null,null,null,null,{"$f":"N3&R25","v":"AB>F11|904|W28"},null,{"$f":"P3&R25","v":"AD>F21|904|W28"},null,"904|W28",null,null,null,null,null,null,null,null,null,null,null,null,null,null,null,null,null,null,null,null,null,null,null,null,null,null,null,null,"Lahmheit","Laufstall",null,null,null,null,"geringgradig lahm","","","",""]
[{"$f":"A3&H26","v":"AA>F11|912|W28"},null,{"$f":"C3&H26","v":"AC>F21|912|W28"},null,null,null,null,"912|W28",null,null,null,null,null,{"$f":"N3&R26","v":"AB>F11|904|W28"},null,{"$f":"P3&R26","v":"AD>F21|904|W28"},null,"904|W28",null,null,null,null,null,null,null,null,null,null,null,null,null,null,null,null,null,null,null,null,null,null,null,null,null,null,null,null,null,null,null,null,null,null,"hochgradig lahm","","","",""]
[null,null,null,null,null,null,null,null,null,null,null,null,null,null,null,null,null,null,null,null,null,null,null,null,null,null,null,null,null,null,null,null,null,null,null,null,null,null,null,null,null,null,null,null,null,null,null,null,null,null,null,null,"lahme Tiere gesamt",{"$f":"IF(AB26+AB25>0,(AA26+AA25)/100,\"\")","v":""},{"$f":"BC26","v":""},{"$f":"IF(AD26+AD25>0,(AC26+AC25)/100,\"\")","v":""},{"$f":"BE26","v":""}]
[{"$f":"A3&H28","v":"AA>F11|911|W29"},null,{"$f":"C3&H28","v":"AC>F21|911|W29"},null,null,null,null,"911|W29",null,null,null,null,null,{"$f":"N3&R28","v":"AB>F11|904|W29"},null,{"$f":"P3&R28","v":"AD>F21|904|W29"},null,"904|W29",null,null,null,null,null,null,null,null,null,null,null,null,null,null,null,null,null,null,null,null,null,null,null,null,null,null,null,null,null,"Anbindehaltung",null,null,null,null,"lahme Tiere","","",{"$f":"IF(AD28>0,AC28/100,\"\")","v":""},{"$f":"IF(AD28>0,\"[\"&AD28&\"]\",\"\")","v":""}]
["AA>F14|",null,"AC>F24|",null,null,null,null,"Liegeplatz/Aufsteh/Wasser",null,null,null,null,null,"AB>F14|",null,"AD>F24|",null,null,null,null,null,null,null,null,null,null,null,null,null,null,null,null,null,null,null,null,null,null,null,null,null,null,null,null,null,null,"Liegeplatznutzung"]
[{"$f":"A29&H30","v":"AA>F14|902|W12"},null,{"$f":"C29&H30","v":"AC>F24|902|W12"},null,null,null,null,"902|W12",null,null,null,null,null,{"$f":"N29&R30","v":"AB>F14|905|W12"},null,{"$f":"P29&R30","v":"AD>F24|905|W12"},null,"905|W12",null,null,null,null,null,null,null,null,null,null,null,null,null,null,null,null,null,null,null,null,null,null,null,null,null,null,null,null,null,"Liegende Tiere",null,null,null,null,null,{"$f":"IF(AB30>0,AA30/100,\"\")","v":""},{"$f":"IF(AB30>0,\"[\"&AB30&\"]\",\"\")","v":""},{"$f":"IF(AD30>0,AC30/100,\"\")","v":""},{"$f":"IF(AD30>0,\"[\"&AD30&\"]\",\"\")","v":""}]
[{"$f":"A29&H31","v":"AA>F14|903|W12"},null,{"$f":"C29&H31","v":"AC>F24|903|W12"},null,null,null,null,"903|W12",null,null,null,null,null,{"$f":"N29&R31","v":"AB>F14|901|W12"},null,{"$f":"P29&R31","v":"AD>F24|901|W12"},null,"901|W12",null,null,null,null,null,null,null,null,null,null,null,null,null,null,null,null,null,null,null,null,null,null,null,null,null,null,null,null,null,"Vollständig auf Liegeplatz liegende Tiere",null,null,null,null,null,"","","",""]
[{"$f":"A29&H32","v":"AA>F14|903|W17"},null,{"$f":"C29&H32","v":"AC>F24|903|W17"},null,null,null,null,"903|W17",null,null,null,null,null,{"$f":"N29&R32","v":"AB>F14|901|W17"},null,{"$f":"P29&R32","v":"AD>F24|901|W17"},null,"901|W17",null,null,null,null,null,null,null,null,null,null,null,null,null,null,null,null,null,null,null,null,null,null,null,null,null,null,null,null,"Aufstehverhalten",null,null,null,null,null,"Bonitur 1",{"$f":"IF(AB32>0,AA32/100,\"\")","v":""},{"$f":"IF(AB32>0,\"[\"&AB32&\"]\",\"\")","v":""},{"$f":"IF(AD32>0,AC32/100,\"\")","v":""},{"$f":"IF(AD32>0,\"[\"&AD32&\"]\",\"\")","v":""}]
[null,null,null,null,null,null,null,null,null,null,null,null,null,null,null,null,null,null,null,null,null,null,null,null,null,null,null,null,null,null,null,null,null,null,null,null,null,null,null,null,null,null,null,null,null,null,"Wasserversorgung"]
[{"$f":"A29&H34","v":"AA>F14|903|W30"},null,{"$f":"C29&H34","v":"AC>F24|903|W30"},null,null,null,null,"903|W30",null,null,null,null,null,{"$f":"N29&R34","v":"AB>F14|901|W30"},null,{"$f":"P29&R34","v":"AD>F24|901|W30"},null,"901|W30",null,null,null,null,null,null,null,null,null,null,null,null,null,null,null,null,null,null,null,null,null,null,null,null,null,null,null,null,null,"Unzureichend versorgte Tiere",null,null,null,null,null,{"$f":"IF(AB34>0,AA34/100,\"\")","v":""},{"$f":"IF(AB34>0,\"[\"&AB34&\"]\",\"\")","v":""},{"$f":"IF(AD34>0,AC34/100,\"\")","v":""},{"$f":"IF(AD34>0,\"[\"&AD34&\"]\",\"\")","v":""}]
[null,null,null,null,null,null,null,null,null,null,null,null,null,null,null,null,null,null,null,null,null,null,null,null,null,null,null,null,null,null,null,null,null,null,null,null,null,null,null,null,null,null,null,null,null,null,null,null,null,null,null,null,null,"Ergeb-","Beurteilte","Ergeb-","Beurteilte"]
[null,null,null,null,null,null,null,null,null,null,null,null,null,null,null,null,null,null,null,null,null,null,null,null,null,null,null,null,null,null,null,null,null,null,null,null,null,null,null,null,null,null,null,null,null,null,null,null,null,null,null,null,null,"nis","Tränken","nis","Tränken"]
[{"$f":"A29&H37","v":"AA>F14|903|W24"},null,{"$f":"C29&H37","v":"AC>F24|903|W24"},null,null,null,null,"903|W24",null,null,null,null,null,{"$f":"N29&R37","v":"AB>F14|901|W24"},null,{"$f":"P29&R37","v":"AD>F24|901|W24"},null,"901|W24",null,null,null,null,null,null,null,null,null,null,null,null,null,null,null,null,null,null,null,null,null,null,null,null,null,null,null,null,null,"Unzureichende Tränken",null,null,null,null,null,{"$f":"IF(AB37>0,AA37/100,\"\")","v":""},{"$f":"IF(AB37>0,\"[\"&AB37&\"]\",\"\")","v":""},{"$f":"IF(AD37>0,AC37/100,\"\")","v":""},{"$f":"IF(AD37>0,\"[\"&AD37&\"]\",\"\")","v":""}]
[]
[]
["AA>F31|",null,null,null,null,null,null,"Milchleistung usw.",null,null,null,null,null,null,null,null,null,null,null,{"$f":"AU40","v":"Fortlaufende Erhebung"},null,null,null,null,null,null,null,null,null,null,null,null,null,null,null,null,null,null,null,null,null,null,null,null,null,null,"Fortlaufende Erhebung",null,null,null,null,null,null,"Gesamtes"]
[null,null,null,null,null,null,null,null,null,null,null,null,null,null,null,null,null,null,null,null,null,null,null,null,null,null,null,null,null,null,null,null,null,null,null,null,null,null,null,null,null,null,null,null,null,null,null,null,null,null,null,null,null,"Jahr"]
[null,null,null,null,null,null,null,null,null,null,null,null,null,null,null,null,null,null,null,null,null,null,null,null,null,null,null,null,null,null,null,null,null,null,null,null,null,null,null,null,null,null,null,null,null,null,null,null,null,null,null,null,null,"Ergeb-","Beurteilte"]
[null,null,null,null,null,null,null,null,null,null,null,null,null,null,null,null,null,null,null,null,null,null,null,null,null,null,null,null,null,null,null,null,null,null,null,null,null,null,null,null,null,null,null,null,null,null,null,null,null,null,null,null,null,"nisse","Tiere (insg.)"]
[null,null,null,null,null,null,null,null,null,null,null,null,null,null,null,null,null,null,null,null,null,null,null,null,null,null,null,null,null,null,null,null,null,null,null,null,null,null,null,null,null,null,null,null,null,null,"Milchleistung"]
[{"$f":"A40&H45","v":"AA>F31|901|W01"},null,null,null,null,null,null,"901|W01",null,null,null,null,null,"AB>F31|903|W01",null,null,null,null,null,null,null,null,null,null,null,null,null,null,null,null,null,null,null,null,null,null,null,null,null,null,null,null,null,null,null,null,null,"Eutergesunde Kühe",null,null,null,null,null,{"$f":"IF(AA45>0,AA45/100,\"\")","v":""}]
[{"$f":"A40&H46","v":"AA>F31|901|W02"},null,null,null,null,null,null,"901|W02",null,null,null,null,null,"AB>F31|903|W02",null,null,null,null,null,null,null,null,null,null,null,null,null,null,null,null,null,null,null,null,null,null,null,null,null,null,null,null,null,null,null,null,null,"Euterkranke Kühe",null,null,null,null,null,{"$f":"IF(AA46>0,AA46/100,\"\")","v":""}]
[{"$f":"A40&H47","v":"AA>F31|901|W03"},null,null,null,null,null,null,"901|W03",null,null,null,null,null,"AB>F31|903|W03",null,null,null,null,null,null,null,null,null,null,null,null,null,null,null,null,null,null,null,null,null,null,null,null,null,null,null,null,null,null,null,null,null,"Euterkranke Erstlaktierende",null,null,null,null,null,{"$f":"IF(AA47>0,AA47/100,\"\")","v":""}]
[null,null,null,null,null,null,null,null,null,null,null,null,null,null,null,null,null,null,null,null,null,null,null,null,null,null,null,null,null,null,null,null,null,null,null,null,null,null,null,null,null,null,null,null,null,null,"Fett-Einweiß-Quotient"]
[{"$f":"A40&H49","v":"AA>F31|901|W20"},null,null,null,null,null,null,"901|W20",null,null,null,null,null,"AB>F31|901|W04",null,null,null,null,null,null,null,null,null,null,null,null,null,null,null,null,null,null,null,null,null,null,null,null,null,null,null,null,null,null,null,null,null,"Verdacht auf Energiemangel",null,null,null,null,null,{"$f":"IF(AB49>0,AA49/100,\"\")","v":""},{"$f":"IF(AB49>0,\"[\"&AB49&\"]\",\"\")","v":""}]
[{"$f":"A40&H50","v":"AA>F31|901|W21"},null,null,null,null,null,null,"901|W21",null,null,null,null,null,"AB>F31|901|W04",null,null,null,null,null,null,null,null,null,null,null,null,null,null,null,null,null,null,null,null,null,null,null,null,null,null,null,null,null,null,null,null,null,"Verdacht auf Abweichungen in der Rohfaserversorgung",null,null,null,null,null,"",""]
[]
[{"$f":"A40&H52","v":"AA>F31|902|W10"},null,null,null,null,null,null,"902|W10",null,null,null,null,null,"AB>F31|903|W10",null,null,null,null,null,null,null,null,null,null,null,null,null,null,null,null,null,null,null,null,null,null,null,null,null,null,null,null,null,null,null,null,"Mastitisbehandlungsinzidenz (Betriebe ohne MLP)",null,null,null,null,null,null,{"$f":"IF(AA52>0,AA52,\"\")","v":""},""]
[]
[{"$f":"A40&H54","v":"AA>F31|903|W09"},null,null,null,null,null,null,"903|W09",null,null,null,null,null,"AB>F31|904|W09",null,null,null,null,null,null,null,null,null,null,null,null,null,null,null,null,null,null,null,null,null,null,null,null,null,null,null,null,null,null,null,null,"Schwergeburtenrate",null,null,null,null,null,null,{"$f":"IF(COUNT(AA54) = 1,AA54/100,\"\")","v":""},{"$f":"IF(AB54>0,\"[\"&AB54&\"]\",\"\")","v":""}]
[{"$f":"A40&H55","v":"AA>F31|901|W09"},null,null,null,null,null,null,"901|W09",null,null,null,null,null,null,null,null,null,null,null,null,null,null,null,null,null,null,null,null,null,null,null,null,null,null,null,null,null,null,null,null,null,null,null,null,null,null,"Nutzungsdauer",null,null,null,null,null,"Jahre",{"$f":"IF(AA55>0,AA55,\"\")","v":""}]
[{"$f":"A40&H56","v":"AA>F31|902|W09"},null,null,null,null,null,null,"902|W09",null,null,null,null,null,null,null,null,null,null,null,null,null,null,null,null,null,null,null,null,null,null,null,null,null,null,null,null,null,null,null,null,null,null,null,null,null,null,"Tierverluste",null,null,null,null,null,"Mortalitätsrate",{"$f":"IF(COUNT(AA56)=1,AA56,\"\")","v":""}]
["BEREICH_ENDE"]
[]
[]
["BEREICH_START",null,null,null,null,null,null,null,null,null,null,null,null,null,null,null,null,null,null,"RD_MAST",null,null,null,null,null,null,null,null,null,null,null,null,null,null,null,null,null,null,null,null,null,null,null,null,null,"Mastrinder",null,null,null,null,null,null,null,null,null,null,null,"#DATUM#"]
["AA>T02",null,null,null,null,null,null,null,null,null,null,null,null,null,null,null,null,null,null,null,null,null,null,null,null,null,null,null,null,null,null,null,null,null,null,null,null,null,null,null,null,null,null,null,null,null,{"$f":"AA61","v":0}]
[]
["AA>F11|","AC>F21|",null,null,null,null,null,"Algemeine Indikatoren",null,null,null,null,"AB>F11|","AD>F21|"]
["AA>F12|","AC>F22|",null,null,null,null,null,null,null,null,null,null,"AB>F12|","AD>F22|",null,null,null,null,null,"Stichproben",null,null,null,null,null,null,null,null,null,null,null,null,null,null,null,null,null,null,null,null,null,null,null,null,null,null,null,null,null,null,null,null,null,"Sommer-",null,"Winter-"]
[null,null,null,null,null,null,null,null,null,null,null,null,null,null,null,null,null,null,null,null,null,null,null,null,null,null,null,null,null,null,null,null,null,null,null,null,null,null,null,null,null,null,null,null,null,null,null,null,null,null,null,null,null,"halbjahr",null,"halbjahr"]
[null,null,null,null,null,null,null,null,null,null,null,null,null,null,null,null,null,null,null,null,null,null,null,null,null,null,null,null,null,null,null,null,null,null,null,null,null,null,null,null,null,null,null,null,null,null,null,null,null,null,null,null,null,"Ergeb-","Beurteilte","Ergeb-","Beurteilte"]
[null,null,null,null,null,null,null,null,null,null,null,null,null,null,null,null,null,null,null,null,null,null,null,null,null,null,null,null,null,null,null,null,null,null,null,null,null,null,null,null,null,null,null,null,null,null,null,null,null,null,null,null,null,"nisse","Tiere (insg.)","nisse","Tiere (insg.)"]
[{"$f":"A63&H68","v":"AA>F11|911|W03"},{"$f":"B63&H68","v":"AC>F21|911|W03"},null,null,null,null,null,"911|W03",null,null,null,null,{"$f":"M63&R68","v":"AB>F11|904|W03"},{"$f":"N63&R68","v":"AD>F21|904|W03"},null,null,null,"904|W03",null,null,null,null,null,null,null,null,null,null,null,null,null,null,null,null,null,null,null,null,null,null,null,null,null,null,null,null,"Nasenausfluss",null,null,null,null,null,"Bonitur 1",{"$f":"IF(AB68>0,AA68/100,\"\")","v":""},{"$f":"IF(AB68>0,\"[\"&AB68&\"]\",\"\")","v":""},{"$f":"IF(AD68>0,AC68/100,\"\")","v":""},{"$f":"IF(AD68>0,\"[\"&AD68&\"]\",\"\")","v":""}]
[{"$f":"A63&H69","v":"AA>F11|911|W15"},{"$f":"B63&H69","v":"AC>F21|911|W15"},null,null,null,null,null,"911|W15",null,null,null,null,{"$f":"M63&R69","v":"AB>F11|904|W15"},{"$f":"N63&R69","v":"AD>F21|904|W15"},null,null,null,"904|W15",null,null,null,null,null,null,null,null,null,null,null,null,null,null,null,null,null,null,null,null,null,null,null,null,null,null,null,null,"Körperkondition",null,null,null,null,null,"zu mager",{"$f":"IF(AB69>0,AA69/100,\"\")","v":""},"",{"$f":"IF(AD69>0,AC69/100,\"\")","v":""},""]
[{"$f":"A63&H70","v":"AA>F11|911|W19"},{"$f":"B63&H70","v":"AC>F21|911|W19"},null,null,null,null,null,"911|W19",null,null,null,null,{"$f":"M63&R70","v":"AB>F11|904|W19"},{"$f":"N63&R70","v":"AD>F21|904|W19"},null,null,null,"904|W19",null,null,null,null,null,null,null,null,null,null,null,null,null,null,null,null,null,null,null,null,null,null,null,null,null,null,null,null,"Verschmutzung",null,null,null,null,null,"Bonitur 1","","","",""]
[null,null,null,null,null,null,null,null,null,null,null,null,null,null,null,null,null,null,null,null,null,null,null,null,null,null,null,null,null,null,null,null,null,null,null,null,null,null,null,null,null,null,null,null,null,null,"Integumentschäden"]
[{"$f":"A63&H72","v":"AA>F11|920|W21"},{"$f":"B63&H72","v":"AC>F21|920|W21"},null,null,null,null,null,"920|W21",null,null,null,null,{"$f":"M63&R72","v":"AB>F11|920|W25"},{"$f":"N63&R72","v":"AD>F21|920|W25"},null,null,null,"920|W25",null,null,null,null,null,null,null,null,null,null,null,null,null,null,null,null,null,null,null,null,null,null,null,null,null,null,null,null,"Tiere mit Integumentschäden ",null,null,null,null,null,null,{"$f":"IF(AB72>0,AA72/100,\"\")","v":""},{"$f":"IF(AB72>0,\"[\"&AB72&\"]\",\"\")","v":""},{"$f":"IF(AD72>0,AC72/100,\"\")","v":""},{"$f":"IF(AD72>0,\"[\"&AD72&\"]\",\"\")","v":""}]
[{"$f":"A63&H73","v":"AA>F11|911|W24"},{"$f":"B63&H73","v":"AC>F21|911|W24"},null,null,null,null,null,"911|W24",null,null,null,null,{"$f":"M63&R73","v":"AB>F11|904|W24"},{"$f":"N63&R73","v":"AD>F21|904|W24"},null,null,null,"904|W24",null,null,null,null,null,null,null,null,null,null,null,null,null,null,null,null,null,null,null,null,null,null,null,null,null,null,null,null,null,"Sprunggelenk",null,"Wunde/Kruste",null,null,"Bonitur 1","","","",""]
[{"$f":"A63&H74","v":"AA>F11|911|W25"},{"$f":"B63&H74","v":"AC>F21|911|W25"},null,null,null,null,null,"911|W25",null,null,null,null,{"$f":"M63&R74","v":"AB>F11|904|W25"},{"$f":"N63&R74","v":"AD>F21|904|W25"},null,null,null,"904|W25",null,null,null,null,null,null,null,null,null,null,null,null,null,null,null,null,null,null,null,null,null,null,null,null,null,null,null,null,null,null,null,"Schwellung",null,null,"Bonitur 1","","","",""]
[{"$f":"A63&H75","v":"AA>F11|911|W22"},{"$f":"B63&H75","v":"AC>F21|911|W22"},null,null,null,null,null,"911|W22",null,null,null,null,{"$f":"M63&R75","v":"AB>F11|904|W22"},{"$f":"N63&R75","v":"AD>F21|904|W22"},null,null,null,"904|W22",null,null,null,null,null,null,null,null,null,null,null,null,null,null,null,null,null,null,null,null,null,null,null,null,null,null,null,null,null,"Vorderfußwurzelgelenk",null,"Wunde/Kruste",null,null,"Bonitur 1","","","",""]
[{"$f":"A63&H76","v":"AA>F11|911|W23"},{"$f":"B63&H76","v":"AC>F21|911|W23"},null,null,null,null,null,"911|W23",null,null,null,null,{"$f":"M63&R76","v":"AB>F11|904|W23"},{"$f":"N63&R76","v":"AD>F21|904|W23"},null,null,null,"904|W23",null,null,null,null,null,null,null,null,null,null,null,null,null,null,null,null,null,null,null,null,null,null,null,null,null,null,null,null,null,null,null,"Schwellung",null,null,"Bonitur 1","","","",""]
[{"$f":"A63&H77","v":"AA>F11|911|W20"},{"$f":"B63&H77","v":"AC>F21|911|W20"},null,null,null,null,null,"911|W20",null,null,null,null,{"$f":"M63&R77","v":"AB>F11|904|W20"},{"$f":"N63&R77","v":"AD>F21|904|W20"},null,null,null,"904|W20",null,null,null,null,null,null,null,null,null,null,null,null,null,null,null,null,null,null,null,null,null,null,null,null,null,null,null,null,null,"Nacken",null,"Wunde/Kruste",null,null,"Bonitur 1","","","",""]
[{"$f":"A63&H78","v":"AA>F11|911|W21"},{"$f":"B63&H78","v":"AC>F21|911|W21"},null,null,null,null,null,"911|W21",null,null,null,null,{"$f":"M63&R78","v":"AB>F11|904|W21"},{"$f":"N63&R78","v":"AD>F21|904|W21"},null,null,null,"904|W21",null,null,null,null,null,null,null,null,null,null,null,null,null,null,null,null,null,null,null,null,null,null,null,null,null,null,null,null,null,null,null,"Schwellung",null,null,"Bonitur 1","","","",""]
[{"$f":"A63&H79","v":"AA>F11|911|W26"},{"$f":"B63&H79","v":"AC>F21|911|W26"},null,null,null,null,null,"911|W26",null,null,null,null,{"$f":"M63&R79","v":"AB>F11|904|W26"},{"$f":"N63&R79","v":"AD>F21|904|W26"},null,null,null,"904|W26",null,null,null,null,null,null,null,null,null,null,null,null,null,null,null,null,null,null,null,null,null,null,null,null,null,null,null,null,null,"Schwanzspitze",null,"Verletzung/Nekrose",null,null,"Bonitur 1","","","",""]
[{"$f":"A63&H80","v":"AA>F11|911|W27"},{"$f":"B63&H80","v":"AC>F21|911|W27"},null,null,null,null,null,"911|W27",null,null,null,null,{"$f":"M63&R80","v":"AB>F11|904|W27"},{"$f":"N63&R80","v":"AD>F21|904|W27"},null,null,null,"904|W27",null,null,null,null,null,null,null,null,null,null,null,null,null,null,null,null,null,null,null,null,null,null,null,null,null,null,null,null,"Klauenzustand",null,null,null,null,null,"Bonitur 1","","","",""]
[{"$f":"A63&H81","v":"AA>F11|911|W29"},{"$f":"B63&H81","v":"AC>F21|911|W29"},null,null,null,null,null,"911|W29",null,null,null,null,{"$f":"M63&R81","v":"AB>F11|904|W29"},{"$f":"N63&R81","v":"AD>F21|904|W29"},null,null,null,"904|W29",null,null,null,null,null,null,null,null,null,null,null,null,null,null,null,null,null,null,null,null,null,null,null,null,null,null,null,null,"Lahmheit",null,null,null,null,null,"lahme Tiere","","","",""]
[{"$f":"A64&H82","v":"AA>F12|904|W07"},{"$f":"B64&H82","v":"AC>F22|904|W07"},null,null,null,null,null,"904|W07",null,null,null,null,{"$f":"M64&R82","v":"AB>F12|904|W06"},{"$f":"N64&R82","v":"AD>F22|904|W06"},null,null,null,"904|W06",null,null,null,null,null,null,null,null,null,null,null,null,null,null,null,null,null,null,null,null,null,null,null,null,null,null,null,null,"Zungenrollen / Zungenschlagen",null,null,null,null,null,null,"","","",""]
[null,null,null,null,null,null,null,null,null,null,null,null,null,null,null,null,null,null,null,null,null,null,null,null,null,null,null,null,null,null,null,null,null,null,null,null,null,null,null,null,null,null,null,null,null,null,"Wasserversorgung"]
[{"$f":"A64&H84","v":"AA>F12|903|W30"},{"$f":"B64&H84","v":"AC>F22|903|W30"},null,null,null,null,null,"903|W30",null,null,null,null,{"$f":"M64&R84","v":"AB>F12|901|W30"},{"$f":"N64&R84","v":"AD>F22|901|W30"},null,null,null,"901|W30",null,null,null,null,null,null,null,null,null,null,null,null,null,null,null,null,null,null,null,null,null,null,null,null,null,null,null,null,null,"Unzureichend versorgte Tiere",null,null,null,null,null,{"$f":"IF(AB84>0,AA84/100,\"\")","v":""},{"$f":"IF(AB84>0,\"[\"&AB84&\"]\",\"\")","v":""},{"$f":"IF(AD84>0,AC84/100,\"\")","v":""},{"$f":"IF(AD84>0,\"[\"&AD84&\"]\",\"\")","v":""}]
[null,null,null,null,null,null,null,null,null,null,null,null,null,null,null,null,null,null,null,null,null,null,null,null,null,null,null,null,null,null,null,null,null,null,null,null,null,null,null,null,null,null,null,null,null,null,null,null,null,null,null,null,null,"Ergeb-","Beurteilte","Ergeb-","Beurteilte"]
[null,null,null,null,null,null,null,null,null,null,null,null,null,null,null,null,null,null,null,null,null,null,null,null,null,null,null,null,null,null,null,null,null,null,null,null,null,null,null,null,null,null,null,null,null,null,null,null,null,null,null,null,null,"nisse","Tränken","nisse","Tränken"]
[{"$f":"A64&H87","v":"AA>F12|903|W24"},{"$f":"B64&H87","v":"AC>F22|903|W24"},null,null,null,null,null,"903|W24",null,null,null,null,{"$f":"M64&R87","v":"AB>F12|901|W24"},{"$f":"N64&R87","v":"AD>F22|901|W24"},null,null,null,"901|W24",null,null,null,null,null,null,null,null,null,null,null,null,null,null,null,null,null,null,null,null,null,null,null,null,null,null,null,null,null,"Unzureichende Tränken",null,null,null,null,null,{"$f":"IF(AB87>0,AA87/100,\"\")","v":""},{"$f":"IF(AB87>0,\"[\"&AB87&\"]\",\"\")","v":""},{"$f":"IF(AD87>0,AC87/100,\"\")","v":""},{"$f":"IF(AD87>0,\"[\"&AD87&\"]\",\"\")","v":""}]
[]
[]
[null,null,null,null,null,null,null,null,null,null,null,null,null,null,null,null,null,null,null,null,null,null,null,null,null,null,null,null,null,null,null,null,null,null,null,null,null,null,null,null,null,null,null,null,null,null,"Flächenangebot",null,null,"Sommerhalbjahr",null,null,null,"Winterhalbjahr"]
[null,null,null,null,null,null,null,null,null,null,null,null,null,null,null,null,null,null,null,null,null,null,null,null,null,null,null,null,null,null,null,null,null,null,null,null,null,null,null,null,null,null,null,null,null,null,null,null,null,null,null,null,"Beurteilte",null,null,null,"Beurteilte"]
["AA>F12|","AB>F12|","AC>F12|",null,"AD>F22|","AE>F22|","AF>F22|",null,null,null,null,null,null,"AH>F12|","AI>F22|",null,null,null,null,null,null,null,null,null,null,null,null,null,null,null,null,null,null,null,null,null,null,null,null,null,null,null,null,null,null,null,null,null,null,"Mittelwert","Min-Wert","Max-Wert","Tiere (insg.)","Mittelwert","Min-Wert","Max-Wert","Tiere (insg.)"]
[{"$f":"A92&J93","v":"AA>F12|901|W38"},{"$f":"B92&K93","v":"AB>F12|901|W45"},{"$f":"C92&L93","v":"AC>F12|901|W46"},null,{"$f":"E92&J93","v":"AD>F22|901|W38"},{"$f":"F92&K93","v":"AE>F22|901|W45"},{"$f":"G92&L93","v":"AF>F22|901|W46"},null,null,"901|W38","901|W45","901|W46",null,{"$f":"N92&S93","v":"AH>F12|901|W06"},{"$f":"O92&S93","v":"AI>F22|901|W06"},null,null,null,"901|W06",null,null,null,null,null,null,null,null,null,null,null,null,null,null,null,null,null,null,null,null,null,null,null,null,null,null,null,"Anfangsmast",null,"m2/Tier",{"$f":"IF(AH93>0,AA93,\"\")","v":""},{"$f":"IF(AH93>0,AB93,\"\")","v":""},{"$f":"IF(AH93>0,AC93,\"\")","v":""},{"$f":"IF(AH93>0,\"[\" & AH93 & \"]\",\"\")","v":""},{"$f":"IF(AI93>0,AD93,\"\")","v":""},{"$f":"IF(AI93>0,AE93,\"\")","v":""},{"$f":"IF(AI93>0,AF93,\"\")","v":""},{"$f":"IF(AI93>0,\"[\" & AI93 & \"]\",\"\")","v":""}]
[{"$f":"A92&J94","v":"AA>F12|902|W38"},{"$f":"B92&K94","v":"AB>F12|902|W45"},{"$f":"C92&L94","v":"AC>F12|902|W46"},null,{"$f":"E92&J94","v":"AD>F22|902|W38"},{"$f":"F92&K94","v":"AE>F22|902|W45"},{"$f":"G92&L94","v":"AF>F22|902|W46"},null,null,"902|W38","902|W45","902|W46",null,{"$f":"N92&S94","v":"AH>F12|902|W06"},{"$f":"O92&S94","v":"AI>F22|902|W06"},null,null,null,"902|W06",null,null,null,null,null,null,null,null,null,null,null,null,null,null,null,null,null,null,null,null,null,null,null,null,null,null,null,"Mittelmast",null,"m2/Tier",{"$f":"IF(AH94>0,AA94,\"\")","v":""},{"$f":"IF(AH94>0,AB94,\"\")","v":""},{"$f":"IF(AH94>0,AC94,\"\")","v":""},{"$f":"IF(AH94>0,\"[\" & AH94 & \"]\",\"\")","v":""},{"$f":"IF(AI94>0,AD94,\"\")","v":""},{"$f":"IF(AI94>0,AE94,\"\")","v":""},{"$f":"IF(AI94>0,AF94,\"\")","v":""},{"$f":"IF(AI94>0,\"[\" & AI94 & \"]\",\"\")","v":""}]
[{"$f":"A92&J95","v":"AA>F12|903|W38"},{"$f":"B92&K95","v":"AB>F12|903|W45"},{"$f":"C92&L95","v":"AC>F12|903|W46"},null,{"$f":"E92&J95","v":"AD>F22|903|W38"},{"$f":"F92&K95","v":"AE>F22|903|W45"},{"$f":"G92&L95","v":"AF>F22|903|W46"},null,null,"903|W38","903|W45","903|W46",null,{"$f":"N92&S95","v":"AH>F12|903|W06"},{"$f":"O92&S95","v":"AI>F22|903|W06"},null,null,null,"903|W06",null,null,null,null,null,null,null,null,null,null,null,null,null,null,null,null,null,null,null,null,null,null,null,null,null,null,null,"Endmast",null,"m2/Tier",{"$f":"IF(AH95>0,AA95,\"\")","v":""},{"$f":"IF(AH95>0,AB95,\"\")","v":""},{"$f":"IF(AH95>0,AC95,\"\")","v":""},{"$f":"IF(AH95>0,\"[\" & AH95 & \"]\",\"\")","v":""},{"$f":"IF(AI95>0,AD95,\"\")","v":""},{"$f":"IF(AI95>0,AE95,\"\")","v":""},{"$f":"IF(AI95>0,AF95,\"\")","v":""},{"$f":"IF(AI95>0,\"[\" & AI95 & \"]\",\"\")","v":""}]
[]
[null,null,null,null,null,null,null,null,null,null,null,null,null,null,null,null,null,null,null,{"$f":"AU97","v":"Fortlaufende Erhebung"},null,null,null,null,null,null,null,null,null,null,null,null,null,null,null,null,null,null,null,null,null,null,null,null,null,null,"Fortlaufende Erhebung",null,null,null,null,null,null,"Gesamtes"]
["AA>F31|",null,null,null,null,null,null,null,null,null,null,null,null,null,null,null,null,null,null,null,null,null,null,null,null,null,null,null,null,null,null,null,null,null,null,null,null,null,null,null,null,null,null,null,null,null,null,null,null,null,null,null,null,"Jahr"]
[{"$f":"A98&H99","v":"AA>F31|001|W01"},null,null,null,null,null,null,"001|W01",null,null,null,null,null,null,null,null,null,null,null,null,null,null,null,null,null,null,null,null,null,null,null,null,null,null,null,null,null,null,null,null,null,null,null,null,null,null,"Tierverluste",null,null,null,null,null,"Mortalitätsrate",{"$f":"IF(COUNT(AA99)=1,AA99,\"\")","v":""}]
["BEREICH_ENDE"]
[]
[]
["BEREICH_START",null,null,null,null,null,null,null,null,null,null,null,null,null,null,null,null,null,null,"RD_KALB",null,null,null,null,null,null,null,null,null,null,null,null,null,null,null,null,null,null,null,null,null,null,null,null,null,"Aufzuchtkälber",null,null,null,null,null,null,null,null,null,null,null,"#DATUM#"]
["AA>T02",null,null,null,null,null,null,null,null,null,null,null,null,null,null,null,null,null,null,null,null,null,null,null,null,null,null,null,null,null,null,null,null,null,null,null,null,null,null,null,null,null,null,null,null,null,{"$f":"AA104","v":0}]
[]
["AA>F11|","AC>F21|",null,null,null,null,null,"Algemeine Indikatoren",null,null,null,null,"AB>F11|","AD>F21|",null,null,null,null,null,null,null,null,null,null,null,null,null,null,null,null,null,null,null,null,null,null,null,null,null,null,null,null,null,null,null,null,null,null,null,null,null,null,null,"Sommer-",null,"Winter-"]
[null,null,null,null,null,null,null,null,null,null,null,null,null,null,null,null,null,null,null,"Stichproben",null,null,null,null,null,null,null,null,null,null,null,null,null,null,null,null,null,null,null,null,null,null,null,null,null,null,null,null,null,null,null,null,null,"halbjahr",null,"halbjahr"]
[null,null,null,null,null,null,null,null,null,null,null,null,null,null,null,null,null,null,null,null,null,null,null,null,null,null,null,null,null,null,null,null,null,null,null,null,null,null,null,null,null,null,null,null,null,null,null,null,null,null,null,null,null,"Ergeb-","Beurteilte","Ergeb-","Beurteilte"]
[null,null,null,null,null,null,null,null,null,null,null,null,null,null,null,null,null,null,null,null,null,null,null,null,null,null,null,null,null,null,null,null,null,null,null,null,null,null,null,null,null,null,null,null,null,null,null,null,null,null,null,null,null,"nisse","Tiere (insg.)","nisse","Tiere (insg.)"]
[{"$f":"A106&H110","v":"AA>F11|901|W12"},{"$f":"B106&H110","v":"AC>F21|901|W12"},null,null,null,null,null,"901|W12",null,null,null,null,{"$f":"M106&R110","v":"AB>F11|901|W05"},{"$f":"N106&R110","v":"AD>F21|901|W05"},null,null,null,"901|W05",null,null,null,null,null,null,null,null,null,null,null,null,null,null,null,null,null,null,null,null,null,null,null,null,null,null,null,null,"Verschmutzung",null,null,null,null,null,"Bonitur 1",{"$f":"IF(AB110>0,AA110/100,\"\")","v":""},{"$f":"IF(AB110>0,\"[\"&AB110&\"]\",\"\")","v":""},{"$f":"IF(AD110>0,AC110/100,\"\")","v":""},{"$f":"IF(AD110>0,\"[\"&AD110&\"]\",\"\")","v":""}]
[{"$f":"A106&H111","v":"AA>F11|901|W07"},{"$f":"B106&H111","v":"AC>F21|901|W07"},null,null,null,null,null,"901|W07",null,null,null,null,{"$f":"M106&R111","v":"AB>F11|901|W06"},{"$f":"N106&R111","v":"AD>F21|901|W06"},null,null,null,"901|W06",null,null,null,null,null,null,null,null,null,null,null,null,null,null,null,null,null,null,null,null,null,null,null,null,null,null,null,null,"Einstreumanagement",null,null,null,null,null,"Nesting Score 1",{"$f":"IF(AB111>0,AA111/100,\"\")","v":""},{"$f":"IF(AB111>0,\"[\"&AB111&\"]\",\"\")","v":""},{"$f":"IF(AD111>0,AC111/100,\"\")","v":""},""]
[{"$f":"A106&H112","v":"AA>F11|901|W10"},{"$f":"B106&H112","v":"AC>F21|901|W10"},null,null,null,null,null,"901|W10",null,null,null,null,{"$f":"M106&R112","v":"AB>F11|901|W04"},{"$f":"N106&R112","v":"AD>F21|901|W04"},null,null,null,"901|W04",null,null,null,null,null,null,null,null,null,null,null,null,null,null,null,null,null,null,null,null,null,null,null,null,null,null,null,null,"Unterentwickelte Kälber",null,null,null,null,null,"Kümmerer",{"$f":"IF(AB112>0,AA112/100,\"\")","v":""},{"$f":"IF(AB112>0,\"[\"&AB112&\"]\",\"\")","v":""},"",""]
[{"$f":"A106&H113","v":"AA>F11|901|W11"},{"$f":"B106&H113","v":"AC>F21|901|W11"},null,null,null,null,null,"901|W11",null,null,null,null,{"$f":"M106&R113","v":"AB>F11|902|W11"},{"$f":"N106&R113","v":"AD>F21|902|W11"},null,null,null,"902|W11",null,null,null,null,null,null,null,null,null,null,null,null,null,null,null,null,null,null,null,null,null,null,null,null,null,null,null,null,"Gegenseitiges Besaugen/Nasenklammer",null,null,null,null,null,null,{"$f":"IF(AB113>0,AA113/100,\"\")","v":""},"","",""]
[]
[null,null,null,null,null,null,null,null,null,null,null,null,null,null,null,null,null,null,null,{"$f":"AU115","v":"Fortlaufende Erhebung"},null,null,null,null,null,null,null,null,null,null,null,null,null,null,null,null,null,null,null,null,null,null,null,null,null,null,"Fortlaufende Erhebung",null,null,null,null,null,null,"Gesamtes"]
["AA>F31|",null,null,null,null,null,null,null,null,null,null,null,"AB>F31|",null,null,null,null,null,null,null,null,null,null,null,null,null,null,null,null,null,null,null,null,null,null,null,null,null,null,null,null,null,null,null,null,null,null,null,null,null,null,null,null,"Jahr"]
[null,null,null,null,null,null,null,null,null,null,null,null,null,null,null,null,null,null,null,null,null,null,null,null,null,null,null,null,null,null,null,null,null,null,null,null,null,null,null,null,null,null,null,null,null,null,null,null,null,null,null,null,null,"Ergeb-","Beurteilte"]
[null,null,null,null,null,null,null,null,null,null,null,null,null,null,null,null,null,null,null,null,null,null,null,null,null,null,null,null,null,null,null,null,null,null,null,null,null,null,null,null,null,null,null,null,null,null,null,null,null,null,null,null,null,"nisse","Tiere (insg.)"]
[{"$f":"A116&H119","v":"AA>F31|901|W02"},null,null,null,null,null,null,"901|W02",null,null,null,null,{"$f":"M116&Q119","v":"AB>F31|001|W03"},null,null,null,"001|W03",null,null,null,null,null,null,null,null,null,null,null,null,null,null,null,null,null,null,null,null,null,null,null,null,null,null,null,null,null,"Behandlungsinzidenz Atemwegserkrankungen",null,null,null,null,null,null,{"$f":"IF(AB119>0,AA119/100,\"\")","v":""},{"$f":"IF(AB119>0,\"[\"&AB119&\"]\",\"\")","v":""}]
[{"$f":"A116&H120","v":"AA>F31|901|W03"},null,null,null,null,null,null,"901|W03",null,null,null,null,{"$f":"M116&Q119","v":"AB>F31|001|W03"},null,null,null,null,null,null,null,null,null,null,null,null,null,null,null,null,null,null,null,null,null,null,null,null,null,null,null,null,null,null,null,null,null,"Behandlungsinzidenz Durchfallerkrankungen",null,null,null,null,null,null,{"$f":"IF(AB120>0,AA120/100,\"\")","v":""},""]
[null,null,null,null,null,null,null,null,null,null,null,null,null,null,null,null,null,null,null,null,null,null,null,null,null,null,null,null,null,null,null,null,null,null,null,null,null,null,null,null,null,null,null,null,null,null,"Tierverluste"]
[{"$f":"A116&H122","v":"AA>F31|902|W02"},null,null,null,null,null,null,"902|W02",null,null,null,null,null,null,null,null,null,null,null,null,null,null,null,null,null,null,null,null,null,null,null,null,null,null,null,null,null,null,null,null,null,null,null,null,null,null,null,"≥ 7 Tage bis 12 Wochen",null,null,null,null,"Mortalitätsrate",{"$f":"IF(AA122<>\"\",AA122,\"\")","v":""}]
[{"$f":"A116&H123","v":"AA>F31|902|W03"},null,null,null,null,null,null,"902|W03",null,null,null,null,null,null,null,null,null,null,null,null,null,null,null,null,null,null,null,null,null,null,null,null,null,null,null,null,null,null,null,null,null,null,null,null,null,null,null,"> 12 Wochen bis 6 Monate",null,null,null,null,"Mortalitätsrate",{"$f":"IF(AA123<>\"\",AA123,\"\")","v":""}]
["AA>SUM|F401-F499|900|W03",null,null,null,null,null,null,null,"AB>SUM|F401-F499|902|W03",null,null,null,null,null,null,null,null,null,null,null,null,null,null,null,null,null,null,null,null,null,null,null,null,null,null,null,null,null,null,null,null,null,null,null,null,null,"Komplikationen nach Enthornung",null,null,null,null,null,null,{"$f":"IF(AB124>0,AA124/AB124,\"\")","v":""},{"$f":"IF(AB124>0,\"[\"&AB124&\"]\",\"\")","v":""}]
["BEREICH_ENDE"]
[]
[]
["BEREICH_START",null,null,null,null,null,null,null,null,null,null,null,null,null,null,null,null,null,null,"SW_SAU",null,null,null,null,null,null,null,null,null,null,null,null,null,null,null,null,null,null,null,null,null,null,null,null,null,"Sauen/Saugferkel",null,null,null,null,null,null,null,null,null,null,"#DATUM#"]
["AA>T02",null,null,null,null,null,null,null,null,null,null,null,null,null,null,null,null,null,null,null,null,null,null,null,null,null,null,null,null,null,null,null,null,null,null,null,null,null,null,null,null,null,null,null,null,null,{"$f":"AA129","v":0}]
[]
[null,null,null,null,null,null,null,null,null,null,null,null,null,null,null,null,null,null,null,{"$f":"AU131","v":"Fortlaufende und Abschlusserhebung"},null,null,null,null,null,null,null,null,null,null,null,null,null,null,null,null,null,null,null,null,null,null,null,null,null,null,"Fortlaufende und Abschlusserhebung",null,null,null,"Ergeb-"]
[null,null,null,null,null,null,null,null,null,null,null,null,null,null,null,null,null,null,null,null,null,null,null,null,null,null,null,null,null,null,null,null,null,null,null,null,null,null,null,null,null,null,null,null,null,null,"Antibiotikaeinsatz",null,null,null,"nisse"]
["AA>F20|001|W07",null,null,null,null,null,null,null,null,null,null,null,null,null,null,null,null,null,null,null,null,null,null,null,null,null,null,null,null,null,null,null,null,null,null,null,null,null,null,null,null,null,null,null,null,null,"Therapiehäufigkeit aus HIT",null,null,null,{"$f":"IF(AA133<>\"\",AA133,\"\")","v":""}]
["AA>F20|902|W11",null,null,null,null,null,null,"AB>F20|001|W10",null,null,null,null,null,null,null,null,null,null,null,null,null,null,null,null,null,null,null,null,null,null,null,null,null,null,null,null,null,null,null,null,null,null,null,null,null,null,"Therapieindex nach QS",null,null,{"$f":"IF(AB134<>\"\",AB134& \". Quartal\",\"\")","v":""},{"$f":"IF(AA134<>\"\",AA134,\"\")","v":""}]
["AA>F20|902|W12",null,null,null,null,null,null,"AB>F20|002|W10",null,null,null,null,null,null,null,null,null,null,null,null,null,null,null,null,null,null,null,null,null,null,null,null,null,null,null,null,null,null,null,null,null,null,null,null,null,null,null,null,null,{"$f":"IF(AB135<>\"\",AB135& \". Quartal\",\"\")","v":""},{"$f":"IF(AA135<>\"\",AA135,\"\")","v":""}]
[null,null,null,null,null,null,null,null,null,null,null,null,null,null,null,null,null,null,null,null,null,null,null,null,null,null,null,null,null,null,null,null,null,null,null,null,null,null,null,null,null,null,null,null,null,null,"Bestandsbezogene Indikatoren"]
["AA>F50|021|W01",null,null,null,null,null,null,null,null,null,null,null,null,null,null,null,null,null,null,null,null,null,null,null,null,null,null,null,null,null,null,null,null,null,null,null,null,null,null,null,null,null,null,null,null,null,"Umrauscherquote",null,null,null,{"$f":"IF(AA137<>\"\",AA137/100,\"\")","v":""}]
["AA>F50|022|W01",null,null,null,null,null,null,null,null,null,null,null,null,null,null,null,null,null,null,null,null,null,null,null,null,null,null,null,null,null,null,null,null,null,null,null,null,null,null,null,null,null,null,null,null,null,"Abortrate",null,null,null,{"$f":"IF(AA138<>\"\",AA138/100,\"\")","v":""}]
["AA>F50|023|W01",null,null,null,null,null,null,null,null,null,null,null,null,null,null,null,null,null,null,null,null,null,null,null,null,null,null,null,null,null,null,null,null,null,null,null,null,null,null,null,null,null,null,null,null,null,"Wurfzahl (durchschnittlich)",null,null,null,{"$f":"IF(AA139<>\"\",AA139,\"\")","v":""}]
["AA>F50|024|W01",null,null,null,null,null,null,null,null,null,null,null,null,null,null,null,null,null,null,null,null,null,null,null,null,null,null,null,null,null,null,null,null,null,null,null,null,null,null,null,null,null,null,null,null,null,"Tierverluste (Sauen)",null,null,null,{"$f":"IF(AA140<>\"\",AA140/100,\"\")","v":""}]
[null,null,null,null,null,null,null,null,null,null,null,null,null,null,null,null,null,null,null,null,null,null,null,null,null,null,null,null,null,null,null,null,null,null,null,null,null,null,null,null,null,null,null,null,null,null,"Tierverluste (Saugferkel)"]
["AA>F50|025|W01",null,null,null,null,null,null,null,null,null,null,null,null,null,null,null,null,null,null,null,null,null,null,null,null,null,null,null,null,null,null,null,null,null,null,null,null,null,null,null,null,null,null,null,null,null,"tot geborene Tiere",null,null,null,{"$f":"IF(AA142<>\"\",AA142/100,\"\")","v":""}]
["AA>F50|026|W01",null,null,null,null,null,null,null,null,null,null,null,null,null,null,null,null,null,null,null,null,null,null,null,null,null,null,null,null,null,null,null,null,null,null,null,null,null,null,null,null,null,null,null,null,null,"verendete und euthanasierte Tiere",null,null,null,{"$f":"IF(AA143<>\"\",AA143/100,\"\")","v":""}]
["AA>F50|027|W01",null,null,null,null,null,null,null,null,null,null,null,null,null,null,null,null,null,null,null,null,null,null,null,null,null,null,null,null,null,null,null,null,null,null,null,null,null,null,null,null,null,null,null,null,null,"insgesamt",null,null,null,{"$f":"IF(AA144<>\"\",AA144/100,\"\")","v":""}]
[]
[null,null,null,null,null,null,null,null,null,null,null,null,null,null,null,null,null,null,null,null,null,null,null,null,null,null,null,null,null,null,null,null,null,null,null,null,null,null,null,null,null,null,null,null,null,null,null,null,null,null,"Ergeb-","Beurteilte"]
[null,null,null,null,null,null,null,null,null,null,null,null,null,null,null,null,null,null,null,{"$f":"AU147","v":"Schlachtbefunde"},null,null,null,null,null,null,null,null,null,null,null,null,null,null,null,null,null,null,null,null,null,null,null,null,null,null,"Schlachtbefunde",null,null,null,"nisse","Tiere (insg.)"]
["AA>F40|901|W03",null,null,null,null,null,null,null,"AB>F40|902|W02",null,null,null,null,null,null,null,null,null,null,null,null,null,null,null,null,null,null,null,null,null,null,null,null,null,null,null,null,null,null,null,null,null,null,null,null,null,"Brustfellentzündungen (mittel- und hochgradige Pleuritiden)",null,null,null,{"$f":"IF(AB148>0,AA148/100,\"\")","v":""},{"$f":"IF(AB148>0,\"[\"&AB148&\"]\",\"\")","v":""}]
["AA>F40|901|W06",null,null,null,null,null,null,null,"AB>F40|902|W02",null,null,null,null,null,null,null,null,null,null,null,null,null,null,null,null,null,null,null,null,null,null,null,null,null,null,null,null,null,null,null,null,null,null,null,null,null,"Lungenentzündungen (mittel- und hochgradige Pneumonien)",null,null,null,"",""]
["AA>F40|901|W09",null,null,null,null,null,null,null,"AB>F40|902|W02",null,null,null,null,null,null,null,null,null,null,null,null,null,null,null,null,null,null,null,null,null,null,null,null,null,null,null,null,null,null,null,null,null,null,null,null,null,"Herzbeutelentzündungen (Perikaditien)",null,null,null,"",""]
["AA>F40|901|W12",null,null,null,null,null,null,null,"AB>F40|902|W02",null,null,null,null,null,null,null,null,null,null,null,null,null,null,null,null,null,null,null,null,null,null,null,null,null,null,null,null,null,null,null,null,null,null,null,null,null,"Leberbefunde und -verwürfe (\"Milkspots\")",null,null,null,"",""]
["AA>F40|901|W15",null,null,null,null,null,null,null,"AB>F40|902|W02",null,null,null,null,null,null,null,null,null,null,null,null,null,null,null,null,null,null,null,null,null,null,null,null,null,null,null,null,null,null,null,null,null,null,null,null,null,"Abszesse",null,null,null,"",""]
["AA>F40|901|W19",null,null,null,null,null,null,null,"AB>F40|902|W02",null,null,null,null,null,null,null,null,null,null,null,null,null,null,null,null,null,null,null,null,null,null,null,null,null,null,null,null,null,null,null,null,null,null,null,null,null,"Gelenkentzündungen (Arthritis)",null,null,null,"",""]
["AA>F40|901|W22",null,null,null,null,null,null,null,"AB>F40|902|W02",null,null,null,null,null,null,null,null,null,null,null,null,null,null,null,null,null,null,null,null,null,null,null,null,null,null,null,null,null,null,null,null,null,null,null,null,null,"Notgetötete Tiere",null,null,null,"",""]
["AA>F40|901|W34",null,null,null,null,null,null,null,"AB>F40|902|W02",null,null,null,null,null,null,null,null,null,null,null,null,null,null,null,null,null,null,null,null,null,null,null,null,null,null,null,null,null,null,null,null,null,null,null,null,null,"Schwellungen an den Beinen (zusätzl. Schleimbeutel/-entzündungen)",null,null,null,"",""]
["AA>F40|901|W37",null,null,null,null,null,null,null,"AB>F40|902|W02",null,null,null,null,null,null,null,null,null,null,null,null,null,null,null,null,null,null,null,null,null,null,null,null,null,null,null,null,null,null,null,null,null,null,null,null,null,"Hochgradige Klauenverletzungen / -schäden",null,null,null,"",""]
[]
["AA>F11|","AC>F12|","AE>F13|",null,null,null,null,null,null,null,null,"AB>F11|","AD>F12|","AF>F13|",null,null,null,null,null,"Stichproben",null,null,null,null,null,null,null,null,null,null,null,null,null,null,null,null,null,null,null,null,null,null,null,null,null,null,"Stichproben",null,null,null,"Deck-",null,"Warte-",null,"Abferkel-"]
[null,null,null,null,null,null,null,null,null,null,null,null,null,null,null,null,null,null,null,null,null,null,null,null,null,null,null,null,null,null,null,null,null,null,null,null,null,null,null,null,null,null,null,null,null,null,null,null,null,null,"stall",null,"stall",null,"stall"]
[null,null,null,null,null,null,null,null,null,null,null,null,null,null,null,null,null,null,null,null,null,null,null,null,null,null,null,null,null,null,null,null,null,null,null,null,null,null,null,null,null,null,null,null,null,null,"Sauen",null,null,null,"Ergeb-","Beurteilte","Ergeb-","Beurteilte","Ergeb-","Beurteilte"]
[null,null,null,null,null,null,null,null,null,null,null,null,null,null,null,null,null,null,null,null,null,null,null,null,null,null,null,null,null,null,null,null,null,null,null,null,null,null,null,null,null,null,null,null,null,null,null,null,null,null,"nisse","Tiere (insg.)","nisse","Tiere (insg.)","nisse","Tiere (insg.)"]
[null,null,{"$f":"C158&H162","v":"AE>F13|911|W31"},null,null,null,null,"911|W31",null,null,null,null,null,{"$f":"N158&Q162","v":"AF>F13|001|W02"},null,null,"001|W02",null,null,null,null,null,null,null,null,null,null,null,null,null,null,null,null,null,null,null,null,null,null,null,null,null,null,null,null,null,"Nestbaumaterial",null,null,"Sauen",null,null,null,null,{"$f":"IF(AF162>0,AE162/100,\"\")","v":""},{"$f":"IF(AF162>0,\"[\"&AF162&\"]\",\"\")","v":""}]
[{"$f":"A158&H163","v":"AA>F11|911|W01"},{"$f":"B158&H163","v":"AC>F12|911|W01"},{"$f":"C158&H163","v":"AE>F13|911|W01"},null,null,null,null,"911|W01",null,null,null,{"$f":"L158&Q163","v":"AB>F11|901|W01"},{"$f":"M158&Q163","v":"AD>F12|901|W01"},{"$f":"N158&Q163","v":"AF>F13|901|W01"},null,null,"901|W01",null,null,null,null,null,null,null,null,null,null,null,null,null,null,null,null,null,null,null,null,null,null,null,null,null,null,null,null,null,"Stereotypien",null,null,"Bonitur 1",{"$f":"IF(AB163>0,AA163/100,\"\")","v":""},{"$f":"IF(AB163>0,\"[\"&AB163&\"]\",\"\")","v":""},{"$f":"IF(AD163>0,AC163/100,\"\")","v":""},{"$f":"IF(AD163>0,\"[\"&AD163&\"]\",\"\")","v":""},"",""]
[{"$f":"A158&H164","v":"AA>F11|911|W02"},{"$f":"B158&H164","v":"AC>F12|911|W02"},{"$f":"C158&H164","v":"AE>F13|911|W02"},null,null,null,null,"911|W02",null,null,null,{"$f":"L158&Q164","v":"AB>F11|901|W02"},{"$f":"M158&Q164","v":"AD>F12|901|W02"},{"$f":"N158&Q164","v":"AF>F13|901|W02"},null,null,"901|W02",null,null,null,null,null,null,null,null,null,null,null,null,null,null,null,null,null,null,null,null,null,null,null,null,null,null,null,null,null,"Kotverschmutzung der Tiere",null,null,"Bonitur 2","","","","","",""]
[{"$f":"A158&H165","v":"AA>F11|911|W03"},{"$f":"B158&H165","v":"AC>F12|911|W03"},{"$f":"C158&H165","v":"AE>F13|911|W03"},null,null,null,null,"911|W03",null,null,null,{"$f":"L158&Q165","v":"AB>F11|901|W03"},{"$f":"M158&Q165","v":"AD>F12|901|W03"},{"$f":"N158&Q165","v":"AF>F13|901|W03"},null,null,"901|W03",null,null,null,null,null,null,null,null,null,null,null,null,null,null,null,null,null,null,null,null,null,null,null,null,null,null,null,null,null,"Hautverletzungen (außer Gesäuge und Schulterläsion)",null,null,"Bonitur 2","","","","","",""]
[{"$f":"A158&H166","v":"AA>F11|911|W04"},{"$f":"B158&H166","v":"AC>F12|911|W04"},{"$f":"C158&H166","v":"AE>F13|911|W04"},null,null,null,null,"911|W04",null,null,null,{"$f":"L158&Q166","v":"AB>F11|901|W04"},{"$f":"M158&Q166","v":"AD>F12|901|W04"},{"$f":"N158&Q166","v":"AF>F13|901|W04"},null,null,"901|W04",null,null,null,null,null,null,null,null,null,null,null,null,null,null,null,null,null,null,null,null,null,null,null,null,null,null,null,null,null,"Unterkonditionierung",null,null,"Bonitur 1","","","","","",""]
[{"$f":"A158&H167","v":"AA>F11|911|W05"},{"$f":"B158&H167","v":"AC>F12|911|W05"},{"$f":"C158&H167","v":"AE>F13|911|W05"},null,null,null,null,"911|W05",null,null,null,{"$f":"L158&Q167","v":"AB>F11|901|W05"},{"$f":"M158&Q167","v":"AD>F12|901|W05"},{"$f":"N158&Q167","v":"AF>F13|901|W05"},null,null,"901|W05",null,null,null,null,null,null,null,null,null,null,null,null,null,null,null,null,null,null,null,null,null,null,null,null,null,null,null,null,null,"Schwellung an den Beinen",null,null,"Bonitur 1","","","","","",""]
[{"$f":"A158&H168","v":"AA>F11|912|W06"},{"$f":"B158&H168","v":"AC>F12|912|W06"},{"$f":"C158&H168","v":"AE>F13|912|W06"},null,null,null,null,"912|W06",null,null,null,{"$f":"L158&Q168","v":"AB>F11|901|W06"},{"$f":"M158&Q168","v":"AD>F12|901|W06"},{"$f":"N158&Q168","v":"AF>F13|901|W06"},null,null,"901|W06",null,null,null,null,null,null,null,null,null,null,null,null,null,null,null,null,null,null,null,null,null,null,null,null,null,null,null,null,null,"Anzeichen von Ektoparasiten",null,null,null,{"$f":"IF(AB168>0,AA168,\"\")","v":""},"",{"$f":"IF(AD168>0,AC168,\"\")","v":""},"",{"$f":"IF(AF168>0,AE168,\"\")","v":""},""]
[null,{"$f":"B158&H169","v":"AC>F12|911|W07"},null,null,null,null,null,"911|W07",null,null,null,null,{"$f":"M158&Q169","v":"AD>F12|901|W07"},{"$f":"N158&Q169","v":"AF>F13|901|W07"},null,null,"901|W07",null,null,null,null,null,null,null,null,null,null,null,null,null,null,null,null,null,null,null,null,null,null,null,null,null,null,null,null,null,"Lahmheit",null,null,"Bonitur 1",null,null,"",""]
[null,null,{"$f":"C158&H170","v":"AE>F13|911|W08"},null,null,null,null,"911|W08",null,null,null,null,null,{"$f":"N158&Q170","v":"AF>F13|901|W08"},null,null,"901|W08",null,null,null,null,null,null,null,null,null,null,null,null,null,null,null,null,null,null,null,null,null,null,null,null,null,null,null,null,null,"Schulterläsion an mindestens einer Seite",null,null,"Bonitur 2",null,null,null,null,{"$f":"IF(AF170>0,AE170/100,\"\")","v":""},{"$f":"IF(AF170>0,\"[\"&AF170&\"]\",\"\")","v":""}]
[null,null,{"$f":"C158&H171","v":"AE>F13|911|W10"},null,null,null,null,"911|W10",null,null,null,null,null,{"$f":"N158&Q171","v":"AF>F13|901|W10"},null,null,"901|W10",null,null,null,null,null,null,null,null,null,null,null,null,null,null,null,null,null,null,null,null,null,null,null,null,null,null,null,null,null,"Verletzungen an Zitzen und Gesäuge",null,null,"Bonitur 1",null,null,null,null,"",""]
[null,null,{"$f":"C158&H172","v":"AE>F13|911|W11"},null,null,null,null,"911|W11",null,null,null,null,null,{"$f":"N158&Q172","v":"AF>F13|901|W11"},null,null,"901|W11",null,null,null,null,null,null,null,null,null,null,null,null,null,null,null,null,null,null,null,null,null,null,null,null,null,null,null,null,null,"Klauenveränderungen",null,null,"Bonitur 1",null,null,null,null,"",""]
[]
[null,null,null,null,null,null,null,null,null,null,null,null,null,null,null,null,null,null,null,null,null,null,null,null,null,null,null,null,null,null,null,null,null,null,null,null,null,null,null,null,null,null,null,null,null,null,"Saugferkel"]
[null,null,{"$f":"C158&H175","v":"AE>F13|903|W31"},null,null,null,null,"903|W31",null,null,null,null,null,{"$f":"N158&Q175","v":"AF>F13|902|W30"},null,null,"902|W30",null,null,null,null,null,null,null,null,null,null,null,null,null,null,null,null,null,null,null,null,null,null,null,null,null,null,null,null,null,"Kümmerer",null,null,null,null,null,null,null,{"$f":"IF(AF175>0,AE175/100,\"\")","v":""},{"$f":"IF(AF175>0,\"[\"&AF175&\"]\",\"\")","v":""}]
[null,null,{"$f":"C158&H176","v":"AE>F13|903|W32"},null,null,null,null,"903|W32",null,null,null,null,null,{"$f":"N158&Q176","v":"AF>F13|902|W30"},null,null,"902|W30",null,null,null,null,null,null,null,null,null,null,null,null,null,null,null,null,null,null,null,null,null,null,null,null,null,null,null,null,null,"Hautverletzungen am Kopf",null,null,"Bonitur 1",null,null,null,null,"",""]
[null,null,{"$f":"C158&H177","v":"AE>F13|902|W33"},null,null,null,null,"902|W33",null,null,null,null,null,{"$f":"N158&Q177","v":"AF>F13|902|W30"},null,null,"902|W30",null,null,null,null,null,null,null,null,null,null,null,null,null,null,null,null,null,null,null,null,null,null,null,null,null,null,null,null,null,"Hautverletzungen am Karpalgelenk",null,null,"Bonitur 1",null,null,null,null,"",""]
[]
[null,null,null,null,null,null,null,null,null,null,null,null,null,null,null,null,null,null,null,null,null,null,null,null,null,null,null,null,null,null,null,null,null,null,null,null,null,null,null,null,null,null,null,null,null,null,"Wasserversorgung",null,null,null,"Ergeb-","Beurteilte","Ergeb-","Beurteilte","Ergeb-","Beurteilte"]
[null,null,null,null,null,null,null,null,null,null,null,null,null,null,null,null,null,null,null,null,null,null,null,null,null,null,null,null,null,null,null,null,null,null,null,null,null,null,null,null,null,null,null,null,null,null,null,null,null,null,"nis","Tränken (insg.)","nis","Tränken (insg.)","nis","Tränken (insg.)"]
[{"$f":"A158&H181","v":"AA>F11|907|W24"},{"$f":"B158&H181","v":"AC>F12|907|W24"},{"$f":"C158&H181","v":"AE>F13|907|W24"},null,null,null,null,"907|W24",null,null,null,{"$f":"L158&Q181","v":"AB>F11|901|W24"},{"$f":"M158&Q181","v":"AD>F12|901|W24"},{"$f":"N158&Q181","v":"AF>F13|901|W24"},null,null,"901|W24",null,null,null,null,null,null,null,null,null,null,null,null,null,null,null,null,null,null,null,null,null,null,null,null,null,null,null,null,null,"Tränken mit unzureichender Wasserdurchflussrate",null,null,null,{"$f":"IF(AB181>0,AA181/100,\"\")","v":""},{"$f":"IF(AB181>0,\"[\"&AB181&\"]\",\"\")","v":""},{"$f":"IF(AD181>0,AC181/100,\"\")","v":""},{"$f":"IF(AD181>0,\"[\"&AD181&\"]\",\"\")","v":""},{"$f":"IF(AF181>0,AE181/100,\"\")","v":""},{"$f":"IF(AF181>0,\"[\"&AF181&\"]\",\"\")","v":""}]
["BEREICH_ENDE"]
[]
[]
["BEREICH_START",null,null,null,null,null,null,null,null,null,null,null,null,null,null,null,null,null,null,"SW_FERKEL",null,null,null,null,null,null,null,null,null,null,null,null,null,null,null,null,null,null,null,null,null,null,null,null,null,"Aufzuchtferkel",null,null,null,null,null,null,null,null,null,null,"#DATUM#"]
["AA>T02",null,null,null,null,null,null,null,null,null,null,null,null,null,null,null,null,null,null,null,null,null,null,null,null,null,null,null,null,null,null,null,null,null,null,null,null,null,null,null,null,null,null,null,null,null,{"$f":"AA186","v":0}]
[]
[null,null,null,null,null,null,null,null,null,null,null,null,null,null,null,null,null,null,null,{"$f":"AU188","v":"Fortlaufende und Abschlusserhebung"},null,null,null,null,null,null,null,null,null,null,null,null,null,null,null,null,null,null,null,null,null,null,null,null,null,null,"Fortlaufende und Abschlusserhebung"]
[null,null,null,null,null,null,null,null,null,null,null,null,null,null,null,null,null,null,null,null,null,null,null,null,null,null,null,null,null,null,null,null,null,null,null,null,null,null,null,null,null,null,null,null,null,null,null,null,null,null,null,"Ergeb-","Beurteilte"]
[null,null,null,null,null,null,null,null,null,null,null,null,null,null,null,null,null,null,null,null,null,null,null,null,null,null,null,null,null,null,null,null,null,null,null,null,null,null,null,null,null,null,null,null,null,null,"Schwanzlänge",null,null,null,null,"nisse","Tiere (insg.)"]
["AA>F30|902|W06",null,null,null,null,"AB>F30|902|W03",null,null,null,null,null,null,null,null,null,null,null,null,null,null,null,null,null,null,null,null,null,null,null,null,null,null,null,null,null,null,null,null,null,null,null,null,null,null,null,null,"Schwanzlänge (Kupierte Tiere)",null,null,null,"Bonitur 2",{"$f":"IF(AB191>0,AA191/100,\"\")","v":""},{"$f":"IF(AB191>0,\"[\"&AB191&\"]\",\"\")","v":""}]
["AA>F30|901|W05",null,null,null,null,"AB>F30|901|W03",null,null,null,null,null,null,null,null,null,null,null,null,null,null,null,null,null,null,null,null,null,null,null,null,null,null,null,null,null,null,null,null,null,null,null,null,null,null,null,null,"Schwanzlänge (Nicht kupierte Tiere)",null,null,null,"Bonitur 1",{"$f":"IF(AB192>0,AA192/100,\"\")","v":""},{"$f":"IF(AB192>0,\"[\"&AB192&\"]\",\"\")","v":""}]
["AA>F30|901|W06",null,null,null,null,"AB>F30|901|W03",null,null,null,null,null,null,null,null,null,null,null,null,null,null,null,null,null,null,null,null,null,null,null,null,null,null,null,null,null,null,null,null,null,null,null,null,null,null,null,null,"Schwanzlänge (Nicht kupierte Tiere)",null,null,null,"Bonitur 2",{"$f":"IF(AB193>0,AA193/100,\"\")","v":""},{"$f":"IF(AB193>0,\"[\"&AB193&\"]\",\"\")","v":""}]
[null,null,null,null,null,null,null,null,null,null,null,null,null,null,null,null,null,null,null,null,null,null,null,null,null,null,null,null,null,null,null,null,null,null,null,null,null,null,null,null,null,null,null,null,null,null,"Antibiotikaeinsatz"]
["AA>F20|001|W07",null,null,null,null,null,null,null,null,null,null,null,null,null,null,null,null,null,null,null,null,null,null,null,null,null,null,null,null,null,null,null,null,null,null,null,null,null,null,null,null,null,null,null,null,null,"Therapiehäufigkeit aus HIT",null,null,null,null,{"$f":"IF(AA195>0,AA195,\"\")","v":""}]
["AA>F20|902|W11",null,null,null,null,null,null,"AB>F20|001|W10",null,null,null,null,null,null,null,null,null,null,null,null,null,null,null,null,null,null,null,null,null,null,null,null,null,null,null,null,null,null,null,null,null,null,null,null,null,null,"Therapieindex nach QS",null,null,null,{"$f":"IF(AB196<>\"\",AB196& \". Quartal\",\"\")","v":""},{"$f":"IF(AA196>0,AA196,\"\")","v":""}]
["AA>F20|902|W12",null,null,null,null,null,null,"AB>F20|002|W10",null,null,null,null,null,null,null,null,null,null,null,null,null,null,null,null,null,null,null,null,null,null,null,null,null,null,null,null,null,null,null,null,null,null,null,null,null,null,null,null,null,null,{"$f":"IF(AB197<>\"\",AB197& \". Quartal\",\"\")","v":""},{"$f":"IF(AA197>0,AA197,\"\")","v":""}]
[null,null,null,null,null,null,null,null,null,null,null,null,null,null,null,null,null,null,null,null,null,null,null,null,null,null,null,null,null,null,null,null,null,null,null,null,null,null,null,null,null,null,null,null,null,null,"Bestandsbezogene Indikatoren"]
["AA>F50|041|W01",null,null,null,null,null,null,null,null,null,null,null,null,null,null,null,null,null,null,null,null,null,null,null,null,null,null,null,null,null,null,null,null,null,null,null,null,null,null,null,null,null,null,null,null,null,"Tierverluste",null,null,null,null,{"$f":"IF(AA199>0,AA199/100,\"\")","v":""}]
["AA>F50|042|W01",null,null,null,null,null,null,null,null,null,null,null,null,null,null,null,null,null,null,null,null,null,null,null,null,null,null,null,null,null,null,null,null,null,null,null,null,null,null,null,null,null,null,null,null,null,"Tägliche Zunahmen",null,null,null,"g/Tag",{"$f":"IF(AA200>0,AA200,\"\")","v":""}]
[]
[null,null,null,null,null,null,null,null,null,null,null,null,null,null,null,null,null,null,null,null,null,null,null,null,null,null,null,null,null,null,null,null,null,null,null,null,null,null,null,null,null,null,null,null,null,null,null,null,null,null,null,"Ergeb-","Beurteilte"]
[null,null,null,null,null,null,null,null,null,null,null,null,null,null,null,null,null,null,null,{"$f":"AU203","v":"Schlachtbefunde"},null,null,null,null,null,null,null,null,null,null,null,null,null,null,null,null,null,null,null,null,null,null,null,null,null,null,"Schlachtbefunde",null,null,null,null,"nisse","Tiere (insg.)"]
["AA>F40|901|W03",null,null,null,null,null,null,null,"AB>F40|902|W02",null,null,null,null,null,null,null,null,null,null,null,null,null,null,null,null,null,null,null,null,null,null,null,null,null,null,null,null,null,null,null,null,null,null,null,null,null,"Brustfellentzündungen (mittel- und hochgradige Pleuritiden)",null,null,null,null,{"$f":"IF(AB204>0,AA204/100,\"\")","v":""},{"$f":"IF(AB204>0,\"[\"&AB204&\"]\",\"\")","v":""}]
["AA>F40|901|W06",null,null,null,null,null,null,null,"AB>F40|902|W02",null,null,null,null,null,null,null,null,null,null,null,null,null,null,null,null,null,null,null,null,null,null,null,null,null,null,null,null,null,null,null,null,null,null,null,null,null,"Lungenentzündungen (mittel- und hochgradige Pneumonien)",null,null,null,null,{"$f":"IF(AB205>0,AA205/100,\"\")","v":""},{"$f":"IF(AB205>0,\"[\"&AB205&\"]\",\"\")","v":""}]
["AA>F40|901|W09",null,null,null,null,null,null,null,"AB>F40|902|W02",null,null,null,null,null,null,null,null,null,null,null,null,null,null,null,null,null,null,null,null,null,null,null,null,null,null,null,null,null,null,null,null,null,null,null,null,null,"Herzbeutelentzündungen (Perikaditien)",null,null,null,null,"",""]
["AA>F40|901|W12",null,null,null,null,null,null,null,"AB>F40|902|W02",null,null,null,null,null,null,null,null,null,null,null,null,null,null,null,null,null,null,null,null,null,null,null,null,null,null,null,null,null,null,null,null,null,null,null,null,null,"Leberbefunde und -verwürfe (\"Milkspots\")",null,null,null,null,"",""]
["AA>F40|901|W15",null,null,null,null,null,null,null,"AB>F40|902|W02",null,null,null,null,null,null,null,null,null,null,null,null,null,null,null,null,null,null,null,null,null,null,null,null,null,null,null,null,null,null,null,null,null,null,null,null,null,"Abszesse",null,null,null,null,"",""]
["AA>F40|901|W19",null,null,null,null,null,null,null,"AB>F40|902|W02",null,null,null,null,null,null,null,null,null,null,null,null,null,null,null,null,null,null,null,null,null,null,null,null,null,null,null,null,null,null,null,null,null,null,null,null,null,"Gelenkentzündungen (Arthritis)",null,null,null,null,"",""]
["AA>F40|901|W22",null,null,null,null,null,null,null,"AB>F40|902|W02",null,null,null,null,null,null,null,null,null,null,null,null,null,null,null,null,null,null,null,null,null,null,null,null,null,null,null,null,null,null,null,null,null,null,null,null,null,"Notgetötete Tiere",null,null,null,null,"",""]
["AA>F40|901|W25",null,null,null,null,null,null,null,"AB>F40|902|W02",null,null,null,null,null,null,null,null,null,null,null,null,null,null,null,null,null,null,null,null,null,null,null,null,null,null,null,null,null,null,null,null,null,null,null,null,null,"Schwanzschäden",null,null,null,null,"",""]
["AA>F40|901|W28",null,null,null,null,null,null,null,"AB>F40|902|W02",null,null,null,null,null,null,null,null,null,null,null,null,null,null,null,null,null,null,null,null,null,null,null,null,null,null,null,null,null,null,null,null,null,null,null,null,null,"Ohrschäden",null,null,null,null,"",""]
["AA>F40|901|W31",null,null,null,null,null,null,null,"AB>F40|902|W02",null,null,null,null,null,null,null,null,null,null,null,null,null,null,null,null,null,null,null,null,null,null,null,null,null,null,null,null,null,null,null,null,null,null,null,null,null,"Schleimbeutelentzündungen (Bursitiden)",null,null,null,null,"",""]
["AA>F40|901|W37",null,null,null,null,null,null,null,"AB>F40|902|W02",null,null,null,null,null,null,null,null,null,null,null,null,null,null,null,null,null,null,null,null,null,null,null,null,null,null,null,null,null,null,null,null,null,null,null,null,null,"Hochgradige Klauenverletzungen / -schäden",null,null,null,null,"",""]
[]
[null,null,null,null,null,null,null,null,null,null,null,null,null,null,null,null,null,null,null,"Stichproben",null,null,null,null,null,null,null,null,null,null,null,null,null,null,null,null,null,null,null,null,null,null,null,null,null,null,"Stichproben",null,null,null,null,"Alle Buchten"]
[null,null,null,null,null,null,null,null,null,null,null,null,null,null,null,null,null,null,null,null,null,null,null,null,null,null,null,null,null,null,null,null,null,null,null,null,null,null,null,null,null,null,null,null,null,null,null,null,null,null,null,"Ergeb-","Beurteilte"]
[null,null,null,null,null,null,null,null,null,null,null,null,null,null,null,null,null,null,null,null,null,null,null,null,null,null,null,null,null,null,null,null,null,null,null,null,null,null,null,null,null,null,null,null,null,null,null,null,null,null,null,"nisse","Tiere (insg.)"]
["AA>SUM|F101-F199|003|W02",null,null,null,null,null,null,null,"AB>SUM|F101-F199|903|W10",null,null,null,null,null,null,null,null,null,null,null,null,null,null,null,null,null,null,null,null,null,null,null,null,null,null,null,null,null,null,null,null,null,null,null,null,null,"Kümmerer",null,null,null,null,{"$f":"IF(AB219>0,AA219/AB219,\"\")","v":""},{"$f":"IF(AB219>0,\"[\"&AB219&\"]\",\"\")","v":""}]
["AA>SUM|F101-F199|904|W11",null,null,null,null,null,null,null,"AB>SUM|F101-F199|901|W11",null,null,null,null,null,null,null,null,null,null,null,null,null,null,null,null,null,null,null,null,null,null,null,null,null,null,null,null,null,null,null,null,null,null,null,null,null,"Kotverschmutzung der Tiere",null,null,null,"Bonitur 2",{"$f":"IF(AB220>0,AA220/AB220,\"\")","v":""},""]
["AA>SUM|F101-F199|904|W01",null,null,null,null,null,null,null,"AB>SUM|F101-F199|901|W01",null,null,null,null,null,null,null,null,null,null,null,null,null,null,null,null,null,null,null,null,null,null,null,null,null,null,null,null,null,null,null,null,null,null,null,null,null,"Hautverletzungen (ohne Schwanz und Ohr)",null,null,null,"Bonitur 2","",""]
["AA>SUM|F101-F199|903|W02",null,null,null,null,null,null,null,"AB>SUM|F101-F199|901|W02",null,null,null,null,null,null,null,null,null,null,null,null,null,null,null,null,null,null,null,null,null,null,null,null,null,null,null,null,null,null,null,null,null,null,null,null,null,"Ohrverletzungen",null,null,null,"Bonitur 1","",""]
["AA>SUM|F101-F199|903|W03",null,null,null,null,null,null,null,"AB>SUM|F101-F199|901|W03",null,null,null,null,null,null,null,null,null,null,null,null,null,null,null,null,null,null,null,null,null,null,null,null,null,null,null,null,null,null,null,null,null,null,null,null,null,"Schwanzverletzungen",null,null,null,"Bonitur 1","",""]
["AA>SUM|F101-F199|903|W04",null,null,null,null,null,null,null,"AB>SUM|F101-F199|901|W04",null,null,null,null,null,null,null,null,null,null,null,null,null,null,null,null,null,null,null,null,null,null,null,null,null,null,null,null,null,null,null,null,null,null,null,null,null,"Anzeichen von Ektoparasiten",null,null,null,null,{"$f":"IF(AB224>0,IF(AA224>0,\"Ja\",\"Nein\"),\"\")","v":""},""]
["AA>SUM|F101-F199|903|W12",null,null,null,null,null,null,null,"AB>SUM|F101-F199|901|W12",null,null,null,null,null,null,null,null,null,null,null,null,null,null,null,null,null,null,null,null,null,null,null,null,null,null,null,null,null,null,null,null,null,null,null,null,null,"Lahmheit",null,null,null,"Bonitur 1",{"$f":"IF(AB225>0,AA225/AB225,\"\")","v":""},""]
[]
[null,null,null,null,null,null,null,null,null,null,null,null,null,null,null,null,null,null,null,null,null,null,null,null,null,null,null,null,null,null,null,null,null,null,null,null,null,null,null,null,null,null,null,null,null,null,"Wasserversorgung",null,null,null,null,"Ergeb-","Beurteilte"]
[null,null,null,null,null,null,null,null,null,null,null,null,null,null,null,null,null,null,null,null,null,null,null,null,null,null,null,null,null,null,null,null,null,null,null,null,null,null,null,null,null,null,null,null,null,null,null,null,null,null,null,"nis","Tränken (insg.)"]
["AA>SUM|F101-F199|901|W10",null,null,null,null,null,null,null,"AB>SUM|F101-F199|907|W10",null,null,null,null,null,null,null,null,null,null,null,null,null,null,null,null,null,null,null,null,null,null,null,null,null,null,null,null,null,null,null,null,null,null,null,null,null,"Tränken mit unzureichender Wasserdurchflussrate",null,null,null,"%",{"$f":"IF(AB229>0,AA229/AB229,\"\")","v":""},{"$f":"IF(AB229>0,\"[\"&AB229&\"]\",\"\")","v":""}]
["BEREICH_ENDE"]
[]
["BEREICH_START",null,null,null,null,null,null,null,null,null,null,null,null,null,null,null,null,null,null,"SW_MAST",null,null,null,null,null,null,null,null,null,null,null,null,null,null,null,null,null,null,null,null,null,null,null,null,null,"Mastschweine",null,null,null,null,null,null,null,null,null,null,"#DATUM#"]
["AA>T02",null,null,null,null,null,null,null,null,null,null,null,null,null,null,null,null,null,null,null,null,null,null,null,null,null,null,null,null,null,null,null,null,null,null,null,null,null,null,null,null,null,null,null,null,null,{"$f":"AA233","v":0}]
[]
[null,null,null,null,null,null,null,null,null,null,null,null,null,null,null,null,null,null,null,{"$f":"AU235","v":"Fortlaufende und Abschlusserhebung"},null,null,null,null,null,null,null,null,null,null,null,null,null,null,null,null,null,null,null,null,null,null,null,null,null,null,"Fortlaufende und Abschlusserhebung"]
[null,null,null,null,null,null,null,null,null,null,null,null,null,null,null,null,null,null,null,null,null,null,null,null,null,null,null,null,null,null,null,null,null,null,null,null,null,null,null,null,null,null,null,null,null,null,null,null,null,null,null,"Ergeb-","Beurteilte"]
[null,null,null,null,null,null,null,null,null,null,null,null,null,null,null,null,null,null,null,null,null,null,null,null,null,null,null,null,null,null,null,null,null,null,null,null,null,null,null,null,null,null,null,null,null,null,"Schwanzlänge",null,null,null,null,"nisse","Tiere (insg.)"]
["AA>F30|902|W06",null,null,null,null,"AB>F30|902|W03",null,null,null,null,null,null,null,null,null,null,null,null,null,null,null,null,null,null,null,null,null,null,null,null,null,null,null,null,null,null,null,null,null,null,null,null,null,null,null,null,"Schwanzlänge (Kupierte Tiere)",null,null,null,"Bonitur 2",{"$f":"IF(AB238>0,AA238/100,\"\")","v":""},{"$f":"IF(AB238>0,\"[\"&AB238&\"]\",\"\")","v":""}]
["AA>F30|901|W05",null,null,null,null,"AB>F30|901|W03",null,null,null,null,null,null,null,null,null,null,null,null,null,null,null,null,null,null,null,null,null,null,null,null,null,null,null,null,null,null,null,null,null,null,null,null,null,null,null,null,"Schwanzlänge (Nicht kupierte Tiere)",null,null,null,"Bonitur 1",{"$f":"IF(AB239>0,AA239/100,\"\")","v":""},{"$f":"IF(AB239>0,\"[\"&AB239&\"]\",\"\")","v":""}]
["AA>F30|901|W06",null,null,null,null,"AB>F30|901|W03",null,null,null,null,null,null,null,null,null,null,null,null,null,null,null,null,null,null,null,null,null,null,null,null,null,null,null,null,null,null,null,null,null,null,null,null,null,null,null,null,"Schwanzlänge (Nicht kupierte Tiere)",null,null,null,"Bonitur 2",{"$f":"IF(AB240>0,AA240/100,\"\")","v":""},{"$f":"IF(AB240>0,\"[\"&AB240&\"]\",\"\")","v":""}]
[null,null,null,null,null,null,null,null,null,null,null,null,null,null,null,null,null,null,null,null,null,null,null,null,null,null,null,null,null,null,null,null,null,null,null,null,null,null,null,null,null,null,null,null,null,null,"Antibiotikaeinsatz"]
["AA>F20|001|W07",null,null,null,null,null,null,null,null,null,null,null,null,null,null,null,null,null,null,null,null,null,null,null,null,null,null,null,null,null,null,null,null,null,null,null,null,null,null,null,null,null,null,null,null,null,"Therapiehäufigkeit aus HIT",null,null,null,null,{"$f":"IF(AA242>0,AA242,\"\")","v":""}]
["AA>F20|902|W11",null,null,null,null,null,null,"AB>F20|001|W10",null,null,null,null,null,null,null,null,null,null,null,null,null,null,null,null,null,null,null,null,null,null,null,null,null,null,null,null,null,null,null,null,null,null,null,null,null,null,"Therapieindex nach QS",null,null,null,{"$f":"IF(AB243<>\"\",AB243& \". Quartal\",\"\")","v":""},{"$f":"IF(AA243>0,AA243,\"\")","v":""}]
["AA>F20|902|W12",null,null,null,null,null,null,"AB>F20|002|W10",null,null,null,null,null,null,null,null,null,null,null,null,null,null,null,null,null,null,null,null,null,null,null,null,null,null,null,null,null,null,null,null,null,null,null,null,null,null,null,null,null,null,{"$f":"IF(AB244<>\"\",AB244& \". Quartal\",\"\")","v":""},{"$f":"IF(AA244>0,AA244,\"\")","v":""}]
[null,null,null,null,null,null,null,null,null,null,null,null,null,null,null,null,null,null,null,null,null,null,null,null,null,null,null,null,null,null,null,null,null,null,null,null,null,null,null,null,null,null,null,null,null,null,"Bestandsbezogene Indikatoren"]
["AA>F50|031|W01",null,null,null,null,null,null,null,null,null,null,null,null,null,null,null,null,null,null,null,null,null,null,null,null,null,null,null,null,null,null,null,null,null,null,null,null,null,null,null,null,null,null,null,null,null,"Tierverluste",null,null,null,null,{"$f":"IF(AA246>0,AA246/100,\"\")","v":""}]
["AA>F50|032|W01",null,null,null,null,null,null,null,null,null,null,null,null,null,null,null,null,null,null,null,null,null,null,null,null,null,null,null,null,null,null,null,null,null,null,null,null,null,null,null,null,null,null,null,null,null,"Tägliche Zunahmen",null,null,null,"g/Tag",{"$f":"IF(AA247>0,AA247,\"\")","v":""}]
[]
[null,null,null,null,null,null,null,null,null,null,null,null,null,null,null,null,null,null,null,null,null,null,null,null,null,null,null,null,null,null,null,null,null,null,null,null,null,null,null,null,null,null,null,null,null,null,null,null,null,null,null,"Ergeb-","Beurteilte"]
[null,null,null,null,null,null,null,null,null,null,null,null,null,null,null,null,null,null,null,{"$f":"AU250","v":"Schlachtbefunde"},null,null,null,null,null,null,null,null,null,null,null,null,null,null,null,null,null,null,null,null,null,null,null,null,null,null,"Schlachtbefunde",null,null,null,null,"nisse","Tiere (insg.)"]
["AA>F40|901|W03",null,null,null,null,null,null,null,"AB>F40|902|W02",null,null,null,null,null,null,null,null,null,null,null,null,null,null,null,null,null,null,null,null,null,null,null,null,null,null,null,null,null,null,null,null,null,null,null,null,null,"Brustfellentzündungen (mittel- und hochgradige Pleuritiden)",null,null,null,null,{"$f":"IF(AB251>0,AA251/100,\"\")","v":""},{"$f":"IF(AB251>0,\"[\"&AB251&\"]\",\"\")","v":""}]
["AA>F40|901|W06",null,null,null,null,null,null,null,"AB>F40|902|W02",null,null,null,null,null,null,null,null,null,null,null,null,null,null,null,null,null,null,null,null,null,null,null,null,null,null,null,null,null,null,null,null,null,null,null,null,null,"Lungenentzündungen (mittel- und hochgradige Pneumonien)",null,null,null,null,{"$f":"IF(AB252>0,AA252/100,\"\")","v":""},{"$f":"IF(AB252>0,\"[\"&AB252&\"]\",\"\")","v":""}]
["AA>F40|901|W09",null,null,null,null,null,null,null,"AB>F40|902|W02",null,null,null,null,null,null,null,null,null,null,null,null,null,null,null,null,null,null,null,null,null,null,null,null,null,null,null,null,null,null,null,null,null,null,null,null,null,"Herzbeutelentzündungen (Perikaditien)",null,null,null,null,"",""]
["AA>F40|901|W12",null,null,null,null,null,null,null,"AB>F40|902|W02",null,null,null,null,null,null,null,null,null,null,null,null,null,null,null,null,null,null,null,null,null,null,null,null,null,null,null,null,null,null,null,null,null,null,null,null,null,"Leberbefunde und -verwürfe (\"Milkspots\")",null,null,null,null,"",""]
["AA>F40|901|W15",null,null,null,null,null,null,null,"AB>F40|902|W02",null,null,null,null,null,null,null,null,null,null,null,null,null,null,null,null,null,null,null,null,null,null,null,null,null,null,null,null,null,null,null,null,null,null,null,null,null,"Abszesse",null,null,null,null,"",""]
["AA>F40|901|W19",null,null,null,null,null,null,null,"AB>F40|902|W02",null,null,null,null,null,null,null,null,null,null,null,null,null,null,null,null,null,null,null,null,null,null,null,null,null,null,null,null,null,null,null,null,null,null,null,null,null,"Gelenkentzündungen (Arthritis)",null,null,null,null,"",""]
["AA>F40|901|W22",null,null,null,null,null,null,null,"AB>F40|902|W02",null,null,null,null,null,null,null,null,null,null,null,null,null,null,null,null,null,null,null,null,null,null,null,null,null,null,null,null,null,null,null,null,null,null,null,null,null,"Notgetötete Tiere",null,null,null,null,"",""]
["AA>F40|901|W25",null,null,null,null,null,null,null,"AB>F40|902|W02",null,null,null,null,null,null,null,null,null,null,null,null,null,null,null,null,null,null,null,null,null,null,null,null,null,null,null,null,null,null,null,null,null,null,null,null,null,"Schwanzschäden",null,null,null,null,"",""]
["AA>F40|901|W28",null,null,null,null,null,null,null,"AB>F40|902|W02",null,null,null,null,null,null,null,null,null,null,null,null,null,null,null,null,null,null,null,null,null,null,null,null,null,null,null,null,null,null,null,null,null,null,null,null,null,"Ohrschäden",null,null,null,null,"",""]
["AA>F40|901|W31",null,null,null,null,null,null,null,"AB>F40|902|W02",null,null,null,null,null,null,null,null,null,null,null,null,null,null,null,null,null,null,null,null,null,null,null,null,null,null,null,null,null,null,null,null,null,null,null,null,null,"Schleimbeutelentzündungen (Bursitiden)",null,null,null,null,"",""]
["AA>F40|901|W37",null,null,null,null,null,null,null,"AB>F40|902|W02",null,null,null,null,null,null,null,null,null,null,null,null,null,null,null,null,null,null,null,null,null,null,null,null,null,null,null,null,null,null,null,null,null,null,null,null,null,"Hochgradige Klauenverletzungen / -schäden",null,null,null,null,"",""]
[]
[null,null,null,null,null,null,null,null,null,null,null,null,null,null,null,null,null,null,null,"Stichproben",null,null,null,null,null,null,null,null,null,null,null,null,null,null,null,null,null,null,null,null,null,null,null,null,null,null,"Stichproben",null,null,null,null,"Alle Buchten"]
[null,null,null,null,null,null,null,null,null,null,null,null,null,null,null,null,null,null,null,null,null,null,null,null,null,null,null,null,null,null,null,null,null,null,null,null,null,null,null,null,null,null,null,null,null,null,null,null,null,null,null,"Ergeb-","Beurteilte"]
[null,null,null,null,null,null,null,null,null,null,null,null,null,null,null,null,null,null,null,null,null,null,null,null,null,null,null,null,null,null,null,null,null,null,null,null,null,null,null,null,null,null,null,null,null,null,null,null,null,null,null,"nisse","Tiere (insg.)"]
["AA>SUM|F101-F199|003|W02",null,null,null,null,null,null,null,"AB>SUM|F101-F199|903|W10",null,null,null,null,null,null,null,null,null,null,null,null,null,null,null,null,null,null,null,null,null,null,null,null,null,null,null,null,null,null,null,null,null,null,null,null,null,"Kümmerer",null,null,null,null,{"$f":"IF(AB266>0,AA266/AB266,\"\")","v":""},{"$f":"IF(AB266>0,\"[\"&AB266&\"]\",\"\")","v":""}]
["AA>SUM|F101-F199|904|W11",null,null,null,null,null,null,null,"AB>SUM|F101-F199|901|W11",null,null,null,null,null,null,null,null,null,null,null,null,null,null,null,null,null,null,null,null,null,null,null,null,null,null,null,null,null,null,null,null,null,null,null,null,null,"Kotverschmutzung der Tiere",null,null,null,"Bonitur 2",{"$f":"IF(AB267>0,AA267/AB267,\"\")","v":""},""]
["AA>SUM|F101-F199|904|W01",null,null,null,null,null,null,null,"AB>SUM|F101-F199|901|W01",null,null,null,null,null,null,null,null,null,null,null,null,null,null,null,null,null,null,null,null,null,null,null,null,null,null,null,null,null,null,null,null,null,null,null,null,null,"Hautverletzungen (ohne Schwanz und Ohr)",null,null,null,"Bonitur 2",{"$f":"IF(AB268>0,AA268/AB268,\"\")","v":""},""]
["AA>SUM|F101-F199|903|W02",null,null,null,null,null,null,null,"AB>SUM|F101-F199|901|W02",null,null,null,null,null,null,null,null,null,null,null,null,null,null,null,null,null,null,null,null,null,null,null,null,null,null,null,null,null,null,null,null,null,null,null,null,null,"Ohrverletzungen",null,null,null,"Bonitur 1","",""]
["AA>SUM|F101-F199|903|W03",null,null,null,null,null,null,null,"AB>SUM|F101-F199|901|W03",null,null,null,null,null,null,null,null,null,null,null,null,null,null,null,null,null,null,null,null,null,null,null,null,null,null,null,null,null,null,null,null,null,null,null,null,null,"Schwanzverletzungen",null,null,null,"Bonitur 1","",""]
["AA>SUM|F101-F199|903|W04",null,null,null,null,null,null,null,"AB>SUM|F101-F199|901|W04",null,null,null,null,null,null,null,null,null,null,null,null,null,null,null,null,null,null,null,null,null,null,null,null,null,null,null,null,null,null,null,null,null,null,null,null,null,"Anzeichen von Ektoparasiten",null,null,null,null,{"$f":"IF(AB271>0,IF(AA271>0,\"Ja\",\"Nein\"),\"\")","v":""},""]
["AA>SUM|F101-F199|903|W12",null,null,null,null,null,null,null,"AB>SUM|F101-F199|901|W12",null,null,null,null,null,null,null,null,null,null,null,null,null,null,null,null,null,null,null,null,null,null,null,null,null,null,null,null,null,null,null,null,null,null,null,null,null,"Lahmheit",null,null,null,"Bonitur 1",{"$f":"IF(AB272>0,AA272/AB272,\"\")","v":""},""]
[]
[null,null,null,null,null,null,null,null,null,null,null,null,null,null,null,null,null,null,null,null,null,null,null,null,null,null,null,null,null,null,null,null,null,null,null,null,null,null,null,null,null,null,null,null,null,null,"Wasserversorgung",null,null,null,null,"Ergeb-","Beurteilte"]
[null,null,null,null,null,null,null,null,null,null,null,null,null,null,null,null,null,null,null,null,null,null,null,null,null,null,null,null,null,null,null,null,null,null,null,null,null,null,null,null,null,null,null,null,null,null,null,null,null,null,null,"nis","Tränken (insg.)"]
["AA>SUM|F101-F199|901|W10",null,null,null,null,null,null,null,"AB>SUM|F101-F199|907|W10",null,null,null,null,null,null,null,null,null,null,null,null,null,null,null,null,null,null,null,null,null,null,null,null,null,null,null,null,null,null,null,null,null,null,null,null,null,"Tränken mit unzureichender Wasserdurchflussrate",null,null,null,"%",{"$f":"IF(AB276>0,AA276/AB276,\"\")","v":""},{"$f":"IF(AB276>0,\"[\"&AB276&\"]\",\"\")","v":""}]
["BEREICH_ENDE"]
[]
["BEREICH_START",null,null,null,null,null,null,null,null,null,null,null,null,null,null,null,null,null,null,"GF_HENNE1",null,null,null,null,null,null,null,null,null,null,null,null,null,null,null,null,null,null,null,null,null,null,null,null,null,"Junghennen",null,null,null,null,null,null,null,null,null,null,null,"#DATUM#"]
["AA>T02",null,null,null,null,null,null,null,null,null,null,null,null,null,null,null,null,null,null,null,null,null,null,null,null,null,null,null,null,null,null,null,null,null,null,null,null,null,null,null,null,null,null,null,null,null,{"$f":"AA280","v":0}]
[]
["AA","AB","AC","AD","AE","AF",null,null,null,null,null,null,null,null,null,null,null,"Wert",null,{"$f":"AU282","v":"Stichproben"},null,null,null,null,null,null,null,null,null,null,null,null,null,null,null,null,null,null,null,null,null,null,null,null,null,null,"Stichproben",null,null,null,"Junghenne"]
[11,11,{"$f":"A283+1","v":12},{"$f":"B283+1","v":12},{"$f":"C283+1","v":13},{"$f":"D283+1","v":13},null,null,null,null,null,null,null,null,null,null,null,null,"N",null,null,null,null,null,null,null,null,null,null,null,null,null,null,null,null,null,null,null,null,null,null,null,null,null,null,null,null,null,null,null,"Lebenswoche"]
[null,null,null,null,null,null,null,null,null,null,null,null,null,null,null,null,null,null,null,null,null,null,null,null,null,null,null,null,null,null,null,null,null,null,null,null,null,null,null,null,null,null,null,null,null,null,null,null,null,null,"4.","12.","16."]
[{"$f":"A282&\">F\"&A283&\"|\"&R285","v":"AA>F11|912|W03"},{"$f":"B282&\">F\"&B283&\"|\"&S285","v":"AB>F11|950|W03"},{"$f":"C282&\">F\"&C283&\"|\"&R285","v":"AC>F12|912|W03"},{"$f":"D282&\">F\"&D283&\"|\"&S285","v":"AD>F12|950|W03"},{"$f":"E282&\">F\"&E283&\"|\"&R285","v":"AE>F13|912|W03"},{"$f":"F282&\">F\"&F283&\"|\"&S285","v":"AF>F13|950|W03"},null,null,null,null,null,null,null,null,null,null,null,"912|W03","950|W03",null,null,null,null,null,null,null,null,null,null,null,null,null,null,null,null,null,null,null,null,null,null,null,null,null,null,null,"Brüche und Deformationen des Brustbeins",null,null,"Bonitur 1 %",null,null,{"$f":"IF(AF285>0,AE285,\"\")","v":""}]
[{"$f":"A282&\">F\"&A283&\"|\"&R286","v":"AA>F11|912|W05"},{"$f":"B282&\">F\"&B283&\"|\"&S286","v":"AB>F11|950|W05"},{"$f":"C282&\">F\"&C283&\"|\"&R286","v":"AC>F12|912|W05"},{"$f":"D282&\">F\"&D283&\"|\"&S286","v":"AD>F12|950|W05"},{"$f":"E282&\">F\"&E283&\"|\"&R286","v":"AE>F13|912|W05"},{"$f":"F282&\">F\"&F283&\"|\"&S286","v":"AF>F13|950|W05"},null,null,null,null,null,null,null,null,null,null,null,"912|W05","950|W05",null,null,null,null,null,null,null,null,null,null,null,null,null,null,null,null,null,null,null,null,null,null,null,null,null,null,null,"Vollständigkeit Gefieder (Gefiederschäden)",null,null,"Bonitur 1 %",{"$f":"IF(AB286>0,AA286,\"\")","v":""},{"$f":"IF(AD286>0,AC286,\"\")","v":""},{"$f":"IF(AF286>0,AE286,\"\")","v":""}]
[{"$f":"A282&\">F\"&A283&\"|\"&R287","v":"AA>F11|922|W05"},{"$f":"B282&\">F\"&B283&\"|\"&S287","v":"AB>F11|950|W05"},{"$f":"C282&\">F\"&C283&\"|\"&R287","v":"AC>F12|922|W05"},{"$f":"D282&\">F\"&D283&\"|\"&S287","v":"AD>F12|950|W05"},{"$f":"E282&\">F\"&E283&\"|\"&R287","v":"AE>F13|922|W05"},{"$f":"F282&\">F\"&F283&\"|\"&S287","v":"AF>F13|950|W05"},null,null,null,null,null,null,null,null,null,null,null,"922|W05","950|W05",null,null,null,null,null,null,null,null,null,null,null,null,null,null,null,null,null,null,null,null,null,null,null,null,null,null,null,null,null,null,"Bonitur 2 %",{"$f":"IF(AB287>0,AA287,\"\")","v":""},"",{"$f":"IF(AF287>0,AE287,\"\")","v":""}]
[{"$f":"A282&\">F\"&A283&\"|\"&R288","v":"AA>F11|912|W06"},{"$f":"B282&\">F\"&B283&\"|\"&S288","v":"AB>F11|950|W06"},{"$f":"C282&\">F\"&C283&\"|\"&R288","v":"AC>F12|912|W06"},{"$f":"D282&\">F\"&D283&\"|\"&S288","v":"AD>F12|950|W06"},{"$f":"E282&\">F\"&E283&\"|\"&R288","v":"AE>F13|912|W06"},{"$f":"F282&\">F\"&F283&\"|\"&S288","v":"AF>F13|950|W06"},null,null,null,null,null,null,null,null,null,null,null,"912|W06","950|W06",null,null,null,null,null,null,null,null,null,null,null,null,null,null,null,null,null,null,null,null,null,null,null,null,null,null,null,"Hautverletzungen",null,null,"Bonitur 1 %",{"$f":"IF(AB288>0,AA288,\"\")","v":""},""]
[{"$f":"A282&\">F\"&A283&\"|\"&R289","v":"AA>F11|922|W06"},{"$f":"B282&\">F\"&B283&\"|\"&S289","v":"AB>F11|950|W06"},{"$f":"C282&\">F\"&C283&\"|\"&R289","v":"AC>F12|922|W06"},{"$f":"D282&\">F\"&D283&\"|\"&S289","v":"AD>F12|950|W06"},{"$f":"E282&\">F\"&E283&\"|\"&R289","v":"AE>F13|922|W06"},{"$f":"F282&\">F\"&F283&\"|\"&S289","v":"AF>F13|950|W06"},null,null,null,null,null,null,null,null,null,null,null,"922|W06","950|W06",null,null,null,null,null,null,null,null,null,null,null,null,null,null,null,null,null,null,null,null,null,null,null,null,null,null,null,null,null,null,"Bonitur 2 %",{"$f":"IF(AB289>0,AA289,\"\")","v":""},""]
[{"$f":"A282&\">F\"&A283&\"|\"&R290","v":"AA>F11|912|W07"},{"$f":"B282&\">F\"&B283&\"|\"&S290","v":"AB>F11|950|W07"},{"$f":"C282&\">F\"&C283&\"|\"&R290","v":"AC>F12|912|W07"},{"$f":"D282&\">F\"&D283&\"|\"&S290","v":"AD>F12|950|W07"},{"$f":"E282&\">F\"&E283&\"|\"&R290","v":"AE>F13|912|W07"},{"$f":"F282&\">F\"&F283&\"|\"&S290","v":"AF>F13|950|W07"},null,null,null,null,null,null,null,null,null,null,null,"912|W07","950|W07",null,null,null,null,null,null,null,null,null,null,null,null,null,null,null,null,null,null,null,null,null,null,null,null,null,null,null,"Zehenverletzungen",null,null,"Bonitur 1 %",{"$f":"IF(AB290>0,AA290,\"\")","v":""},""]
[{"$f":"A282&\">F\"&A283&\"|\"&R291","v":"AA>F11|902|W12"},{"$f":"B282&\">F\"&B283&\"|\"&S291","v":"AB>F11|950|W12"},{"$f":"C282&\">F\"&C283&\"|\"&R291","v":"AC>F12|902|W12"},{"$f":"D282&\">F\"&D283&\"|\"&S291","v":"AD>F12|950|W12"},{"$f":"E282&\">F\"&E283&\"|\"&R291","v":"AE>F13|902|W12"},{"$f":"F282&\">F\"&F283&\"|\"&S291","v":"AF>F13|950|W12"},null,null,null,null,null,null,null,null,null,null,null,"902|W12","950|W12",null,null,null,null,null,null,null,null,null,null,null,null,null,null,null,null,null,null,null,null,null,null,null,null,null,null,null,"Sollgewichtserfüllung",null,null,"%",null,"",{"$f":"IF(AF291>0,AE291,\"\")","v":""}]
[{"$f":"A282&\">F\"&A283&\"|\"&R292","v":"AA>F11|902|W13"},{"$f":"B282&\">F\"&B283&\"|\"&S292","v":"AB>F11|950|W12"},{"$f":"C282&\">F\"&C283&\"|\"&R292","v":"AC>F12|902|W13"},{"$f":"D282&\">F\"&D283&\"|\"&S292","v":"AD>F12|950|W12"},{"$f":"E282&\">F\"&E283&\"|\"&R292","v":"AE>F13|902|W13"},{"$f":"F282&\">F\"&F283&\"|\"&S292","v":"AF>F13|950|W12"},null,null,null,null,null,null,null,null,null,null,null,"902|W13","950|W12",null,null,null,null,null,null,null,null,null,null,null,null,null,null,null,null,null,null,null,null,null,null,null,null,null,null,null,"Uniformität",null,null,"%",null,"",{"$f":"IF(AF292>0,AE292,\"\")","v":""}]
[{"$f":"A282&\">F\"&A283&\"|\"&R293","v":"AA>F11|912|W13"},{"$f":"B282&\">F\"&B283&\"|\"&S293","v":"AB>F11|950|W12"},{"$f":"C282&\">F\"&C283&\"|\"&R293","v":"AC>F12|912|W13"},{"$f":"D282&\">F\"&D283&\"|\"&S293","v":"AD>F12|950|W12"},{"$f":"E282&\">F\"&E283&\"|\"&R293","v":"AE>F13|912|W13"},{"$f":"F282&\">F\"&F283&\"|\"&S293","v":"AF>F13|950|W12"},null,null,null,null,null,null,null,null,null,null,null,"912|W13","950|W12",null,null,null,null,null,null,null,null,null,null,null,null,null,null,null,null,null,null,null,null,null,null,null,null,null,null,null,"Zu leichte Tiere",null,null,"%",null,"",{"$f":"IF(AF293>0,AE293,\"\")","v":""}]
[]
[null,null,null,null,null,null,null,null,null,null,null,null,null,null,null,null,null,null,null,null,null,null,null,null,null,null,null,null,null,null,null,null,null,null,null,null,null,null,null,null,null,null,null,null,null,null,"Fortlaufende Erhebungen"]
[]
[null,null,null,null,null,null,null,null,null,null,null,null,null,null,null,null,null,null,null,{"$f":"AU297","v":"Tierverluste (mtl. Mortalitätsrate)"},null,null,null,null,null,null,null,null,null,null,null,null,null,null,null,null,null,null,null,null,null,null,null,null,null,null,"Tierverluste (mtl. Mortalitätsrate)",null,null,null,null,null,"Monat",null,null," ","Summe"]
[1,{"$f":"A298+1","v":2},{"$f":"B298+1","v":3},{"$f":"C298+1","v":4},{"$f":"D298+1","v":5},null,null,null,null,null,null,null,null,null,null,null,null,null,null,null,null,null,null,null,null,null,null,null,null,null,null,null,null,null,null,null,null,null,null,null,null,null,null,null,null,null,null,null,null,null,{"$f":"A298","v":1},{"$f":"B298","v":2},{"$f":"C298","v":3},{"$f":"D298","v":4},{"$f":"E298","v":5},null,"Durchgang"]
[{"$f":"A282&\">F\"&(400+A298) & \"|\" & S299","v":"AA>F401|911|W36"},{"$f":"B282&\">F\"&(400+B298) & \"|\" & S299","v":"AB>F402|911|W36"},{"$f":"C282&\">F\"&(400+C298) & \"|\" & S299","v":"AC>F403|911|W36"},{"$f":"D282&\">F\"&(400+D298) & \"|\" & S299","v":"AD>F404|911|W36"},{"$f":"E282&\">F\"&(400+E298) & \"|\" & S299","v":"AE>F405|911|W36"},null,null,null,null,null,"AL>SUM|F401-430|910|W36",null,null,"AM>T04",null,null,null,null,"911|W36",null,null,null,null,null,null,null,null,null,null,null,null,null,null,null,null,null,null,null,null,null,null,null,null,{"$f":"COUNT(AY299:BC306)","v":0},null,null,"Gesamt",null,null,"%",{"$f":"IF(COUNT(AA299)=1,AA299,\"\")","v":""},"","","","",null,{"$f":"IF(AND(AM299>0,AR299>0),AL299/AM299*100,\"\")","v":""}]
[{"$f":"A282&\">F\"&(400+A298) & \"|\" & S300","v":"AA>F401|911|W02"},{"$f":"B282&\">F\"&(400+B298) & \"|\" & S300","v":"AB>F402|911|W02"},{"$f":"C282&\">F\"&(400+C298) & \"|\" & S300","v":"AC>F403|911|W02"},{"$f":"D282&\">F\"&(400+D298) & \"|\" & S300","v":"AD>F404|911|W02"},{"$f":"E282&\">F\"&(400+E298) & \"|\" & S300","v":"AE>F405|911|W02"},null,null,null,null,null,"AL>SUM|F401-430|910|W02",null,null,"AM>T04",null,null,null,null,"911|W02",null,null,null,null,null,null,null,null,null,null,null,null,null,null,null,null,null,null,null,null,null,null,null,null,{"$f":"COUNT(AY299:BC306)","v":0},null,null,"Unfall",null,null,"%","","","","","",null,{"$f":"IF(AND(AM300>0,AR300>0),AL300/AM300*100,\"\")","v":""}]
[{"$f":"A282&\">F\"&(400+A298) & \"|\" & S301","v":"AA>F401|911|W03"},{"$f":"B282&\">F\"&(400+B298) & \"|\" & S301","v":"AB>F402|911|W03"},{"$f":"C282&\">F\"&(400+C298) & \"|\" & S301","v":"AC>F403|911|W03"},{"$f":"D282&\">F\"&(400+D298) & \"|\" & S301","v":"AD>F404|911|W03"},{"$f":"E282&\">F\"&(400+E298) & \"|\" & S301","v":"AE>F405|911|W03"},null,null,null,null,null,"AL>SUM|F401-430|910|W03",null,null,"AM>T04",null,null,null,null,"911|W03",null,null,null,null,null,null,null,null,null,null,null,null,null,null,null,null,null,null,null,null,null,null,null,null,{"$f":"COUNT(AY299:BC306)","v":0},null,null,"Erkrankungen",null,null,"%",{"$f":"IF(COUNT(AA301)=1,AA301,\"\")","v":""},"",{"$f":"IF(COUNT(AC301)=1,AC301,\"\")","v":""},"",{"$f":"IF(COUNT(AE301)=1,AE301,\"\")","v":""},null,""]
[{"$f":"A282&\">F\"&(400+A298) & \"|\" & S302","v":"AA>F401|911|W04"},{"$f":"B282&\">F\"&(400+B298) & \"|\" & S302","v":"AB>F402|911|W04"},{"$f":"C282&\">F\"&(400+C298) & \"|\" & S302","v":"AC>F403|911|W04"},{"$f":"D282&\">F\"&(400+D298) & \"|\" & S302","v":"AD>F404|911|W04"},{"$f":"E282&\">F\"&(400+E298) & \"|\" & S302","v":"AE>F405|911|W04"},null,null,null,null,null,"AL>SUM|F401-430|910|W04",null,null,"AM>T04",null,null,null,null,"911|W04",null,null,null,null,null,null,null,null,null,null,null,null,null,null,null,null,null,null,null,null,null,null,null,null,{"$f":"COUNT(AY299:BC306)","v":0},null,null,"Hunger/Durst",null,null,"%","","","","","",null,{"$f":"IF(AND(AM302>0,AR302>0),AL302/AM302*100,\"\")","v":""}]
[{"$f":"A282&\">F\"&(400+A298) & \"|\" & S303","v":"AA>F401|911|W05"},{"$f":"B282&\">F\"&(400+B298) & \"|\" & S303","v":"AB>F402|911|W05"},{"$f":"C282&\">F\"&(400+C298) & \"|\" & S303","v":"AC>F403|911|W05"},{"$f":"D282&\">F\"&(400+D298) & \"|\" & S303","v":"AD>F404|911|W05"},{"$f":"E282&\">F\"&(400+E298) & \"|\" & S303","v":"AE>F405|911|W05"},null,null,null,null,null,"AL>SUM|F401-430|910|W05",null,null,"AM>T04",null,null,null,null,"911|W05",null,null,null,null,null,null,null,null,null,null,null,null,null,null,null,null,null,null,null,null,null,null,null,null,{"$f":"COUNT(AY299:BC306)","v":0},null,null,"Kannibalismus",null,null,"%","","","","","",null,""]
[{"$f":"A282&\">F\"&(400+A298) & \"|\" & S304","v":"AA>F401|911|W06"},{"$f":"B282&\">F\"&(400+B298) & \"|\" & S304","v":"AB>F402|911|W06"},{"$f":"C282&\">F\"&(400+C298) & \"|\" & S304","v":"AC>F403|911|W06"},{"$f":"D282&\">F\"&(400+D298) & \"|\" & S304","v":"AD>F404|911|W06"},{"$f":"E282&\">F\"&(400+E298) & \"|\" & S304","v":"AE>F405|911|W06"},null,null,null,null,null,"AL>SUM|F401-430|910|W06",null,null,"AM>T04",null,null,null,null,"911|W06",null,null,null,null,null,null,null,null,null,null,null,null,null,null,null,null,null,null,null,null,null,null,null,null,{"$f":"COUNT(AY299:BC306)","v":0},null,null,"Lahmheit",null,null,"%","","","","","",null,""]
[{"$f":"A282&\">F\"&(400+A298) & \"|\" & S305","v":"AA>F401|911|W07"},{"$f":"B282&\">F\"&(400+B298) & \"|\" & S305","v":"AB>F402|911|W07"},{"$f":"C282&\">F\"&(400+C298) & \"|\" & S305","v":"AC>F403|911|W07"},{"$f":"D282&\">F\"&(400+D298) & \"|\" & S305","v":"AD>F404|911|W07"},{"$f":"E282&\">F\"&(400+E298) & \"|\" & S305","v":"AE>F405|911|W07"},null,null,null,null,null,"AL>SUM|F401-430|910|W07",null,null,"AM>T04",null,null,null,null,"911|W07",null,null,null,null,null,null,null,null,null,null,null,null,null,null,null,null,null,null,null,null,null,null,null,null,{"$f":"COUNT(AY299:BC306)","v":0},null,null,"Beutegreifer",null,null,"%","","","","","",null,""]
[{"$f":"A282&\">F\"&(400+A298) & \"|\" & S306","v":"AA>F401|911|W08"},{"$f":"B282&\">F\"&(400+B298) & \"|\" & S306","v":"AB>F402|911|W08"},{"$f":"C282&\">F\"&(400+C298) & \"|\" & S306","v":"AC>F403|911|W08"},{"$f":"D282&\">F\"&(400+D298) & \"|\" & S306","v":"AD>F404|911|W08"},{"$f":"E282&\">F\"&(400+E298) & \"|\" & S306","v":"AE>F405|911|W08"},null,null,null,null,null,"AL>SUM|F401-430|910|W08",null,null,"AM>T04",null,null,null,null,"911|W08",null,null,null,null,null,null,null,null,null,null,null,null,null,null,null,null,null,null,null,null,null,null,null,null,{"$f":"COUNT(AY299:BC306)","v":0},null,null,"Sonstige Ursachen",null,null,"%","","","","","",null,""]
[]
[]
[30,{"$f":"A309","v":30},{"$f":"B309","v":30},{"$f":"C309","v":30},{"$f":"D309","v":30},{"$f":"E309","v":30},31,{"$f":"G309","v":31},{"$f":"H309","v":31},{"$f":"I309","v":31},{"$f":"J309","v":31},{"$f":"K309","v":31},null,null,null,null,null,null,null,{"$f":"AU309","v":"Tiergewichte/Eier/Wasserverbrauch"},null,null,null,null,null,null,null,null,null,null,null,null,null,null,null,null,null,null,null,null,null,null,null,null,null,null,"Tiergewichte/Eier/Wasserverbrauch",null,null,null,null,null,"Monat",null,null," ","Mittelwert"]
[7,11,15,19,23,27,{"$f":"A310","v":7},{"$f":"B310","v":11},{"$f":"C310","v":15},{"$f":"D310","v":19},{"$f":"E310","v":23},{"$f":"K310+1","v":24},null,null,null,null,null,null,null,null,null,null,null,null,null,null,null,null,null,null,null,null,null,null,null,null,null,null,null,null,null,null,null,null,null,null,null,null,null,null,{"$f":"A298","v":1},{"$f":"B298","v":2},{"$f":"C298","v":3},{"$f":"D298","v":4},{"$f":"E298","v":5},null,"Durchgang"]
[{"$f":"A282 & \">F\" & A309 & \"|\" & S311 & \"|W\" & TEXT(A310,\"00\")","v":"AA>F30|910|W07"},{"$f":"B282 & \">F\" & B309 & \"|\" & S311 & \"|W\" & TEXT(B310,\"00\")","v":"AB>F30|910|W11"},{"$f":"C282 & \">F\" & C309 & \"|\" & S311 & \"|W\" & TEXT(C310,\"00\")","v":"AC>F30|910|W15"},{"$f":"D282 & \">F\" & D309 & \"|\" & S311 & \"|W\" & TEXT(D310,\"00\")","v":"AD>F30|910|W19"},{"$f":"E282 & \">F\" & E309 & \"|\" & S311 & \"|W\" & TEXT(E310,\"00\")","v":"AE>F30|910|W23"},{"$f":"F282 & \">F\" & F309 & \"|\" & S311 & \"|W\" & TEXT(F310,\"00\")","v":"AF>F30|910|W27"},{"$f":"G282 & \">F\" & G309 & \"|\" & S311 & \"|W\" & TEXT(G310,\"00\")","v":">F31|910|W07"},{"$f":"H282 & \">F\" & H309 & \"|\" & S311 & \"|W\" & TEXT(H310,\"00\")","v":">F31|910|W11"},{"$f":"I282 & \">F\" & I309 & \"|\" & S311 & \"|W\" & TEXT(I310,\"00\")","v":">F31|910|W15"},{"$f":"J282 & \">F\" & J309 & \"|\" & S311 & \"|W\" & TEXT(J310,\"00\")","v":">F31|910|W19"},{"$f":"K282 & \">F\" & K309 & \"|\" & S311 & \"|W\" & TEXT(K310,\"00\")","v":">F31|910|W23"},{"$f":"L282 & \">F\" & L309 & \"|\" & S311 & \"|W\" & TEXT(L310,\"00\")","v":">F31|910|W24"},null,null,null,null,null,null,910,null,null,null,null,null,null,null,null,null,null,null,null,null,null,null,null,null,null,null,null,null,null,null,null,null,null,null,"Sollgewichtserfüllung",null,null,"%",{"$f":"IF(AA311>0,AA311,\"\")","v":""},{"$f":"IF(AB311>0,AB311,\"\")","v":""},{"$f":"IF(AC311>0,AC311,\"\")","v":""},{"$f":"IF(AD311>0,AD311,\"\")","v":""},{"$f":"IF(AE311>0,AE311,\"\")","v":""},null,{"$f":"IF(SUM(AY311:BC311)>0,AVERAGE(AY311:BC311),\"\")","v":""}]
[{"$f":"A282 & \">F\" & A309 & \"|\" & S312 & \"|W\" & TEXT(A310,\"00\")","v":"AA>F30|909|W07"},{"$f":"B282 & \">F\" & B309 & \"|\" & S312 & \"|W\" & TEXT(B310,\"00\")","v":"AB>F30|909|W11"},{"$f":"C282 & \">F\" & C309 & \"|\" & S312 & \"|W\" & TEXT(C310,\"00\")","v":"AC>F30|909|W15"},{"$f":"D282 & \">F\" & D309 & \"|\" & S312 & \"|W\" & TEXT(D310,\"00\")","v":"AD>F30|909|W19"},{"$f":"E282 & \">F\" & E309 & \"|\" & S312 & \"|W\" & TEXT(E310,\"00\")","v":"AE>F30|909|W23"},{"$f":"F282 & \">F\" & F309 & \"|\" & S312 & \"|W\" & TEXT(F310,\"00\")","v":"AF>F30|909|W27"},{"$f":"G282 & \">F\" & G309 & \"|\" & S312 & \"|W\" & TEXT(G310,\"00\")","v":">F31|909|W07"},{"$f":"H282 & \">F\" & H309 & \"|\" & S312 & \"|W\" & TEXT(H310,\"00\")","v":">F31|909|W11"},{"$f":"I282 & \">F\" & I309 & \"|\" & S312 & \"|W\" & TEXT(I310,\"00\")","v":">F31|909|W15"},{"$f":"J282 & \">F\" & J309 & \"|\" & S312 & \"|W\" & TEXT(J310,\"00\")","v":">F31|909|W19"},{"$f":"K282 & \">F\" & K309 & \"|\" & S312 & \"|W\" & TEXT(K310,\"00\")","v":">F31|909|W23"},{"$f":"L282 & \">F\" & L309 & \"|\" & S312 & \"|W\" & TEXT(L310,\"00\")","v":">F31|909|W24"},null,null,null,null,null,null,909,null,null,null,null,null,null,null,null,null,null,null,null,null,null,null,null,null,null,null,null,null,null,null,null,null,null,null,"Uniformität",null,null,"%","","","","","",null,{"$f":"IF(SUM(AY312:BC312)>0,AVERAGE(AY312:BC312),\"\")","v":""}]
[{"$f":"A282 & \">F\" & A309 & \"|\" & S313 & \"|W\" & TEXT(A310,\"00\")","v":"AA>F30|908|W07"},{"$f":"B282 & \">F\" & B309 & \"|\" & S313 & \"|W\" & TEXT(B310,\"00\")","v":"AB>F30|908|W11"},{"$f":"C282 & \">F\" & C309 & \"|\" & S313 & \"|W\" & TEXT(C310,\"00\")","v":"AC>F30|908|W15"},{"$f":"D282 & \">F\" & D309 & \"|\" & S313 & \"|W\" & TEXT(D310,\"00\")","v":"AD>F30|908|W19"},{"$f":"E282 & \">F\" & E309 & \"|\" & S313 & \"|W\" & TEXT(E310,\"00\")","v":"AE>F30|908|W23"},{"$f":"F282 & \">F\" & F309 & \"|\" & S313 & \"|W\" & TEXT(F310,\"00\")","v":"AF>F30|908|W27"},{"$f":"G282 & \">F\" & G309 & \"|\" & S313 & \"|W\" & TEXT(G310,\"00\")","v":">F31|908|W07"},{"$f":"H282 & \">F\" & H309 & \"|\" & S313 & \"|W\" & TEXT(H310,\"00\")","v":">F31|908|W11"},{"$f":"I282 & \">F\" & I309 & \"|\" & S313 & \"|W\" & TEXT(I310,\"00\")","v":">F31|908|W15"},{"$f":"J282 & \">F\" & J309 & \"|\" & S313 & \"|W\" & TEXT(J310,\"00\")","v":">F31|908|W19"},{"$f":"K282 & \">F\" & K309 & \"|\" & S313 & \"|W\" & TEXT(K310,\"00\")","v":">F31|908|W23"},{"$f":"L282 & \">F\" & L309 & \"|\" & S313 & \"|W\" & TEXT(L310,\"00\")","v":">F31|908|W24"},null,null,null,null,null,null,908,null,null,null,null,null,null,null,null,null,null,null,null,null,null,null,null,null,null,null,null,null,null,null,null,null,null,null,"Anteil zu leichter Tiere",null,null,"%",{"$f":"IF(COUNT(AY312)=1,AA313,\"\")","v":""},{"$f":"IF(COUNT(AZ312)=1,AB313,\"\")","v":""},{"$f":"IF(COUNT(BA312)=1,AC313,\"\")","v":""},{"$f":"IF(COUNT(BB312)=1,AD313,\"\")","v":""},{"$f":"IF(COUNT(BC312)=1,AE313,\"\")","v":""},null,""]
[{"$f":"A282&\">F\"&(400+A298) & \"|\" & S314","v":"AA>F401|911|W42"},{"$f":"B282&\">F\"&(400+B298) & \"|\" & S314","v":"AB>F402|911|W42"},{"$f":"C282&\">F\"&(400+C298) & \"|\" & S314","v":"AC>F403|911|W42"},{"$f":"D282&\">F\"&(400+D298) & \"|\" & S314","v":"AD>F404|911|W42"},{"$f":"E282&\">F\"&(400+E298) & \"|\" & S314","v":"AE>F405|911|W42"},{"$f":"F282&\">F\"&(400+F298) & \"|\" & S314","v":"AF>F400|911|W42"},{"$f":"G282&\">F\"&(400+G298) & \"|\" & S314","v":">F400|911|W42"},{"$f":"H282&\">F\"&(400+H298) & \"|\" & S314","v":">F400|911|W42"},{"$f":"I282&\">F\"&(400+I298) & \"|\" & S314","v":">F400|911|W42"},{"$f":"J282&\">F\"&(400+J298) & \"|\" & S314","v":">F400|911|W42"},{"$f":"K282&\">F\"&(400+K298) & \"|\" & S314","v":">F400|911|W42"},{"$f":"L282&\">F\"&(400+L298) & \"|\" & S314","v":">F400|911|W42"},null,null,null,null,null,null,"911|W42",null,null,null,null,null,null,null,null,null,null,null,null,null,null,null,null,null,null,null,null,null,null,null,null,null,null,null,"Legeleistung",null,null,"%",{"$f":"IF(AA314>0,AA314,\"\")","v":""},{"$f":"IF(AB314>0,AB314,\"\")","v":""},{"$f":"IF(AC314>0,AC314,\"\")","v":""},{"$f":"IF(AD314>0,AD314,\"\")","v":""},{"$f":"IF(AE314>0,AE314,\"\")","v":""},null,""]
[{"$f":"A282&\">F\"&(400+A298) & \"|\" & S315","v":"AA>F401|911|W43"},{"$f":"B282&\">F\"&(400+B298) & \"|\" & S315","v":"AB>F402|911|W43"},{"$f":"C282&\">F\"&(400+C298) & \"|\" & S315","v":"AC>F403|911|W43"},{"$f":"D282&\">F\"&(400+D298) & \"|\" & S315","v":"AD>F404|911|W43"},{"$f":"E282&\">F\"&(400+E298) & \"|\" & S315","v":"AE>F405|911|W43"},{"$f":"F282&\">F\"&(400+F298) & \"|\" & S315","v":"AF>F400|911|W43"},{"$f":"G282&\">F\"&(400+G298) & \"|\" & S315","v":">F400|911|W43"},{"$f":"H282&\">F\"&(400+H298) & \"|\" & S315","v":">F400|911|W43"},{"$f":"I282&\">F\"&(400+I298) & \"|\" & S315","v":">F400|911|W43"},{"$f":"J282&\">F\"&(400+J298) & \"|\" & S315","v":">F400|911|W43"},{"$f":"K282&\">F\"&(400+K298) & \"|\" & S315","v":">F400|911|W43"},{"$f":"L282&\">F\"&(400+L298) & \"|\" & S315","v":">F400|911|W43"},null,null,null,null,null,null,"911|W43",null,null,null,null,null,null,null,null,null,null,null,null,null,null,null,null,null,null,null,null,null,null,null,null,null,null,null,"Äußere Eiqualität",null,null,"Sekundaeier %",{"$f":"IF(COUNT(AY314)=1,AA315,\"\")","v":""},{"$f":"IF(COUNT(AZ314)=1,AB315,\"\")","v":""},{"$f":"IF(COUNT(BA314)=1,AC315,\"\")","v":""},{"$f":"IF(COUNT(BB314)=1,AD315,\"\")","v":""},{"$f":"IF(COUNT(BC314)=1,AE315,\"\")","v":""},null,""]
[{"$f":"A282&\">F\"&(400+A298) & \"|\" & S316","v":"AA>F401|911|W46"},{"$f":"B282&\">F\"&(400+B298) & \"|\" & S316","v":"AB>F402|911|W46"},{"$f":"C282&\">F\"&(400+C298) & \"|\" & S316","v":"AC>F403|911|W46"},{"$f":"D282&\">F\"&(400+D298) & \"|\" & S316","v":"AD>F404|911|W46"},{"$f":"E282&\">F\"&(400+E298) & \"|\" & S316","v":"AE>F405|911|W46"},{"$f":"F282&\">F\"&(400+F298) & \"|\" & S316","v":"AF>F400|911|W46"},{"$f":"G282&\">F\"&(400+G298) & \"|\" & S316","v":">F400|911|W46"},{"$f":"H282&\">F\"&(400+H298) & \"|\" & S316","v":">F400|911|W46"},{"$f":"I282&\">F\"&(400+I298) & \"|\" & S316","v":">F400|911|W46"},{"$f":"J282&\">F\"&(400+J298) & \"|\" & S316","v":">F400|911|W46"},{"$f":"K282&\">F\"&(400+K298) & \"|\" & S316","v":">F400|911|W46"},{"$f":"L282&\">F\"&(400+L298) & \"|\" & S316","v":">F400|911|W46"},null,null,null,null,null,null,"911|W46",null,null,null,null,null,null,null,null,null,null,null,null,null,null,null,null,null,null,null,null,null,null,null,null,null,null,null,"Wasserverbrauch",null,null,"ø l/1000 Tiere",{"$f":"IF(AA316>0,AA316,\"\")","v":""},{"$f":"IF(AB316>0,AB316,\"\")","v":""},{"$f":"IF(AC316>0,AC316,\"\")","v":""},{"$f":"IF(AD316>0,AD316,\"\")","v":""},{"$f":"IF(AE316>0,AE316,\"\")","v":""},null,""]
[]
[null,null,null,null,null,null,null,null,null,null,null,null,null,null,null,null,null,null,null,{"$f":"AU318","v":"Abschlusserhebungen"},null,null,null,null,null,null,null,null,null,null,null,null,null,null,null,null,null,null,null,null,null,null,null,null,null,null,"Abschlusserhebungen"]
["AA>F20|901|W01",null,null,null,null,null,null,null,null,null,null,null,null,null,null,null,null,null,null,null,null,null,null,null,null,null,null,null,null,null,null,null,null,null,null,null,null,null,null,null,null,null,null,null,null,null,"Arzneimitteleinsatz",null,null,"Therapieindex",{"$f":"IF(AA319<>\"\",AA319,\"\")","v":""}]
["BEREICH_ENDE"]
[]
["BEREICH_START",null,null,null,null,null,null,null,null,null,null,null,null,null,null,null,null,null,null,"GF_HENNE2",null,null,null,null,null,null,null,null,null,null,null,null,null,null,null,null,null,null,null,null,null,null,null,null,null,"Legehennen",null,null,null,null,null,null,null,null,null,null,null,null,null,null,null,null,"#DATUM#"]
["AA>T02",null,null,null,null,null,null,null,null,null,null,null,null,null,null,null,null,null,null,null,null,null,null,null,null,null,null,null,null,null,null,null,null,null,null,null,null,null,null,null,null,null,null,null,null,null,{"$f":"AA323","v":0}]
[]
["AA","AB","AC","AD","AE","AF","AG","AH","AI","AJ","AK","AL","AM","AN","AO","AP",null,"Wert",null,{"$f":"AU325","v":"Stichproben"},null,null,null,null,null,null,null,null,null,null,null,null,null,null,null,null,null,null,null,null,null,null,null,null,null,null,"Stichproben",null,null,null,"Legehenne"]
[11,11,{"$f":"A326+1","v":12},{"$f":"B326+1","v":12},{"$f":"C326+1","v":13},{"$f":"D326+1","v":13},{"$f":"E326+1","v":14},{"$f":"F326+1","v":14},{"$f":"G326+1","v":15},{"$f":"H326+1","v":15},{"$f":"I326+1","v":16},{"$f":"J326+1","v":16},{"$f":"K326+1","v":17},{"$f":"L326+1","v":17},{"$f":"M326+1","v":18},{"$f":"N326+1","v":18},null,null,"N",null,null,null,null,null,null,null,null,null,null,null,null,null,null,null,null,null,null,null,null,null,null,null,null,null,null,null,null,null,null,null,"Lebenswoche"]
[null,null,null,null,null,null,null,null,null,null,null,null,null,null,null,null,null,null,null,null,null,null,null,null,null,null,null,null,null,null,null,null,null,null,null,null,null,null,null,null,null,null,null,null,null,null,null,null,null,null,"Einstallen","25.","37.","49.","61."]
[{"$f":"A325&\">F\"&A326&\"|\"&R328","v":"AA>F11|912|W03"},{"$f":"B325&\">F\"&B326&\"|\"&S328","v":"AB>F11|950|W03"},{"$f":"C325&\">F\"&C326&\"|\"&R328","v":"AC>F12|912|W03"},{"$f":"D325&\">F\"&D326&\"|\"&S328","v":"AD>F12|950|W03"},{"$f":"E325&\">F\"&E326&\"|\"&R328","v":"AE>F13|912|W03"},{"$f":"F325&\">F\"&F326&\"|\"&S328","v":"AF>F13|950|W03"},{"$f":"G325&\">F\"&G326&\"|\"&R328","v":"AG>F14|912|W03"},{"$f":"H325&\">F\"&H326&\"|\"&S328","v":"AH>F14|950|W03"},{"$f":"I325&\">F\"&I326&\"|\"&R328","v":"AI>F15|912|W03"},{"$f":"J325&\">F\"&J326&\"|\"&S328","v":"AJ>F15|950|W03"},{"$f":"K325&\">F\"&K326&\"|\"&R328","v":"AK>F16|912|W03"},{"$f":"L325&\">F\"&L326&\"|\"&S328","v":"AL>F16|950|W03"},{"$f":"M325&\">F\"&M326&\"|\"&R328","v":"AM>F17|912|W03"},{"$f":"N325&\">F\"&N326&\"|\"&S328","v":"AN>F17|950|W03"},{"$f":"O325&\">F\"&O326&\"|\"&R328","v":"AO>F18|912|W03"},{"$f":"P325&\">F\"&P326&\"|\"&S328","v":"AP>F18|950|W03"},null,"912|W03","950|W03",null,null,null,null,null,null,null,null,null,null,null,null,null,null,null,null,null,null,null,null,null,null,null,null,null,null,null,"Brüche und Deformationen des Brustbeins",null,null,"Bonitur 1 %",{"$f":"IF(AH328>0,AG328,\"\")","v":""},null,{"$f":"IF(AL328>0,AK328,\"\")","v":""},null,{"$f":"IF(AP328>0,AO328,\"\")","v":""}]
[{"$f":"A325&\">F\"&A326&\"|\"&R329","v":"AA>F11|912|W05"},{"$f":"B325&\">F\"&B326&\"|\"&S329","v":"AB>F11|950|W05"},{"$f":"C325&\">F\"&C326&\"|\"&R329","v":"AC>F12|912|W05"},{"$f":"D325&\">F\"&D326&\"|\"&S329","v":"AD>F12|950|W05"},{"$f":"E325&\">F\"&E326&\"|\"&R329","v":"AE>F13|912|W05"},{"$f":"F325&\">F\"&F326&\"|\"&S329","v":"AF>F13|950|W05"},{"$f":"G325&\">F\"&G326&\"|\"&R329","v":"AG>F14|912|W05"},{"$f":"H325&\">F\"&H326&\"|\"&S329","v":"AH>F14|950|W05"},{"$f":"I325&\">F\"&I326&\"|\"&R329","v":"AI>F15|912|W05"},{"$f":"J325&\">F\"&J326&\"|\"&S329","v":"AJ>F15|950|W05"},{"$f":"K325&\">F\"&K326&\"|\"&R329","v":"AK>F16|912|W05"},{"$f":"L325&\">F\"&L326&\"|\"&S329","v":"AL>F16|950|W05"},{"$f":"M325&\">F\"&M326&\"|\"&R329","v":"AM>F17|912|W05"},{"$f":"N325&\">F\"&N326&\"|\"&S329","v":"AN>F17|950|W05"},{"$f":"O325&\">F\"&O326&\"|\"&R329","v":"AO>F18|912|W05"},{"$f":"P325&\">F\"&P326&\"|\"&S329","v":"AP>F18|950|W05"},null,"912|W05","950|W05",null,null,null,null,null,null,null,null,null,null,null,null,null,null,null,null,null,null,null,null,null,null,null,null,null,null,null,"Vollständigkeit Gefieder (Gefiederschäden)",null,null,"Bonitur 1 %","",{"$f":"IF(AJ329>0,AI329,\"\")","v":""},"",{"$f":"IF(AN329>0,AM329,\"\")","v":""},""]
[{"$f":"A325&\">F\"&A326&\"|\"&R330","v":"AA>F11|922|W05"},{"$f":"B325&\">F\"&B326&\"|\"&S330","v":"AB>F11|950|W05"},{"$f":"C325&\">F\"&C326&\"|\"&R330","v":"AC>F12|922|W05"},{"$f":"D325&\">F\"&D326&\"|\"&S330","v":"AD>F12|950|W05"},{"$f":"E325&\">F\"&E326&\"|\"&R330","v":"AE>F13|922|W05"},{"$f":"F325&\">F\"&F326&\"|\"&S330","v":"AF>F13|950|W05"},{"$f":"G325&\">F\"&G326&\"|\"&R330","v":"AG>F14|922|W05"},{"$f":"H325&\">F\"&H326&\"|\"&S330","v":"AH>F14|950|W05"},{"$f":"I325&\">F\"&I326&\"|\"&R330","v":"AI>F15|922|W05"},{"$f":"J325&\">F\"&J326&\"|\"&S330","v":"AJ>F15|950|W05"},{"$f":"K325&\">F\"&K326&\"|\"&R330","v":"AK>F16|922|W05"},{"$f":"L325&\">F\"&L326&\"|\"&S330","v":"AL>F16|950|W05"},{"$f":"M325&\">F\"&M326&\"|\"&R330","v":"AM>F17|922|W05"},{"$f":"N325&\">F\"&N326&\"|\"&S330","v":"AN>F17|950|W05"},{"$f":"O325&\">F\"&O326&\"|\"&R330","v":"AO>F18|922|W05"},{"$f":"P325&\">F\"&P326&\"|\"&S330","v":"AP>F18|950|W05"},null,"922|W05","950|W05",null,null,null,null,null,null,null,null,null,null,null,null,null,null,null,null,null,null,null,null,null,null,null,null,null,null,null,null,null,null,"Bonitur 2 %","",{"$f":"IF(AJ330>0,AI330,\"\")","v":""},"",{"$f":"IF(AN330>0,AM330,\"\")","v":""},""]
[{"$f":"A325&\">F\"&A326&\"|\"&R331","v":"AA>F11|912|W06"},{"$f":"B325&\">F\"&B326&\"|\"&S331","v":"AB>F11|950|W06"},{"$f":"C325&\">F\"&C326&\"|\"&R331","v":"AC>F12|912|W06"},{"$f":"D325&\">F\"&D326&\"|\"&S331","v":"AD>F12|950|W06"},{"$f":"E325&\">F\"&E326&\"|\"&R331","v":"AE>F13|912|W06"},{"$f":"F325&\">F\"&F326&\"|\"&S331","v":"AF>F13|950|W06"},{"$f":"G325&\">F\"&G326&\"|\"&R331","v":"AG>F14|912|W06"},{"$f":"H325&\">F\"&H326&\"|\"&S331","v":"AH>F14|950|W06"},{"$f":"I325&\">F\"&I326&\"|\"&R331","v":"AI>F15|912|W06"},{"$f":"J325&\">F\"&J326&\"|\"&S331","v":"AJ>F15|950|W06"},{"$f":"K325&\">F\"&K326&\"|\"&R331","v":"AK>F16|912|W06"},{"$f":"L325&\">F\"&L326&\"|\"&S331","v":"AL>F16|950|W06"},{"$f":"M325&\">F\"&M326&\"|\"&R331","v":"AM>F17|912|W06"},{"$f":"N325&\">F\"&N326&\"|\"&S331","v":"AN>F17|950|W06"},{"$f":"O325&\">F\"&O326&\"|\"&R331","v":"AO>F18|912|W06"},{"$f":"P325&\">F\"&P326&\"|\"&S331","v":"AP>F18|950|W06"},null,"912|W06","950|W06",null,null,null,null,null,null,null,null,null,null,null,null,null,null,null,null,null,null,null,null,null,null,null,null,null,null,null,"Hautverletzungen",null,null,"Bonitur 1 %","",{"$f":"IF(AJ331>0,AI331,\"\")","v":""},"",{"$f":"IF(AN331>0,AM331,\"\")","v":""},""]
[{"$f":"A325&\">F\"&A326&\"|\"&R332","v":"AA>F11|922|W06"},{"$f":"B325&\">F\"&B326&\"|\"&S332","v":"AB>F11|950|W06"},{"$f":"C325&\">F\"&C326&\"|\"&R332","v":"AC>F12|922|W06"},{"$f":"D325&\">F\"&D326&\"|\"&S332","v":"AD>F12|950|W06"},{"$f":"E325&\">F\"&E326&\"|\"&R332","v":"AE>F13|922|W06"},{"$f":"F325&\">F\"&F326&\"|\"&S332","v":"AF>F13|950|W06"},{"$f":"G325&\">F\"&G326&\"|\"&R332","v":"AG>F14|922|W06"},{"$f":"H325&\">F\"&H326&\"|\"&S332","v":"AH>F14|950|W06"},{"$f":"I325&\">F\"&I326&\"|\"&R332","v":"AI>F15|922|W06"},{"$f":"J325&\">F\"&J326&\"|\"&S332","v":"AJ>F15|950|W06"},{"$f":"K325&\">F\"&K326&\"|\"&R332","v":"AK>F16|922|W06"},{"$f":"L325&\">F\"&L326&\"|\"&S332","v":"AL>F16|950|W06"},{"$f":"M325&\">F\"&M326&\"|\"&R332","v":"AM>F17|922|W06"},{"$f":"N325&\">F\"&N326&\"|\"&S332","v":"AN>F17|950|W06"},{"$f":"O325&\">F\"&O326&\"|\"&R332","v":"AO>F18|922|W06"},{"$f":"P325&\">F\"&P326&\"|\"&S332","v":"AP>F18|950|W06"},null,"922|W06","950|W06",null,null,null,null,null,null,null,null,null,null,null,null,null,null,null,null,null,null,null,null,null,null,null,null,null,null,null,null,null,null,"Bonitur 2 %","",{"$f":"IF(AJ332>0,AI332,\"\")","v":""},"",{"$f":"IF(AN332>0,AM332,\"\")","v":""},""]
[{"$f":"A325&\">F\"&A326&\"|\"&R333","v":"AA>F11|912|W07"},{"$f":"B325&\">F\"&B326&\"|\"&S333","v":"AB>F11|950|W07"},{"$f":"C325&\">F\"&C326&\"|\"&R333","v":"AC>F12|912|W07"},{"$f":"D325&\">F\"&D326&\"|\"&S333","v":"AD>F12|950|W07"},{"$f":"E325&\">F\"&E326&\"|\"&R333","v":"AE>F13|912|W07"},{"$f":"F325&\">F\"&F326&\"|\"&S333","v":"AF>F13|950|W07"},{"$f":"G325&\">F\"&G326&\"|\"&R333","v":"AG>F14|912|W07"},{"$f":"H325&\">F\"&H326&\"|\"&S333","v":"AH>F14|950|W07"},{"$f":"I325&\">F\"&I326&\"|\"&R333","v":"AI>F15|912|W07"},{"$f":"J325&\">F\"&J326&\"|\"&S333","v":"AJ>F15|950|W07"},{"$f":"K325&\">F\"&K326&\"|\"&R333","v":"AK>F16|912|W07"},{"$f":"L325&\">F\"&L326&\"|\"&S333","v":"AL>F16|950|W07"},{"$f":"M325&\">F\"&M326&\"|\"&R333","v":"AM>F17|912|W07"},{"$f":"N325&\">F\"&N326&\"|\"&S333","v":"AN>F17|950|W07"},{"$f":"O325&\">F\"&O326&\"|\"&R333","v":"AO>F18|912|W07"},{"$f":"P325&\">F\"&P326&\"|\"&S333","v":"AP>F18|950|W07"},null,"912|W07","950|W07",null,null,null,null,null,null,null,null,null,null,null,null,null,null,null,null,null,null,null,null,null,null,null,null,null,null,null,"Zehenverletzungen",null,null,"Bonitur 1 %","",{"$f":"IF(AJ333>0,AI333,\"\")","v":""},"",{"$f":"IF(AN333>0,AM333,\"\")","v":""},""]
[{"$f":"A325&\">F\"&A326&\"|\"&R334","v":"AA>F11|912|W09"},{"$f":"B325&\">F\"&B326&\"|\"&S334","v":"AB>F11|950|W09"},{"$f":"C325&\">F\"&C326&\"|\"&R334","v":"AC>F12|912|W09"},{"$f":"D325&\">F\"&D326&\"|\"&S334","v":"AD>F12|950|W09"},{"$f":"E325&\">F\"&E326&\"|\"&R334","v":"AE>F13|912|W09"},{"$f":"F325&\">F\"&F326&\"|\"&S334","v":"AF>F13|950|W09"},{"$f":"G325&\">F\"&G326&\"|\"&R334","v":"AG>F14|912|W09"},{"$f":"H325&\">F\"&H326&\"|\"&S334","v":"AH>F14|950|W09"},{"$f":"I325&\">F\"&I326&\"|\"&R334","v":"AI>F15|912|W09"},{"$f":"J325&\">F\"&J326&\"|\"&S334","v":"AJ>F15|950|W09"},{"$f":"K325&\">F\"&K326&\"|\"&R334","v":"AK>F16|912|W09"},{"$f":"L325&\">F\"&L326&\"|\"&S334","v":"AL>F16|950|W09"},{"$f":"M325&\">F\"&M326&\"|\"&R334","v":"AM>F17|912|W09"},{"$f":"N325&\">F\"&N326&\"|\"&S334","v":"AN>F17|950|W09"},{"$f":"O325&\">F\"&O326&\"|\"&R334","v":"AO>F18|912|W09"},{"$f":"P325&\">F\"&P326&\"|\"&S334","v":"AP>F18|950|W09"},null,"912|W09","950|W09",null,null,null,null,null,null,null,null,null,null,null,null,null,null,null,null,null,null,null,null,null,null,null,null,null,null,null,"Fußballenveränderungen",null,null,"Bonitur 1 %","",null,"",null,""]
[{"$f":"A325&\">F\"&A326&\"|\"&R335","v":"AA>F11|922|W09"},{"$f":"B325&\">F\"&B326&\"|\"&S335","v":"AB>F11|950|W09"},{"$f":"C325&\">F\"&C326&\"|\"&R335","v":"AC>F12|922|W09"},{"$f":"D325&\">F\"&D326&\"|\"&S335","v":"AD>F12|950|W09"},{"$f":"E325&\">F\"&E326&\"|\"&R335","v":"AE>F13|922|W09"},{"$f":"F325&\">F\"&F326&\"|\"&S335","v":"AF>F13|950|W09"},{"$f":"G325&\">F\"&G326&\"|\"&R335","v":"AG>F14|922|W09"},{"$f":"H325&\">F\"&H326&\"|\"&S335","v":"AH>F14|950|W09"},{"$f":"I325&\">F\"&I326&\"|\"&R335","v":"AI>F15|922|W09"},{"$f":"J325&\">F\"&J326&\"|\"&S335","v":"AJ>F15|950|W09"},{"$f":"K325&\">F\"&K326&\"|\"&R335","v":"AK>F16|922|W09"},{"$f":"L325&\">F\"&L326&\"|\"&S335","v":"AL>F16|950|W09"},{"$f":"M325&\">F\"&M326&\"|\"&R335","v":"AM>F17|922|W09"},{"$f":"N325&\">F\"&N326&\"|\"&S335","v":"AN>F17|950|W09"},{"$f":"O325&\">F\"&O326&\"|\"&R335","v":"AO>F18|922|W09"},{"$f":"P325&\">F\"&P326&\"|\"&S335","v":"AP>F18|950|W09"},null,"922|W09","950|W09",null,null,null,null,null,null,null,null,null,null,null,null,null,null,null,null,null,null,null,null,null,null,null,null,null,null,null,null,null,null,"Bonitur 2 %","",null,"",null,""]
[{"$f":"A325&\">F\"&A326&\"|\"&R336","v":"AA>F11|902|W12"},{"$f":"B325&\">F\"&B326&\"|\"&S336","v":"AB>F11|950|W12"},{"$f":"C325&\">F\"&C326&\"|\"&R336","v":"AC>F12|902|W12"},{"$f":"D325&\">F\"&D326&\"|\"&S336","v":"AD>F12|950|W12"},{"$f":"E325&\">F\"&E326&\"|\"&R336","v":"AE>F13|902|W12"},{"$f":"F325&\">F\"&F326&\"|\"&S336","v":"AF>F13|950|W12"},{"$f":"G325&\">F\"&G326&\"|\"&R336","v":"AG>F14|902|W12"},{"$f":"H325&\">F\"&H326&\"|\"&S336","v":"AH>F14|950|W12"},{"$f":"I325&\">F\"&I326&\"|\"&R336","v":"AI>F15|902|W12"},{"$f":"J325&\">F\"&J326&\"|\"&S336","v":"AJ>F15|950|W12"},{"$f":"K325&\">F\"&K326&\"|\"&R336","v":"AK>F16|902|W12"},{"$f":"L325&\">F\"&L326&\"|\"&S336","v":"AL>F16|950|W12"},{"$f":"M325&\">F\"&M326&\"|\"&R336","v":"AM>F17|902|W12"},{"$f":"N325&\">F\"&N326&\"|\"&S336","v":"AN>F17|950|W12"},{"$f":"O325&\">F\"&O326&\"|\"&R336","v":"AO>F18|902|W12"},{"$f":"P325&\">F\"&P326&\"|\"&S336","v":"AP>F18|950|W12"},null,"902|W12","950|W12",null,null,null,null,null,null,null,null,null,null,null,null,null,null,null,null,null,null,null,null,null,null,null,null,null,null,null,"Sollgewichtserfüllung",null,null,"%","",{"$f":"IF(AJ336>0,AI336,\"\")","v":""},"",{"$f":"IF(AN336>0,AM336,\"\")","v":""},""]
[{"$f":"A325&\">F\"&A326&\"|\"&R337","v":"AA>F11|902|W13"},{"$f":"B325&\">F\"&B326&\"|\"&S337","v":"AB>F11|950|W12"},{"$f":"C325&\">F\"&C326&\"|\"&R337","v":"AC>F12|902|W13"},{"$f":"D325&\">F\"&D326&\"|\"&S337","v":"AD>F12|950|W12"},{"$f":"E325&\">F\"&E326&\"|\"&R337","v":"AE>F13|902|W13"},{"$f":"F325&\">F\"&F326&\"|\"&S337","v":"AF>F13|950|W12"},{"$f":"G325&\">F\"&G326&\"|\"&R337","v":"AG>F14|902|W13"},{"$f":"H325&\">F\"&H326&\"|\"&S337","v":"AH>F14|950|W12"},{"$f":"I325&\">F\"&I326&\"|\"&R337","v":"AI>F15|902|W13"},{"$f":"J325&\">F\"&J326&\"|\"&S337","v":"AJ>F15|950|W12"},{"$f":"K325&\">F\"&K326&\"|\"&R337","v":"AK>F16|902|W13"},{"$f":"L325&\">F\"&L326&\"|\"&S337","v":"AL>F16|950|W12"},{"$f":"M325&\">F\"&M326&\"|\"&R337","v":"AM>F17|902|W13"},{"$f":"N325&\">F\"&N326&\"|\"&S337","v":"AN>F17|950|W12"},{"$f":"O325&\">F\"&O326&\"|\"&R337","v":"AO>F18|902|W13"},{"$f":"P325&\">F\"&P326&\"|\"&S337","v":"AP>F18|950|W12"},null,"902|W13","950|W12",null,null,null,null,null,null,null,null,null,null,null,null,null,null,null,null,null,null,null,null,null,null,null,null,null,null,null,"Uniformität",null,null,"%","",{"$f":"IF(AJ337>0,AI337,\"\")","v":""},"",{"$f":"IF(AN337>0,AM337,\"\")","v":""},""]
[{"$f":"A325&\">F\"&A326&\"|\"&R338","v":"AA>F11|912|W13"},{"$f":"B325&\">F\"&B326&\"|\"&S338","v":"AB>F11|950|W12"},{"$f":"C325&\">F\"&C326&\"|\"&R338","v":"AC>F12|912|W13"},{"$f":"D325&\">F\"&D326&\"|\"&S338","v":"AD>F12|950|W12"},{"$f":"E325&\">F\"&E326&\"|\"&R338","v":"AE>F13|912|W13"},{"$f":"F325&\">F\"&F326&\"|\"&S338","v":"AF>F13|950|W12"},{"$f":"G325&\">F\"&G326&\"|\"&R338","v":"AG>F14|912|W13"},{"$f":"H325&\">F\"&H326&\"|\"&S338","v":"AH>F14|950|W12"},{"$f":"I325&\">F\"&I326&\"|\"&R338","v":"AI>F15|912|W13"},{"$f":"J325&\">F\"&J326&\"|\"&S338","v":"AJ>F15|950|W12"},{"$f":"K325&\">F\"&K326&\"|\"&R338","v":"AK>F16|912|W13"},{"$f":"L325&\">F\"&L326&\"|\"&S338","v":"AL>F16|950|W12"},{"$f":"M325&\">F\"&M326&\"|\"&R338","v":"AM>F17|912|W13"},{"$f":"N325&\">F\"&N326&\"|\"&S338","v":"AN>F17|950|W12"},{"$f":"O325&\">F\"&O326&\"|\"&R338","v":"AO>F18|912|W13"},{"$f":"P325&\">F\"&P326&\"|\"&S338","v":"AP>F18|950|W12"},null,"912|W13","950|W12",null,null,null,null,null,null,null,null,null,null,null,null,null,null,null,null,null,null,null,null,null,null,null,null,null,null,null,"Zu leichte Tiere",null,null,"%","",{"$f":"IF(AJ338>0,AI338,\"\")","v":""},"",{"$f":"IF(AN338>0,AM338,\"\")","v":""},""]
[]
[null,null,null,null,null,null,null,null,null,null,null,null,null,null,null,null,null,null,null,null,null,null,null,null,null,null,null,null,null,null,null,null,null,null,null,null,null,null,null,null,null,null,null,null,null,null,"Fortlaufende Erhebungen"]
[]
[null,null,null,null,null,null,null,null,null,null,null,null,null,null,null,null,null,null,null,{"$f":"AU342","v":"Tierverluste (mtl. Mortalitätsrate)"},null,null,null,null,null,null,null,null,null,null,null,null,null,null,null,null,null,null,null,null,null,null,null,null,null,null,"Tierverluste (mtl. Mortalitätsrate)",null,null,null,"Monat"]
[1,{"$f":"A343+1","v":2},{"$f":"B343+1","v":3},{"$f":"C343+1","v":4},{"$f":"D343+1","v":5},{"$f":"E343+1","v":6},{"$f":"F343+1","v":7},{"$f":"G343+1","v":8},{"$f":"H343+1","v":9},{"$f":"I343+1","v":10},{"$f":"J343+1","v":11},{"$f":"K343+1","v":12},null,null,null,null,null,null,null,null,null,null,null,null,null,null,null,null,null,null,null,null,null,null,null,null,null,null,null,null,null,null,null,null,null,null,null,null,null,null,{"$f":"A343","v":1},{"$f":"B343","v":2},{"$f":"C343","v":3},{"$f":"D343","v":4},{"$f":"E343","v":5},{"$f":"F343","v":6},{"$f":"G343","v":7},{"$f":"H343","v":8},{"$f":"I343","v":9},{"$f":"J343","v":10},{"$f":"K343","v":11},{"$f":"L343","v":12}]
[{"$f":"A325&\">F\"&(400+A343) & \"|\" & S344","v":"AA>F401|911|W36"},{"$f":"B325&\">F\"&(400+B343) & \"|\" & S344","v":"AB>F402|911|W36"},{"$f":"C325&\">F\"&(400+C343) & \"|\" & S344","v":"AC>F403|911|W36"},{"$f":"D325&\">F\"&(400+D343) & \"|\" & S344","v":"AD>F404|911|W36"},{"$f":"E325&\">F\"&(400+E343) & \"|\" & S344","v":"AE>F405|911|W36"},{"$f":"F325&\">F\"&(400+F343) & \"|\" & S344","v":"AF>F406|911|W36"},{"$f":"G325&\">F\"&(400+G343) & \"|\" & S344","v":"AG>F407|911|W36"},{"$f":"H325&\">F\"&(400+H343) & \"|\" & S344","v":"AH>F408|911|W36"},{"$f":"I325&\">F\"&(400+I343) & \"|\" & S344","v":"AI>F409|911|W36"},{"$f":"J325&\">F\"&(400+J343) & \"|\" & S344","v":"AJ>F410|911|W36"},{"$f":"K325&\">F\"&(400+K343) & \"|\" & S344","v":"AK>F411|911|W36"},{"$f":"L325&\">F\"&(400+L343) & \"|\" & S344","v":"AL>F412|911|W36"},null,null,null,null,null,null,"911|W36",null,null,null,null,null,null,null,null,null,null,null,null,null,null,null,null,null,null,null,null,null,null,null,null,null,null,null,"Gesamt",null,null,"%",{"$f":"IF(COUNT(AA344)=1,AA344,\"\")","v":""},{"$f":"IF(COUNT(AB344)=1,AB344,\"\")","v":""},{"$f":"IF(COUNT(AC344)=1,AC344,\"\")","v":""},{"$f":"IF(COUNT(AD344)=1,AD344,\"\")","v":""},{"$f":"IF(COUNT(AE344)=1,AE344,\"\")","v":""},{"$f":"IF(COUNT(AF344)=1,AF344,\"\")","v":""},{"$f":"IF(COUNT(AG344)=1,AG344,\"\")","v":""},{"$f":"IF(COUNT(AH344)=1,AH344,\"\")","v":""},{"$f":"IF(COUNT(AI344)=1,AI344,\"\")","v":""},{"$f":"IF(COUNT(AJ344)=1,AJ344,\"\")","v":""},{"$f":"IF(COUNT(AK344)=1,AK344,\"\")","v":""},{"$f":"IF(COUNT(AL344)=1,AL344,\"\")","v":""}]
[{"$f":"A325&\">F\"&(400+A343) & \"|\" & S345","v":"AA>F401|911|W02"},{"$f":"B325&\">F\"&(400+B343) & \"|\" & S345","v":"AB>F402|911|W02"},{"$f":"C325&\">F\"&(400+C343) & \"|\" & S345","v":"AC>F403|911|W02"},{"$f":"D325&\">F\"&(400+D343) & \"|\" & S345","v":"AD>F404|911|W02"},{"$f":"E325&\">F\"&(400+E343) & \"|\" & S345","v":"AE>F405|911|W02"},{"$f":"F325&\">F\"&(400+F343) & \"|\" & S345","v":"AF>F406|911|W02"},{"$f":"G325&\">F\"&(400+G343) & \"|\" & S345","v":"AG>F407|911|W02"},{"$f":"H325&\">F\"&(400+H343) & \"|\" & S345","v":"AH>F408|911|W02"},{"$f":"I325&\">F\"&(400+I343) & \"|\" & S345","v":"AI>F409|911|W02"},{"$f":"J325&\">F\"&(400+J343) & \"|\" & S345","v":"AJ>F410|911|W02"},{"$f":"K325&\">F\"&(400+K343) & \"|\" & S345","v":"AK>F411|911|W02"},{"$f":"L325&\">F\"&(400+L343) & \"|\" & S345","v":"AL>F412|911|W02"},null,null,null,null,null,null,"911|W02",null,null,null,null,null,null,null,null,null,null,null,null,null,null,null,null,null,null,null,null,null,null,null,null,null,null,null,"Unfall",null,null,"%",{"$f":"IF(COUNT(AA345)=1,AA345,\"\")","v":""},"","","","","","","","","","",""]
[{"$f":"A325&\">F\"&(400+A343) & \"|\" & S346","v":"AA>F401|911|W03"},{"$f":"B325&\">F\"&(400+B343) & \"|\" & S346","v":"AB>F402|911|W03"},{"$f":"C325&\">F\"&(400+C343) & \"|\" & S346","v":"AC>F403|911|W03"},{"$f":"D325&\">F\"&(400+D343) & \"|\" & S346","v":"AD>F404|911|W03"},{"$f":"E325&\">F\"&(400+E343) & \"|\" & S346","v":"AE>F405|911|W03"},{"$f":"F325&\">F\"&(400+F343) & \"|\" & S346","v":"AF>F406|911|W03"},{"$f":"G325&\">F\"&(400+G343) & \"|\" & S346","v":"AG>F407|911|W03"},{"$f":"H325&\">F\"&(400+H343) & \"|\" & S346","v":"AH>F408|911|W03"},{"$f":"I325&\">F\"&(400+I343) & \"|\" & S346","v":"AI>F409|911|W03"},{"$f":"J325&\">F\"&(400+J343) & \"|\" & S346","v":"AJ>F410|911|W03"},{"$f":"K325&\">F\"&(400+K343) & \"|\" & S346","v":"AK>F411|911|W03"},{"$f":"L325&\">F\"&(400+L343) & \"|\" & S346","v":"AL>F412|911|W03"},null,null,null,null,null,null,"911|W03",null,null,null,null,null,null,null,null,null,null,null,null,null,null,null,null,null,null,null,null,null,null,null,null,null,null,null,"Erkrankungen",null,null,"%","","","","","","","","","","","",""]
[{"$f":"A325&\">F\"&(400+A343) & \"|\" & S347","v":"AA>F401|911|W04"},{"$f":"B325&\">F\"&(400+B343) & \"|\" & S347","v":"AB>F402|911|W04"},{"$f":"C325&\">F\"&(400+C343) & \"|\" & S347","v":"AC>F403|911|W04"},{"$f":"D325&\">F\"&(400+D343) & \"|\" & S347","v":"AD>F404|911|W04"},{"$f":"E325&\">F\"&(400+E343) & \"|\" & S347","v":"AE>F405|911|W04"},{"$f":"F325&\">F\"&(400+F343) & \"|\" & S347","v":"AF>F406|911|W04"},{"$f":"G325&\">F\"&(400+G343) & \"|\" & S347","v":"AG>F407|911|W04"},{"$f":"H325&\">F\"&(400+H343) & \"|\" & S347","v":"AH>F408|911|W04"},{"$f":"I325&\">F\"&(400+I343) & \"|\" & S347","v":"AI>F409|911|W04"},{"$f":"J325&\">F\"&(400+J343) & \"|\" & S347","v":"AJ>F410|911|W04"},{"$f":"K325&\">F\"&(400+K343) & \"|\" & S347","v":"AK>F411|911|W04"},{"$f":"L325&\">F\"&(400+L343) & \"|\" & S347","v":"AL>F412|911|W04"},null,null,null,null,null,null,"911|W04",null,null,null,null,null,null,null,null,null,null,null,null,null,null,null,null,null,null,null,null,null,null,null,null,null,null,null,"Hunger/Durst",null,null,"%","","","","","","","","","","","",""]
[{"$f":"A325&\">F\"&(400+A343) & \"|\" & S348","v":"AA>F401|911|W05"},{"$f":"B325&\">F\"&(400+B343) & \"|\" & S348","v":"AB>F402|911|W05"},{"$f":"C325&\">F\"&(400+C343) & \"|\" & S348","v":"AC>F403|911|W05"},{"$f":"D325&\">F\"&(400+D343) & \"|\" & S348","v":"AD>F404|911|W05"},{"$f":"E325&\">F\"&(400+E343) & \"|\" & S348","v":"AE>F405|911|W05"},{"$f":"F325&\">F\"&(400+F343) & \"|\" & S348","v":"AF>F406|911|W05"},{"$f":"G325&\">F\"&(400+G343) & \"|\" & S348","v":"AG>F407|911|W05"},{"$f":"H325&\">F\"&(400+H343) & \"|\" & S348","v":"AH>F408|911|W05"},{"$f":"I325&\">F\"&(400+I343) & \"|\" & S348","v":"AI>F409|911|W05"},{"$f":"J325&\">F\"&(400+J343) & \"|\" & S348","v":"AJ>F410|911|W05"},{"$f":"K325&\">F\"&(400+K343) & \"|\" & S348","v":"AK>F411|911|W05"},{"$f":"L325&\">F\"&(400+L343) & \"|\" & S348","v":"AL>F412|911|W05"},null,null,null,null,null,null,"911|W05",null,null,null,null,null,null,null,null,null,null,null,null,null,null,null,null,null,null,null,null,null,null,null,null,null,null,null,"Kannibalismus",null,null,"%","","","","","","","","","","","",""]
[{"$f":"A325&\">F\"&(400+A343) & \"|\" & S349","v":"AA>F401|911|W06"},{"$f":"B325&\">F\"&(400+B343) & \"|\" & S349","v":"AB>F402|911|W06"},{"$f":"C325&\">F\"&(400+C343) & \"|\" & S349","v":"AC>F403|911|W06"},{"$f":"D325&\">F\"&(400+D343) & \"|\" & S349","v":"AD>F404|911|W06"},{"$f":"E325&\">F\"&(400+E343) & \"|\" & S349","v":"AE>F405|911|W06"},{"$f":"F325&\">F\"&(400+F343) & \"|\" & S349","v":"AF>F406|911|W06"},{"$f":"G325&\">F\"&(400+G343) & \"|\" & S349","v":"AG>F407|911|W06"},{"$f":"H325&\">F\"&(400+H343) & \"|\" & S349","v":"AH>F408|911|W06"},{"$f":"I325&\">F\"&(400+I343) & \"|\" & S349","v":"AI>F409|911|W06"},{"$f":"J325&\">F\"&(400+J343) & \"|\" & S349","v":"AJ>F410|911|W06"},{"$f":"K325&\">F\"&(400+K343) & \"|\" & S349","v":"AK>F411|911|W06"},{"$f":"L325&\">F\"&(400+L343) & \"|\" & S349","v":"AL>F412|911|W06"},null,null,null,null,null,null,"911|W06",null,null,null,null,null,null,null,null,null,null,null,null,null,null,null,null,null,null,null,null,null,null,null,null,null,null,null,"Lahmheit",null,null,"%","","","","","","","","","","","",""]
[{"$f":"A325&\">F\"&(400+A343) & \"|\" & S350","v":"AA>F401|911|W07"},{"$f":"B325&\">F\"&(400+B343) & \"|\" & S350","v":"AB>F402|911|W07"},{"$f":"C325&\">F\"&(400+C343) & \"|\" & S350","v":"AC>F403|911|W07"},{"$f":"D325&\">F\"&(400+D343) & \"|\" & S350","v":"AD>F404|911|W07"},{"$f":"E325&\">F\"&(400+E343) & \"|\" & S350","v":"AE>F405|911|W07"},{"$f":"F325&\">F\"&(400+F343) & \"|\" & S350","v":"AF>F406|911|W07"},{"$f":"G325&\">F\"&(400+G343) & \"|\" & S350","v":"AG>F407|911|W07"},{"$f":"H325&\">F\"&(400+H343) & \"|\" & S350","v":"AH>F408|911|W07"},{"$f":"I325&\">F\"&(400+I343) & \"|\" & S350","v":"AI>F409|911|W07"},{"$f":"J325&\">F\"&(400+J343) & \"|\" & S350","v":"AJ>F410|911|W07"},{"$f":"K325&\">F\"&(400+K343) & \"|\" & S350","v":"AK>F411|911|W07"},{"$f":"L325&\">F\"&(400+L343) & \"|\" & S350","v":"AL>F412|911|W07"},null,null,null,null,null,null,"911|W07",null,null,null,null,null,null,null,null,null,null,null,null,null,null,null,null,null,null,null,null,null,null,null,null,null,null,null,"Beutegreifer",null,null,"%","","","","","","","","","","","",""]
[{"$f":"A325&\">F\"&(400+A343) & \"|\" & S351","v":"AA>F401|911|W08"},{"$f":"B325&\">F\"&(400+B343) & \"|\" & S351","v":"AB>F402|911|W08"},{"$f":"C325&\">F\"&(400+C343) & \"|\" & S351","v":"AC>F403|911|W08"},{"$f":"D325&\">F\"&(400+D343) & \"|\" & S351","v":"AD>F404|911|W08"},{"$f":"E325&\">F\"&(400+E343) & \"|\" & S351","v":"AE>F405|911|W08"},{"$f":"F325&\">F\"&(400+F343) & \"|\" & S351","v":"AF>F406|911|W08"},{"$f":"G325&\">F\"&(400+G343) & \"|\" & S351","v":"AG>F407|911|W08"},{"$f":"H325&\">F\"&(400+H343) & \"|\" & S351","v":"AH>F408|911|W08"},{"$f":"I325&\">F\"&(400+I343) & \"|\" & S351","v":"AI>F409|911|W08"},{"$f":"J325&\">F\"&(400+J343) & \"|\" & S351","v":"AJ>F410|911|W08"},{"$f":"K325&\">F\"&(400+K343) & \"|\" & S351","v":"AK>F411|911|W08"},{"$f":"L325&\">F\"&(400+L343) & \"|\" & S351","v":"AL>F412|911|W08"},null,null,null,null,null,null,"911|W08",null,null,null,null,null,null,null,null,null,null,null,null,null,null,null,null,null,null,null,null,null,null,null,null,null,null,null,"Sonstige Ursachen",null,null,"%","","","","","","","","","","","",""]
[]
[null,null,null,null,null,null,null,null,null,null,null,null,null,null,null,null,null,null,null,null,null,null,null,null,null,null,null,null,null,null,null,null,null,null,null,null,null,null,null,null,null,null,null,null,null,null,null,null,null,null,"Monat",null,null,null,null,null,null,null,null,null,null,"Summe"]
[{"$f":"L343+1","v":13},{"$f":"A354+1","v":14},{"$f":"B354+1","v":15},{"$f":"C354+1","v":16},{"$f":"D354+1","v":17},{"$f":"E354+1","v":18},{"$f":"F354+1","v":19},{"$f":"G354+1","v":20},{"$f":"H354+1","v":21},{"$f":"I354+1","v":22},{"$f":"J354+1","v":23},null,null,null,null,null,null,null,null,null,null,null,null,null,null,null,null,null,null,null,null,null,null,null,null,null,null,null,null,null,null,null,null,null,null,null,null,null,null,null,{"$f":"A354","v":13},{"$f":"B354","v":14},{"$f":"C354","v":15},{"$f":"D354","v":16},{"$f":"E354","v":17},{"$f":"F354","v":18},{"$f":"G354","v":19},{"$f":"H354","v":20},{"$f":"I354","v":21},{"$f":"J354","v":22},null,"Durchgang"]
[{"$f":"A325&\">F\"&(400+A354) & \"|\" & S355","v":"AA>F413|911|W36"},{"$f":"B325&\">F\"&(400+B354) & \"|\" & S355","v":"AB>F414|911|W36"},{"$f":"C325&\">F\"&(400+C354) & \"|\" & S355","v":"AC>F415|911|W36"},{"$f":"D325&\">F\"&(400+D354) & \"|\" & S355","v":"AD>F416|911|W36"},{"$f":"E325&\">F\"&(400+E354) & \"|\" & S355","v":"AE>F417|911|W36"},{"$f":"F325&\">F\"&(400+F354) & \"|\" & S355","v":"AF>F418|911|W36"},{"$f":"G325&\">F\"&(400+G354) & \"|\" & S355","v":"AG>F419|911|W36"},{"$f":"H325&\">F\"&(400+H354) & \"|\" & S355","v":"AH>F420|911|W36"},{"$f":"I325&\">F\"&(400+I354) & \"|\" & S355","v":"AI>F421|911|W36"},{"$f":"J325&\">F\"&(400+J354) & \"|\" & S355","v":"AJ>F422|911|W36"},{"$f":"K325&\">F\"&(400+K354) & \"|\" & S355","v":"AK>F423|911|W36"},null,"AL>SUM|F401-430|910|W36",null,null,"AM>T04",null,null,"911|W36",null,null,null,null,null,null,null,null,null,null,null,null,null,null,null,null,null,null,null,null,null,null,null,null,{"$f":"COUNT(AY344:BJ351)+COUNT(AY355:BH362)","v":0},null,null,"Gesamt",null,null,"%",{"$f":"IF(COUNT(AA355)=1,AA355,\"\")","v":""},{"$f":"IF(COUNT(AB355)=1,AB355,\"\")","v":""},{"$f":"IF(COUNT(AC355)=1,AC355,\"\")","v":""},{"$f":"IF(COUNT(AD355)=1,AD355,\"\")","v":""},{"$f":"IF(COUNT(AE355)=1,AE355,\"\")","v":""},{"$f":"IF(COUNT(AF355)=1,AF355,\"\")","v":""},{"$f":"IF(COUNT(AG355)=1,AG355,\"\")","v":""},{"$f":"IF(COUNT(AH355)=1,AH355,\"\")","v":""},{"$f":"IF(COUNT(AI355)=1,AI355,\"\")","v":""},{"$f":"IF(COUNT(AJ355)=1,AJ355,\"\")","v":""},null,{"$f":"IF(AND(AM355>0,AR355>0),AL355/AM355*100,\"\")","v":""}]
[{"$f":"A325&\">F\"&(400+A354) & \"|\" & S356","v":"AA>F413|911|W02"},{"$f":"B325&\">F\"&(400+B354) & \"|\" & S356","v":"AB>F414|911|W02"},{"$f":"C325&\">F\"&(400+C354) & \"|\" & S356","v":"AC>F415|911|W02"},{"$f":"D325&\">F\"&(400+D354) & \"|\" & S356","v":"AD>F416|911|W02"},{"$f":"E325&\">F\"&(400+E354) & \"|\" & S356","v":"AE>F417|911|W02"},{"$f":"F325&\">F\"&(400+F354) & \"|\" & S356","v":"AF>F418|911|W02"},{"$f":"G325&\">F\"&(400+G354) & \"|\" & S356","v":"AG>F419|911|W02"},{"$f":"H325&\">F\"&(400+H354) & \"|\" & S356","v":"AH>F420|911|W02"},{"$f":"I325&\">F\"&(400+I354) & \"|\" & S356","v":"AI>F421|911|W02"},{"$f":"J325&\">F\"&(400+J354) & \"|\" & S356","v":"AJ>F422|911|W02"},{"$f":"K325&\">F\"&(400+K354) & \"|\" & S356","v":"AK>F423|911|W02"},null,"AL>SUM|F401-430|910|W02",null,null,"AM>T04",null,null,"911|W02",null,null,null,null,null,null,null,null,null,null,null,null,null,null,null,null,null,null,null,null,null,null,null,null,{"$f":"COUNT(AY344:BJ351)+COUNT(AY355:BH362)","v":0},null,null,"Verletzungen",null,null,"%",{"$f":"IF(COUNT(AA356)=1,AA356,\"\")","v":""},"","","","","","","","","",null,""]
[{"$f":"A325&\">F\"&(400+A354) & \"|\" & S357","v":"AA>F413|911|W03"},{"$f":"B325&\">F\"&(400+B354) & \"|\" & S357","v":"AB>F414|911|W03"},{"$f":"C325&\">F\"&(400+C354) & \"|\" & S357","v":"AC>F415|911|W03"},{"$f":"D325&\">F\"&(400+D354) & \"|\" & S357","v":"AD>F416|911|W03"},{"$f":"E325&\">F\"&(400+E354) & \"|\" & S357","v":"AE>F417|911|W03"},{"$f":"F325&\">F\"&(400+F354) & \"|\" & S357","v":"AF>F418|911|W03"},{"$f":"G325&\">F\"&(400+G354) & \"|\" & S357","v":"AG>F419|911|W03"},{"$f":"H325&\">F\"&(400+H354) & \"|\" & S357","v":"AH>F420|911|W03"},{"$f":"I325&\">F\"&(400+I354) & \"|\" & S357","v":"AI>F421|911|W03"},{"$f":"J325&\">F\"&(400+J354) & \"|\" & S357","v":"AJ>F422|911|W03"},{"$f":"K325&\">F\"&(400+K354) & \"|\" & S357","v":"AK>F423|911|W03"},null,"AL>SUM|F401-430|910|W03",null,null,"AM>T04",null,null,"911|W03",null,null,null,null,null,null,null,null,null,null,null,null,null,null,null,null,null,null,null,null,null,null,null,null,{"$f":"COUNT(AY344:BJ351)+COUNT(AY355:BH362)","v":0},null,null,"Erkrankungen",null,null,"%","","","","",{"$f":"IF(COUNT(AE357)=1,AE357,\"\")","v":""},"","","","","",null,""]
[{"$f":"A325&\">F\"&(400+A354) & \"|\" & S358","v":"AA>F413|911|W04"},{"$f":"B325&\">F\"&(400+B354) & \"|\" & S358","v":"AB>F414|911|W04"},{"$f":"C325&\">F\"&(400+C354) & \"|\" & S358","v":"AC>F415|911|W04"},{"$f":"D325&\">F\"&(400+D354) & \"|\" & S358","v":"AD>F416|911|W04"},{"$f":"E325&\">F\"&(400+E354) & \"|\" & S358","v":"AE>F417|911|W04"},{"$f":"F325&\">F\"&(400+F354) & \"|\" & S358","v":"AF>F418|911|W04"},{"$f":"G325&\">F\"&(400+G354) & \"|\" & S358","v":"AG>F419|911|W04"},{"$f":"H325&\">F\"&(400+H354) & \"|\" & S358","v":"AH>F420|911|W04"},{"$f":"I325&\">F\"&(400+I354) & \"|\" & S358","v":"AI>F421|911|W04"},{"$f":"J325&\">F\"&(400+J354) & \"|\" & S358","v":"AJ>F422|911|W04"},{"$f":"K325&\">F\"&(400+K354) & \"|\" & S358","v":"AK>F423|911|W04"},null,"AL>SUM|F401-430|910|W04",null,null,"AM>T04",null,null,"911|W04",null,null,null,null,null,null,null,null,null,null,null,null,null,null,null,null,null,null,null,null,null,null,null,null,{"$f":"COUNT(AY344:BJ351)+COUNT(AY355:BH362)","v":0},null,null,"Hunger/Durst",null,null,"%","","","","",{"$f":"IF(COUNT(AE358)=1,AE358,\"\")","v":""},"","","","","",null,""]
[{"$f":"A325&\">F\"&(400+A354) & \"|\" & S359","v":"AA>F413|911|W05"},{"$f":"B325&\">F\"&(400+B354) & \"|\" & S359","v":"AB>F414|911|W05"},{"$f":"C325&\">F\"&(400+C354) & \"|\" & S359","v":"AC>F415|911|W05"},{"$f":"D325&\">F\"&(400+D354) & \"|\" & S359","v":"AD>F416|911|W05"},{"$f":"E325&\">F\"&(400+E354) & \"|\" & S359","v":"AE>F417|911|W05"},{"$f":"F325&\">F\"&(400+F354) & \"|\" & S359","v":"AF>F418|911|W05"},{"$f":"G325&\">F\"&(400+G354) & \"|\" & S359","v":"AG>F419|911|W05"},{"$f":"H325&\">F\"&(400+H354) & \"|\" & S359","v":"AH>F420|911|W05"},{"$f":"I325&\">F\"&(400+I354) & \"|\" & S359","v":"AI>F421|911|W05"},{"$f":"J325&\">F\"&(400+J354) & \"|\" & S359","v":"AJ>F422|911|W05"},{"$f":"K325&\">F\"&(400+K354) & \"|\" & S359","v":"AK>F423|911|W05"},null,"AL>SUM|F401-430|910|W05",null,null,"AM>T04",null,null,"911|W05",null,null,null,null,null,null,null,null,null,null,null,null,null,null,null,null,null,null,null,null,null,null,null,null,{"$f":"COUNT(AY344:BJ351)+COUNT(AY355:BH362)","v":0},null,null,"Kannibalismus",null,null,"%","","","","","","","","","","",null,""]
[{"$f":"A325&\">F\"&(400+A354) & \"|\" & S360","v":"AA>F413|911|W06"},{"$f":"B325&\">F\"&(400+B354) & \"|\" & S360","v":"AB>F414|911|W06"},{"$f":"C325&\">F\"&(400+C354) & \"|\" & S360","v":"AC>F415|911|W06"},{"$f":"D325&\">F\"&(400+D354) & \"|\" & S360","v":"AD>F416|911|W06"},{"$f":"E325&\">F\"&(400+E354) & \"|\" & S360","v":"AE>F417|911|W06"},{"$f":"F325&\">F\"&(400+F354) & \"|\" & S360","v":"AF>F418|911|W06"},{"$f":"G325&\">F\"&(400+G354) & \"|\" & S360","v":"AG>F419|911|W06"},{"$f":"H325&\">F\"&(400+H354) & \"|\" & S360","v":"AH>F420|911|W06"},{"$f":"I325&\">F\"&(400+I354) & \"|\" & S360","v":"AI>F421|911|W06"},{"$f":"J325&\">F\"&(400+J354) & \"|\" & S360","v":"AJ>F422|911|W06"},{"$f":"K325&\">F\"&(400+K354) & \"|\" & S360","v":"AK>F423|911|W06"},null,"AL>SUM|F401-430|910|W06",null,null,"AM>T04",null,null,"911|W06",null,null,null,null,null,null,null,null,null,null,null,null,null,null,null,null,null,null,null,null,null,null,null,null,{"$f":"COUNT(AY344:BJ351)+COUNT(AY355:BH362)","v":0},null,null,"Lahmheit",null,null,"%","","","","","","","","","","",null,""]
[{"$f":"A325&\">F\"&(400+A354) & \"|\" & S361","v":"AA>F413|911|W07"},{"$f":"B325&\">F\"&(400+B354) & \"|\" & S361","v":"AB>F414|911|W07"},{"$f":"C325&\">F\"&(400+C354) & \"|\" & S361","v":"AC>F415|911|W07"},{"$f":"D325&\">F\"&(400+D354) & \"|\" & S361","v":"AD>F416|911|W07"},{"$f":"E325&\">F\"&(400+E354) & \"|\" & S361","v":"AE>F417|911|W07"},{"$f":"F325&\">F\"&(400+F354) & \"|\" & S361","v":"AF>F418|911|W07"},{"$f":"G325&\">F\"&(400+G354) & \"|\" & S361","v":"AG>F419|911|W07"},{"$f":"H325&\">F\"&(400+H354) & \"|\" & S361","v":"AH>F420|911|W07"},{"$f":"I325&\">F\"&(400+I354) & \"|\" & S361","v":"AI>F421|911|W07"},{"$f":"J325&\">F\"&(400+J354) & \"|\" & S361","v":"AJ>F422|911|W07"},{"$f":"K325&\">F\"&(400+K354) & \"|\" & S361","v":"AK>F423|911|W07"},null,"AL>SUM|F401-430|910|W07",null,null,"AM>T04",null,null,"911|W07",null,null,null,null,null,null,null,null,null,null,null,null,null,null,null,null,null,null,null,null,null,null,null,null,{"$f":"COUNT(AY344:BJ351)+COUNT(AY355:BH362)","v":0},null,null,"Beutegreifer",null,null,"%","","","","","","","","","","",null,""]
[{"$f":"A325&\">F\"&(400+A354) & \"|\" & S362","v":"AA>F413|911|W08"},{"$f":"B325&\">F\"&(400+B354) & \"|\" & S362","v":"AB>F414|911|W08"},{"$f":"C325&\">F\"&(400+C354) & \"|\" & S362","v":"AC>F415|911|W08"},{"$f":"D325&\">F\"&(400+D354) & \"|\" & S362","v":"AD>F416|911|W08"},{"$f":"E325&\">F\"&(400+E354) & \"|\" & S362","v":"AE>F417|911|W08"},{"$f":"F325&\">F\"&(400+F354) & \"|\" & S362","v":"AF>F418|911|W08"},{"$f":"G325&\">F\"&(400+G354) & \"|\" & S362","v":"AG>F419|911|W08"},{"$f":"H325&\">F\"&(400+H354) & \"|\" & S362","v":"AH>F420|911|W08"},{"$f":"I325&\">F\"&(400+I354) & \"|\" & S362","v":"AI>F421|911|W08"},{"$f":"J325&\">F\"&(400+J354) & \"|\" & S362","v":"AJ>F422|911|W08"},{"$f":"K325&\">F\"&(400+K354) & \"|\" & S362","v":"AK>F423|911|W08"},null,"AL>SUM|F401-430|910|W08",null,null,"AM>T04",null,null,"911|W08",null,null,null,null,null,null,null,null,null,null,null,null,null,null,null,null,null,null,null,null,null,null,null,null,{"$f":"COUNT(AY344:BJ351)+COUNT(AY355:BH362)","v":0},null,null,"Sonstige Ursachen",null,null,"%","","","","","","","","","","",null,""]
[]
[30,{"$f":"A364","v":30},{"$f":"B364","v":30},{"$f":"C364","v":30},{"$f":"D364","v":30},{"$f":"E364","v":30},31,{"$f":"G364","v":31},{"$f":"H364","v":31},{"$f":"I364","v":31},{"$f":"J364","v":31},{"$f":"K364","v":31},null,null,null,null,null,null,null,{"$f":"AU364","v":"Tiergewichte/Eier/Wasserverbrauch"},null,null,null,null,null,null,null,null,null,null,null,null,null,null,null,null,null,null,null,null,null,null,null,null,null,null,"Tiergewichte/Eier/Wasserverbrauch",null,null,null,null,null,null,null,null,"Monat"]
[7,11,15,19,23,27,{"$f":"A365","v":7},{"$f":"B365","v":11},{"$f":"C365","v":15},{"$f":"D365","v":19},{"$f":"E365","v":23},{"$f":"K365+1","v":24},null,null,null,null,null,null,null,null,null,null,null,null,null,null,null,null,null,null,null,null,null,null,null,null,null,null,null,null,null,null,null,null,null,null,null,null,null,null,{"$f":"A343","v":1},{"$f":"B343","v":2},{"$f":"C343","v":3},{"$f":"D343","v":4},{"$f":"E343","v":5},{"$f":"F343","v":6},{"$f":"G343","v":7},{"$f":"H343","v":8},{"$f":"I343","v":9},{"$f":"J343","v":10},{"$f":"K343","v":11},{"$f":"L343","v":12}]
[{"$f":"A325 & \">F\" & A364 & \"|\" & S366 & \"|W\" & TEXT(A365,\"00\")","v":"AA>F30|910|W07"},{"$f":"B325 & \">F\" & B364 & \"|\" & S366 & \"|W\" & TEXT(B365,\"00\")","v":"AB>F30|910|W11"},{"$f":"C325 & \">F\" & C364 & \"|\" & S366 & \"|W\" & TEXT(C365,\"00\")","v":"AC>F30|910|W15"},{"$f":"D325 & \">F\" & D364 & \"|\" & S366 & \"|W\" & TEXT(D365,\"00\")","v":"AD>F30|910|W19"},{"$f":"E325 & \">F\" & E364 & \"|\" & S366 & \"|W\" & TEXT(E365,\"00\")","v":"AE>F30|910|W23"},{"$f":"F325 & \">F\" & F364 & \"|\" & S366 & \"|W\" & TEXT(F365,\"00\")","v":"AF>F30|910|W27"},{"$f":"G325 & \">F\" & G364 & \"|\" & S366 & \"|W\" & TEXT(G365,\"00\")","v":"AG>F31|910|W07"},{"$f":"H325 & \">F\" & H364 & \"|\" & S366 & \"|W\" & TEXT(H365,\"00\")","v":"AH>F31|910|W11"},{"$f":"I325 & \">F\" & I364 & \"|\" & S366 & \"|W\" & TEXT(I365,\"00\")","v":"AI>F31|910|W15"},{"$f":"J325 & \">F\" & J364 & \"|\" & S366 & \"|W\" & TEXT(J365,\"00\")","v":"AJ>F31|910|W19"},{"$f":"K325 & \">F\" & K364 & \"|\" & S366 & \"|W\" & TEXT(K365,\"00\")","v":"AK>F31|910|W23"},{"$f":"L325 & \">F\" & L364 & \"|\" & S366 & \"|W\" & TEXT(L365,\"00\")","v":"AL>F31|910|W24"},null,null,null,null,null,null,910,null,null,null,null,null,null,null,null,null,null,null,null,null,null,null,null,null,null,null,null,null,null,null,null,null,null,null,"Sollgewichtserfüllung",null,null,"%",{"$f":"IF(AA366>0,AA366,\"\")","v":""},{"$f":"IF(AB366>0,AB366,\"\")","v":""},{"$f":"IF(AC366>0,AC366,\"\")","v":""},{"$f":"IF(AD366>0,AD366,\"\")","v":""},{"$f":"IF(AE366>0,AE366,\"\")","v":""},{"$f":"IF(AF366>0,AF366,\"\")","v":""},{"$f":"IF(AG366>0,AG366,\"\")","v":""},{"$f":"IF(AH366>0,AH366,\"\")","v":""},{"$f":"IF(AI366>0,AI366,\"\")","v":""},{"$f":"IF(AJ366>0,AJ366,\"\")","v":""},{"$f":"IF(AK366>0,AK366,\"\")","v":""},{"$f":"IF(AL366>0,AL366,\"\")","v":""}]
[{"$f":"A325 & \">F\" & A364 & \"|\" & S367 & \"|W\" & TEXT(A365,\"00\")","v":"AA>F30|909|W07"},{"$f":"B325 & \">F\" & B364 & \"|\" & S367 & \"|W\" & TEXT(B365,\"00\")","v":"AB>F30|909|W11"},{"$f":"C325 & \">F\" & C364 & \"|\" & S367 & \"|W\" & TEXT(C365,\"00\")","v":"AC>F30|909|W15"},{"$f":"D325 & \">F\" & D364 & \"|\" & S367 & \"|W\" & TEXT(D365,\"00\")","v":"AD>F30|909|W19"},{"$f":"E325 & \">F\" & E364 & \"|\" & S367 & \"|W\" & TEXT(E365,\"00\")","v":"AE>F30|909|W23"},{"$f":"F325 & \">F\" & F364 & \"|\" & S367 & \"|W\" & TEXT(F365,\"00\")","v":"AF>F30|909|W27"},{"$f":"G325 & \">F\" & G364 & \"|\" & S367 & \"|W\" & TEXT(G365,\"00\")","v":"AG>F31|909|W07"},{"$f":"H325 & \">F\" & H364 & \"|\" & S367 & \"|W\" & TEXT(H365,\"00\")","v":"AH>F31|909|W11"},{"$f":"I325 & \">F\" & I364 & \"|\" & S367 & \"|W\" & TEXT(I365,\"00\")","v":"AI>F31|909|W15"},{"$f":"J325 & \">F\" & J364 & \"|\" & S367 & \"|W\" & TEXT(J365,\"00\")","v":"AJ>F31|909|W19"},{"$f":"K325 & \">F\" & K364 & \"|\" & S367 & \"|W\" & TEXT(K365,\"00\")","v":"AK>F31|909|W23"},{"$f":"L325 & \">F\" & L364 & \"|\" & S367 & \"|W\" & TEXT(L365,\"00\")","v":"AL>F31|909|W24"},null,null,null,null,null,null,909,null,null,null,null,null,null,null,null,null,null,null,null,null,null,null,null,null,null,null,null,null,null,null,null,null,null,null,"Uniformität",null,null,"%","","","","","","","","","","","",""]
[{"$f":"A325 & \">F\" & A364 & \"|\" & S368 & \"|W\" & TEXT(A365,\"00\")","v":"AA>F30|908|W07"},{"$f":"B325 & \">F\" & B364 & \"|\" & S368 & \"|W\" & TEXT(B365,\"00\")","v":"AB>F30|908|W11"},{"$f":"C325 & \">F\" & C364 & \"|\" & S368 & \"|W\" & TEXT(C365,\"00\")","v":"AC>F30|908|W15"},{"$f":"D325 & \">F\" & D364 & \"|\" & S368 & \"|W\" & TEXT(D365,\"00\")","v":"AD>F30|908|W19"},{"$f":"E325 & \">F\" & E364 & \"|\" & S368 & \"|W\" & TEXT(E365,\"00\")","v":"AE>F30|908|W23"},{"$f":"F325 & \">F\" & F364 & \"|\" & S368 & \"|W\" & TEXT(F365,\"00\")","v":"AF>F30|908|W27"},{"$f":"G325 & \">F\" & G364 & \"|\" & S368 & \"|W\" & TEXT(G365,\"00\")","v":"AG>F31|908|W07"},{"$f":"H325 & \">F\" & H364 & \"|\" & S368 & \"|W\" & TEXT(H365,\"00\")","v":"AH>F31|908|W11"},{"$f":"I325 & \">F\" & I364 & \"|\" & S368 & \"|W\" & TEXT(I365,\"00\")","v":"AI>F31|908|W15"},{"$f":"J325 & \">F\" & J364 & \"|\" & S368 & \"|W\" & TEXT(J365,\"00\")","v":"AJ>F31|908|W19"},{"$f":"K325 & \">F\" & K364 & \"|\" & S368 & \"|W\" & TEXT(K365,\"00\")","v":"AK>F31|908|W23"},{"$f":"L325 & \">F\" & L364 & \"|\" & S368 & \"|W\" & TEXT(L365,\"00\")","v":"AL>F31|908|W24"},null,null,null,null,null,null,908,null,null,null,null,null,null,null,null,null,null,null,null,null,null,null,null,null,null,null,null,null,null,null,null,null,null,null,"Anteil zu leichter Tiere",null,null,"%",{"$f":"IF(COUNT(AY367)=1,AA368,\"\")","v":""},{"$f":"IF(COUNT(AZ367)=1,AB368,\"\")","v":""},{"$f":"IF(COUNT(BA367)=1,AC368,\"\")","v":""},{"$f":"IF(COUNT(BB367)=1,AD368,\"\")","v":""},{"$f":"IF(COUNT(BC367)=1,AE368,\"\")","v":""},{"$f":"IF(COUNT(BD367)=1,AF368,\"\")","v":""},{"$f":"IF(COUNT(BE367)=1,AG368,\"\")","v":""},{"$f":"IF(COUNT(BF367)=1,AH368,\"\")","v":""},{"$f":"IF(COUNT(BG367)=1,AI368,\"\")","v":""},{"$f":"IF(COUNT(BH367)=1,AJ368,\"\")","v":""},{"$f":"IF(COUNT(BI367)=1,AK368,\"\")","v":""},{"$f":"IF(COUNT(BJ367)=1,AL368,\"\")","v":""}]
[{"$f":"A325&\">F\"&(400+A343) & \"|\" & S369","v":"AA>F401|911|W42"},{"$f":"B325&\">F\"&(400+B343) & \"|\" & S369","v":"AB>F402|911|W42"},{"$f":"C325&\">F\"&(400+C343) & \"|\" & S369","v":"AC>F403|911|W42"},{"$f":"D325&\">F\"&(400+D343) & \"|\" & S369","v":"AD>F404|911|W42"},{"$f":"E325&\">F\"&(400+E343) & \"|\" & S369","v":"AE>F405|911|W42"},{"$f":"F325&\">F\"&(400+F343) & \"|\" & S369","v":"AF>F406|911|W42"},{"$f":"G325&\">F\"&(400+G343) & \"|\" & S369","v":"AG>F407|911|W42"},{"$f":"H325&\">F\"&(400+H343) & \"|\" & S369","v":"AH>F408|911|W42"},{"$f":"I325&\">F\"&(400+I343) & \"|\" & S369","v":"AI>F409|911|W42"},{"$f":"J325&\">F\"&(400+J343) & \"|\" & S369","v":"AJ>F410|911|W42"},{"$f":"K325&\">F\"&(400+K343) & \"|\" & S369","v":"AK>F411|911|W42"},{"$f":"L325&\">F\"&(400+L343) & \"|\" & S369","v":"AL>F412|911|W42"},null,null,null,null,null,null,"911|W42",null,null,null,null,null,null,null,null,null,null,null,null,null,null,null,null,null,null,null,null,null,null,null,null,null,null,null,"Legeleistung",null,null,"%",{"$f":"IF(AA369>0,AA369,\"\")","v":""},{"$f":"IF(AB369>0,AB369,\"\")","v":""},{"$f":"IF(AC369>0,AC369,\"\")","v":""},{"$f":"IF(AD369>0,AD369,\"\")","v":""},{"$f":"IF(AE369>0,AE369,\"\")","v":""},{"$f":"IF(AF369>0,AF369,\"\")","v":""},{"$f":"IF(AG369>0,AG369,\"\")","v":""},{"$f":"IF(AH369>0,AH369,\"\")","v":""},{"$f":"IF(AI369>0,AI369,\"\")","v":""},{"$f":"IF(AJ369>0,AJ369,\"\")","v":""},{"$f":"IF(AK369>0,AK369,\"\")","v":""},{"$f":"IF(AL369>0,AL369,\"\")","v":""}]
[{"$f":"A325&\">F\"&(400+A343) & \"|\" & S370","v":"AA>F401|911|W43"},{"$f":"B325&\">F\"&(400+B343) & \"|\" & S370","v":"AB>F402|911|W43"},{"$f":"C325&\">F\"&(400+C343) & \"|\" & S370","v":"AC>F403|911|W43"},{"$f":"D325&\">F\"&(400+D343) & \"|\" & S370","v":"AD>F404|911|W43"},{"$f":"E325&\">F\"&(400+E343) & \"|\" & S370","v":"AE>F405|911|W43"},{"$f":"F325&\">F\"&(400+F343) & \"|\" & S370","v":"AF>F406|911|W43"},{"$f":"G325&\">F\"&(400+G343) & \"|\" & S370","v":"AG>F407|911|W43"},{"$f":"H325&\">F\"&(400+H343) & \"|\" & S370","v":"AH>F408|911|W43"},{"$f":"I325&\">F\"&(400+I343) & \"|\" & S370","v":"AI>F409|911|W43"},{"$f":"J325&\">F\"&(400+J343) & \"|\" & S370","v":"AJ>F410|911|W43"},{"$f":"K325&\">F\"&(400+K343) & \"|\" & S370","v":"AK>F411|911|W43"},{"$f":"L325&\">F\"&(400+L343) & \"|\" & S370","v":"AL>F412|911|W43"},null,null,null,null,null,null,"911|W43",null,null,null,null,null,null,null,null,null,null,null,null,null,null,null,null,null,null,null,null,null,null,null,null,null,null,null,"Äußere Eiqualität",null,null,"Sekundaeier %",{"$f":"IF(COUNT(AY369)=1,AA370,\"\")","v":""},{"$f":"IF(COUNT(AZ369)=1,AB370,\"\")","v":""},{"$f":"IF(COUNT(BA369)=1,AC370,\"\")","v":""},{"$f":"IF(COUNT(BB369)=1,AD370,\"\")","v":""},{"$f":"IF(COUNT(BC369)=1,AE370,\"\")","v":""},{"$f":"IF(COUNT(BD369)=1,AF370,\"\")","v":""},{"$f":"IF(COUNT(BE369)=1,AG370,\"\")","v":""},{"$f":"IF(COUNT(BF369)=1,AH370,\"\")","v":""},{"$f":"IF(COUNT(BG369)=1,AI370,\"\")","v":""},{"$f":"IF(COUNT(BH369)=1,AJ370,\"\")","v":""},{"$f":"IF(COUNT(BI369)=1,AK370,\"\")","v":""},{"$f":"IF(COUNT(BJ369)=1,AL370,\"\")","v":""}]
[{"$f":"A325&\">F\"&(400+A343) & \"|\" & S371","v":"AA>F401|911|W46"},{"$f":"B325&\">F\"&(400+B343) & \"|\" & S371","v":"AB>F402|911|W46"},{"$f":"C325&\">F\"&(400+C343) & \"|\" & S371","v":"AC>F403|911|W46"},{"$f":"D325&\">F\"&(400+D343) & \"|\" & S371","v":"AD>F404|911|W46"},{"$f":"E325&\">F\"&(400+E343) & \"|\" & S371","v":"AE>F405|911|W46"},{"$f":"F325&\">F\"&(400+F343) & \"|\" & S371","v":"AF>F406|911|W46"},{"$f":"G325&\">F\"&(400+G343) & \"|\" & S371","v":"AG>F407|911|W46"},{"$f":"H325&\">F\"&(400+H343) & \"|\" & S371","v":"AH>F408|911|W46"},{"$f":"I325&\">F\"&(400+I343) & \"|\" & S371","v":"AI>F409|911|W46"},{"$f":"J325&\">F\"&(400+J343) & \"|\" & S371","v":"AJ>F410|911|W46"},{"$f":"K325&\">F\"&(400+K343) & \"|\" & S371","v":"AK>F411|911|W46"},{"$f":"L325&\">F\"&(400+L343) & \"|\" & S371","v":"AL>F412|911|W46"},null,null,null,null,null,null,"911|W46",null,null,null,null,null,null,null,null,null,null,null,null,null,null,null,null,null,null,null,null,null,null,null,null,null,null,null,"Wasserverbrauch",null,null,"ø l/1000 Tiere",{"$f":"IF(AA371>0,AA371,\"\")","v":""},{"$f":"IF(AB371>0,AB371,\"\")","v":""},{"$f":"IF(AC371>0,AC371,\"\")","v":""},{"$f":"IF(AD371>0,AD371,\"\")","v":""},{"$f":"IF(AE371>0,AE371,\"\")","v":""},{"$f":"IF(AF371>0,AF371,\"\")","v":""},{"$f":"IF(AG371>0,AG371,\"\")","v":""},{"$f":"IF(AH371>0,AH371,\"\")","v":""},{"$f":"IF(AI371>0,AI371,\"\")","v":""},{"$f":"IF(AJ371>0,AJ371,\"\")","v":""},{"$f":"IF(AK371>0,AK371,\"\")","v":""},{"$f":"IF(AL371>0,AL371,\"\")","v":""}]
[null,null,null,null,null,null,null,null,null,null,null,null,null,null,null,null,null,null,null,null,null,null,null,null,null,null,null,null,null,null,null,null,null,null,null,null,null,null,null,null,null,null,null,null,null,null,null,null,null,null,null,null,null,null,null,"Monat",null,null,null,null,null,"Mittelwert"]
[32,{"$f":"A373","v":32},{"$f":"B373","v":32},{"$f":"C373","v":32},{"$f":"D373","v":32},{"$f":"E373","v":32},33,{"$f":"G373","v":33},{"$f":"H373","v":33},{"$f":"I373","v":33},{"$f":"J373","v":33},{"$f":"K373","v":33},null,null,null,null,null,null,null,null,null,null,null,null,null,null,null,null,null,null,null,null,null,null,null,null,null,null,null,null,null,null,null,null,null,null,null,null,null,null,{"$f":"A354","v":13},{"$f":"B354","v":14},{"$f":"C354","v":15},{"$f":"D354","v":16},{"$f":"E354","v":17},{"$f":"F354","v":18},{"$f":"G354","v":19},{"$f":"H354","v":20},{"$f":"I354","v":21},{"$f":"J354","v":22},null,"Durchgang"]
[{"$f":"A325 & \">F\" & A373 & \"|\" & S374 & \"|W\" & TEXT(A365,\"00\")","v":"AA>F32|910|W07"},{"$f":"B325 & \">F\" & B373 & \"|\" & S374 & \"|W\" & TEXT(B365,\"00\")","v":"AB>F32|910|W11"},{"$f":"C325 & \">F\" & C373 & \"|\" & S374 & \"|W\" & TEXT(C365,\"00\")","v":"AC>F32|910|W15"},{"$f":"D325 & \">F\" & D373 & \"|\" & S374 & \"|W\" & TEXT(D365,\"00\")","v":"AD>F32|910|W19"},{"$f":"E325 & \">F\" & E373 & \"|\" & S374 & \"|W\" & TEXT(E365,\"00\")","v":"AE>F32|910|W23"},{"$f":"F325 & \">F\" & F373 & \"|\" & S374 & \"|W\" & TEXT(F365,\"00\")","v":"AF>F32|910|W27"},{"$f":"G325 & \">F\" & G373 & \"|\" & S374 & \"|W\" & TEXT(G365,\"00\")","v":"AG>F33|910|W07"},{"$f":"H325 & \">F\" & H373 & \"|\" & S374 & \"|W\" & TEXT(H365,\"00\")","v":"AH>F33|910|W11"},{"$f":"I325 & \">F\" & I373 & \"|\" & S374 & \"|W\" & TEXT(I365,\"00\")","v":"AI>F33|910|W15"},{"$f":"J325 & \">F\" & J373 & \"|\" & S374 & \"|W\" & TEXT(J365,\"00\")","v":"AJ>F33|910|W19"},{"$f":"K325 & \">F\" & K373 & \"|\" & S374 & \"|W\" & TEXT(K365,\"00\")","v":"AK>F33|910|W23"},{"$f":"L325 & \">F\" & L373 & \"|\" & S374 & \"|W\" & TEXT(L365,\"00\")","v":"AL>F33|910|W24"},null,null,null,null,null,null,910,null,null,null,null,null,null,null,null,null,null,null,null,null,null,null,null,null,null,null,null,null,null,null,null,null,null,null,"Sollgewichtserfüllung",null,null,"%",{"$f":"IF(AA374>0,AA374,\"\")","v":""},{"$f":"IF(AB374>0,AB374,\"\")","v":""},{"$f":"IF(AC374>0,AC374,\"\")","v":""},{"$f":"IF(AD374>0,AD374,\"\")","v":""},{"$f":"IF(AE374>0,AE374,\"\")","v":""},{"$f":"IF(AF374>0,AF374,\"\")","v":""},{"$f":"IF(AG374>0,AG374,\"\")","v":""},{"$f":"IF(AH374>0,AH374,\"\")","v":""},{"$f":"IF(AI374>0,AI374,\"\")","v":""},{"$f":"IF(AJ374>0,AJ374,\"\")","v":""},null,{"$f":"IF(SUM(AY366:BJ366,AY374:BH374)>0,AVERAGE(AY366:BJ366,AY374:BH374),\"\")","v":""}]
[{"$f":"A325 & \">F\" & A373 & \"|\" & S375 & \"|W\" & TEXT(A365,\"00\")","v":"AA>F32|909|W07"},{"$f":"B325 & \">F\" & B373 & \"|\" & S375 & \"|W\" & TEXT(B365,\"00\")","v":"AB>F32|909|W11"},{"$f":"C325 & \">F\" & C373 & \"|\" & S375 & \"|W\" & TEXT(C365,\"00\")","v":"AC>F32|909|W15"},{"$f":"D325 & \">F\" & D373 & \"|\" & S375 & \"|W\" & TEXT(D365,\"00\")","v":"AD>F32|909|W19"},{"$f":"E325 & \">F\" & E373 & \"|\" & S375 & \"|W\" & TEXT(E365,\"00\")","v":"AE>F32|909|W23"},{"$f":"F325 & \">F\" & F373 & \"|\" & S375 & \"|W\" & TEXT(F365,\"00\")","v":"AF>F32|909|W27"},{"$f":"G325 & \">F\" & G373 & \"|\" & S375 & \"|W\" & TEXT(G365,\"00\")","v":"AG>F33|909|W07"},{"$f":"H325 & \">F\" & H373 & \"|\" & S375 & \"|W\" & TEXT(H365,\"00\")","v":"AH>F33|909|W11"},{"$f":"I325 & \">F\" & I373 & \"|\" & S375 & \"|W\" & TEXT(I365,\"00\")","v":"AI>F33|909|W15"},{"$f":"J325 & \">F\" & J373 & \"|\" & S375 & \"|W\" & TEXT(J365,\"00\")","v":"AJ>F33|909|W19"},{"$f":"K325 & \">F\" & K373 & \"|\" & S375 & \"|W\" & TEXT(K365,\"00\")","v":"AK>F33|909|W23"},{"$f":"L325 & \">F\" & L373 & \"|\" & S375 & \"|W\" & TEXT(L365,\"00\")","v":"AL>F33|909|W24"},null,null,null,null,null,null,909,null,null,null,null,null,null,null,null,null,null,null,null,null,null,null,null,null,null,null,null,null,null,null,null,null,null,null,"Uniformität",null,null,"%","","","","","","","","","","",null,{"$f":"IF(SUM(AY367:BJ367,AY375:BH375)>0,AVERAGE(AY367:BJ367,AY375:BH375),\"\")","v":""}]
[{"$f":"A325 & \">F\" & A373 & \"|\" & S376 & \"|W\" & TEXT(A365,\"00\")","v":"AA>F32|908|W07"},{"$f":"B325 & \">F\" & B373 & \"|\" & S376 & \"|W\" & TEXT(B365,\"00\")","v":"AB>F32|908|W11"},{"$f":"C325 & \">F\" & C373 & \"|\" & S376 & \"|W\" & TEXT(C365,\"00\")","v":"AC>F32|908|W15"},{"$f":"D325 & \">F\" & D373 & \"|\" & S376 & \"|W\" & TEXT(D365,\"00\")","v":"AD>F32|908|W19"},{"$f":"E325 & \">F\" & E373 & \"|\" & S376 & \"|W\" & TEXT(E365,\"00\")","v":"AE>F32|908|W23"},{"$f":"F325 & \">F\" & F373 & \"|\" & S376 & \"|W\" & TEXT(F365,\"00\")","v":"AF>F32|908|W27"},{"$f":"G325 & \">F\" & G373 & \"|\" & S376 & \"|W\" & TEXT(G365,\"00\")","v":"AG>F33|908|W07"},{"$f":"H325 & \">F\" & H373 & \"|\" & S376 & \"|W\" & TEXT(H365,\"00\")","v":"AH>F33|908|W11"},{"$f":"I325 & \">F\" & I373 & \"|\" & S376 & \"|W\" & TEXT(I365,\"00\")","v":"AI>F33|908|W15"},{"$f":"J325 & \">F\" & J373 & \"|\" & S376 & \"|W\" & TEXT(J365,\"00\")","v":"AJ>F33|908|W19"},{"$f":"K325 & \">F\" & K373 & \"|\" & S376 & \"|W\" & TEXT(K365,\"00\")","v":"AK>F33|908|W23"},{"$f":"L325 & \">F\" & L373 & \"|\" & S376 & \"|W\" & TEXT(L365,\"00\")","v":"AL>F33|908|W24"},null,null,null,null,null,null,908,null,null,null,null,null,null,null,null,null,null,null,null,null,null,null,null,null,null,null,null,null,null,null,null,null,null,null,"Anteil zu leichter Tiere",null,null,"%",{"$f":"IF(COUNT(AY375)=1,AA376,\"\")","v":""},{"$f":"IF(COUNT(AZ375)=1,AB376,\"\")","v":""},{"$f":"IF(COUNT(BA375)=1,AC376,\"\")","v":""},{"$f":"IF(COUNT(BB375)=1,AD376,\"\")","v":""},{"$f":"IF(COUNT(BC375)=1,AE376,\"\")","v":""},{"$f":"IF(COUNT(BD375)=1,AF376,\"\")","v":""},{"$f":"IF(COUNT(BE375)=1,AG376,\"\")","v":""},{"$f":"IF(COUNT(BF375)=1,AH376,\"\")","v":""},{"$f":"IF(COUNT(BG375)=1,AI376,\"\")","v":""},{"$f":"IF(COUNT(BH375)=1,AJ376,\"\")","v":""},null,""]
[{"$f":"A325&\">F\"&(400+A354) & \"|\" & S377","v":"AA>F413|911|W42"},{"$f":"B325&\">F\"&(400+B354) & \"|\" & S377","v":"AB>F414|911|W42"},{"$f":"C325&\">F\"&(400+C354) & \"|\" & S377","v":"AC>F415|911|W42"},{"$f":"D325&\">F\"&(400+D354) & \"|\" & S377","v":"AD>F416|911|W42"},{"$f":"E325&\">F\"&(400+E354) & \"|\" & S377","v":"AE>F417|911|W42"},{"$f":"F325&\">F\"&(400+F354) & \"|\" & S377","v":"AF>F418|911|W42"},{"$f":"G325&\">F\"&(400+G354) & \"|\" & S377","v":"AG>F419|911|W42"},{"$f":"H325&\">F\"&(400+H354) & \"|\" & S377","v":"AH>F420|911|W42"},{"$f":"I325&\">F\"&(400+I354) & \"|\" & S377","v":"AI>F421|911|W42"},{"$f":"J325&\">F\"&(400+J354) & \"|\" & S377","v":"AJ>F422|911|W42"},{"$f":"K325&\">F\"&(400+K354) & \"|\" & S377","v":"AK>F423|911|W42"},{"$f":"L325&\">F\"&(400+L354) & \"|\" & S377","v":"AL>F400|911|W42"},null,null,null,null,null,null,"911|W42",null,null,null,null,null,null,null,null,null,null,null,null,null,null,null,null,null,null,null,null,null,null,null,null,null,null,null,"Legeleistung",null,null,"%",{"$f":"IF(AA377>0,AA377,\"\")","v":""},{"$f":"IF(AB377>0,AB377,\"\")","v":""},{"$f":"IF(AC377>0,AC377,\"\")","v":""},{"$f":"IF(AD377>0,AD377,\"\")","v":""},{"$f":"IF(AE377>0,AE377,\"\")","v":""},{"$f":"IF(AF377>0,AF377,\"\")","v":""},{"$f":"IF(AG377>0,AG377,\"\")","v":""},{"$f":"IF(AH377>0,AH377,\"\")","v":""},{"$f":"IF(AI377>0,AI377,\"\")","v":""},{"$f":"IF(AJ377>0,AJ377,\"\")","v":""},null,""]
[{"$f":"A325&\">F\"&(400+A354) & \"|\" & S378","v":"AA>F413|911|W43"},{"$f":"B325&\">F\"&(400+B354) & \"|\" & S378","v":"AB>F414|911|W43"},{"$f":"C325&\">F\"&(400+C354) & \"|\" & S378","v":"AC>F415|911|W43"},{"$f":"D325&\">F\"&(400+D354) & \"|\" & S378","v":"AD>F416|911|W43"},{"$f":"E325&\">F\"&(400+E354) & \"|\" & S378","v":"AE>F417|911|W43"},{"$f":"F325&\">F\"&(400+F354) & \"|\" & S378","v":"AF>F418|911|W43"},{"$f":"G325&\">F\"&(400+G354) & \"|\" & S378","v":"AG>F419|911|W43"},{"$f":"H325&\">F\"&(400+H354) & \"|\" & S378","v":"AH>F420|911|W43"},{"$f":"I325&\">F\"&(400+I354) & \"|\" & S378","v":"AI>F421|911|W43"},{"$f":"J325&\">F\"&(400+J354) & \"|\" & S378","v":"AJ>F422|911|W43"},{"$f":"K325&\">F\"&(400+K354) & \"|\" & S378","v":"AK>F423|911|W43"},{"$f":"L325&\">F\"&(400+L354) & \"|\" & S378","v":"AL>F400|911|W43"},null,null,null,null,null,null,"911|W43",null,null,null,null,null,null,null,null,null,null,null,null,null,null,null,null,null,null,null,null,null,null,null,null,null,null,null,"Äußere Eiqualität",null,null,"Sekundaeier %",{"$f":"IF(COUNT(AY377)=1,AA378,\"\")","v":""},{"$f":"IF(COUNT(AZ377)=1,AB378,\"\")","v":""},{"$f":"IF(COUNT(BA377)=1,AC378,\"\")","v":""},{"$f":"IF(COUNT(BB377)=1,AD378,\"\")","v":""},{"$f":"IF(COUNT(BC377)=1,AE378,\"\")","v":""},{"$f":"IF(COUNT(BD377)=1,AF378,\"\")","v":""},{"$f":"IF(COUNT(BE377)=1,AG378,\"\")","v":""},{"$f":"IF(COUNT(BF377)=1,AH378,\"\")","v":""},{"$f":"IF(COUNT(BG377)=1,AI378,\"\")","v":""},{"$f":"IF(COUNT(BH377)=1,AJ378,\"\")","v":""},null,""]
[{"$f":"A325&\">F\"&(400+A354) & \"|\" & S379","v":"AA>F413|911|W46"},{"$f":"B325&\">F\"&(400+B354) & \"|\" & S379","v":"AB>F414|911|W46"},{"$f":"C325&\">F\"&(400+C354) & \"|\" & S379","v":"AC>F415|911|W46"},{"$f":"D325&\">F\"&(400+D354) & \"|\" & S379","v":"AD>F416|911|W46"},{"$f":"E325&\">F\"&(400+E354) & \"|\" & S379","v":"AE>F417|911|W46"},{"$f":"F325&\">F\"&(400+F354) & \"|\" & S379","v":"AF>F418|911|W46"},{"$f":"G325&\">F\"&(400+G354) & \"|\" & S379","v":"AG>F419|911|W46"},{"$f":"H325&\">F\"&(400+H354) & \"|\" & S379","v":"AH>F420|911|W46"},{"$f":"I325&\">F\"&(400+I354) & \"|\" & S379","v":"AI>F421|911|W46"},{"$f":"J325&\">F\"&(400+J354) & \"|\" & S379","v":"AJ>F422|911|W46"},{"$f":"K325&\">F\"&(400+K354) & \"|\" & S379","v":"AK>F423|911|W46"},{"$f":"L325&\">F\"&(400+L354) & \"|\" & S379","v":"AL>F400|911|W46"},null,null,null,null,null,null,"911|W46",null,null,null,null,null,null,null,null,null,null,null,null,null,null,null,null,null,null,null,null,null,null,null,null,null,null,null,"Wasserverbrauch",null,null,"ø l/1000 Tiere",{"$f":"IF(AA379>0,AA379,\"\")","v":""},{"$f":"IF(AB379>0,AB379,\"\")","v":""},{"$f":"IF(AC379>0,AC379,\"\")","v":""},{"$f":"IF(AD379>0,AD379,\"\")","v":""},{"$f":"IF(AE379>0,AE379,\"\")","v":""},{"$f":"IF(AF379>0,AF379,\"\")","v":""},{"$f":"IF(AG379>0,AG379,\"\")","v":""},{"$f":"IF(AH379>0,AH379,\"\")","v":""},{"$f":"IF(AI379>0,AI379,\"\")","v":""},{"$f":"IF(AJ379>0,AJ379,\"\")","v":""},null,{"$f":"IF(SUM(AY371:BJ371,AY379:BH379)>0,AVERAGE(AY371:BJ371,AY379:BH379),\"\")","v":""}]
[]
[null,null,null,null,null,null,null,null,null,null,null,null,null,null,null,null,null,null,null,{"$f":"AU381","v":"Abschlusserhebungen"},null,null,null,null,null,null,null,null,null,null,null,null,null,null,null,null,null,null,null,null,null,null,null,null,null,null,"Abschlusserhebungen"]
["AA>F20|901|W01",null,null,null,null,null,null,null,null,null,null,null,null,null,null,null,null,null,null,null,null,null,null,null,null,null,null,null,null,null,null,null,null,null,null,null,null,null,null,null,null,null,null,null,null,null,"Arzneimitteleinsatz",null,null,"Therapieindex",{"$f":"IF(AA382<>\"\",AA382,\"\")","v":""}]
[]
[null,null,null,null,null,null,null,null,null,null,null,null,null,null,null,null,null,null,null,null,null,null,null,null,null,null,null,null,null,null,null,null,null,null,null,null,null,null,null,null,null,null,null,null,null,null,"Schlachthofindikatoren"]
["AA>F50|003|W05",null,null,null,null,null,null,null,null,null,null,null,null,null,null,null,null,null,null,null,null,null,null,null,null,null,null,null,null,null,null,null,null,null,null,null,null,null,null,null,null,null,null,null,null,null,"Gewicht bei Schlachtung",null,null,"g",{"$f":"IF(AA385<>\"\",AA385,\"\")","v":""}]
[]
[null,null,null,null,null,null,null,null,null,null,null,null,null,null,null,null,null,null,null,null,null,null,null,null,null,null,null,null,null,null,null,null,null,null,null,null,null,null,null,null,null,null,null,null,null,null,null,null,null,null,"Gesamt",null,"verletzt","tot"]
["AA>F50|901|W10",null,null,null,null,"AB>F50|901|W01",null,null,null,null,"AC>F50|901|W02",null,null,null,null,null,null,null,null,null,null,null,null,null,null,null,null,null,null,null,null,null,null,null,null,null,null,null,null,null,null,null,null,null,null,null,"Verletzt und tot angelieferte Tiere",null,null,"%",{"$f":"IF(AA388<>\"\",AA388,\"\")","v":""},null,{"$f":"IF(AB388<>\"\",AB388,\"\")","v":""},{"$f":"IF(AC388<>\"\",AC388,\"\")","v":""}]
[]
[null,null,null,null,null,null,null,null,null,null,null,null,null,null,null,null,null,null,null,null,null,null,null,null,null,null,null,null,null,null,null,null,null,null,null,null,null,null,null,null,null,null,null,null,null,null,null,null,null,null,null,null,"Ab-","Wasser-","Umfangs-","Ent-","Verletz-","Sonstige"]
[null,null,null,null,null,null,null,null,null,null,null,null,null,null,null,null,null,null,null,null,null,null,null,null,null,null,null,null,null,null,null,null,null,null,null,null,null,null,null,null,null,null,null,null,null,null,null,null,null,null,"Gesamt",null,"magerung","bauch","vermehr.","zündungen","ungen","Ursachen"]
["AA>F50|902|W10","AB>F50|902|W01","AC>F50|902|W02","AD>F50|902|W03","AE>F50|902|W04","AF>F50|902|W05","AG>F50|902|W06",null,null,null,null,null,null,null,null,null,null,null,null,null,null,null,null,null,null,null,null,null,null,null,null,null,null,null,null,null,null,null,null,null,null,null,null,null,null,null,"Verwürfe und Ursachen",null,null,"%",{"$f":"IF(AA392<>\"\",AA392,\"\")","v":""},null,{"$f":"IF(AB392<>\"\",AB392,\"\")","v":""},{"$f":"IF(AC392<>\"\",AC392,\"\")","v":""},{"$f":"IF(AD392<>\"\",AD392,\"\")","v":""},{"$f":"IF(AE392<>\"\",AE392,\"\")","v":""},{"$f":"IF(AF392<>\"\",AF392,\"\")","v":""},{"$f":"IF(AG392<>\"\",AG392,\"\")","v":""}]
["BEREICH_ENDE"]
[]
["BEREICH_START",null,null,null,null,null,null,null,null,null,null,null,null,null,null,null,null,null,null,"GF_HENNE3",null,null,null,null,null,null,null,null,null,null,null,null,null,null,null,null,null,null,null,null,null,null,null,null,null,"Jung- und Legehennen",null,null,null,null,null,null,null,null,null,null,null,null,null,null,null,null,"#DATUM#"]
["AA>T02",null,null,null,null,null,null,null,null,null,null,null,null,null,null,null,null,null,null,null,null,null,null,null,null,null,null,null,null,null,null,null,null,null,null,null,null,null,null,null,null,null,null,null,null,null,{"$f":"AA396","v":0}]
[]
["AA","AB","AC","AD","AE","AF","AG","AH","AI","AJ","AK","AL","AM","AN","AO","AP",null,"Wert",null,{"$f":"AU398","v":"Stichproben"},null,null,null,null,null,null,null,null,null,null,null,null,null,null,null,null,null,null,null,null,null,null,null,null,null,null,"Stichproben",null,null,null,"Junghenne",null,null,"Legehenne"]
[11,11,{"$f":"A399+1","v":12},12,13,13,14,14,15,15,16,16,17,17,18,18,null,null,"N",null,null,null,null,null,null,null,null,null,null,null,null,null,null,null,null,null,null,null,null,null,null,null,null,null,null,null,null,null,null,null,"Lebenswoche"]
[null,null,null,null,null,null,null,null,null,null,null,null,null,null,null,null,null,null,null,null,null,null,null,null,null,null,null,null,null,null,null,null,null,null,null,null,null,null,null,null,null,null,null,null,null,null,null,null,null,null,"4.","12.","16.",null,"Einstallen","25.","37.","49.","61."]
[{"$f":"A398&\">F\"&A399&\"|\"&R401","v":"AA>F11|912|W03"},{"$f":"B398&\">F\"&B399&\"|\"&S401","v":"AB>F11|950|W03"},{"$f":"C398&\">F\"&C399&\"|\"&R401","v":"AC>F12|912|W03"},{"$f":"D398&\">F\"&D399&\"|\"&S401","v":"AD>F12|950|W03"},{"$f":"E398&\">F\"&E399&\"|\"&R401","v":"AE>F13|912|W03"},{"$f":"F398&\">F\"&F399&\"|\"&S401","v":"AF>F13|950|W03"},{"$f":"G398&\">F\"&G399&\"|\"&R401","v":"AG>F14|912|W03"},{"$f":"H398&\">F\"&H399&\"|\"&S401","v":"AH>F14|950|W03"},{"$f":"I398&\">F\"&I399&\"|\"&R401","v":"AI>F15|912|W03"},{"$f":"J398&\">F\"&J399&\"|\"&S401","v":"AJ>F15|950|W03"},{"$f":"K398&\">F\"&K399&\"|\"&R401","v":"AK>F16|912|W03"},{"$f":"L398&\">F\"&L399&\"|\"&S401","v":"AL>F16|950|W03"},{"$f":"M398&\">F\"&M399&\"|\"&R401","v":"AM>F17|912|W03"},{"$f":"N398&\">F\"&N399&\"|\"&S401","v":"AN>F17|950|W03"},{"$f":"O398&\">F\"&O399&\"|\"&R401","v":"AO>F18|912|W03"},{"$f":"P398&\">F\"&P399&\"|\"&S401","v":"AP>F18|950|W03"},null,"912|W03","950|W03",null,null,null,null,null,null,null,null,null,null,null,null,null,null,null,null,null,null,null,null,null,null,null,null,null,null,null,"Brüche und Deformationen des Brustbeins",null,null,"Bonitur 1 %",null,null,{"$f":"IF(AF401>0,AE401,\"\")","v":""},null,{"$f":"IF(AH401>0,AG401,\"\")","v":""},null,{"$f":"IF(AL401>0,AK401,\"\")","v":""},null,{"$f":"IF(AP401>0,AO401,\"\")","v":""}]
[{"$f":"A398&\">F\"&A399&\"|\"&R402","v":"AA>F11|912|W05"},{"$f":"B398&\">F\"&B399&\"|\"&S402","v":"AB>F11|950|W05"},{"$f":"C398&\">F\"&C399&\"|\"&R402","v":"AC>F12|912|W05"},{"$f":"D398&\">F\"&D399&\"|\"&S402","v":"AD>F12|950|W05"},{"$f":"E398&\">F\"&E399&\"|\"&R402","v":"AE>F13|912|W05"},{"$f":"F398&\">F\"&F399&\"|\"&S402","v":"AF>F13|950|W05"},{"$f":"G398&\">F\"&G399&\"|\"&R402","v":"AG>F14|912|W05"},{"$f":"H398&\">F\"&H399&\"|\"&S402","v":"AH>F14|950|W05"},{"$f":"I398&\">F\"&I399&\"|\"&R402","v":"AI>F15|912|W05"},{"$f":"J398&\">F\"&J399&\"|\"&S402","v":"AJ>F15|950|W05"},{"$f":"K398&\">F\"&K399&\"|\"&R402","v":"AK>F16|912|W05"},{"$f":"L398&\">F\"&L399&\"|\"&S402","v":"AL>F16|950|W05"},{"$f":"M398&\">F\"&M399&\"|\"&R402","v":"AM>F17|912|W05"},{"$f":"N398&\">F\"&N399&\"|\"&S402","v":"AN>F17|950|W05"},{"$f":"O398&\">F\"&O399&\"|\"&R402","v":"AO>F18|912|W05"},{"$f":"P398&\">F\"&P399&\"|\"&S402","v":"AP>F18|950|W05"},null,"912|W05","950|W05",null,null,null,null,null,null,null,null,null,null,null,null,null,null,null,null,null,null,null,null,null,null,null,null,null,null,null,"Vollständigkeit Gefieder (Gefiederschäden)",null,null,"Bonitur 1 %",{"$f":"IF(AB402>0,AA402,\"\")","v":""},{"$f":"IF(AD402>0,AC402,\"\")","v":""},{"$f":"IF(AF402>0,AE402,\"\")","v":""},null,"",{"$f":"IF(AJ402>0,AI402,\"\")","v":""},"",{"$f":"IF(AN402>0,AM402,\"\")","v":""},""]
[{"$f":"A398&\">F\"&A399&\"|\"&R403","v":"AA>F11|922|W05"},{"$f":"B398&\">F\"&B399&\"|\"&S403","v":"AB>F11|950|W05"},{"$f":"C398&\">F\"&C399&\"|\"&R403","v":"AC>F12|922|W05"},{"$f":"D398&\">F\"&D399&\"|\"&S403","v":"AD>F12|950|W05"},{"$f":"E398&\">F\"&E399&\"|\"&R403","v":"AE>F13|922|W05"},{"$f":"F398&\">F\"&F399&\"|\"&S403","v":"AF>F13|950|W05"},{"$f":"G398&\">F\"&G399&\"|\"&R403","v":"AG>F14|922|W05"},{"$f":"H398&\">F\"&H399&\"|\"&S403","v":"AH>F14|950|W05"},{"$f":"I398&\">F\"&I399&\"|\"&R403","v":"AI>F15|922|W05"},{"$f":"J398&\">F\"&J399&\"|\"&S403","v":"AJ>F15|950|W05"},{"$f":"K398&\">F\"&K399&\"|\"&R403","v":"AK>F16|922|W05"},{"$f":"L398&\">F\"&L399&\"|\"&S403","v":"AL>F16|950|W05"},{"$f":"M398&\">F\"&M399&\"|\"&R403","v":"AM>F17|922|W05"},{"$f":"N398&\">F\"&N399&\"|\"&S403","v":"AN>F17|950|W05"},{"$f":"O398&\">F\"&O399&\"|\"&R403","v":"AO>F18|922|W05"},{"$f":"P398&\">F\"&P399&\"|\"&S403","v":"AP>F18|950|W05"},null,"922|W05","950|W05",null,null,null,null,null,null,null,null,null,null,null,null,null,null,null,null,null,null,null,null,null,null,null,null,null,null,null,null,null,null,"Bonitur 2 %",{"$f":"IF(AB403>0,AA403,\"\")","v":""},{"$f":"IF(AD403>0,AC403,\"\")","v":""},{"$f":"IF(AF403>0,AE403,\"\")","v":""},null,"",{"$f":"IF(AJ403>0,AI403,\"\")","v":""},"",{"$f":"IF(AN403>0,AM403,\"\")","v":""},""]
[{"$f":"A398&\">F\"&A399&\"|\"&R404","v":"AA>F11|912|W06"},{"$f":"B398&\">F\"&B399&\"|\"&S404","v":"AB>F11|950|W06"},{"$f":"C398&\">F\"&C399&\"|\"&R404","v":"AC>F12|912|W06"},{"$f":"D398&\">F\"&D399&\"|\"&S404","v":"AD>F12|950|W06"},{"$f":"E398&\">F\"&E399&\"|\"&R404","v":"AE>F13|912|W06"},{"$f":"F398&\">F\"&F399&\"|\"&S404","v":"AF>F13|950|W06"},{"$f":"G398&\">F\"&G399&\"|\"&R404","v":"AG>F14|912|W06"},{"$f":"H398&\">F\"&H399&\"|\"&S404","v":"AH>F14|950|W06"},{"$f":"I398&\">F\"&I399&\"|\"&R404","v":"AI>F15|912|W06"},{"$f":"J398&\">F\"&J399&\"|\"&S404","v":"AJ>F15|950|W06"},{"$f":"K398&\">F\"&K399&\"|\"&R404","v":"AK>F16|912|W06"},{"$f":"L398&\">F\"&L399&\"|\"&S404","v":"AL>F16|950|W06"},{"$f":"M398&\">F\"&M399&\"|\"&R404","v":"AM>F17|912|W06"},{"$f":"N398&\">F\"&N399&\"|\"&S404","v":"AN>F17|950|W06"},{"$f":"O398&\">F\"&O399&\"|\"&R404","v":"AO>F18|912|W06"},{"$f":"P398&\">F\"&P399&\"|\"&S404","v":"AP>F18|950|W06"},null,"912|W06","950|W06",null,null,null,null,null,null,null,null,null,null,null,null,null,null,null,null,null,null,null,null,null,null,null,null,null,null,null,"Hautverletzungen",null,null,"Bonitur 1 %",{"$f":"IF(AB404>0,AA404,\"\")","v":""},{"$f":"IF(AD404>0,AC404,\"\")","v":""},null,null,"",{"$f":"IF(AJ404>0,AI404,\"\")","v":""},"",{"$f":"IF(AN404>0,AM404,\"\")","v":""},""]
[{"$f":"A398&\">F\"&A399&\"|\"&R405","v":"AA>F11|922|W06"},{"$f":"B398&\">F\"&B399&\"|\"&S405","v":"AB>F11|950|W06"},{"$f":"C398&\">F\"&C399&\"|\"&R405","v":"AC>F12|922|W06"},{"$f":"D398&\">F\"&D399&\"|\"&S405","v":"AD>F12|950|W06"},{"$f":"E398&\">F\"&E399&\"|\"&R405","v":"AE>F13|922|W06"},{"$f":"F398&\">F\"&F399&\"|\"&S405","v":"AF>F13|950|W06"},{"$f":"G398&\">F\"&G399&\"|\"&R405","v":"AG>F14|922|W06"},{"$f":"H398&\">F\"&H399&\"|\"&S405","v":"AH>F14|950|W06"},{"$f":"I398&\">F\"&I399&\"|\"&R405","v":"AI>F15|922|W06"},{"$f":"J398&\">F\"&J399&\"|\"&S405","v":"AJ>F15|950|W06"},{"$f":"K398&\">F\"&K399&\"|\"&R405","v":"AK>F16|922|W06"},{"$f":"L398&\">F\"&L399&\"|\"&S405","v":"AL>F16|950|W06"},{"$f":"M398&\">F\"&M399&\"|\"&R405","v":"AM>F17|922|W06"},{"$f":"N398&\">F\"&N399&\"|\"&S405","v":"AN>F17|950|W06"},{"$f":"O398&\">F\"&O399&\"|\"&R405","v":"AO>F18|922|W06"},{"$f":"P398&\">F\"&P399&\"|\"&S405","v":"AP>F18|950|W06"},null,"922|W06","950|W06",null,null,null,null,null,null,null,null,null,null,null,null,null,null,null,null,null,null,null,null,null,null,null,null,null,null,null,null,null,null,"Bonitur 2 %",{"$f":"IF(AB405>0,AA405,\"\")","v":""},{"$f":"IF(AD405>0,AC405,\"\")","v":""},null,null,"",{"$f":"IF(AJ405>0,AI405,\"\")","v":""},"",{"$f":"IF(AN405>0,AM405,\"\")","v":""},""]
[{"$f":"A398&\">F\"&A399&\"|\"&R406","v":"AA>F11|912|W07"},{"$f":"B398&\">F\"&B399&\"|\"&S406","v":"AB>F11|950|W07"},{"$f":"C398&\">F\"&C399&\"|\"&R406","v":"AC>F12|912|W07"},{"$f":"D398&\">F\"&D399&\"|\"&S406","v":"AD>F12|950|W07"},{"$f":"E398&\">F\"&E399&\"|\"&R406","v":"AE>F13|912|W07"},{"$f":"F398&\">F\"&F399&\"|\"&S406","v":"AF>F13|950|W07"},{"$f":"G398&\">F\"&G399&\"|\"&R406","v":"AG>F14|912|W07"},{"$f":"H398&\">F\"&H399&\"|\"&S406","v":"AH>F14|950|W07"},{"$f":"I398&\">F\"&I399&\"|\"&R406","v":"AI>F15|912|W07"},{"$f":"J398&\">F\"&J399&\"|\"&S406","v":"AJ>F15|950|W07"},{"$f":"K398&\">F\"&K399&\"|\"&R406","v":"AK>F16|912|W07"},{"$f":"L398&\">F\"&L399&\"|\"&S406","v":"AL>F16|950|W07"},{"$f":"M398&\">F\"&M399&\"|\"&R406","v":"AM>F17|912|W07"},{"$f":"N398&\">F\"&N399&\"|\"&S406","v":"AN>F17|950|W07"},{"$f":"O398&\">F\"&O399&\"|\"&R406","v":"AO>F18|912|W07"},{"$f":"P398&\">F\"&P399&\"|\"&S406","v":"AP>F18|950|W07"},null,"912|W07","950|W07",null,null,null,null,null,null,null,null,null,null,null,null,null,null,null,null,null,null,null,null,null,null,null,null,null,null,null,"Zehenverletzungen",null,null,"Bonitur 1 %",{"$f":"IF(AB406>0,AA406,\"\")","v":""},{"$f":"IF(AD406>0,AC406,\"\")","v":""},null,null,"",{"$f":"IF(AJ406>0,AI406,\"\")","v":""},"",{"$f":"IF(AN406>0,AM406,\"\")","v":""},""]
[{"$f":"A398&\">F\"&A399&\"|\"&R407","v":"AA>F11|912|W09"},{"$f":"B398&\">F\"&B399&\"|\"&S407","v":"AB>F11|950|W09"},{"$f":"C398&\">F\"&C399&\"|\"&R407","v":"AC>F12|912|W09"},{"$f":"D398&\">F\"&D399&\"|\"&S407","v":"AD>F12|950|W09"},{"$f":"E398&\">F\"&E399&\"|\"&R407","v":"AE>F13|912|W09"},{"$f":"F398&\">F\"&F399&\"|\"&S407","v":"AF>F13|950|W09"},{"$f":"G398&\">F\"&G399&\"|\"&R407","v":"AG>F14|912|W09"},{"$f":"H398&\">F\"&H399&\"|\"&S407","v":"AH>F14|950|W09"},{"$f":"I398&\">F\"&I399&\"|\"&R407","v":"AI>F15|912|W09"},{"$f":"J398&\">F\"&J399&\"|\"&S407","v":"AJ>F15|950|W09"},{"$f":"K398&\">F\"&K399&\"|\"&R407","v":"AK>F16|912|W09"},{"$f":"L398&\">F\"&L399&\"|\"&S407","v":"AL>F16|950|W09"},{"$f":"M398&\">F\"&M399&\"|\"&R407","v":"AM>F17|912|W09"},{"$f":"N398&\">F\"&N399&\"|\"&S407","v":"AN>F17|950|W09"},{"$f":"O398&\">F\"&O399&\"|\"&R407","v":"AO>F18|912|W09"},{"$f":"P398&\">F\"&P399&\"|\"&S407","v":"AP>F18|950|W09"},null,"912|W09","950|W09",null,null,null,null,null,null,null,null,null,null,null,null,null,null,null,null,null,null,null,null,null,null,null,null,null,null,null,"Fußballenveränderungen",null,null,"Bonitur 1 %",null,null,null,null,"",null,"",null,""]
[{"$f":"A398&\">F\"&A399&\"|\"&R408","v":"AA>F11|922|W09"},{"$f":"B398&\">F\"&B399&\"|\"&S408","v":"AB>F11|950|W09"},{"$f":"C398&\">F\"&C399&\"|\"&R408","v":"AC>F12|922|W09"},{"$f":"D398&\">F\"&D399&\"|\"&S408","v":"AD>F12|950|W09"},{"$f":"E398&\">F\"&E399&\"|\"&R408","v":"AE>F13|922|W09"},{"$f":"F398&\">F\"&F399&\"|\"&S408","v":"AF>F13|950|W09"},{"$f":"G398&\">F\"&G399&\"|\"&R408","v":"AG>F14|922|W09"},{"$f":"H398&\">F\"&H399&\"|\"&S408","v":"AH>F14|950|W09"},{"$f":"I398&\">F\"&I399&\"|\"&R408","v":"AI>F15|922|W09"},{"$f":"J398&\">F\"&J399&\"|\"&S408","v":"AJ>F15|950|W09"},{"$f":"K398&\">F\"&K399&\"|\"&R408","v":"AK>F16|922|W09"},{"$f":"L398&\">F\"&L399&\"|\"&S408","v":"AL>F16|950|W09"},{"$f":"M398&\">F\"&M399&\"|\"&R408","v":"AM>F17|922|W09"},{"$f":"N398&\">F\"&N399&\"|\"&S408","v":"AN>F17|950|W09"},{"$f":"O398&\">F\"&O399&\"|\"&R408","v":"AO>F18|922|W09"},{"$f":"P398&\">F\"&P399&\"|\"&S408","v":"AP>F18|950|W09"},null,"922|W09","950|W09",null,null,null,null,null,null,null,null,null,null,null,null,null,null,null,null,null,null,null,null,null,null,null,null,null,null,null,null,null,null,"Bonitur 2 %",null,null,null,null,"",null,"",null,""]
[{"$f":"A398&\">F\"&A399&\"|\"&R409","v":"AA>F11|902|W12"},{"$f":"B398&\">F\"&B399&\"|\"&S409","v":"AB>F11|950|W12"},{"$f":"C398&\">F\"&C399&\"|\"&R409","v":"AC>F12|902|W12"},{"$f":"D398&\">F\"&D399&\"|\"&S409","v":"AD>F12|950|W12"},{"$f":"E398&\">F\"&E399&\"|\"&R409","v":"AE>F13|902|W12"},{"$f":"F398&\">F\"&F399&\"|\"&S409","v":"AF>F13|950|W12"},{"$f":"G398&\">F\"&G399&\"|\"&R409","v":"AG>F14|902|W12"},{"$f":"H398&\">F\"&H399&\"|\"&S409","v":"AH>F14|950|W12"},{"$f":"I398&\">F\"&I399&\"|\"&R409","v":"AI>F15|902|W12"},{"$f":"J398&\">F\"&J399&\"|\"&S409","v":"AJ>F15|950|W12"},{"$f":"K398&\">F\"&K399&\"|\"&R409","v":"AK>F16|902|W12"},{"$f":"L398&\">F\"&L399&\"|\"&S409","v":"AL>F16|950|W12"},{"$f":"M398&\">F\"&M399&\"|\"&R409","v":"AM>F17|902|W12"},{"$f":"N398&\">F\"&N399&\"|\"&S409","v":"AN>F17|950|W12"},{"$f":"O398&\">F\"&O399&\"|\"&R409","v":"AO>F18|902|W12"},{"$f":"P398&\">F\"&P399&\"|\"&S409","v":"AP>F18|950|W12"},null,"902|W12","950|W12",null,null,null,null,null,null,null,null,null,null,null,null,null,null,null,null,null,null,null,null,null,null,null,null,null,null,null,"Sollgewichtserfüllung",null,null,"%",null,{"$f":"IF(AD409>0,AC409,\"\")","v":""},{"$f":"IF(AF409>0,AE409,\"\")","v":""},null,"",{"$f":"IF(AJ409>0,AI409,\"\")","v":""},"",{"$f":"IF(AN409>0,AM409,\"\")","v":""},""]
[{"$f":"A398&\">F\"&A399&\"|\"&R410","v":"AA>F11|902|W13"},{"$f":"B398&\">F\"&B399&\"|\"&S410","v":"AB>F11|950|W12"},{"$f":"C398&\">F\"&C399&\"|\"&R410","v":"AC>F12|902|W13"},{"$f":"D398&\">F\"&D399&\"|\"&S410","v":"AD>F12|950|W12"},{"$f":"E398&\">F\"&E399&\"|\"&R410","v":"AE>F13|902|W13"},{"$f":"F398&\">F\"&F399&\"|\"&S410","v":"AF>F13|950|W12"},{"$f":"G398&\">F\"&G399&\"|\"&R410","v":"AG>F14|902|W13"},{"$f":"H398&\">F\"&H399&\"|\"&S410","v":"AH>F14|950|W12"},{"$f":"I398&\">F\"&I399&\"|\"&R410","v":"AI>F15|902|W13"},{"$f":"J398&\">F\"&J399&\"|\"&S410","v":"AJ>F15|950|W12"},{"$f":"K398&\">F\"&K399&\"|\"&R410","v":"AK>F16|902|W13"},{"$f":"L398&\">F\"&L399&\"|\"&S410","v":"AL>F16|950|W12"},{"$f":"M398&\">F\"&M399&\"|\"&R410","v":"AM>F17|902|W13"},{"$f":"N398&\">F\"&N399&\"|\"&S410","v":"AN>F17|950|W12"},{"$f":"O398&\">F\"&O399&\"|\"&R410","v":"AO>F18|902|W13"},{"$f":"P398&\">F\"&P399&\"|\"&S410","v":"AP>F18|950|W12"},null,"902|W13","950|W12",null,null,null,null,null,null,null,null,null,null,null,null,null,null,null,null,null,null,null,null,null,null,null,null,null,null,null,"Uniformität",null,null,"%",null,{"$f":"IF(AD410>0,AC410,\"\")","v":""},{"$f":"IF(AF410>0,AE410,\"\")","v":""},null,"",{"$f":"IF(AJ410>0,AI410,\"\")","v":""},"",{"$f":"IF(AN410>0,AM410,\"\")","v":""},""]
[{"$f":"A398&\">F\"&A399&\"|\"&R411","v":"AA>F11|912|W13"},{"$f":"B398&\">F\"&B399&\"|\"&S411","v":"AB>F11|950|W12"},{"$f":"C398&\">F\"&C399&\"|\"&R411","v":"AC>F12|912|W13"},{"$f":"D398&\">F\"&D399&\"|\"&S411","v":"AD>F12|950|W12"},{"$f":"E398&\">F\"&E399&\"|\"&R411","v":"AE>F13|912|W13"},{"$f":"F398&\">F\"&F399&\"|\"&S411","v":"AF>F13|950|W12"},{"$f":"G398&\">F\"&G399&\"|\"&R411","v":"AG>F14|912|W13"},{"$f":"H398&\">F\"&H399&\"|\"&S411","v":"AH>F14|950|W12"},{"$f":"I398&\">F\"&I399&\"|\"&R411","v":"AI>F15|912|W13"},{"$f":"J398&\">F\"&J399&\"|\"&S411","v":"AJ>F15|950|W12"},{"$f":"K398&\">F\"&K399&\"|\"&R411","v":"AK>F16|912|W13"},{"$f":"L398&\">F\"&L399&\"|\"&S411","v":"AL>F16|950|W12"},{"$f":"M398&\">F\"&M399&\"|\"&R411","v":"AM>F17|912|W13"},{"$f":"N398&\">F\"&N399&\"|\"&S411","v":"AN>F17|950|W12"},{"$f":"O398&\">F\"&O399&\"|\"&R411","v":"AO>F18|912|W13"},{"$f":"P398&\">F\"&P399&\"|\"&S411","v":"AP>F18|950|W12"},null,"912|W13","950|W12",null,null,null,null,null,null,null,null,null,null,null,null,null,null,null,null,null,null,null,null,null,null,null,null,null,null,null,"Zu leichte Tiere",null,null,"%",null,{"$f":"IF(AD411>0,AC411,\"\")","v":""},{"$f":"IF(AF411>0,AE411,\"\")","v":""},null,"",{"$f":"IF(AJ411>0,AI411,\"\")","v":""},"",{"$f":"IF(AN411>0,AM411,\"\")","v":""},""]
[]
[null,null,null,null,null,null,null,null,null,null,null,null,null,null,null,null,null,null,null,null,null,null,null,null,null,null,null,null,null,null,null,null,null,null,null,null,null,null,null,null,null,null,null,null,null,null,"Fortlaufende Erhebungen"]
[]
[null,null,null,null,null,null,null,null,null,null,null,null,null,null,null,null,null,null,null,{"$f":"AU415","v":"Tierverluste (mtl. Mortalitätsrate)"},null,null,null,null,null,null,null,null,null,null,null,null,null,null,null,null,null,null,null,null,null,null,null,null,null,null,"Tierverluste (mtl. Mortalitätsrate)",null,null,null,"Monat"]
[1,{"$f":"A416+1","v":2},3,4,5,6,7,8,9,10,11,12,null,null,null,null,null,null,null,null,null,null,null,null,null,null,null,null,null,null,null,null,null,null,null,null,null,null,null,null,null,null,null,null,null,null,null,null,null,null,{"$f":"A416","v":1},{"$f":"B416","v":2},3,4,5,6,7,8,9,10,11,12]
[{"$f":"A398&\">F\"&(400+A416) & \"|\" & S417","v":"AA>F401|911|W36"},{"$f":"B398&\">F\"&(400+B416) & \"|\" & S417","v":"AB>F402|911|W36"},{"$f":"C398&\">F\"&(400+C416) & \"|\" & S417","v":"AC>F403|911|W36"},{"$f":"D398&\">F\"&(400+D416) & \"|\" & S417","v":"AD>F404|911|W36"},{"$f":"E398&\">F\"&(400+E416) & \"|\" & S417","v":"AE>F405|911|W36"},{"$f":"F398&\">F\"&(400+F416) & \"|\" & S417","v":"AF>F406|911|W36"},{"$f":"G398&\">F\"&(400+G416) & \"|\" & S417","v":"AG>F407|911|W36"},{"$f":"H398&\">F\"&(400+H416) & \"|\" & S417","v":"AH>F408|911|W36"},{"$f":"I398&\">F\"&(400+I416) & \"|\" & S417","v":"AI>F409|911|W36"},{"$f":"J398&\">F\"&(400+J416) & \"|\" & S417","v":"AJ>F410|911|W36"},{"$f":"K398&\">F\"&(400+K416) & \"|\" & S417","v":"AK>F411|911|W36"},{"$f":"L398&\">F\"&(400+L416) & \"|\" & S417","v":"AL>F412|911|W36"},null,null,null,null,null,null,"911|W36",null,null,null,null,null,null,null,null,null,null,null,null,null,null,null,null,null,null,null,null,null,null,null,null,null,null,null,"Gesamt",null,null,"%",{"$f":"IF(COUNT(AA417)=1,AA417,\"\")","v":""},{"$f":"IF(COUNT(AB417)=1,AB417,\"\")","v":""},"","","","","","","","","",""]
[{"$f":"A398&\">F\"&(400+A416) & \"|\" & S418","v":"AA>F401|911|W02"},{"$f":"B398&\">F\"&(400+B416) & \"|\" & S418","v":"AB>F402|911|W02"},{"$f":"C398&\">F\"&(400+C416) & \"|\" & S418","v":"AC>F403|911|W02"},{"$f":"D398&\">F\"&(400+D416) & \"|\" & S418","v":"AD>F404|911|W02"},{"$f":"E398&\">F\"&(400+E416) & \"|\" & S418","v":"AE>F405|911|W02"},{"$f":"F398&\">F\"&(400+F416) & \"|\" & S418","v":"AF>F406|911|W02"},{"$f":"G398&\">F\"&(400+G416) & \"|\" & S418","v":"AG>F407|911|W02"},{"$f":"H398&\">F\"&(400+H416) & \"|\" & S418","v":"AH>F408|911|W02"},{"$f":"I398&\">F\"&(400+I416) & \"|\" & S418","v":"AI>F409|911|W02"},{"$f":"J398&\">F\"&(400+J416) & \"|\" & S418","v":"AJ>F410|911|W02"},{"$f":"K398&\">F\"&(400+K416) & \"|\" & S418","v":"AK>F411|911|W02"},{"$f":"L398&\">F\"&(400+L416) & \"|\" & S418","v":"AL>F412|911|W02"},null,null,null,null,null,null,"911|W02",null,null,null,null,null,null,null,null,null,null,null,null,null,null,null,null,null,null,null,null,null,null,null,null,null,null,null,"Unfall",null,null,"%",{"$f":"IF(COUNT(AA418)=1,AA418,\"\")","v":""},"","","","","","","","","","",""]
[{"$f":"A398&\">F\"&(400+A416) & \"|\" & S419","v":"AA>F401|911|W03"},{"$f":"B398&\">F\"&(400+B416) & \"|\" & S419","v":"AB>F402|911|W03"},{"$f":"C398&\">F\"&(400+C416) & \"|\" & S419","v":"AC>F403|911|W03"},{"$f":"D398&\">F\"&(400+D416) & \"|\" & S419","v":"AD>F404|911|W03"},{"$f":"E398&\">F\"&(400+E416) & \"|\" & S419","v":"AE>F405|911|W03"},{"$f":"F398&\">F\"&(400+F416) & \"|\" & S419","v":"AF>F406|911|W03"},{"$f":"G398&\">F\"&(400+G416) & \"|\" & S419","v":"AG>F407|911|W03"},{"$f":"H398&\">F\"&(400+H416) & \"|\" & S419","v":"AH>F408|911|W03"},{"$f":"I398&\">F\"&(400+I416) & \"|\" & S419","v":"AI>F409|911|W03"},{"$f":"J398&\">F\"&(400+J416) & \"|\" & S419","v":"AJ>F410|911|W03"},{"$f":"K398&\">F\"&(400+K416) & \"|\" & S419","v":"AK>F411|911|W03"},{"$f":"L398&\">F\"&(400+L416) & \"|\" & S419","v":"AL>F412|911|W03"},null,null,null,null,null,null,"911|W03",null,null,null,null,null,null,null,null,null,null,null,null,null,null,null,null,null,null,null,null,null,null,null,null,null,null,null,"Erkrankungen",null,null,"%","","","","","","","","","","","",""]
[{"$f":"A398&\">F\"&(400+A416) & \"|\" & S420","v":"AA>F401|911|W04"},{"$f":"B398&\">F\"&(400+B416) & \"|\" & S420","v":"AB>F402|911|W04"},{"$f":"C398&\">F\"&(400+C416) & \"|\" & S420","v":"AC>F403|911|W04"},{"$f":"D398&\">F\"&(400+D416) & \"|\" & S420","v":"AD>F404|911|W04"},{"$f":"E398&\">F\"&(400+E416) & \"|\" & S420","v":"AE>F405|911|W04"},{"$f":"F398&\">F\"&(400+F416) & \"|\" & S420","v":"AF>F406|911|W04"},{"$f":"G398&\">F\"&(400+G416) & \"|\" & S420","v":"AG>F407|911|W04"},{"$f":"H398&\">F\"&(400+H416) & \"|\" & S420","v":"AH>F408|911|W04"},{"$f":"I398&\">F\"&(400+I416) & \"|\" & S420","v":"AI>F409|911|W04"},{"$f":"J398&\">F\"&(400+J416) & \"|\" & S420","v":"AJ>F410|911|W04"},{"$f":"K398&\">F\"&(400+K416) & \"|\" & S420","v":"AK>F411|911|W04"},{"$f":"L398&\">F\"&(400+L416) & \"|\" & S420","v":"AL>F412|911|W04"},null,null,null,null,null,null,"911|W04",null,null,null,null,null,null,null,null,null,null,null,null,null,null,null,null,null,null,null,null,null,null,null,null,null,null,null,"Hunger/Durst",null,null,"%","","","","","","","","","","","",""]
[{"$f":"A398&\">F\"&(400+A416) & \"|\" & S421","v":"AA>F401|911|W05"},{"$f":"B398&\">F\"&(400+B416) & \"|\" & S421","v":"AB>F402|911|W05"},{"$f":"C398&\">F\"&(400+C416) & \"|\" & S421","v":"AC>F403|911|W05"},{"$f":"D398&\">F\"&(400+D416) & \"|\" & S421","v":"AD>F404|911|W05"},{"$f":"E398&\">F\"&(400+E416) & \"|\" & S421","v":"AE>F405|911|W05"},{"$f":"F398&\">F\"&(400+F416) & \"|\" & S421","v":"AF>F406|911|W05"},{"$f":"G398&\">F\"&(400+G416) & \"|\" & S421","v":"AG>F407|911|W05"},{"$f":"H398&\">F\"&(400+H416) & \"|\" & S421","v":"AH>F408|911|W05"},{"$f":"I398&\">F\"&(400+I416) & \"|\" & S421","v":"AI>F409|911|W05"},{"$f":"J398&\">F\"&(400+J416) & \"|\" & S421","v":"AJ>F410|911|W05"},{"$f":"K398&\">F\"&(400+K416) & \"|\" & S421","v":"AK>F411|911|W05"},{"$f":"L398&\">F\"&(400+L416) & \"|\" & S421","v":"AL>F412|911|W05"},null,null,null,null,null,null,"911|W05",null,null,null,null,null,null,null,null,null,null,null,null,null,null,null,null,null,null,null,null,null,null,null,null,null,null,null,"Kannibalismus",null,null,"%","","","","","","","","","","","",""]
[{"$f":"A398&\">F\"&(400+A416) & \"|\" & S422","v":"AA>F401|911|W06"},{"$f":"B398&\">F\"&(400+B416) & \"|\" & S422","v":"AB>F402|911|W06"},{"$f":"C398&\">F\"&(400+C416) & \"|\" & S422","v":"AC>F403|911|W06"},{"$f":"D398&\">F\"&(400+D416) & \"|\" & S422","v":"AD>F404|911|W06"},{"$f":"E398&\">F\"&(400+E416) & \"|\" & S422","v":"AE>F405|911|W06"},{"$f":"F398&\">F\"&(400+F416) & \"|\" & S422","v":"AF>F406|911|W06"},{"$f":"G398&\">F\"&(400+G416) & \"|\" & S422","v":"AG>F407|911|W06"},{"$f":"H398&\">F\"&(400+H416) & \"|\" & S422","v":"AH>F408|911|W06"},{"$f":"I398&\">F\"&(400+I416) & \"|\" & S422","v":"AI>F409|911|W06"},{"$f":"J398&\">F\"&(400+J416) & \"|\" & S422","v":"AJ>F410|911|W06"},{"$f":"K398&\">F\"&(400+K416) & \"|\" & S422","v":"AK>F411|911|W06"},{"$f":"L398&\">F\"&(400+L416) & \"|\" & S422","v":"AL>F412|911|W06"},null,null,null,null,null,null,"911|W06",null,null,null,null,null,null,null,null,null,null,null,null,null,null,null,null,null,null,null,null,null,null,null,null,null,null,null,"Lahmheit",null,null,"%","","","","","","","","","","","",""]
[{"$f":"A398&\">F\"&(400+A416) & \"|\" & S423","v":"AA>F401|911|W07"},{"$f":"B398&\">F\"&(400+B416) & \"|\" & S423","v":"AB>F402|911|W07"},{"$f":"C398&\">F\"&(400+C416) & \"|\" & S423","v":"AC>F403|911|W07"},{"$f":"D398&\">F\"&(400+D416) & \"|\" & S423","v":"AD>F404|911|W07"},{"$f":"E398&\">F\"&(400+E416) & \"|\" & S423","v":"AE>F405|911|W07"},{"$f":"F398&\">F\"&(400+F416) & \"|\" & S423","v":"AF>F406|911|W07"},{"$f":"G398&\">F\"&(400+G416) & \"|\" & S423","v":"AG>F407|911|W07"},{"$f":"H398&\">F\"&(400+H416) & \"|\" & S423","v":"AH>F408|911|W07"},{"$f":"I398&\">F\"&(400+I416) & \"|\" & S423","v":"AI>F409|911|W07"},{"$f":"J398&\">F\"&(400+J416) & \"|\" & S423","v":"AJ>F410|911|W07"},{"$f":"K398&\">F\"&(400+K416) & \"|\" & S423","v":"AK>F411|911|W07"},{"$f":"L398&\">F\"&(400+L416) & \"|\" & S423","v":"AL>F412|911|W07"},null,null,null,null,null,null,"911|W07",null,null,null,null,null,null,null,null,null,null,null,null,null,null,null,null,null,null,null,null,null,null,null,null,null,null,null,"Beutegreifer",null,null,"%","","","","","","","","","","","",""]
[{"$f":"A398&\">F\"&(400+A416) & \"|\" & S424","v":"AA>F401|911|W08"},{"$f":"B398&\">F\"&(400+B416) & \"|\" & S424","v":"AB>F402|911|W08"},{"$f":"C398&\">F\"&(400+C416) & \"|\" & S424","v":"AC>F403|911|W08"},{"$f":"D398&\">F\"&(400+D416) & \"|\" & S424","v":"AD>F404|911|W08"},{"$f":"E398&\">F\"&(400+E416) & \"|\" & S424","v":"AE>F405|911|W08"},{"$f":"F398&\">F\"&(400+F416) & \"|\" & S424","v":"AF>F406|911|W08"},{"$f":"G398&\">F\"&(400+G416) & \"|\" & S424","v":"AG>F407|911|W08"},{"$f":"H398&\">F\"&(400+H416) & \"|\" & S424","v":"AH>F408|911|W08"},{"$f":"I398&\">F\"&(400+I416) & \"|\" & S424","v":"AI>F409|911|W08"},{"$f":"J398&\">F\"&(400+J416) & \"|\" & S424","v":"AJ>F410|911|W08"},{"$f":"K398&\">F\"&(400+K416) & \"|\" & S424","v":"AK>F411|911|W08"},{"$f":"L398&\">F\"&(400+L416) & \"|\" & S424","v":"AL>F412|911|W08"},null,null,null,null,null,null,"911|W08",null,null,null,null,null,null,null,null,null,null,null,null,null,null,null,null,null,null,null,null,null,null,null,null,null,null,null,"Sonstige Ursachen",null,null,"%","","","","","","","","","","","",""]
[]
[null,null,null,null,null,null,null,null,null,null,null,null,null,null,null,null,null,null,null,null,null,null,null,null,null,null,null,null,null,null,null,null,null,null,null,null,null,null,null,null,null,null,null,null,null,null,null,null,null,null,"Monat",null,null,null,null,null,null,null,null,null,null,"Summe"]
[{"$f":"L416+1","v":13},{"$f":"A427+1","v":14},{"$f":"B427+1","v":15},16,17,18,19,20,21,22,23,null,null,null,null,null,null,null,null,null,null,null,null,null,null,null,null,null,null,null,null,null,null,null,null,null,null,null,null,null,null,null,null,null,null,null,null,null,null,null,{"$f":"A427","v":13},14,15,16,17,18,19,20,21,22,null,"Durchgang"]
[{"$f":"A398&\">F\"&(400+A427) & \"|\" & S428","v":"AA>F413|911|W36"},{"$f":"B398&\">F\"&(400+B427) & \"|\" & S428","v":"AB>F414|911|W36"},{"$f":"C398&\">F\"&(400+C427) & \"|\" & S428","v":"AC>F415|911|W36"},{"$f":"D398&\">F\"&(400+D427) & \"|\" & S428","v":"AD>F416|911|W36"},{"$f":"E398&\">F\"&(400+E427) & \"|\" & S428","v":"AE>F417|911|W36"},{"$f":"F398&\">F\"&(400+F427) & \"|\" & S428","v":"AF>F418|911|W36"},{"$f":"G398&\">F\"&(400+G427) & \"|\" & S428","v":"AG>F419|911|W36"},{"$f":"H398&\">F\"&(400+H427) & \"|\" & S428","v":"AH>F420|911|W36"},{"$f":"I398&\">F\"&(400+I427) & \"|\" & S428","v":"AI>F421|911|W36"},{"$f":"J398&\">F\"&(400+J427) & \"|\" & S428","v":"AJ>F422|911|W36"},{"$f":"K398&\">F\"&(400+K427) & \"|\" & S428","v":"AK>F423|911|W36"},null,"AL>SUM|F401-430|910|W36",null,null,"AM>T04",null,null,"911|W36",null,null,null,null,null,null,null,null,null,null,null,null,null,null,null,null,null,null,null,null,null,null,null,null,{"$f":"COUNT(AY417:BJ424)+COUNT(AY428:BH435)","v":0},null,null,"Gesamt",null,null,"%",{"$f":"IF(COUNT(AA428)=1,AA428,\"\")","v":""},{"$f":"IF(COUNT(AB428)=1,AB428,\"\")","v":""},"","","","","","","","",null,{"$f":"IF(AND(AM428>0,AR428>0),AL428/AM428*100,\"\")","v":""}]
[{"$f":"A398&\">F\"&(400+A427) & \"|\" & S429","v":"AA>F413|911|W02"},{"$f":"B398&\">F\"&(400+B427) & \"|\" & S429","v":"AB>F414|911|W02"},{"$f":"C398&\">F\"&(400+C427) & \"|\" & S429","v":"AC>F415|911|W02"},{"$f":"D398&\">F\"&(400+D427) & \"|\" & S429","v":"AD>F416|911|W02"},{"$f":"E398&\">F\"&(400+E427) & \"|\" & S429","v":"AE>F417|911|W02"},{"$f":"F398&\">F\"&(400+F427) & \"|\" & S429","v":"AF>F418|911|W02"},{"$f":"G398&\">F\"&(400+G427) & \"|\" & S429","v":"AG>F419|911|W02"},{"$f":"H398&\">F\"&(400+H427) & \"|\" & S429","v":"AH>F420|911|W02"},{"$f":"I398&\">F\"&(400+I427) & \"|\" & S429","v":"AI>F421|911|W02"},{"$f":"J398&\">F\"&(400+J427) & \"|\" & S429","v":"AJ>F422|911|W02"},{"$f":"K398&\">F\"&(400+K427) & \"|\" & S429","v":"AK>F423|911|W02"},null,"AL>SUM|F401-430|910|W02",null,null,"AM>T04",null,null,"911|W02",null,null,null,null,null,null,null,null,null,null,null,null,null,null,null,null,null,null,null,null,null,null,null,null,{"$f":"COUNT(AY417:BJ424)+COUNT(AY428:BH435)","v":0},null,null,"Unfall",null,null,"%",{"$f":"IF(COUNT(AA429)=1,AA429,\"\")","v":""},"","","","","","","","","",null,{"$f":"IF(AND(AM429>0,AR429>0),AL429/AM429*100,\"\")","v":""}]
[{"$f":"A398&\">F\"&(400+A427) & \"|\" & S430","v":"AA>F413|911|W03"},{"$f":"B398&\">F\"&(400+B427) & \"|\" & S430","v":"AB>F414|911|W03"},{"$f":"C398&\">F\"&(400+C427) & \"|\" & S430","v":"AC>F415|911|W03"},{"$f":"D398&\">F\"&(400+D427) & \"|\" & S430","v":"AD>F416|911|W03"},{"$f":"E398&\">F\"&(400+E427) & \"|\" & S430","v":"AE>F417|911|W03"},{"$f":"F398&\">F\"&(400+F427) & \"|\" & S430","v":"AF>F418|911|W03"},{"$f":"G398&\">F\"&(400+G427) & \"|\" & S430","v":"AG>F419|911|W03"},{"$f":"H398&\">F\"&(400+H427) & \"|\" & S430","v":"AH>F420|911|W03"},{"$f":"I398&\">F\"&(400+I427) & \"|\" & S430","v":"AI>F421|911|W03"},{"$f":"J398&\">F\"&(400+J427) & \"|\" & S430","v":"AJ>F422|911|W03"},{"$f":"K398&\">F\"&(400+K427) & \"|\" & S430","v":"AK>F423|911|W03"},null,"AL>SUM|F401-430|910|W03",null,null,"AM>T04",null,null,"911|W03",null,null,null,null,null,null,null,null,null,null,null,null,null,null,null,null,null,null,null,null,null,null,null,null,{"$f":"COUNT(AY417:BJ424)+COUNT(AY428:BH435)","v":0},null,null,"Erkrankungen",null,null,"%","","","","",{"$f":"IF(COUNT(AE430)=1,AE430,\"\")","v":""},"","","","","",null,""]
[{"$f":"A398&\">F\"&(400+A427) & \"|\" & S431","v":"AA>F413|911|W04"},{"$f":"B398&\">F\"&(400+B427) & \"|\" & S431","v":"AB>F414|911|W04"},{"$f":"C398&\">F\"&(400+C427) & \"|\" & S431","v":"AC>F415|911|W04"},{"$f":"D398&\">F\"&(400+D427) & \"|\" & S431","v":"AD>F416|911|W04"},{"$f":"E398&\">F\"&(400+E427) & \"|\" & S431","v":"AE>F417|911|W04"},{"$f":"F398&\">F\"&(400+F427) & \"|\" & S431","v":"AF>F418|911|W04"},{"$f":"G398&\">F\"&(400+G427) & \"|\" & S431","v":"AG>F419|911|W04"},{"$f":"H398&\">F\"&(400+H427) & \"|\" & S431","v":"AH>F420|911|W04"},{"$f":"I398&\">F\"&(400+I427) & \"|\" & S431","v":"AI>F421|911|W04"},{"$f":"J398&\">F\"&(400+J427) & \"|\" & S431","v":"AJ>F422|911|W04"},{"$f":"K398&\">F\"&(400+K427) & \"|\" & S431","v":"AK>F423|911|W04"},null,"AL>SUM|F401-430|910|W04",null,null,"AM>T04",null,null,"911|W04",null,null,null,null,null,null,null,null,null,null,null,null,null,null,null,null,null,null,null,null,null,null,null,null,{"$f":"COUNT(AY417:BJ424)+COUNT(AY428:BH435)","v":0},null,null,"Hunger/Durst",null,null,"%","","","","","","","","","","",null,""]
[{"$f":"A398&\">F\"&(400+A427) & \"|\" & S432","v":"AA>F413|911|W05"},{"$f":"B398&\">F\"&(400+B427) & \"|\" & S432","v":"AB>F414|911|W05"},{"$f":"C398&\">F\"&(400+C427) & \"|\" & S432","v":"AC>F415|911|W05"},{"$f":"D398&\">F\"&(400+D427) & \"|\" & S432","v":"AD>F416|911|W05"},{"$f":"E398&\">F\"&(400+E427) & \"|\" & S432","v":"AE>F417|911|W05"},{"$f":"F398&\">F\"&(400+F427) & \"|\" & S432","v":"AF>F418|911|W05"},{"$f":"G398&\">F\"&(400+G427) & \"|\" & S432","v":"AG>F419|911|W05"},{"$f":"H398&\">F\"&(400+H427) & \"|\" & S432","v":"AH>F420|911|W05"},{"$f":"I398&\">F\"&(400+I427) & \"|\" & S432","v":"AI>F421|911|W05"},{"$f":"J398&\">F\"&(400+J427) & \"|\" & S432","v":"AJ>F422|911|W05"},{"$f":"K398&\">F\"&(400+K427) & \"|\" & S432","v":"AK>F423|911|W05"},null,"AL>SUM|F401-430|910|W05",null,null,"AM>T04",null,null,"911|W05",null,null,null,null,null,null,null,null,null,null,null,null,null,null,null,null,null,null,null,null,null,null,null,null,{"$f":"COUNT(AY417:BJ424)+COUNT(AY428:BH435)","v":0},null,null,"Kannibalismus",null,null,"%","","","","","","","","","","",null,""]
[{"$f":"A398&\">F\"&(400+A427) & \"|\" & S433","v":"AA>F413|911|W06"},{"$f":"B398&\">F\"&(400+B427) & \"|\" & S433","v":"AB>F414|911|W06"},{"$f":"C398&\">F\"&(400+C427) & \"|\" & S433","v":"AC>F415|911|W06"},{"$f":"D398&\">F\"&(400+D427) & \"|\" & S433","v":"AD>F416|911|W06"},{"$f":"E398&\">F\"&(400+E427) & \"|\" & S433","v":"AE>F417|911|W06"},{"$f":"F398&\">F\"&(400+F427) & \"|\" & S433","v":"AF>F418|911|W06"},{"$f":"G398&\">F\"&(400+G427) & \"|\" & S433","v":"AG>F419|911|W06"},{"$f":"H398&\">F\"&(400+H427) & \"|\" & S433","v":"AH>F420|911|W06"},{"$f":"I398&\">F\"&(400+I427) & \"|\" & S433","v":"AI>F421|911|W06"},{"$f":"J398&\">F\"&(400+J427) & \"|\" & S433","v":"AJ>F422|911|W06"},{"$f":"K398&\">F\"&(400+K427) & \"|\" & S433","v":"AK>F423|911|W06"},null,"AL>SUM|F401-430|910|W06",null,null,"AM>T04",null,null,"911|W06",null,null,null,null,null,null,null,null,null,null,null,null,null,null,null,null,null,null,null,null,null,null,null,null,{"$f":"COUNT(AY417:BJ424)+COUNT(AY428:BH435)","v":0},null,null,"Lahmheit",null,null,"%","","","","","","","","","","",null,""]
[{"$f":"A398&\">F\"&(400+A427) & \"|\" & S434","v":"AA>F413|911|W07"},{"$f":"B398&\">F\"&(400+B427) & \"|\" & S434","v":"AB>F414|911|W07"},{"$f":"C398&\">F\"&(400+C427) & \"|\" & S434","v":"AC>F415|911|W07"},{"$f":"D398&\">F\"&(400+D427) & \"|\" & S434","v":"AD>F416|911|W07"},{"$f":"E398&\">F\"&(400+E427) & \"|\" & S434","v":"AE>F417|911|W07"},{"$f":"F398&\">F\"&(400+F427) & \"|\" & S434","v":"AF>F418|911|W07"},{"$f":"G398&\">F\"&(400+G427) & \"|\" & S434","v":"AG>F419|911|W07"},{"$f":"H398&\">F\"&(400+H427) & \"|\" & S434","v":"AH>F420|911|W07"},{"$f":"I398&\">F\"&(400+I427) & \"|\" & S434","v":"AI>F421|911|W07"},{"$f":"J398&\">F\"&(400+J427) & \"|\" & S434","v":"AJ>F422|911|W07"},{"$f":"K398&\">F\"&(400+K427) & \"|\" & S434","v":"AK>F423|911|W07"},null,"AL>SUM|F401-430|910|W07",null,null,"AM>T04",null,null,"911|W07",null,null,null,null,null,null,null,null,null,null,null,null,null,null,null,null,null,null,null,null,null,null,null,null,{"$f":"COUNT(AY417:BJ424)+COUNT(AY428:BH435)","v":0},null,null,"Beutegreifer",null,null,"%","","","","","","","","","","",null,""]
[{"$f":"A398&\">F\"&(400+A427) & \"|\" & S435","v":"AA>F413|911|W08"},{"$f":"B398&\">F\"&(400+B427) & \"|\" & S435","v":"AB>F414|911|W08"},{"$f":"C398&\">F\"&(400+C427) & \"|\" & S435","v":"AC>F415|911|W08"},{"$f":"D398&\">F\"&(400+D427) & \"|\" & S435","v":"AD>F416|911|W08"},{"$f":"E398&\">F\"&(400+E427) & \"|\" & S435","v":"AE>F417|911|W08"},{"$f":"F398&\">F\"&(400+F427) & \"|\" & S435","v":"AF>F418|911|W08"},{"$f":"G398&\">F\"&(400+G427) & \"|\" & S435","v":"AG>F419|911|W08"},{"$f":"H398&\">F\"&(400+H427) & \"|\" & S435","v":"AH>F420|911|W08"},{"$f":"I398&\">F\"&(400+I427) & \"|\" & S435","v":"AI>F421|911|W08"},{"$f":"J398&\">F\"&(400+J427) & \"|\" & S435","v":"AJ>F422|911|W08"},{"$f":"K398&\">F\"&(400+K427) & \"|\" & S435","v":"AK>F423|911|W08"},null,"AL>SUM|F401-430|910|W08",null,null,"AM>T04",null,null,"911|W08",null,null,null,null,null,null,null,null,null,null,null,null,null,null,null,null,null,null,null,null,null,null,null,null,{"$f":"COUNT(AY417:BJ424)+COUNT(AY428:BH435)","v":0},null,null,"Sonstige Ursachen",null,null,"%","","","","","","","","","","",null,""]
[]
[30,{"$f":"A437","v":30},{"$f":"B437","v":30},{"$f":"C437","v":30},{"$f":"D437","v":30},{"$f":"E437","v":30},31,{"$f":"G437","v":31},{"$f":"H437","v":31},31,31,31,null,null,null,null,null,null,null,{"$f":"AU437","v":"Tiergewichte/Eier/Wasserverbrauch"},null,null,null,null,null,null,null,null,null,null,null,null,null,null,null,null,null,null,null,null,null,null,null,null,null,null,"Tiergewichte/Eier/Wasserverbrauch",null,null,null,null,null,null,null,null,"Monat"]
[7,11,15,19,23,27,{"$f":"A438","v":7},{"$f":"B438","v":11},{"$f":"C438","v":15},{"$f":"D438","v":19},{"$f":"E438","v":23},{"$f":"K438+1","v":24},null,null,null,null,null,null,null,null,null,null,null,null,null,null,null,null,null,null,null,null,null,null,null,null,null,null,null,null,null,null,null,null,null,null,null,null,null,null,{"$f":"A416","v":1},{"$f":"B416","v":2},3,4,5,6,7,8,9,10,11,12]
[{"$f":"A398 & \">F\" & A437 & \"|\" & S439 & \"|W\" & TEXT(A438,\"00\")","v":"AA>F30|910|W07"},{"$f":"B398 & \">F\" & B437 & \"|\" & S439 & \"|W\" & TEXT(B438,\"00\")","v":"AB>F30|910|W11"},{"$f":"C398 & \">F\" & C437 & \"|\" & S439 & \"|W\" & TEXT(C438,\"00\")","v":"AC>F30|910|W15"},{"$f":"D398 & \">F\" & D437 & \"|\" & S439 & \"|W\" & TEXT(D438,\"00\")","v":"AD>F30|910|W19"},{"$f":"E398 & \">F\" & E437 & \"|\" & S439 & \"|W\" & TEXT(E438,\"00\")","v":"AE>F30|910|W23"},{"$f":"F398 & \">F\" & F437 & \"|\" & S439 & \"|W\" & TEXT(F438,\"00\")","v":"AF>F30|910|W27"},{"$f":"G398 & \">F\" & G437 & \"|\" & S439 & \"|W\" & TEXT(G438,\"00\")","v":"AG>F31|910|W07"},{"$f":"H398 & \">F\" & H437 & \"|\" & S439 & \"|W\" & TEXT(H438,\"00\")","v":"AH>F31|910|W11"},{"$f":"I398 & \">F\" & I437 & \"|\" & S439 & \"|W\" & TEXT(I438,\"00\")","v":"AI>F31|910|W15"},{"$f":"J398 & \">F\" & J437 & \"|\" & S439 & \"|W\" & TEXT(J438,\"00\")","v":"AJ>F31|910|W19"},{"$f":"K398 & \">F\" & K437 & \"|\" & S439 & \"|W\" & TEXT(K438,\"00\")","v":"AK>F31|910|W23"},{"$f":"L398 & \">F\" & L437 & \"|\" & S439 & \"|W\" & TEXT(L438,\"00\")","v":"AL>F31|910|W24"},null,null,null,null,null,null,910,null,null,null,null,null,null,null,null,null,null,null,null,null,null,null,null,null,null,null,null,null,null,null,null,null,null,null,"Sollgewichtserfüllung",null,null,"%",{"$f":"IF(AA439>0,AA439,\"\")","v":""},"","","","","","","","","","",""]
[{"$f":"A398 & \">F\" & A437 & \"|\" & S440 & \"|W\" & TEXT(A438,\"00\")","v":"AA>F30|909|W07"},{"$f":"B398 & \">F\" & B437 & \"|\" & S440 & \"|W\" & TEXT(B438,\"00\")","v":"AB>F30|909|W11"},{"$f":"C398 & \">F\" & C437 & \"|\" & S440 & \"|W\" & TEXT(C438,\"00\")","v":"AC>F30|909|W15"},{"$f":"D398 & \">F\" & D437 & \"|\" & S440 & \"|W\" & TEXT(D438,\"00\")","v":"AD>F30|909|W19"},{"$f":"E398 & \">F\" & E437 & \"|\" & S440 & \"|W\" & TEXT(E438,\"00\")","v":"AE>F30|909|W23"},{"$f":"F398 & \">F\" & F437 & \"|\" & S440 & \"|W\" & TEXT(F438,\"00\")","v":"AF>F30|909|W27"},{"$f":"G398 & \">F\" & G437 & \"|\" & S440 & \"|W\" & TEXT(G438,\"00\")","v":"AG>F31|909|W07"},{"$f":"H398 & \">F\" & H437 & \"|\" & S440 & \"|W\" & TEXT(H438,\"00\")","v":"AH>F31|909|W11"},{"$f":"I398 & \">F\" & I437 & \"|\" & S440 & \"|W\" & TEXT(I438,\"00\")","v":"AI>F31|909|W15"},{"$f":"J398 & \">F\" & J437 & \"|\" & S440 & \"|W\" & TEXT(J438,\"00\")","v":"AJ>F31|909|W19"},{"$f":"K398 & \">F\" & K437 & \"|\" & S440 & \"|W\" & TEXT(K438,\"00\")","v":"AK>F31|909|W23"},{"$f":"L398 & \">F\" & L437 & \"|\" & S440 & \"|W\" & TEXT(L438,\"00\")","v":"AL>F31|909|W24"},null,null,null,null,null,null,909,null,null,null,null,null,null,null,null,null,null,null,null,null,null,null,null,null,null,null,null,null,null,null,null,null,null,null,"Uniformität",null,null,"%","","","","","","","","","","","",""]
[{"$f":"A398 & \">F\" & A437 & \"|\" & S441 & \"|W\" & TEXT(A438,\"00\")","v":"AA>F30|908|W07"},{"$f":"B398 & \">F\" & B437 & \"|\" & S441 & \"|W\" & TEXT(B438,\"00\")","v":"AB>F30|908|W11"},{"$f":"C398 & \">F\" & C437 & \"|\" & S441 & \"|W\" & TEXT(C438,\"00\")","v":"AC>F30|908|W15"},{"$f":"D398 & \">F\" & D437 & \"|\" & S441 & \"|W\" & TEXT(D438,\"00\")","v":"AD>F30|908|W19"},{"$f":"E398 & \">F\" & E437 & \"|\" & S441 & \"|W\" & TEXT(E438,\"00\")","v":"AE>F30|908|W23"},{"$f":"F398 & \">F\" & F437 & \"|\" & S441 & \"|W\" & TEXT(F438,\"00\")","v":"AF>F30|908|W27"},{"$f":"G398 & \">F\" & G437 & \"|\" & S441 & \"|W\" & TEXT(G438,\"00\")","v":"AG>F31|908|W07"},{"$f":"H398 & \">F\" & H437 & \"|\" & S441 & \"|W\" & TEXT(H438,\"00\")","v":"AH>F31|908|W11"},{"$f":"I398 & \">F\" & I437 & \"|\" & S441 & \"|W\" & TEXT(I438,\"00\")","v":"AI>F31|908|W15"},{"$f":"J398 & \">F\" & J437 & \"|\" & S441 & \"|W\" & TEXT(J438,\"00\")","v":"AJ>F31|908|W19"},{"$f":"K398 & \">F\" & K437 & \"|\" & S441 & \"|W\" & TEXT(K438,\"00\")","v":"AK>F31|908|W23"},{"$f":"L398 & \">F\" & L437 & \"|\" & S441 & \"|W\" & TEXT(L438,\"00\")","v":"AL>F31|908|W24"},null,null,null,null,null,null,908,null,null,null,null,null,null,null,null,null,null,null,null,null,null,null,null,null,null,null,null,null,null,null,null,null,null,null,"Anteil zu leichter Tiere",null,null,"%",{"$f":"IF(COUNT(AY440)=1,AA441,\"\")","v":""},"","","","","","","","","","",""]
[{"$f":"A398&\">F\"&(400+A416) & \"|\" & S442","v":"AA>F401|911|W42"},{"$f":"B398&\">F\"&(400+B416) & \"|\" & S442","v":"AB>F402|911|W42"},{"$f":"C398&\">F\"&(400+C416) & \"|\" & S442","v":"AC>F403|911|W42"},{"$f":"D398&\">F\"&(400+D416) & \"|\" & S442","v":"AD>F404|911|W42"},{"$f":"E398&\">F\"&(400+E416) & \"|\" & S442","v":"AE>F405|911|W42"},{"$f":"F398&\">F\"&(400+F416) & \"|\" & S442","v":"AF>F406|911|W42"},{"$f":"G398&\">F\"&(400+G416) & \"|\" & S442","v":"AG>F407|911|W42"},{"$f":"H398&\">F\"&(400+H416) & \"|\" & S442","v":"AH>F408|911|W42"},{"$f":"I398&\">F\"&(400+I416) & \"|\" & S442","v":"AI>F409|911|W42"},{"$f":"J398&\">F\"&(400+J416) & \"|\" & S442","v":"AJ>F410|911|W42"},{"$f":"K398&\">F\"&(400+K416) & \"|\" & S442","v":"AK>F411|911|W42"},{"$f":"L398&\">F\"&(400+L416) & \"|\" & S442","v":"AL>F412|911|W42"},null,null,null,null,null,null,"911|W42",null,null,null,null,null,null,null,null,null,null,null,null,null,null,null,null,null,null,null,null,null,null,null,null,null,null,null,"Legeleistung",null,null,"%",{"$f":"IF(AA442>0,AA442,\"\")","v":""},"","","","","","","","","","",""]
[{"$f":"A398&\">F\"&(400+A416) & \"|\" & S443","v":"AA>F401|911|W43"},{"$f":"B398&\">F\"&(400+B416) & \"|\" & S443","v":"AB>F402|911|W43"},{"$f":"C398&\">F\"&(400+C416) & \"|\" & S443","v":"AC>F403|911|W43"},{"$f":"D398&\">F\"&(400+D416) & \"|\" & S443","v":"AD>F404|911|W43"},{"$f":"E398&\">F\"&(400+E416) & \"|\" & S443","v":"AE>F405|911|W43"},{"$f":"F398&\">F\"&(400+F416) & \"|\" & S443","v":"AF>F406|911|W43"},{"$f":"G398&\">F\"&(400+G416) & \"|\" & S443","v":"AG>F407|911|W43"},{"$f":"H398&\">F\"&(400+H416) & \"|\" & S443","v":"AH>F408|911|W43"},{"$f":"I398&\">F\"&(400+I416) & \"|\" & S443","v":"AI>F409|911|W43"},{"$f":"J398&\">F\"&(400+J416) & \"|\" & S443","v":"AJ>F410|911|W43"},{"$f":"K398&\">F\"&(400+K416) & \"|\" & S443","v":"AK>F411|911|W43"},{"$f":"L398&\">F\"&(400+L416) & \"|\" & S443","v":"AL>F412|911|W43"},null,null,null,null,null,null,"911|W43",null,null,null,null,null,null,null,null,null,null,null,null,null,null,null,null,null,null,null,null,null,null,null,null,null,null,null,"Äußere Eiqualität",null,null,"Sekundaeier %",{"$f":"IF(COUNT(AY442)=1,AA443,\"\")","v":""},"","","","","","","","","","",""]
[{"$f":"A398&\">F\"&(400+A416) & \"|\" & S444","v":"AA>F401|911|W46"},{"$f":"B398&\">F\"&(400+B416) & \"|\" & S444","v":"AB>F402|911|W46"},{"$f":"C398&\">F\"&(400+C416) & \"|\" & S444","v":"AC>F403|911|W46"},{"$f":"D398&\">F\"&(400+D416) & \"|\" & S444","v":"AD>F404|911|W46"},{"$f":"E398&\">F\"&(400+E416) & \"|\" & S444","v":"AE>F405|911|W46"},{"$f":"F398&\">F\"&(400+F416) & \"|\" & S444","v":"AF>F406|911|W46"},{"$f":"G398&\">F\"&(400+G416) & \"|\" & S444","v":"AG>F407|911|W46"},{"$f":"H398&\">F\"&(400+H416) & \"|\" & S444","v":"AH>F408|911|W46"},{"$f":"I398&\">F\"&(400+I416) & \"|\" & S444","v":"AI>F409|911|W46"},{"$f":"J398&\">F\"&(400+J416) & \"|\" & S444","v":"AJ>F410|911|W46"},{"$f":"K398&\">F\"&(400+K416) & \"|\" & S444","v":"AK>F411|911|W46"},{"$f":"L398&\">F\"&(400+L416) & \"|\" & S444","v":"AL>F412|911|W46"},null,null,null,null,null,null,"911|W46",null,null,null,null,null,null,null,null,null,null,null,null,null,null,null,null,null,null,null,null,null,null,null,null,null,null,null,"Wasserverbrauch",null,null,"ø l/1000 Tiere",{"$f":"IF(AA444>0,AA444,\"\")","v":""},{"$f":"IF(AB444>0,AB444,\"\")","v":""},"","","","","","","","","",""]
[null,null,null,null,null,null,null,null,null,null,null,null,null,null,null,null,null,null,null,null,null,null,null,null,null,null,null,null,null,null,null,null,null,null,null,null,null,null,null,null,null,null,null,null,null,null,null,null,null,null,null,null,null,null,null,"Monat",null,null,null,null,null,"Mittelwert"]
[32,{"$f":"A446","v":32},{"$f":"B446","v":32},{"$f":"C446","v":32},{"$f":"D446","v":32},{"$f":"E446","v":32},33,{"$f":"G446","v":33},{"$f":"H446","v":33},33,33,33,null,null,null,null,null,null,null,null,null,null,null,null,null,null,null,null,null,null,null,null,null,null,null,null,null,null,null,null,null,null,null,null,null,null,null,null,null,null,{"$f":"A427","v":13},{"$f":"B427","v":14},15,16,17,18,19,20,21,22,null,"Durchgang"]
[{"$f":"A398 & \">F\" & A446 & \"|\" & S447 & \"|W\" & TEXT(A438,\"00\")","v":"AA>F32|910|W07"},{"$f":"B398 & \">F\" & B446 & \"|\" & S447 & \"|W\" & TEXT(B438,\"00\")","v":"AB>F32|910|W11"},{"$f":"C398 & \">F\" & C446 & \"|\" & S447 & \"|W\" & TEXT(C438,\"00\")","v":"AC>F32|910|W15"},{"$f":"D398 & \">F\" & D446 & \"|\" & S447 & \"|W\" & TEXT(D438,\"00\")","v":"AD>F32|910|W19"},{"$f":"E398 & \">F\" & E446 & \"|\" & S447 & \"|W\" & TEXT(E438,\"00\")","v":"AE>F32|910|W23"},{"$f":"F398 & \">F\" & F446 & \"|\" & S447 & \"|W\" & TEXT(F438,\"00\")","v":"AF>F32|910|W27"},{"$f":"G398 & \">F\" & G446 & \"|\" & S447 & \"|W\" & TEXT(G438,\"00\")","v":"AG>F33|910|W07"},{"$f":"H398 & \">F\" & H446 & \"|\" & S447 & \"|W\" & TEXT(H438,\"00\")","v":"AH>F33|910|W11"},{"$f":"I398 & \">F\" & I446 & \"|\" & S447 & \"|W\" & TEXT(I438,\"00\")","v":"AI>F33|910|W15"},{"$f":"J398 & \">F\" & J446 & \"|\" & S447 & \"|W\" & TEXT(J438,\"00\")","v":"AJ>F33|910|W19"},{"$f":"K398 & \">F\" & K446 & \"|\" & S447 & \"|W\" & TEXT(K438,\"00\")","v":"AK>F33|910|W23"},{"$f":"L398 & \">F\" & L446 & \"|\" & S447 & \"|W\" & TEXT(L438,\"00\")","v":"AL>F33|910|W24"},null,null,null,null,null,null,910,null,null,null,null,null,null,null,null,null,null,null,null,null,null,null,null,null,null,null,null,null,null,null,null,null,null,null,"Sollgewichtserfüllung",null,null,"%",{"$f":"IF(AA447>0,AA447,\"\")","v":""},"","","","","","","","","",null,{"$f":"IF(SUM(AY439:BJ439,AY447:BH447)>0,AVERAGE(AY439:BJ439,AY447:BH447),\"\")","v":""}]
[{"$f":"A398 & \">F\" & A446 & \"|\" & S448 & \"|W\" & TEXT(A438,\"00\")","v":"AA>F32|909|W07"},{"$f":"B398 & \">F\" & B446 & \"|\" & S448 & \"|W\" & TEXT(B438,\"00\")","v":"AB>F32|909|W11"},{"$f":"C398 & \">F\" & C446 & \"|\" & S448 & \"|W\" & TEXT(C438,\"00\")","v":"AC>F32|909|W15"},{"$f":"D398 & \">F\" & D446 & \"|\" & S448 & \"|W\" & TEXT(D438,\"00\")","v":"AD>F32|909|W19"},{"$f":"E398 & \">F\" & E446 & \"|\" & S448 & \"|W\" & TEXT(E438,\"00\")","v":"AE>F32|909|W23"},{"$f":"F398 & \">F\" & F446 & \"|\" & S448 & \"|W\" & TEXT(F438,\"00\")","v":"AF>F32|909|W27"},{"$f":"G398 & \">F\" & G446 & \"|\" & S448 & \"|W\" & TEXT(G438,\"00\")","v":"AG>F33|909|W07"},{"$f":"H398 & \">F\" & H446 & \"|\" & S448 & \"|W\" & TEXT(H438,\"00\")","v":"AH>F33|909|W11"},{"$f":"I398 & \">F\" & I446 & \"|\" & S448 & \"|W\" & TEXT(I438,\"00\")","v":"AI>F33|909|W15"},{"$f":"J398 & \">F\" & J446 & \"|\" & S448 & \"|W\" & TEXT(J438,\"00\")","v":"AJ>F33|909|W19"},{"$f":"K398 & \">F\" & K446 & \"|\" & S448 & \"|W\" & TEXT(K438,\"00\")","v":"AK>F33|909|W23"},{"$f":"L398 & \">F\" & L446 & \"|\" & S448 & \"|W\" & TEXT(L438,\"00\")","v":"AL>F33|909|W24"},null,null,null,null,null,null,909,null,null,null,null,null,null,null,null,null,null,null,null,null,null,null,null,null,null,null,null,null,null,null,null,null,null,null,"Uniformität",null,null,"%","","","","","","","","","","",null,{"$f":"IF(SUM(AY440:BJ440,AY448:BH448)>0,AVERAGE(AY440:BJ440,AY448:BH448),\"\")","v":""}]
[{"$f":"A398 & \">F\" & A446 & \"|\" & S449 & \"|W\" & TEXT(A438,\"00\")","v":"AA>F32|908|W07"},{"$f":"B398 & \">F\" & B446 & \"|\" & S449 & \"|W\" & TEXT(B438,\"00\")","v":"AB>F32|908|W11"},{"$f":"C398 & \">F\" & C446 & \"|\" & S449 & \"|W\" & TEXT(C438,\"00\")","v":"AC>F32|908|W15"},{"$f":"D398 & \">F\" & D446 & \"|\" & S449 & \"|W\" & TEXT(D438,\"00\")","v":"AD>F32|908|W19"},{"$f":"E398 & \">F\" & E446 & \"|\" & S449 & \"|W\" & TEXT(E438,\"00\")","v":"AE>F32|908|W23"},{"$f":"F398 & \">F\" & F446 & \"|\" & S449 & \"|W\" & TEXT(F438,\"00\")","v":"AF>F32|908|W27"},{"$f":"G398 & \">F\" & G446 & \"|\" & S449 & \"|W\" & TEXT(G438,\"00\")","v":"AG>F33|908|W07"},{"$f":"H398 & \">F\" & H446 & \"|\" & S449 & \"|W\" & TEXT(H438,\"00\")","v":"AH>F33|908|W11"},{"$f":"I398 & \">F\" & I446 & \"|\" & S449 & \"|W\" & TEXT(I438,\"00\")","v":"AI>F33|908|W15"},{"$f":"J398 & \">F\" & J446 & \"|\" & S449 & \"|W\" & TEXT(J438,\"00\")","v":"AJ>F33|908|W19"},{"$f":"K398 & \">F\" & K446 & \"|\" & S449 & \"|W\" & TEXT(K438,\"00\")","v":"AK>F33|908|W23"},{"$f":"L398 & \">F\" & L446 & \"|\" & S449 & \"|W\" & TEXT(L438,\"00\")","v":"AL>F33|908|W24"},null,null,null,null,null,null,908,null,null,null,null,null,null,null,null,null,null,null,null,null,null,null,null,null,null,null,null,null,null,null,null,null,null,null,"Anteil zu leichter Tiere",null,null,"%",{"$f":"IF(COUNT(AY448)=1,AA449,\"\")","v":""},"","","","","","","","","",null,""]
[{"$f":"A398&\">F\"&(400+A427) & \"|\" & S450","v":"AA>F413|911|W42"},{"$f":"B398&\">F\"&(400+B427) & \"|\" & S450","v":"AB>F414|911|W42"},{"$f":"C398&\">F\"&(400+C427) & \"|\" & S450","v":"AC>F415|911|W42"},{"$f":"D398&\">F\"&(400+D427) & \"|\" & S450","v":"AD>F416|911|W42"},{"$f":"E398&\">F\"&(400+E427) & \"|\" & S450","v":"AE>F417|911|W42"},{"$f":"F398&\">F\"&(400+F427) & \"|\" & S450","v":"AF>F418|911|W42"},{"$f":"G398&\">F\"&(400+G427) & \"|\" & S450","v":"AG>F419|911|W42"},{"$f":"H398&\">F\"&(400+H427) & \"|\" & S450","v":"AH>F420|911|W42"},{"$f":"I398&\">F\"&(400+I427) & \"|\" & S450","v":"AI>F421|911|W42"},{"$f":"J398&\">F\"&(400+J427) & \"|\" & S450","v":"AJ>F422|911|W42"},{"$f":"K398&\">F\"&(400+K427) & \"|\" & S450","v":"AK>F423|911|W42"},{"$f":"L398&\">F\"&(400+L427) & \"|\" & S450","v":"AL>F400|911|W42"},null,null,null,null,null,null,"911|W42",null,null,null,null,null,null,null,null,null,null,null,null,null,null,null,null,null,null,null,null,null,null,null,null,null,null,null,"Legeleistung",null,null,"%",{"$f":"IF(AA450>0,AA450,\"\")","v":""},"","","","","","","","","",null,""]
[{"$f":"A398&\">F\"&(400+A427) & \"|\" & S451","v":"AA>F413|911|W43"},{"$f":"B398&\">F\"&(400+B427) & \"|\" & S451","v":"AB>F414|911|W43"},{"$f":"C398&\">F\"&(400+C427) & \"|\" & S451","v":"AC>F415|911|W43"},{"$f":"D398&\">F\"&(400+D427) & \"|\" & S451","v":"AD>F416|911|W43"},{"$f":"E398&\">F\"&(400+E427) & \"|\" & S451","v":"AE>F417|911|W43"},{"$f":"F398&\">F\"&(400+F427) & \"|\" & S451","v":"AF>F418|911|W43"},{"$f":"G398&\">F\"&(400+G427) & \"|\" & S451","v":"AG>F419|911|W43"},{"$f":"H398&\">F\"&(400+H427) & \"|\" & S451","v":"AH>F420|911|W43"},{"$f":"I398&\">F\"&(400+I427) & \"|\" & S451","v":"AI>F421|911|W43"},{"$f":"J398&\">F\"&(400+J427) & \"|\" & S451","v":"AJ>F422|911|W43"},{"$f":"K398&\">F\"&(400+K427) & \"|\" & S451","v":"AK>F423|911|W43"},{"$f":"L398&\">F\"&(400+L427) & \"|\" & S451","v":"AL>F400|911|W43"},null,null,null,null,null,null,"911|W43",null,null,null,null,null,null,null,null,null,null,null,null,null,null,null,null,null,null,null,null,null,null,null,null,null,null,null,"Äußere Eiqualität",null,null,"Sekundaeier %",{"$f":"IF(COUNT(AY450)=1,AA451,\"\")","v":""},"","","","","","","","","",null,""]
[{"$f":"A398&\">F\"&(400+A427) & \"|\" & S452","v":"AA>F413|911|W46"},{"$f":"B398&\">F\"&(400+B427) & \"|\" & S452","v":"AB>F414|911|W46"},{"$f":"C398&\">F\"&(400+C427) & \"|\" & S452","v":"AC>F415|911|W46"},{"$f":"D398&\">F\"&(400+D427) & \"|\" & S452","v":"AD>F416|911|W46"},{"$f":"E398&\">F\"&(400+E427) & \"|\" & S452","v":"AE>F417|911|W46"},{"$f":"F398&\">F\"&(400+F427) & \"|\" & S452","v":"AF>F418|911|W46"},{"$f":"G398&\">F\"&(400+G427) & \"|\" & S452","v":"AG>F419|911|W46"},{"$f":"H398&\">F\"&(400+H427) & \"|\" & S452","v":"AH>F420|911|W46"},{"$f":"I398&\">F\"&(400+I427) & \"|\" & S452","v":"AI>F421|911|W46"},{"$f":"J398&\">F\"&(400+J427) & \"|\" & S452","v":"AJ>F422|911|W46"},{"$f":"K398&\">F\"&(400+K427) & \"|\" & S452","v":"AK>F423|911|W46"},{"$f":"L398&\">F\"&(400+L427) & \"|\" & S452","v":"AL>F400|911|W46"},null,null,null,null,null,null,"911|W46",null,null,null,null,null,null,null,null,null,null,null,null,null,null,null,null,null,null,null,null,null,null,null,null,null,null,null,"Wasserverbrauch",null,null,"ø l/1000 Tiere",{"$f":"IF(AA452>0,AA452,\"\")","v":""},{"$f":"IF(AB452>0,AB452,\"\")","v":""},{"$f":"IF(AC452>0,AC452,\"\")","v":""},{"$f":"IF(AD452>0,AD452,\"\")","v":""},{"$f":"IF(AE452>0,AE452,\"\")","v":""},{"$f":"IF(AF452>0,AF452,\"\")","v":""},{"$f":"IF(AG452>0,AG452,\"\")","v":""},{"$f":"IF(AH452>0,AH452,\"\")","v":""},{"$f":"IF(AI452>0,AI452,\"\")","v":""},{"$f":"IF(AJ452>0,AJ452,\"\")","v":""},null,{"$f":"IF(SUM(AY444:BJ444,AY452:BH452)>0,AVERAGE(AY444:BJ444,AY452:BH452),\"\")","v":""}]
[]
[null,null,null,null,null,null,null,null,null,null,null,null,null,null,null,null,null,null,null,{"$f":"AU454","v":"Abschlusserhebungen"},null,null,null,null,null,null,null,null,null,null,null,null,null,null,null,null,null,null,null,null,null,null,null,null,null,null,"Abschlusserhebungen"]
["AA>F20|901|W01",null,null,null,null,null,null,null,null,null,null,null,null,null,null,null,null,null,null,null,null,null,null,null,null,null,null,null,null,null,null,null,null,null,null,null,null,null,null,null,null,null,null,null,null,null,"Arzneimitteleinsatz",null,null,"Therapieindex",{"$f":"IF(AA455<>\"\",AA455,\"\")","v":""}]
[]
[null,null,null,null,null,null,null,null,null,null,null,null,null,null,null,null,null,null,null,null,null,null,null,null,null,null,null,null,null,null,null,null,null,null,null,null,null,null,null,null,null,null,null,null,null,null,"Schlachthofindikatoren"]
["AA>F50|003|W05",null,null,null,null,null,null,null,null,null,null,null,null,null,null,null,null,null,null,null,null,null,null,null,null,null,null,null,null,null,null,null,null,null,null,null,null,null,null,null,null,null,null,null,null,null,"Gewicht bei Schlachtung",null,null,"g",{"$f":"IF(AA458<>\"\",AA458,\"\")","v":""}]
[]
[null,null,null,null,null,null,null,null,null,null,null,null,null,null,null,null,null,null,null,null,null,null,null,null,null,null,null,null,null,null,null,null,null,null,null,null,null,null,null,null,null,null,null,null,null,null,null,null,null,null,"Gesamt",null,"verletzt","tot"]
["AA>F50|901|W10",null,null,null,null,"AB>F50|901|W01",null,null,null,null,"AC>F50|901|W02",null,null,null,null,null,null,null,null,null,null,null,null,null,null,null,null,null,null,null,null,null,null,null,null,null,null,null,null,null,null,null,null,null,null,null,"Verletzt und tot angelieferte Tiere",null,null,"%",{"$f":"IF(AA461<>\"\",AA461,\"\")","v":""},null,{"$f":"IF(AB461<>\"\",AB461,\"\")","v":""},{"$f":"IF(AC461<>\"\",AC461,\"\")","v":""}]
[]
[null,null,null,null,null,null,null,null,null,null,null,null,null,null,null,null,null,null,null,null,null,null,null,null,null,null,null,null,null,null,null,null,null,null,null,null,null,null,null,null,null,null,null,null,null,null,null,null,null,null,null,null,"Ab-","Wasser-","Umfangs-","Ent-","Verletz-","Sonstige"]
[null,null,null,null,null,null,null,null,null,null,null,null,null,null,null,null,null,null,null,null,null,null,null,null,null,null,null,null,null,null,null,null,null,null,null,null,null,null,null,null,null,null,null,null,null,null,null,null,null,null,"Gesamt",null,"magerung","bauch","vermehr.","zündungen","ungen","Ursachen"]
["AA>F50|902|W10","AB>F50|902|W01","AC>F50|902|W02","AD>F50|902|W03","AE>F50|902|W04","AF>F50|902|W05","AG>F50|902|W06",null,null,null,null,null,null,null,null,null,null,null,null,null,null,null,null,null,null,null,null,null,null,null,null,null,null,null,null,null,null,null,null,null,null,null,null,null,null,null,"Verwürfe und Ursachen",null,null,"%",{"$f":"IF(AA465<>\"\",AA465,\"\")","v":""},null,{"$f":"IF(AB465<>\"\",AB465,\"\")","v":""},"","","","",""]
["BEREICH_ENDE"]
[]
[]
["BEREICH_START",null,null,null,null,null,null,null,null,null,null,null,null,null,null,null,null,null,null,"GF_HUHN",null,null,null,null,null,null,null,null,null,null,null,null,null,null,null,null,null,null,null,null,null,null,null,null,null,"Masthuhn",null,null,null,null,null,null,null,null,null,null,null,null,"#DATUM#"]
["AA>T02",null,null,null,null,null,null,null,null,null,null,null,null,null,null,null,null,null,null,null,null,null,null,null,null,null,null,null,null,null,null,null,null,null,null,null,null,null,null,null,null,null,null,null,null,null,{"$f":"AA470","v":0}]
[]
[null,null,null,null,null,null,null,null,null,null,null,null,null,null,null,null,null,null,null,{"$f":"AU472","v":"Stichproben"},null,null,null,null,null,null,null,null,null,null,null,null,null,null,null,null,null,null,null,null,null,null,null,null,null,null,"Stichproben"]
[null,null,null,null,null,null,null,null,null,null,null,null,null,null,null,null,null,null,null,null,null,null,null,null,null,null,null,null,null,null,null,null,null,null,null,null,null,null,null,null,null,null,null,null,null,null,"Tierbeurteilung",null,null,null,"2. LW","letzte LW"]
["AA>F11|912|W08",null,null,null,"AC>F12|912|W09",null,null,null,null,"AB>F11|950|W08",null,null,null,null,"AD>F12|950|W09",null,null,null,null,null,null,null,null,null,null,null,null,null,null,null,null,null,null,null,null,null,null,null,null,null,null,null,null,null,null,null,"Fußballenveränderungen",null,null,"Bonitur 1 %",{"$f":"IF(AB474>0,AA474,\"\")","v":""},{"$f":"IF(AD474>0,AC474,\"\")","v":""}]
[null,null,null,null,"AC>F12|922|W09",null,null,null,null,null,null,null,null,null,"AD>F12|950|W09",null,null,null,null,null,null,null,null,null,null,null,null,null,null,null,null,null,null,null,null,null,null,null,null,null,null,null,null,null,null,null,null,null,null,"Bonitur 2 %",null,{"$f":"IF(AD475>0,AC475,\"\")","v":""}]
["AA>F11|912|W11",null,null,null,"AC>F12|912|W11",null,null,null,null,"AB>F11|950|W11",null,null,null,null,"AD>F12|950|W11",null,null,null,null,null,null,null,null,null,null,null,null,null,null,null,null,null,null,null,null,null,null,null,null,null,null,null,null,null,null,null,"Lahmheit",null,null,"Bonitur 1 %",null,{"$f":"IF(AD476>0,AC476,\"\")","v":""}]
[]
[null,null,null,null,null,null,null,null,null,null,null,null,null,null,null,null,null,null,null,null,null,null,null,null,null,null,null,null,null,null,null,null,null,null,null,null,null,null,null,null,null,null,null,null,null,null,"Tiergewichte/Uniformität",null,null,null,"Futterphasenwechsel",null,null,null,null,"Mittelwert"]
[null,null,null,null,null,null,null,null,null,null,null,null,null,null,null,null,null,null,null,null,null,null,null,null,null,null,null,null,null,null,null,null,null,null,null,null,null,null,null,null,null,null,null,null,null,null,null,null,null,null,1,2,3,4,5,"Gesamt"]
["AA>F30|907|W04","AB>F30|907|W05","AC>F30|907|W06","AD>F30|907|W07","AE>F30|907|W08",null,null,null,null,null,null,null,null,null,null,null,null,null,null,null,null,null,null,null,null,null,null,null,null,null,null,null,null,null,null,null,null,null,null,null,null,null,null,null,null,null,"Sollgewichtserfüllung",null,null,"%",{"$f":"IF(AA480<>\"\",AA480,\"\")","v":""},"","","","",{"$f":"IF(COUNT(AY480:BC480)>0,AVERAGE(AY480:BC480),\"\")","v":""}]
["AA>F30|906|W04","AB>F30|906|W05","AC>F30|906|W06","AD>F30|906|W07","AE>F30|906|W08",null,null,null,null,null,null,null,null,null,null,null,null,null,null,null,null,null,null,null,null,null,null,null,null,null,null,null,null,null,null,null,null,null,null,null,null,null,null,null,null,null,"Uniformität",null,null,"%","","","","","",{"$f":"IF(COUNT(AY481:BC481)>0,AVERAGE(AY481:BC481),\"\")","v":""}]
[]
[null,null,null,null,null,null,null,null,null,null,null,null,null,null,null,null,null,null,null,{"$f":"AU483","v":"Fortlaufende Erhebungen"},null,null,null,null,null,null,null,null,null,null,null,null,null,null,null,null,null,null,null,null,null,null,null,null,null,null,"Fortlaufende Erhebungen"]
[401,null,null,null,null,null,null,null,null,null,null,null,null,null,null,null,null,null,null,null,null,null,null,null,null,null,null,null,null,null,null,null,null,null,null,null,null,null,null,null,null,null,null,null,null,null,"1. Monat",null,null,null,"Gesamt",null,"Unfall","Erkrank-","Hunger/","Lahm-","Beute-","Sonstige"]
[null,null,null,null,null,null,null,null,null,null,null,null,null,null,null,null,null,null,null,null,null,null,null,null,null,null,null,null,null,null,null,null,null,null,null,null,null,null,null,null,null,null,null,null,null,null,null,null,null,null,null,null,null,"ungen","Durst","heit","greifer","Ursachen"]
[{"$f":"\"AA>F\" & A484 & \"|911|W32\"","v":"AA>F401|911|W32"},{"$f":"\"AB>F\" & A484 & \"|911|W33\"","v":"AB>F401|911|W33"},{"$f":"\"AC>F\" & A484 & \"|911|W34\"","v":"AC>F401|911|W34"},{"$f":"\"AD>F\" & A484 & \"|911|W35\"","v":"AD>F401|911|W35"},{"$f":"\"AE>F\" & A484 & \"|911|W37\"","v":"AE>F401|911|W37"},{"$f":"\"AF>F\" & A484 & \"|911|W38\"","v":"AF>F401|911|W38"},{"$f":"\"AG>F\" & A484 & \"|911|W39\"","v":"AG>F401|911|W39"},null,null,null,null,null,null,null,null,null,null,null,null,null,null,null,null,null,null,null,null,null,null,null,null,null,null,null,null,null,null,null,null,null,null,null,null,null,null,null,"Tierverluste",null,null,"kumulative tägliche Mortalitätsrate",{"$f":"IF(AA486<>\"\",AA486,\"\")","v":""},null,{"$f":"IF(AB486<>\"\",AB486,\"\")","v":""},{"$f":"IF(AC486<>\"\",AC486,\"\")","v":""},"","","",""]
[{"$f":"\"AA>F\" & A484 & \"|910|W10\"","v":"AA>F401|910|W10"},null,null,null,null,{"$f":"\"AB>F\" & A484 & \"|910|W06\"","v":"AB>F401|910|W06"},null,null,null,null,null,null,null,null,null,"AC>T04",null,null,null,null,null,null,null,null,null,null,null,null,null,null,null,null,null,null,null,null,null,null,null,null,null,null,null,null,null,null,"Lahmheit",null,null,"Verluste und Separierungen %",{"$f":"IF(COUNT(AC487)>0,(AA487+AB487)/AC487*100,\"\")","v":""}]
[{"$f":"\"AA>F\" & A484 & \"|911|W46\"","v":"AA>F401|911|W46"},null,null,null,null,null,null,null,null,null,null,null,null,null,null,null,null,null,null,null,null,null,null,null,null,null,null,null,null,null,null,null,null,null,null,null,null,null,null,null,null,null,null,null,null,null,"Wasserverbrauch",null,null,"ø l/1000 Tiere",{"$f":"IF(AA488<>\"\",AA488,\"\")","v":""}]
[]
[402,null,null,null,null,null,null,null,null,null,null,null,null,null,null,null,null,null,null,null,null,null,null,null,null,null,null,null,null,null,null,null,null,null,null,null,null,null,null,null,null,null,null,null,null,null,"2. Monat",null,null,null,"Gesamt",null,"Unfall","Erkrank-","Hunger/","Lahm-","Beute-","Sonstige"]
[null,null,null,null,null,null,null,null,null,null,null,null,null,null,null,null,null,null,null,null,null,null,null,null,null,null,null,null,null,null,null,null,null,null,null,null,null,null,null,null,null,null,null,null,null,null,null,null,null,null,null,null,null,"ungen","Durst","heit","greifer","Ursachen"]
[{"$f":"\"AA>F\" & A490 & \"|911|W32\"","v":"AA>F402|911|W32"},{"$f":"\"AB>F\" & A490 & \"|911|W33\"","v":"AB>F402|911|W33"},{"$f":"\"AC>F\" & A490 & \"|911|W34\"","v":"AC>F402|911|W34"},{"$f":"\"AD>F\" & A490 & \"|911|W35\"","v":"AD>F402|911|W35"},{"$f":"\"AE>F\" & A490 & \"|911|W37\"","v":"AE>F402|911|W37"},{"$f":"\"AF>F\" & A490 & \"|911|W38\"","v":"AF>F402|911|W38"},{"$f":"\"AG>F\" & A490 & \"|911|W39\"","v":"AG>F402|911|W39"},null,null,null,null,null,null,null,null,null,null,null,null,null,null,null,null,null,null,null,null,null,null,null,null,null,null,null,null,null,null,null,null,null,null,null,null,null,null,null,"Tierverluste",null,null,"kumulative tägliche Mortalitätsrate",{"$f":"IF(AA492<>\"\",AA492,\"\")","v":""},null,{"$f":"IF(AB492<>\"\",AB492,\"\")","v":""},"","","","",""]
[{"$f":"\"AA>F\" & A490 & \"|910|W10\"","v":"AA>F402|910|W10"},null,null,null,null,{"$f":"\"AB>F\" & A490 & \"|910|W06\"","v":"AB>F402|910|W06"},null,null,null,null,null,null,null,null,null,"AC>T04",null,null,null,null,null,null,null,null,null,null,null,null,null,null,null,null,null,null,null,null,null,null,null,null,null,null,null,null,null,null,"Lahmheit",null,null,"Verluste und Separierungen %",{"$f":"IF(COUNT(AC493)>0,(AA493+AB493)/AC493*100,\"\")","v":""}]
[{"$f":"\"AA>F\" & A490 & \"|911|W46\"","v":"AA>F402|911|W46"},null,null,null,null,null,null,null,null,null,null,null,null,null,null,null,null,null,null,null,null,null,null,null,null,null,null,null,null,null,null,null,null,null,null,null,null,null,null,null,null,null,null,null,null,null,"Wasserverbrauch",null,null,"ø l/1000 Tiere",{"$f":"IF(AA494<>\"\",AA494,\"\")","v":""}]
[]
[null,null,null,null,null,null,null,null,null,null,null,null,null,null,null,null,null,null,null,null,null,null,null,null,null,null,null,null,null,null,null,null,null,null,null,null,null,null,null,null,null,null,null,null,null,null,"Gesamter Durchgang",null,null,null,"Gesamt",null,"Unfall","Erkrank-","Hunger/","Lahm-","Beute-","Sonstige"]
[null,null,null,null,null,null,null,null,null,null,null,null,null,null,null,null,null,null,null,null,null,null,null,null,null,null,null,null,null,null,null,null,null,null,null,null,null,null,null,null,null,null,null,null,null,null,null,null,null,null,null,null,null,"ungen","Durst","heit","greifer","Ursachen"]
[null,null,null,null,null,null,null,null,null,null,null,null,null,null,null,null,null,null,null,null,null,null,null,null,null,null,null,null,null,null,null,null,null,null,null,null,null,null,null,null,null,null,null,null,null,null,"Tierverluste",null,null,"kumulative tägliche Mortalitätsrate",{"$f":"IF(SUM(AY492,AY486)>0,SUM(AY492,AY486),\"\")","v":""},null,{"$f":"IF(SUM(BA492,BA486)>0,SUM(BA492,BA486),\"\")","v":""},"","","","",""]
["AA>SUM|F401-F402|910|W10",null,null,null,null,null,null,"AB>SUM|F401-F402|910|W06",null,null,null,null,null,null,null,"AC>T04",null,null,null,null,null,null,null,null,null,null,null,null,null,null,null,null,null,null,null,null,null,null,null,null,null,null,null,null,null,null,"Lahmheit",null,null,"Verluste und Separierungen %",{"$f":"IF(AND(COUNT(AA499:AB499)>0,AC499>1),SUM(AA499:AB499)/AC499*100,\"\")","v":""}]
[null,null,null,null,null,null,null,null,null,null,null,null,null,null,null,null,null,null,null,null,null,null,null,null,null,null,null,null,null,null,null,null,null,null,null,null,null,null,null,null,null,null,null,null,null,null,"Wasserverbrauch",null,null,"ø l/1000 Tiere",{"$f":"IF(SUM(AY494,AY488)>0,AVERAGE(AY494,AY488),\"\")","v":""}]
[]
[null,null,null,null,null,null,null,null,null,null,null,null,null,null,null,null,null,null,null,{"$f":"AU502","v":"Abschlusserhebungen"},null,null,null,null,null,null,null,null,null,null,null,null,null,null,null,null,null,null,null,null,null,null,null,null,null,null,"Abschlusserhebungen"]
["AA>F20|901|W01",null,null,null,null,null,null,null,null,null,null,null,null,null,null,null,null,null,null,null,null,null,null,null,null,null,null,null,null,null,null,null,null,null,null,null,null,null,null,null,null,null,null,null,null,null,"Arzneimitteleinsatz",null,null,"Therapieindex",{"$f":"IF(AA503<>\"\",AA503,\"\")","v":""}]
[]
[null,null,null,null,null,null,null,null,null,null,null,null,null,null,null,null,null,null,null,null,null,null,null,null,null,null,null,null,null,null,null,null,null,null,null,null,null,null,null,null,null,null,null,null,null,null,"Schlachthofindikatoren",null,null,null,"Gesamt",null,"verletzt","tot"]
["AA>F50|901|W10",null,null,null,null,"AB>F50|901|W01",null,null,null,null,"AC>F50|901|W02",null,null,null,null,null,null,null,null,null,null,null,null,null,null,null,null,null,null,null,null,null,null,null,null,null,null,null,null,null,null,null,null,null,null,null,"Verletzt und tot angelieferte Tiere",null,null,"%",{"$f":"IF(AA506<>\"\",AA506,\"\")","v":""},null,{"$f":"IF(AB506<>\"\",AB506,\"\")","v":""},{"$f":"IF(AC506<>\"\",AC506,\"\")","v":""}]
[]
[null,null,null,null,null,null,null,null,null,null,null,null,null,null,null,null,null,null,null,null,null,null,null,null,null,null,null,null,null,null,null,null,null,null,null,null,null,null,null,null,null,null,null,null,null,null,null,null,null,null,null,null,"Ab-","Wasser-","Umfangs-","Ent-","Verletz-","Sonstige"]
[null,null,null,null,null,null,null,null,null,null,null,null,null,null,null,null,null,null,null,null,null,null,null,null,null,null,null,null,null,null,null,null,null,null,null,null,null,null,null,null,null,null,null,null,null,null,null,null,null,null,"Gesamt",null,"magerung","bauch","vermehr.","zündungen","ungen","Ursachen"]
["AA>F50|902|W10","AB>F50|902|W01","AC>F50|902|W02","AD>F50|902|W03","AE>F50|902|W04","AF>F50|902|W05","AG>F50|902|W06",null,null,null,null,null,null,null,null,null,null,null,null,null,null,null,null,null,null,null,null,null,null,null,null,null,null,null,null,null,null,null,null,null,null,null,null,null,null,null,"Verwürfe und Ursachen",null,null,"%",{"$f":"IF(AA510<>\"\",AA510,\"\")","v":""},null,{"$f":"IF(AB510<>\"\",AB510,\"\")","v":""},"","","","",""]
[]
[null,null,null,null,null,null,null,null,null,null,null,null,null,null,null,null,null,null,null,null,null,null,null,null,null,null,null,null,null,null,null,null,null,null,null,null,null,null,null,null,null,null,null,null,null,null,null,null,null,null,null,null,"tiefe","Brust-","Fersen-","Fussballenveränder."]
[null,null,null,null,null,null,null,null,null,null,null,null,null,null,null,null,null,null,null,null,null,null,null,null,null,null,null,null,null,null,null,null,null,null,null,null,null,null,null,null,null,null,null,null,null,null,null,null,null,null,"Gesamt",null,"Dermatitis","hautver.","höckerver.","Bonitur 1","Bonitur 2"]
["AA>F50|903|W10","AB>F50|903|W01","AC>F50|903|W02","AD>F50|903|W03","AE>F50|903|W04","AF>F50|903|W05",null,null,null,null,null,null,null,null,null,null,null,null,null,null,null,null,null,null,null,null,null,null,null,null,null,null,null,null,null,null,null,null,null,null,null,null,null,null,null,null,"Schlachthofbefunde",null,null,"%",{"$f":"IF(AA514<>\"\",AA514,\"\")","v":""},null,{"$f":"IF(AB514<>\"\",AB514,\"\")","v":""},{"$f":"IF(AC514<>\"\",AC514,\"\")","v":""},{"$f":"IF(AD514<>\"\",AD514,\"\")","v":""},{"$f":"IF(AE514<>\"\",AE514,\"\")","v":""},{"$f":"IF(AF514<>\"\",AF514,\"\")","v":""}]
["BEREICH_ENDE"]
[]
["BEREICH_START",null,null,null,null,null,null,null,null,null,null,null,null,null,null,null,null,null,null,"GF_PUTE3",null,null,null,null,null,null,null,null,null,null,null,null,null,null,null,null,null,null,null,null,null,null,null,null,null,"Jung- und Mastputen",null,null,null,null,null,null,null,null,null,null,null,null,null,null,"#DATUM#"]
["AA>T02",null,null,null,null,null,null,null,null,null,null,null,null,null,null,null,null,null,null,null,null,null,null,null,null,null,null,null,null,null,null,null,null,null,null,null,null,null,null,null,null,null,null,null,null,null,{"$f":"AA518","v":0}]
[]
[null,null,null,null,null,null,null,null,null,null,null,null,null,null,null,null,null,null,null,{"$f":"AU520","v":"Stichproben"},null,null,null,null,null,null,null,null,null,null,null,null,null,null,null,null,null,null,null,null,null,null,null,null,null,null,"Stichproben",null,null,null,"Aufzucht",null,"Mast"]
["AA>F11|","AB>F11|","AC>F12|","AD>F12|","AE>F13|","AF>F13|","AG>F14|","AH>F14|",null,null,null,null,null,null,null,null,null,null,null,null,null,null,null,null,null,null,null,null,null,null,null,null,null,null,null,null,null,null,null,null,null,null,null,null,null,null,null,null,null,null,"5. LW",null,"8. LW","12. LW","letzte 4 LW"]
[{"$f":"A521&R522","v":"AA>F11|922|W04"},{"$f":"B521&S522","v":"AB>F11|950|W04"},{"$f":"C521&R522","v":"AC>F12|922|W04"},{"$f":"D521&S522","v":"AD>F12|950|W04"},{"$f":"E521&R522","v":"AE>F13|922|W04"},{"$f":"F521&S522","v":"AF>F13|950|W04"},{"$f":"G521&R522","v":"AG>F14|922|W04"},{"$f":"H521&S522","v":"AH>F14|950|W04"},null,null,null,null,null,null,null,null,null,"922|W04","950|W04",null,null,null,null,null,null,null,null,null,null,null,null,null,null,null,null,null,null,null,null,null,null,null,null,null,null,null,"Schabelkürzen",null,null,"Bonitur 2 %",{"$f":"IF(AB522>0,AA522,\"\")","v":""},null,{"$f":"IF(AD522>0,AC522,\"\")","v":""}]
[{"$f":"A521&R523","v":"AA>F11|912|W05"},{"$f":"B521&S523","v":"AB>F11|950|W05"},null,null,null,null,{"$f":"G521&R523","v":"AG>F14|912|W05"},{"$f":"H521&S523","v":"AH>F14|950|W05"},null,null,null,null,null,null,null,null,null,"912|W05","950|W05",null,null,null,null,null,null,null,null,null,null,null,null,null,null,null,null,null,null,null,null,null,null,null,null,null,null,null,"Vollständigkeit Gefieder (Gefiederschäden)",null,null,"Bonitur 1 %","",null,null,null,{"$f":"IF(AH523>0,AG523,\"\")","v":""}]
[{"$f":"A521&R524","v":"AA>F11|922|W05"},{"$f":"B521&S524","v":"AB>F11|950|W05"},null,null,null,null,{"$f":"G521&R524","v":"AG>F14|922|W05"},{"$f":"H521&S524","v":"AH>F14|950|W05"},null,null,null,null,null,null,null,null,null,"922|W05","950|W05",null,null,null,null,null,null,null,null,null,null,null,null,null,null,null,null,null,null,null,null,null,null,null,null,null,null,null,null,null,null,"Bonitur 2 %","",null,null,null,""]
[{"$f":"A521&R525","v":"AA>F11|912|W10"},{"$f":"B521&S525","v":"AB>F11|950|W10"},null,null,null,null,{"$f":"G521&R525","v":"AG>F14|912|W10"},{"$f":"H521&S525","v":"AH>F14|950|W10"},null,null,null,null,null,null,null,null,null,"912|W10","950|W10",null,null,null,null,null,null,null,null,null,null,null,null,null,null,null,null,null,null,null,null,null,null,null,null,null,null,null,"Fußballenveränderung",null,null,"Ergebnis B %","",null,null,null,""]
[{"$f":"A521&R526","v":"AA>F11|922|W10"},{"$f":"B521&S526","v":"AB>F11|950|W10"},null,null,null,null,{"$f":"G521&R526","v":"AG>F14|922|W10"},{"$f":"H521&S526","v":"AH>F14|950|W10"},null,null,null,null,null,null,null,null,null,"922|W10","950|W10",null,null,null,null,null,null,null,null,null,null,null,null,null,null,null,null,null,null,null,null,null,null,null,null,null,null,null,null,null,null,"Ergebnis C %","",null,null,null,""]
[{"$f":"A521&R527","v":"AA>F11|912|W11"},{"$f":"B521&S527","v":"AB>F11|950|W11"},null,null,null,null,{"$f":"G521&R527","v":"AG>F14|912|W11"},{"$f":"H521&S527","v":"AH>F14|950|W11"},null,null,null,null,null,null,null,null,null,"912|W11","950|W11",null,null,null,null,null,null,null,null,null,null,null,null,null,null,null,null,null,null,null,null,null,null,null,null,null,null,null,"Lahmheit",null,null,"Bonitur 1 %","",null,null,null,""]
[{"$f":"A521&R528","v":"AA>F11|912|W06"},{"$f":"B521&S528","v":"AB>F11|950|W06"},null,null,null,null,{"$f":"G521&R528","v":"AG>F14|912|W06"},{"$f":"H521&S528","v":"AH>F14|950|W06"},null,null,null,null,null,null,null,null,null,"912|W06","950|W06",null,null,null,null,null,null,null,null,null,null,null,null,null,null,null,null,null,null,null,null,null,null,null,null,null,null,null,"Hautverletzungen",null,null,"Bonitur 1 %","",null,null,null,""]
[{"$f":"A521&R529","v":"AA>F11|922|W06"},{"$f":"B521&S529","v":"AB>F11|950|W06"},null,null,null,null,{"$f":"G521&R529","v":"AG>F14|922|W06"},{"$f":"H521&S529","v":"AH>F14|950|W06"},null,null,null,null,null,null,null,null,null,"922|W06","950|W06",null,null,null,null,null,null,null,null,null,null,null,null,null,null,null,null,null,null,null,null,null,null,null,null,null,null,null,null,null,null,"Bonitur 2 %","",null,null,null,""]
[{"$f":"A521&R530","v":"AA>F11|902|W12"},{"$f":"B521&S530","v":"AB>F11|950|W12"},{"$f":"C521&R530","v":"AC>F12|902|W12"},{"$f":"D521&S530","v":"AD>F12|950|W12"},{"$f":"E521&R530","v":"AE>F13|902|W12"},{"$f":"F521&S530","v":"AF>F13|950|W12"},{"$f":"G521&R530","v":"AG>F14|902|W12"},{"$f":"H521&S530","v":"AH>F14|950|W12"},null,null,null,null,null,null,null,null,null,"902|W12","950|W12",null,null,null,null,null,null,null,null,null,null,null,null,null,null,null,null,null,null,null,null,null,null,null,null,null,null,null,"Sollgewichtserfüllung",null,null,"%","",null,{"$f":"IF(AD530>0,AC530,\"\")","v":""},{"$f":"IF(AF530>0,AE530,\"\")","v":""}]
[{"$f":"A521&R531","v":"AA>F11|902|W13"},{"$f":"B521&S531","v":"AB>F11|950|W12"},{"$f":"C521&R531","v":"AC>F12|902|W13"},{"$f":"D521&S531","v":"AD>F12|950|W12"},{"$f":"E521&R531","v":"AE>F13|902|W13"},{"$f":"F521&S531","v":"AF>F13|950|W12"},{"$f":"G521&R531","v":"AG>F14|902|W13"},{"$f":"H521&S531","v":"AH>F14|950|W12"},null,null,null,null,null,null,null,null,null,"902|W13","950|W12",null,null,null,null,null,null,null,null,null,null,null,null,null,null,null,null,null,null,null,null,null,null,null,null,null,null,null,"Uniformität",null,null,"%","",null,{"$f":"IF(AD531>0,AC531,\"\")","v":""},{"$f":"IF(AF531>0,AE531,\"\")","v":""}]
[]
[null,null,null,null,null,null,null,null,null,null,null,null,null,null,null,null,null,null,null,{"$f":"AU533","v":"Fortlaufende Erhebungen"},null,null,null,null,null,null,null,null,null,null,null,null,null,null,null,null,null,null,null,null,null,null,null,null,null,null,"Fortlaufende Erhebungen"]
["AA>F20|901|W01",null,null,null,null,null,null,null,null,null,null,null,null,null,null,null,null,null,null,null,null,null,null,null,null,null,null,null,null,null,null,null,null,null,null,null,null,null,null,null,null,null,null,null,null,null,"Arzneimitteleinsatz",null,null,"Therapieindex",{"$f":"IF(AA534<>\"\",AA534,\"\")","v":""}]
[]
[]
[null,null,null,null,null,null,null,null,null,null,null,null,null,null,null,null,null,null,null,null,null,null,null,null,null,null,null,null,null,null,null,null,null,null,null,null,null,null,null,null,null,null,null,null,null,null,"Tierverluste (mtl. Mortalitätsrate)",null,null,null,"Summe",null,"Mast",null,null,null,null,"Summe"]
["AA>F401|","AB>F402|","AC>F403|","AD>F404|","AE>F405|","AF>F406|",null,null,null,null,null,null,null,null,1,2,3,4,5,null,null,null,null,null,null,null,null,null,null,null,null,null,null,null,null,null,null,null,null,null,null,null,null,null,null,null,null,null,null,null,"Aufzucht",null,"1. Monat","2. Monat","3. Monat","4. Monat","5. Monat","Mast"]
[{"$f":"A538&R539","v":"AA>F401|911|W36"},{"$f":"B538&R539","v":"AB>F402|911|W36"},{"$f":"C538&R539","v":"AC>F403|911|W36"},{"$f":"D538&R539","v":"AD>F404|911|W36"},{"$f":"E538&R539","v":"AE>F405|911|W36"},{"$f":"F538&R539","v":"AF>F406|911|W36"},null,null,null,null,{"$f":"\"AI>SUM|F402-406|\" & R539","v":"AI>SUM|F402-406|911|W36"},null,null,null,null,null,null,"911|W36",null,null,null,null,null,null,null,null,null,null,null,null,null,null,null,null,null,null,null,null,null,null,null,null,null,{"$f":"COUNT(BA539:BD546)","v":0},null,null,"Gesamt",null,null,"%",{"$f":"IF(COUNT(AA539)>0,AA539,\"\")","v":""},null,{"$f":"IF(COUNT(AB539)=1,AB539,\"\")","v":""},{"$f":"IF(COUNT(AC539)=1,AC539,\"\")","v":""},"","","",{"$f":"IF(AND(AI539>0,AR539>0),AI539,\"\")","v":""}]
[{"$f":"A538&R540","v":"AA>F401|911|W02"},{"$f":"B538&R540","v":"AB>F402|911|W02"},{"$f":"C538&R540","v":"AC>F403|911|W02"},{"$f":"D538&R540","v":"AD>F404|911|W02"},{"$f":"E538&R540","v":"AE>F405|911|W02"},{"$f":"F538&R540","v":"AF>F406|911|W02"},null,null,null,null,{"$f":"\"AI>SUM|F402-406|\" & R540","v":"AI>SUM|F402-406|911|W02"},null,null,null,null,null,null,"911|W02",null,null,null,null,null,null,null,null,null,null,null,null,null,null,null,null,null,null,null,null,null,null,null,null,null,{"$f":"COUNT(BA539:BD546)","v":0},null,null,"Unfall",null,null,"%","",null,{"$f":"IF(COUNT(AB540)=1,AB540,\"\")","v":""},"","","","",{"$f":"IF(AND(AI540>0,AR540>0),AI540,\"\")","v":""}]
[{"$f":"A538&R541","v":"AA>F401|911|W03"},{"$f":"B538&R541","v":"AB>F402|911|W03"},{"$f":"C538&R541","v":"AC>F403|911|W03"},{"$f":"D538&R541","v":"AD>F404|911|W03"},{"$f":"E538&R541","v":"AE>F405|911|W03"},{"$f":"F538&R541","v":"AF>F406|911|W03"},null,null,null,null,"AI>SUM|F402-406|911|W03",null,null,null,null,null,null,"911|W03",null,null,null,null,null,null,null,null,null,null,null,null,null,null,null,null,null,null,null,null,null,null,null,null,null,{"$f":"COUNT(BA539:BD546)","v":0},null,null,"Erkrankungen",null,null,"%","",null,"","","","","",""]
[{"$f":"A538&R542","v":"AA>F401|911|W04"},{"$f":"B538&R542","v":"AB>F402|911|W04"},{"$f":"C538&R542","v":"AC>F403|911|W04"},{"$f":"D538&R542","v":"AD>F404|911|W04"},{"$f":"E538&R542","v":"AE>F405|911|W04"},{"$f":"F538&R542","v":"AF>F406|911|W04"},null,null,null,null,"AI>SUM|F402-406|911|W04",null,null,null,null,null,null,"911|W04",null,null,null,null,null,null,null,null,null,null,null,null,null,null,null,null,null,null,null,null,null,null,null,null,null,{"$f":"COUNT(BA539:BD546)","v":0},null,null,"Hunger/Durst",null,null,"%","",null,"","","","","",""]
[{"$f":"A538&R543","v":"AA>F401|911|W05"},{"$f":"B538&R543","v":"AB>F402|911|W05"},{"$f":"C538&R543","v":"AC>F403|911|W05"},{"$f":"D538&R543","v":"AD>F404|911|W05"},{"$f":"E538&R543","v":"AE>F405|911|W05"},{"$f":"F538&R543","v":"AF>F406|911|W05"},null,null,null,null,"AI>SUM|F402-406|911|W05",null,null,null,null,null,null,"911|W05",null,null,null,null,null,null,null,null,null,null,null,null,null,null,null,null,null,null,null,null,null,null,null,null,null,{"$f":"COUNT(BA539:BD546)","v":0},null,null,"Kannibalismus",null,null,"%","",null,"","","","","",""]
[{"$f":"A538&R544","v":"AA>F401|911|W06"},{"$f":"B538&R544","v":"AB>F402|911|W06"},{"$f":"C538&R544","v":"AC>F403|911|W06"},{"$f":"D538&R544","v":"AD>F404|911|W06"},{"$f":"E538&R544","v":"AE>F405|911|W06"},{"$f":"F538&R544","v":"AF>F406|911|W06"},null,null,null,null,"AI>SUM|F402-406|911|W06",null,null,null,null,null,null,"911|W06",null,null,null,null,null,null,null,null,null,null,null,null,null,null,null,null,null,null,null,null,null,null,null,null,null,{"$f":"COUNT(BA539:BD546)","v":0},null,null,"Lahmheit",null,null,"%","",null,"","","","","",""]
[{"$f":"A538&R545","v":"AA>F401|911|W09"},{"$f":"B538&R545","v":"AB>F402|911|W09"},{"$f":"C538&R545","v":"AC>F403|911|W09"},{"$f":"D538&R545","v":"AD>F404|911|W09"},{"$f":"E538&R545","v":"AE>F405|911|W09"},{"$f":"F538&R545","v":"AF>F406|911|W09"},null,null,null,null,"AI>SUM|F402-406|911|W09",null,null,null,null,null,null,"911|W09",null,null,null,null,null,null,null,null,null,null,null,null,null,null,null,null,null,null,null,null,null,null,null,null,null,{"$f":"COUNT(BA539:BD546)","v":0},null,null,"Hautverletzungen",null,null,"%","",null,"","","","","",""]
[{"$f":"A538&R546","v":"AA>F401|911|W08"},{"$f":"B538&R546","v":"AB>F402|911|W08"},{"$f":"C538&R546","v":"AC>F403|911|W08"},{"$f":"D538&R546","v":"AD>F404|911|W08"},{"$f":"E538&R546","v":"AE>F405|911|W08"},{"$f":"F538&R546","v":"AF>F406|911|W08"},null,null,null,null,"AI>SUM|F402-406|911|W08",null,null,null,null,null,null,"911|W08",null,null,null,null,null,null,null,null,null,null,null,null,null,null,null,null,null,null,null,null,null,null,null,null,null,{"$f":"COUNT(BA539:BD546)","v":0},null,null,"Sonstige Ursachen",null,null,"%","",null,"","","","","",""]
[]
[null,null,null,null,null,null,null,null,null,null,null,null,null,null,null,null,null,null,null,null,null,null,null,null,null,null,null,null,null,null,null,null,null,null,null,null,null,null,null,null,null,null,null,null,null,null,"Verluste und Separierungen",null,null,null,"Summe",null,"Mast",null,null,null,null,"Summe"]
[null,null,null,null,null,null,null,null,null,null,null,null,null,null,null,null,null,null,null,null,null,null,null,null,null,null,null,null,null,null,null,null,null,null,null,null,null,null,null,null,null,null,null,null,null,null,null,null,null,null,"Aufzucht",null,"1. Monat","2. Monat","3. Monat","4. Monat","5. Monat","Mast"]
[{"$f":"A538&R550","v":"AA>F401|911|W10"},{"$f":"B538&R550","v":"AB>F402|911|W10"},{"$f":"C538&R550","v":"AC>F403|911|W10"},{"$f":"D538&R550","v":"AD>F404|911|W10"},{"$f":"E538&R550","v":"AE>F405|911|W10"},{"$f":"F538&R550","v":"AF>F406|911|W10"},null,null,null,null,{"$f":"\"AI>SUM|F402-406|\" & R550","v":"AI>SUM|F402-406|911|W10"},null,null,null,null,null,null,"911|W10",null,null,null,null,null,null,null,null,null,null,null,null,null,null,null,null,null,null,null,null,null,null,null,null,null,{"$f":"COUNT(BA550:BD551)+COUNT(BA544:BD545)","v":0},null,null,"Lahmheit",null,null,"%",{"$f":"IF(OR(AA550>0,AA544>0),AA550+AA544,\"\")","v":""},null,{"$f":"IF(COUNT(AB550,AB544)>0,AB550+AB544,\"\")","v":""},{"$f":"IF(COUNT(AC550,AC544)>0,AC550+AC544,\"\")","v":""},"","","",{"$f":"IF(AND(AI550+AI544>0,AR550>0),AI550+AI544,\"\")","v":""}]
[{"$f":"A538&R551","v":"AA>F401|911|W11"},{"$f":"B538&R551","v":"AB>F402|911|W11"},{"$f":"C538&R551","v":"AC>F403|911|W11"},{"$f":"D538&R551","v":"AD>F404|911|W11"},{"$f":"E538&R551","v":"AE>F405|911|W11"},{"$f":"F538&R551","v":"AF>F406|911|W11"},null,null,null,null,"AI>SUM|F402-406|911|W11",null,null,null,null,null,null,"911|W11",null,null,null,null,null,null,null,null,null,null,null,null,null,null,null,null,null,null,null,null,null,null,null,null,null,{"$f":"COUNT(BA550:BD551)+COUNT(BA544:BD545)","v":0},null,null,"Hautverletzungen",null,null,"%",{"$f":"IF(OR(AA551>0,AA545>0),AA551+AA545,\"\")","v":""},null,{"$f":"IF(COUNT(AB551,AB545)>0,AB551+AB545,\"\")","v":""},{"$f":"IF(COUNT(AC551,AC545)>0,AC551+AC545,\"\")","v":""},{"$f":"IF(COUNT(AD551,AD545)>0,AD551+AD545,\"\")","v":""},{"$f":"IF(COUNT(AE551,AE545)>0,AE551+AE545,\"\")","v":""},{"$f":"IF(COUNT(AF551,AF545)>0,AF551+AF545,\"\")","v":""},{"$f":"IF(AND(AI551+AI545>0,AR551>0),AI551+AI545,\"\")","v":""}]
[]
[null,null,null,null,null,null,null,null,null,null,null,null,null,null,null,null,null,null,null,null,null,null,null,null,null,null,null,null,null,null,null,null,null,null,null,null,null,null,null,null,null,null,null,null,null,null,"Tiergewicht/Wasserverbrauch",null,null,null,"Mittelwert",null,"Mast",null,null,null,null,"Mittelwert"]
[null,null,null,null,null,null,null,null,null,null,null,null,null,null,null,null,null,null,null,null,null,null,null,null,null,null,null,null,null,null,null,null,null,null,null,null,null,null,null,null,null,null,null,null,null,null,null,null,null,null,"Aufzucht",null,"1. Monat","2. Monat","3. Monat","4. Monat","5. Monat","Mast"]
["AG>F30|910|W07","AH>F30|910|W11",null,null,null,null,null,null,null,null,"AB>F31|910|W07","AC>F31|910|W11","AD>F31|910|W15","AE>F31|910|W19","AF>F31|910|W23",null,null,null,null,null,null,null,null,null,null,null,null,null,null,null,null,null,null,null,null,null,null,null,null,null,null,null,null,null,null,null,"Sollgewichtserfüllung",null,null,"%",{"$f":"IF(AG555+AH555>0,AVERAGE(AG555,AH555),\"\")","v":""},null,{"$f":"IF(AB555>0,AB555,\"\")","v":""},"","","","",{"$f":"IF(COUNT(BA555:BE555)>0,AVERAGE(BA555:BE555),\"\")","v":""}]
["AG>F30|909|W07","AH>F30|909|W11",null,null,null,null,null,null,null,null,"AB>F31|909|W07","AC>F31|909|W11","AD>F31|909|W15","AE>F31|909|W19","AF>F31|909|W23",null,null,null,null,null,null,null,null,null,null,null,null,null,null,null,null,null,null,null,null,null,null,null,null,null,null,null,null,null,null,null,"Uniformität",null,null,"%",{"$f":"IF(AG556+AH556>0,AVERAGE(AG556,AH556),\"\")","v":""},null,"","","","","",{"$f":"IF(COUNT(BA556:BE556)>0,AVERAGE(BA556:BE556),\"\")","v":""}]
[{"$f":"A538&R557","v":"AA>F401|911|W45"},{"$f":"B538&R557","v":"AB>F402|911|W45"},{"$f":"C538&R557","v":"AC>F403|911|W45"},{"$f":"D538&R557","v":"AD>F404|911|W45"},{"$f":"E538&R557","v":"AE>F405|911|W45"},{"$f":"F538&R557","v":"AF>F406|911|W45"},null,null,null,null,null,null,null,null,null,null,null,"911|W45",null,null,null,null,null,null,null,null,null,null,null,null,null,null,null,null,null,null,null,null,null,null,null,null,null,null,null,null,"Wasserverbrauch",null,null,"ø l/Tier",{"$f":"IF(AA557>0,AA557,\"\")","v":""},null,{"$f":"IF(AB557>0,AB557,\"\")","v":""},{"$f":"IF(AC557>0,AC557,\"\")","v":""},"","","",{"$f":"IF(COUNT(BA557:BE557)>0,AVERAGE(BA557:BE557),\"\")","v":""}]
[]
[null,null,null,null,null,null,null,null,null,null,null,null,null,null,null,null,null,null,null,{"$f":"AU559","v":"Abschlusserhebungen"},null,null,null,null,null,null,null,null,null,null,null,null,null,null,null,null,null,null,null,null,null,null,null,null,null,null,"Abschlusserhebungen"]
[null,null,null,null,null,null,null,null,null,null,null,null,null,null,null,null,null,null,null,null,null,null,null,null,null,null,null,null,null,null,null,null,null,null,null,null,null,null,null,null,null,null,null,null,null,null,"Schlachthofindikatoren",null,null,null,"Gesamt",null,"verletzt","tot"]
["AA>F50|901|W10",null,null,null,null,"AB>F50|901|W01",null,null,null,null,"AC>F50|901|W02",null,null,null,null,null,null,null,null,null,null,null,null,null,null,null,null,null,null,null,null,null,null,null,null,null,null,null,null,null,null,null,null,null,null,null,"Verletzt und tot angelieferte Tiere",null,null,"%",{"$f":"IF(AA561<>\"\",AA561,\"\")","v":""},null,{"$f":"IF(AB561<>\"\",AB561,\"\")","v":""},{"$f":"IF(AC561<>\"\",AC561,\"\")","v":""}]
[]
[null,null,null,null,null,null,null,null,null,null,null,null,null,null,null,null,null,null,null,null,null,null,null,null,null,null,null,null,null,null,null,null,null,null,null,null,null,null,null,null,null,null,null,null,null,null,null,null,null,null,null,null,"Ab-","Wasser-","Umfangs-","Ent-","Verletz-","Sonstige"]
[null,null,null,null,null,null,null,null,null,null,null,null,null,null,null,null,null,null,null,null,null,null,null,null,null,null,null,null,null,null,null,null,null,null,null,null,null,null,null,null,null,null,null,null,null,null,null,null,null,null,"Gesamt",null,"magerung","bauch","vermehr.","zündungen","ungen","Ursachen"]
["AA>F50|902|W10","AB>F50|902|W01","AC>F50|902|W02","AD>F50|902|W03","AE>F50|902|W04","AF>F50|902|W05","AG>F50|902|W06",null,null,null,null,null,null,null,null,null,null,null,null,null,null,null,null,null,null,null,null,null,null,null,null,null,null,null,null,null,null,null,null,null,null,null,null,null,null,null,"Verwürfe und Ursachen",null,null,"%",{"$f":"IF(AA565<>\"\",AA565,\"\")","v":""},null,{"$f":"IF(AB565<>\"\",AB565,\"\")","v":""},{"$f":"IF(AC565<>\"\",AC565,\"\")","v":""},{"$f":"IF(AD565<>\"\",AD565,\"\")","v":""},{"$f":"IF(AE565<>\"\",AE565,\"\")","v":""},{"$f":"IF(AF565<>\"\",AF565,\"\")","v":""},{"$f":"IF(AG565<>\"\",AG565,\"\")","v":""}]
[]
[null,null,null,null,null,null,null,null,null,null,null,null,null,null,null,null,null,null,null,null,null,null,null,null,null,null,null,null,null,null,null,null,null,null,null,null,null,null,null,null,null,null,null,null,null,null,null,null,null,null,null,null,"Hähne",null,null,"Hennen"]
[null,null,null,null,null,null,null,null,null,null,null,null,null,null,null,null,null,null,null,null,null,null,null,null,null,null,null,null,null,null,null,null,null,null,null,null,null,null,null,null,null,null,null,null,null,null,null,null,null,null,null,null,"Brusthautveränderungen",null,null,"Brusthautveränderungen",null,null,"Fussballen-"]
[null,null,null,null,null,null,null,null,null,null,null,null,null,null,null,null,null,null,null,null,null,null,null,null,null,null,null,null,null,null,null,null,null,null,null,null,null,null,null,null,null,null,null,null,null,null,null,null,null,null,"Gesamt",null,"kleine","hochgradige",null,"kleine","hochgradige",null,"veränderungen"]
["AA>F50|904|W10","AB>F50|904|W01","AC>F50|904|W02","AD>F50|904|W03","AE>F50|904|W04","AF>F50|904|W05",null,null,null,null,null,null,null,null,null,null,null,null,null,null,null,null,null,null,null,null,null,null,null,null,null,null,null,null,null,null,null,null,null,null,null,null,null,null,null,null,"Schlachthofbefunde",null,null,"%",{"$f":"IF(AA570<>\"\",AA570,\"\")","v":""},null,{"$f":"IF(AB570<>\"\",AB570,\"\")","v":""},{"$f":"IF(AC570<>\"\",AC570,\"\")","v":""},null,{"$f":"IF(AD570<>\"\",AD570,\"\")","v":""},{"$f":"IF(AE570<>\"\",AE570,\"\")","v":""},null,{"$f":"IF(AF570<>\"\",AF570,\"\")","v":""}]
["BEREICH_ENDE"]
[]
["BEREICH_START",null,null,null,null,null,null,null,null,null,null,null,null,null,null,null,null,null,null,"GF_PUTE1",null,null,null,null,null,null,null,null,null,null,null,null,null,null,null,null,null,null,null,null,null,null,null,null,null,"Jungputen",null,null,null,null,null,null,null,null,null,null,null,"#DATUM#"]
["AA>T02",null,null,null,null,null,null,null,null,null,null,null,null,null,null,null,null,null,null,null,null,null,null,null,null,null,null,null,null,null,null,null,null,null,null,null,null,null,null,null,null,null,null,null,null,null,{"$f":"AA574","v":0}]
[]
[null,null,null,null,null,null,null,null,null,null,null,null,null,null,null,null,null,null,null,{"$f":"AU576","v":"Stichprobe"},null,null,null,null,null,null,null,null,null,null,null,null,null,null,null,null,null,null,null,null,null,null,null,null,null,null,"Stichprobe",null,null,null,"Aufzucht"]
["AA>F11|","AB>F11|","AC>F12|","AD>F12|","AE>F13|","AF>F13|","AG>F14|","AH>F14|",null,null,null,null,null,null,null,null,null,null,null,null,null,null,null,null,null,null,null,null,null,null,null,null,null,null,null,null,null,null,null,null,null,null,null,null,null,null,null,null,null,null,"5. LW"]
[{"$f":"A577&R578","v":"AA>F11|922|W04"},{"$f":"B577&S578","v":"AB>F11|950|W04"},{"$f":"C577&R578","v":"AC>F12|922|W04"},{"$f":"D577&S578","v":"AD>F12|950|W04"},{"$f":"E577&R578","v":"AE>F13|922|W04"},{"$f":"F577&S578","v":"AF>F13|950|W04"},{"$f":"G577&R578","v":"AG>F14|922|W04"},{"$f":"H577&S578","v":"AH>F14|950|W04"},null,null,null,null,null,null,null,null,null,"922|W04","950|W04",null,null,null,null,null,null,null,null,null,null,null,null,null,null,null,null,null,null,null,null,null,null,null,null,null,null,null,"Schabelkürzen",null,null,"Bonitur 2 %",{"$f":"IF(AB578>0,AA578,\"\")","v":""}]
[{"$f":"A577&R579","v":"AA>F11|912|W05"},{"$f":"B577&S579","v":"AB>F11|950|W05"},null,null,null,null,{"$f":"G577&R579","v":"AG>F14|912|W05"},{"$f":"H577&S579","v":"AH>F14|950|W05"},null,null,null,null,null,null,null,null,null,"912|W05","950|W05",null,null,null,null,null,null,null,null,null,null,null,null,null,null,null,null,null,null,null,null,null,null,null,null,null,null,null,"Vollständigkeit Gefieder (Gefiederschäden)",null,null,"Bonitur 1 %",""]
[{"$f":"A577&R580","v":"AA>F11|922|W05"},{"$f":"B577&S580","v":"AB>F11|950|W05"},null,null,null,null,{"$f":"G577&R580","v":"AG>F14|922|W05"},{"$f":"H577&S580","v":"AH>F14|950|W05"},null,null,null,null,null,null,null,null,null,"922|W05","950|W05",null,null,null,null,null,null,null,null,null,null,null,null,null,null,null,null,null,null,null,null,null,null,null,null,null,null,null,null,null,null,"Bonitur 2 %",""]
[{"$f":"A577&R581","v":"AA>F11|912|W10"},{"$f":"B577&S581","v":"AB>F11|950|W10"},null,null,null,null,{"$f":"G577&R581","v":"AG>F14|912|W10"},{"$f":"H577&S581","v":"AH>F14|950|W10"},null,null,null,null,null,null,null,null,null,"912|W10","950|W10",null,null,null,null,null,null,null,null,null,null,null,null,null,null,null,null,null,null,null,null,null,null,null,null,null,null,null,"Fußballenveränderung",null,null,"Ergebnis B %",""]
[{"$f":"A577&R582","v":"AA>F11|922|W10"},{"$f":"B577&S582","v":"AB>F11|950|W10"},null,null,null,null,{"$f":"G577&R582","v":"AG>F14|922|W10"},{"$f":"H577&S582","v":"AH>F14|950|W10"},null,null,null,null,null,null,null,null,null,"922|W10","950|W10",null,null,null,null,null,null,null,null,null,null,null,null,null,null,null,null,null,null,null,null,null,null,null,null,null,null,null,null,null,null,"Ergebnis C %",""]
[{"$f":"A577&R583","v":"AA>F11|912|W11"},{"$f":"B577&S583","v":"AB>F11|950|W11"},null,null,null,null,{"$f":"G577&R583","v":"AG>F14|912|W11"},{"$f":"H577&S583","v":"AH>F14|950|W11"},null,null,null,null,null,null,null,null,null,"912|W11","950|W11",null,null,null,null,null,null,null,null,null,null,null,null,null,null,null,null,null,null,null,null,null,null,null,null,null,null,null,"Lahmheit",null,null,"Bonitur 1 %",""]
[{"$f":"A577&R584","v":"AA>F11|912|W06"},{"$f":"B577&S584","v":"AB>F11|950|W06"},null,null,null,null,{"$f":"G577&R584","v":"AG>F14|912|W06"},{"$f":"H577&S584","v":"AH>F14|950|W06"},null,null,null,null,null,null,null,null,null,"912|W06","950|W06",null,null,null,null,null,null,null,null,null,null,null,null,null,null,null,null,null,null,null,null,null,null,null,null,null,null,null,"Hautverletzungen",null,null,"Bonitur 1 %",""]
[{"$f":"A577&R585","v":"AA>F11|922|W06"},{"$f":"B577&S585","v":"AB>F11|950|W06"},null,null,null,null,{"$f":"G577&R585","v":"AG>F14|922|W06"},{"$f":"H577&S585","v":"AH>F14|950|W06"},null,null,null,null,null,null,null,null,null,"922|W06","950|W06",null,null,null,null,null,null,null,null,null,null,null,null,null,null,null,null,null,null,null,null,null,null,null,null,null,null,null,null,null,null,"Bonitur 2 %",""]
[{"$f":"A577&R586","v":"AA>F11|902|W12"},{"$f":"B577&S586","v":"AB>F11|950|W12"},{"$f":"C577&R586","v":"AC>F12|902|W12"},{"$f":"D577&S586","v":"AD>F12|950|W12"},{"$f":"E577&R586","v":"AE>F13|902|W12"},{"$f":"F577&S586","v":"AF>F13|950|W12"},{"$f":"G577&R586","v":"AG>F14|902|W12"},{"$f":"H577&S586","v":"AH>F14|950|W12"},null,null,null,null,null,null,null,null,null,"902|W12","950|W12",null,null,null,null,null,null,null,null,null,null,null,null,null,null,null,null,null,null,null,null,null,null,null,null,null,null,null,"Sollgewichtserfüllung",null,null,"%",""]
[{"$f":"A577&R587","v":"AA>F11|902|W13"},{"$f":"B577&S587","v":"AB>F11|950|W12"},{"$f":"C577&R587","v":"AC>F12|902|W13"},{"$f":"D577&S587","v":"AD>F12|950|W12"},{"$f":"E577&R587","v":"AE>F13|902|W13"},{"$f":"F577&S587","v":"AF>F13|950|W12"},{"$f":"G577&R587","v":"AG>F14|902|W13"},{"$f":"H577&S587","v":"AH>F14|950|W12"},null,null,null,null,null,null,null,null,null,"902|W13","950|W12",null,null,null,null,null,null,null,null,null,null,null,null,null,null,null,null,null,null,null,null,null,null,null,null,null,null,null,"Uniformität",null,null,"%",""]
[]
[null,null,null,null,null,null,null,null,null,null,null,null,null,null,null,null,null,null,null,null,null,null,null,null,null,null,null,null,null,null,null,null,null,null,null,null,null,null,null,null,null,null,null,null,null,null,"Fortlaufende Erhebungen"]
["AA>F20|901|W01",null,null,null,null,null,null,null,null,null,null,null,null,null,null,null,null,null,null,null,null,null,null,null,null,null,null,null,null,null,null,null,null,null,null,null,null,null,null,null,null,null,null,null,null,null,"Arzneimitteleinsatz",null,null,"Therapieindex",{"$f":"IF(AA590<>\"\",AA590,\"\")","v":""}]
[]
[]
[null,null,null,null,null,null,null,null,null,null,null,null,null,null,null,null,null,null,null,{"$f":"AU593","v":"Tierverluste (mtl. Mortalitätsrate)"},null,null,null,null,null,null,null,null,null,null,null,null,null,null,null,null,null,null,null,null,null,null,null,null,null,null,"Tierverluste (mtl. Mortalitätsrate)",null,null,null,"Summe"]
["AA>F401|",null,null,null,null,null,null,null,null,null,null,null,null,null,1,2,3,4,5,null,null,null,null,null,null,null,null,null,null,null,null,null,null,null,null,null,null,null,null,null,null,null,null,null,null,null,null,null,null,null,"Aufzucht"]
[{"$f":"A594&R595","v":"AA>F401|911|W36"},null,null,null,null,null,null,null,null,null,null,null,null,null,null,null,null,"911|W36",null,null,null,null,null,null,null,null,null,null,null,null,null,null,null,null,null,null,null,null,null,null,null,null,null,null,null,null,"Gesamt",null,null,"%",{"$f":"IF(COUNT(AA595)=1,AA595,\"\")","v":""}]
[{"$f":"A594&R596","v":"AA>F401|911|W02"},null,null,null,null,null,null,null,null,null,null,null,null,null,null,null,null,"911|W02",null,null,null,null,null,null,null,null,null,null,null,null,null,null,null,null,null,null,null,null,null,null,null,null,null,null,null,null,"Unfall",null,null,"%",{"$f":"IF(COUNT(AA596)=1,AA596,\"\")","v":""}]
[{"$f":"A594&R597","v":"AA>F401|911|W03"},null,null,null,null,null,null,null,null,null,null,null,null,null,null,null,null,"911|W03",null,null,null,null,null,null,null,null,null,null,null,null,null,null,null,null,null,null,null,null,null,null,null,null,null,null,null,null,"Erkrankungen",null,null,"%",""]
[{"$f":"A594&R598","v":"AA>F401|911|W04"},null,null,null,null,null,null,null,null,null,null,null,null,null,null,null,null,"911|W04",null,null,null,null,null,null,null,null,null,null,null,null,null,null,null,null,null,null,null,null,null,null,null,null,null,null,null,null,"Hunger/Durst",null,null,"%",""]
[{"$f":"A594&R599","v":"AA>F401|911|W05"},null,null,null,null,null,null,null,null,null,null,null,null,null,null,null,null,"911|W05",null,null,null,null,null,null,null,null,null,null,null,null,null,null,null,null,null,null,null,null,null,null,null,null,null,null,null,null,"Kannibalismus",null,null,"%",""]
[{"$f":"A594&R600","v":"AA>F401|911|W06"},null,null,null,null,null,null,null,null,null,null,null,null,null,null,null,null,"911|W06",null,null,null,null,null,null,null,null,null,null,null,null,null,null,null,null,null,null,null,null,null,null,null,null,null,null,null,null,"Lahmheit",null,null,"%",""]
[{"$f":"A594&R601","v":"AA>F401|911|W09"},null,null,null,null,null,null,null,null,null,null,null,null,null,null,null,null,"911|W09",null,null,null,null,null,null,null,null,null,null,null,null,null,null,null,null,null,null,null,null,null,null,null,null,null,null,null,null,"Hautverletzungen",null,null,"%",""]
[{"$f":"A594&R602","v":"AA>F401|911|W08"},null,null,null,null,null,null,null,null,null,null,null,null,null,null,null,null,"911|W08",null,null,null,null,null,null,null,null,null,null,null,null,null,null,null,null,null,null,null,null,null,null,null,null,null,null,null,null,"Sonstige Ursachen",null,null,"%",""]
[]
[null,null,null,null,null,null,null,null,null,null,null,null,null,null,null,null,null,null,null,{"$f":"AU604","v":"Verluste und Separierungen"},null,null,null,null,null,null,null,null,null,null,null,null,null,null,null,null,null,null,null,null,null,null,null,null,null,null,"Verluste und Separierungen",null,null,null,"Summe"]
[null,null,null,null,null,null,null,null,null,null,null,null,null,null,null,null,null,null,null,null,null,null,null,null,null,null,null,null,null,null,null,null,null,null,null,null,null,null,null,null,null,null,null,null,null,null,null,null,null,null,"Aufzucht"]
[{"$f":"A594&R606","v":"AA>F401|911|W10"},null,null,null,null,null,null,null,null,null,null,null,null,null,null,null,null,"911|W10",null,null,null,null,null,null,null,null,null,null,null,null,null,null,null,null,null,null,null,null,null,null,null,null,null,null,null,null,"Lahmheit",null,null,"%",{"$f":"IF(COUNT(AA606,AA600)>0,AA606+AA600,\"\")","v":""}]
[{"$f":"A594&R607","v":"AA>F401|911|W11"},null,null,null,null,null,null,null,null,null,null,null,null,null,null,null,null,"911|W11",null,null,null,null,null,null,null,null,null,null,null,null,null,null,null,null,null,null,null,null,null,null,null,null,null,null,null,null,"Hautverletzungen",null,null,"%",{"$f":"IF(COUNT(AA607,AA601)>0,AA607+AA601,\"\")","v":""}]
[]
[null,null,null,null,null,null,null,null,null,null,null,null,null,null,null,null,null,null,null,null,null,null,null,null,null,null,null,null,null,null,null,null,null,null,null,null,null,null,null,null,null,null,null,null,null,null,"Tiergewicht/Wasserverbrauch",null,null,null,"Mittelwert"]
[null,null,null,null,null,null,null,null,null,null,null,null,null,null,null,null,null,null,null,null,null,null,null,null,null,null,null,null,null,null,null,null,null,null,null,null,null,null,null,null,null,null,null,null,null,null,null,null,null,null,"Aufzucht"]
["AA>F30|910|W07","AB>F30|910|W11",null,null,null,null,null,null,null,null,null,null,null,null,null,null,null,null,null,null,null,null,null,null,null,null,null,null,null,null,null,null,null,null,null,null,null,null,null,null,null,null,null,null,null,null,"Sollgewichtserfüllung",null,null,"%",{"$f":"IF(AA611+AB611>0,AVERAGE(AA611:AB611),\"\")","v":""}]
["AA>F30|909|W07","AB>F30|909|W11",null,null,null,null,null,null,null,null,null,null,null,null,null,null,null,null,null,null,null,null,null,null,null,null,null,null,null,null,null,null,null,null,null,null,null,null,null,null,null,null,null,null,null,null,"Uniformität",null,null,"%",{"$f":"IF(AA612+AB612>0,AVERAGE(AA612:AB612),\"\")","v":""}]
[{"$f":"A594&R613","v":"AA>F401|911|W45"},{"$f":"B594&R613","v":"911|W45"},{"$f":"C594&R613","v":"911|W45"},{"$f":"D594&R613","v":"911|W45"},null,null,null,null,null,null,null,null,null,null,null,null,null,"911|W45",null,null,null,null,null,null,null,null,null,null,null,null,null,null,null,null,null,null,null,null,null,null,null,null,null,null,null,null,"Wasserverbrauch",null,null,"ø l/Tier",{"$f":"IF(AA613>0,AA613,\"\")","v":""}]
["BEREICH_ENDE"]
[]
["BEREICH_START",null,null,null,null,null,null,null,null,null,null,null,null,null,null,null,null,null,null,"GF_PUTE2",null,null,null,null,null,null,null,null,null,null,null,null,null,null,null,null,null,null,null,null,null,null,null,null,null,"Mastputen",null,null,null,null,null,null,null,null,null,null,null,null,null,null,"#DATUM#"]
["AA>T02",null,null,null,null,null,null,null,null,null,null,null,null,null,null,null,null,null,null,null,null,null,null,null,null,null,null,null,null,null,null,null,null,null,null,null,null,null,null,null,null,null,null,null,null,null,{"$f":"AA617","v":0}]
[]
[null,null,null,null,null,null,null,null,null,null,null,null,null,null,null,null,null,null,null,{"$f":"AU619","v":"Stichproben"},null,null,null,null,null,null,null,null,null,null,null,null,null,null,null,null,null,null,null,null,null,null,null,null,null,null,"Stichproben"]
["AA>F11|","AB>F11|","AC>F12|","AD>F12|","AE>F13|","AF>F13|","AG>F14|","AH>F14|",null,null,null,null,null,null,null,null,null,null,null,null,null,null,null,null,null,null,null,null,null,null,null,null,null,null,null,null,null,null,null,null,null,null,null,null,null,null,null,null,null,null,"8. LW","12. LW","letzte 4 LW"]
[{"$f":"A620&R621","v":"AA>F11|922|W04"},{"$f":"B620&S621","v":"AB>F11|950|W04"},{"$f":"C620&R621","v":"AC>F12|922|W04"},{"$f":"D620&S621","v":"AD>F12|950|W04"},{"$f":"E620&R621","v":"AE>F13|922|W04"},{"$f":"F620&S621","v":"AF>F13|950|W04"},{"$f":"G620&R621","v":"AG>F14|922|W04"},{"$f":"H620&S621","v":"AH>F14|950|W04"},null,null,null,null,null,null,null,null,null,"922|W04","950|W04",null,null,null,null,null,null,null,null,null,null,null,null,null,null,null,null,null,null,null,null,null,null,null,null,null,null,null,"Schabelkürzen",null,null,"Bonitur 2 %",{"$f":"IF(AD621>0,AC621,\"\")","v":""}]
[{"$f":"A620&R622","v":"AA>F11|912|W05"},{"$f":"B620&S622","v":"AB>F11|950|W05"},null,null,null,null,{"$f":"G620&R622","v":"AG>F14|912|W05"},{"$f":"H620&S622","v":"AH>F14|950|W05"},null,null,null,null,null,null,null,null,null,"912|W05","950|W05",null,null,null,null,null,null,null,null,null,null,null,null,null,null,null,null,null,null,null,null,null,null,null,null,null,null,null,"Vollständigkeit Gefieder (Gefiederschäden)",null,null,"Bonitur 1 %",null,null,{"$f":"IF(AH622>0,AG622,\"\")","v":""}]
[{"$f":"A620&R623","v":"AA>F11|922|W05"},{"$f":"B620&S623","v":"AB>F11|950|W05"},null,null,null,null,{"$f":"G620&R623","v":"AG>F14|922|W05"},{"$f":"H620&S623","v":"AH>F14|950|W05"},null,null,null,null,null,null,null,null,null,"922|W05","950|W05",null,null,null,null,null,null,null,null,null,null,null,null,null,null,null,null,null,null,null,null,null,null,null,null,null,null,null,null,null,null,"Bonitur 2 %",null,null,""]
[{"$f":"A620&R624","v":"AA>F11|912|W10"},{"$f":"B620&S624","v":"AB>F11|950|W10"},null,null,null,null,{"$f":"G620&R624","v":"AG>F14|912|W10"},{"$f":"H620&S624","v":"AH>F14|950|W10"},null,null,null,null,null,null,null,null,null,"912|W10","950|W10",null,null,null,null,null,null,null,null,null,null,null,null,null,null,null,null,null,null,null,null,null,null,null,null,null,null,null,"Fußballenveränderung",null,null,"Ergebnis B %",null,null,""]
[{"$f":"A620&R625","v":"AA>F11|922|W10"},{"$f":"B620&S625","v":"AB>F11|950|W10"},null,null,null,null,{"$f":"G620&R625","v":"AG>F14|922|W10"},{"$f":"H620&S625","v":"AH>F14|950|W10"},null,null,null,null,null,null,null,null,null,"922|W10","950|W10",null,null,null,null,null,null,null,null,null,null,null,null,null,null,null,null,null,null,null,null,null,null,null,null,null,null,null,null,null,null,"Ergebnis C %",null,null,""]
[{"$f":"A620&R626","v":"AA>F11|912|W11"},{"$f":"B620&S626","v":"AB>F11|950|W11"},null,null,null,null,{"$f":"G620&R626","v":"AG>F14|912|W11"},{"$f":"H620&S626","v":"AH>F14|950|W11"},null,null,null,null,null,null,null,null,null,"912|W11","950|W11",null,null,null,null,null,null,null,null,null,null,null,null,null,null,null,null,null,null,null,null,null,null,null,null,null,null,null,"Lahmheit",null,null,"Bonitur 1 %",null,null,""]
[{"$f":"A620&R627","v":"AA>F11|912|W06"},{"$f":"B620&S627","v":"AB>F11|950|W06"},null,null,null,null,{"$f":"G620&R627","v":"AG>F14|912|W06"},{"$f":"H620&S627","v":"AH>F14|950|W06"},null,null,null,null,null,null,null,null,null,"912|W06","950|W06",null,null,null,null,null,null,null,null,null,null,null,null,null,null,null,null,null,null,null,null,null,null,null,null,null,null,null,"Hautverletzungen",null,null,"Bonitur 1 %",null,null,""]
[{"$f":"A620&R628","v":"AA>F11|922|W06"},{"$f":"B620&S628","v":"AB>F11|950|W06"},null,null,null,null,{"$f":"G620&R628","v":"AG>F14|922|W06"},{"$f":"H620&S628","v":"AH>F14|950|W06"},null,null,null,null,null,null,null,null,null,"922|W06","950|W06",null,null,null,null,null,null,null,null,null,null,null,null,null,null,null,null,null,null,null,null,null,null,null,null,null,null,null,null,null,null,"Bonitur 2 %",null,null,""]
[{"$f":"A620&R629","v":"AA>F11|902|W12"},{"$f":"B620&S629","v":"AB>F11|950|W12"},{"$f":"C620&R629","v":"AC>F12|902|W12"},{"$f":"D620&S629","v":"AD>F12|950|W12"},{"$f":"E620&R629","v":"AE>F13|902|W12"},{"$f":"F620&S629","v":"AF>F13|950|W12"},{"$f":"G620&R629","v":"AG>F14|902|W12"},{"$f":"H620&S629","v":"AH>F14|950|W12"},null,null,null,null,null,null,null,null,null,"902|W12","950|W12",null,null,null,null,null,null,null,null,null,null,null,null,null,null,null,null,null,null,null,null,null,null,null,null,null,null,null,"Sollgewichtserfüllung",null,null,"%",{"$f":"IF(AD629>0,AC629,\"\")","v":""},{"$f":"IF(AF629>0,AE629,\"\")","v":""}]
[{"$f":"A620&R630","v":"AA>F11|902|W13"},{"$f":"B620&S630","v":"AB>F11|950|W12"},{"$f":"C620&R630","v":"AC>F12|902|W13"},{"$f":"D620&S630","v":"AD>F12|950|W12"},{"$f":"E620&R630","v":"AE>F13|902|W13"},{"$f":"F620&S630","v":"AF>F13|950|W12"},{"$f":"G620&R630","v":"AG>F14|902|W13"},{"$f":"H620&S630","v":"AH>F14|950|W12"},null,null,null,null,null,null,null,null,null,"902|W13","950|W12",null,null,null,null,null,null,null,null,null,null,null,null,null,null,null,null,null,null,null,null,null,null,null,null,null,null,null,"Uniformität",null,null,"%",{"$f":"IF(AD630>0,AC630,\"\")","v":""},{"$f":"IF(AF630>0,AE630,\"\")","v":""}]
[]
[null,null,null,null,null,null,null,null,null,null,null,null,null,null,null,null,null,null,null,null,null,null,null,null,null,null,null,null,null,null,null,null,null,null,null,null,null,null,null,null,null,null,null,null,null,null,"Fortlaufende Erhebungen"]
["AA>F20|901|W01",null,null,null,null,null,null,null,null,null,null,null,null,null,null,null,null,null,null,null,null,null,null,null,null,null,null,null,null,null,null,null,null,null,null,null,null,null,null,null,null,null,null,null,null,null,"Arzneimitteleinsatz",null,null,"Therapieindex",{"$f":"IF(AA633<>\"\",AA633,\"\")","v":""}]
[]
[]
[null,null,null,null,null,null,null,null,null,null,null,null,null,null,null,null,null,null,null,{"$f":"AU636","v":"Tierverluste (mtl. Mortalitätsrate)"},null,null,null,null,null,null,null,null,null,null,null,null,null,null,null,null,null,null,null,null,null,null,null,null,null,null,"Tierverluste (mtl. Mortalitätsrate)",null,null,null,null,null,null,null,null,"Summe"]
["AA>F401|","AB>F402|","AC>F403|","AD>F404|","AE>F405|","AF>F406|",null,null,null,null,null,null,null,null,1,2,3,4,5,null,null,null,null,null,null,null,null,null,null,null,null,null,null,null,null,null,null,null,null,null,null,null,null,null,null,null,null,null,null,null,"1. Monat","2. Monat","3. Monat","4. Monat","5. Monat","Mast"]
[{"$f":"A637&R638","v":"AA>F401|911|W36"},{"$f":"B637&R638","v":"AB>F402|911|W36"},{"$f":"C637&R638","v":"AC>F403|911|W36"},{"$f":"D637&R638","v":"AD>F404|911|W36"},{"$f":"E637&R638","v":"AE>F405|911|W36"},{"$f":"F637&R638","v":"AF>F406|911|W36"},null,null,null,null,{"$f":"\"AI>SUM|F401-405|\" & R638","v":"AI>SUM|F401-405|911|W36"},null,null,null,null,null,null,"911|W36",null,null,null,null,null,null,null,null,null,null,null,null,null,null,null,null,null,null,null,null,null,null,null,null,null,{"$f":"COUNT(AY638:BB645)","v":0},null,null,"Gesamt",null,null,"%",{"$f":"IF(COUNT(AA638)=1,AA638,\"\")","v":""},{"$f":"IF(COUNT(AB638)=1,AB638,\"\")","v":""},"","","",{"$f":"IF(AND(AI638>0,AR638>0),AI638,\"\")","v":""}]
[{"$f":"A637&R639","v":"AA>F401|911|W02"},{"$f":"B637&R639","v":"AB>F402|911|W02"},{"$f":"C637&R639","v":"AC>F403|911|W02"},{"$f":"D637&R639","v":"AD>F404|911|W02"},{"$f":"E637&R639","v":"AE>F405|911|W02"},{"$f":"F637&R639","v":"AF>F406|911|W02"},null,null,null,null,"AI>SUM|F401-405|911|W02",null,null,null,null,null,null,"911|W02",null,null,null,null,null,null,null,null,null,null,null,null,null,null,null,null,null,null,null,null,null,null,null,null,null,{"$f":"COUNT(AY638:BB645)","v":0},null,null,"Unfall",null,null,"%",{"$f":"IF(COUNT(AA639)=1,AA639,\"\")","v":""},"","","","",""]
[{"$f":"A637&R640","v":"AA>F401|911|W03"},{"$f":"B637&R640","v":"AB>F402|911|W03"},{"$f":"C637&R640","v":"AC>F403|911|W03"},{"$f":"D637&R640","v":"AD>F404|911|W03"},{"$f":"E637&R640","v":"AE>F405|911|W03"},{"$f":"F637&R640","v":"AF>F406|911|W03"},null,null,null,null,"AI>SUM|F401-405|911|W03",null,null,null,null,null,null,"911|W03",null,null,null,null,null,null,null,null,null,null,null,null,null,null,null,null,null,null,null,null,null,null,null,null,null,{"$f":"COUNT(AY638:BB645)","v":0},null,null,"Erkrankungen",null,null,"%","","","","","",""]
[{"$f":"A637&R641","v":"AA>F401|911|W04"},{"$f":"B637&R641","v":"AB>F402|911|W04"},{"$f":"C637&R641","v":"AC>F403|911|W04"},{"$f":"D637&R641","v":"AD>F404|911|W04"},{"$f":"E637&R641","v":"AE>F405|911|W04"},{"$f":"F637&R641","v":"AF>F406|911|W04"},null,null,null,null,"AI>SUM|F401-405|911|W04",null,null,null,null,null,null,"911|W04",null,null,null,null,null,null,null,null,null,null,null,null,null,null,null,null,null,null,null,null,null,null,null,null,null,{"$f":"COUNT(AY638:BB645)","v":0},null,null,"Hunger/Durst",null,null,"%","","","","","",""]
[{"$f":"A637&R642","v":"AA>F401|911|W05"},{"$f":"B637&R642","v":"AB>F402|911|W05"},{"$f":"C637&R642","v":"AC>F403|911|W05"},{"$f":"D637&R642","v":"AD>F404|911|W05"},{"$f":"E637&R642","v":"AE>F405|911|W05"},{"$f":"F637&R642","v":"AF>F406|911|W05"},null,null,null,null,"AI>SUM|F401-405|911|W05",null,null,null,null,null,null,"911|W05",null,null,null,null,null,null,null,null,null,null,null,null,null,null,null,null,null,null,null,null,null,null,null,null,null,{"$f":"COUNT(AY638:BB645)","v":0},null,null,"Kannibalismus",null,null,"%","","","","","",""]
[{"$f":"A637&R643","v":"AA>F401|911|W06"},{"$f":"B637&R643","v":"AB>F402|911|W06"},{"$f":"C637&R643","v":"AC>F403|911|W06"},{"$f":"D637&R643","v":"AD>F404|911|W06"},{"$f":"E637&R643","v":"AE>F405|911|W06"},{"$f":"F637&R643","v":"AF>F406|911|W06"},null,null,null,null,"AI>SUM|F401-405|911|W06",null,null,null,null,null,null,"911|W06",null,null,null,null,null,null,null,null,null,null,null,null,null,null,null,null,null,null,null,null,null,null,null,null,null,{"$f":"COUNT(AY638:BB645)","v":0},null,null,"Lahmheit",null,null,"%","","","","","",""]
[{"$f":"A637&R644","v":"AA>F401|911|W09"},{"$f":"B637&R644","v":"AB>F402|911|W09"},{"$f":"C637&R644","v":"AC>F403|911|W09"},{"$f":"D637&R644","v":"AD>F404|911|W09"},{"$f":"E637&R644","v":"AE>F405|911|W09"},{"$f":"F637&R644","v":"AF>F406|911|W09"},null,null,null,null,"AI>SUM|F401-405|911|W09",null,null,null,null,null,null,"911|W09",null,null,null,null,null,null,null,null,null,null,null,null,null,null,null,null,null,null,null,null,null,null,null,null,null,{"$f":"COUNT(AY638:BB645)","v":0},null,null,"Hautverletzungen",null,null,"%","","","","","",""]
[{"$f":"A637&R645","v":"AA>F401|911|W08"},{"$f":"B637&R645","v":"AB>F402|911|W08"},{"$f":"C637&R645","v":"AC>F403|911|W08"},{"$f":"D637&R645","v":"AD>F404|911|W08"},{"$f":"E637&R645","v":"AE>F405|911|W08"},{"$f":"F637&R645","v":"AF>F406|911|W08"},null,null,null,null,"AI>SUM|F401-405|911|W08",null,null,null,null,null,null,"911|W08",null,null,null,null,null,null,null,null,null,null,null,null,null,null,null,null,null,null,null,null,null,null,null,null,null,{"$f":"COUNT(AY638:BB645)","v":0},null,null,"Sonstige Ursachen",null,null,"%","","","","","",""]
[]
[null,null,null,null,null,null,null,null,null,null,null,null,null,null,null,null,null,null,null,{"$f":"AU647","v":"Verluste und Separierungen"},null,null,null,null,null,null,null,null,null,null,null,null,null,null,null,null,null,null,null,null,null,null,null,null,null,null,"Verluste und Separierungen",null,null,null,null,null,null,null,null,"Summe"]
[null,null,null,null,null,null,null,null,null,null,null,null,null,null,null,null,null,null,null,null,null,null,null,null,null,null,null,null,null,null,null,null,null,null,null,null,null,null,null,null,null,null,null,null,null,null,null,null,null,null,"1. Monat","2. Monat","3. Monat","4. Monat","5. Monat","Mast"]
[{"$f":"A637&R649","v":"AA>F401|911|W10"},{"$f":"B637&R649","v":"AB>F402|911|W10"},{"$f":"C637&R649","v":"AC>F403|911|W10"},{"$f":"D637&R649","v":"AD>F404|911|W10"},{"$f":"E637&R649","v":"AE>F405|911|W10"},{"$f":"F637&R649","v":"AF>F406|911|W10"},null,null,null,null,{"$f":"\"AI>SUM|F401-405|\" & R649","v":"AI>SUM|F401-405|911|W10"},null,null,null,null,null,null,"911|W10",null,null,null,null,null,null,null,null,null,null,null,null,null,null,null,null,null,null,null,null,null,null,null,null,null,{"$f":"COUNT(AY649:BB650)+COUNT(AY643:BB644)","v":0},null,null,"Lahmheit",null,null,"%",{"$f":"IF(COUNT(AA649,AA643)>0,AA649+AA643,\"\")","v":""},{"$f":"IF(COUNT(AB649,AB643)>0,AB649+AB643,\"\")","v":""},"","","",{"$f":"IF(AND(AI649>0,AR649+AR643>0),AI649+AI643,\"\")","v":""}]
[{"$f":"A637&R650","v":"AA>F401|911|W11"},{"$f":"B637&R650","v":"AB>F402|911|W11"},{"$f":"C637&R650","v":"AC>F403|911|W11"},{"$f":"D637&R650","v":"AD>F404|911|W11"},{"$f":"E637&R650","v":"AE>F405|911|W11"},{"$f":"F637&R650","v":"AF>F406|911|W11"},null,null,null,null,{"$f":"\"AI>SUM|F401-405|\" & R650","v":"AI>SUM|F401-405|911|W11"},null,null,null,null,null,null,"911|W11",null,null,null,null,null,null,null,null,null,null,null,null,null,null,null,null,null,null,null,null,null,null,null,null,null,{"$f":"COUNT(AY649:BB650)+COUNT(AY643:BB644)","v":0},null,null,"Hautverletzungen",null,null,"%",{"$f":"IF(COUNT(AA650,AA644)>0,AA650+AA644,\"\")","v":""},{"$f":"IF(COUNT(AB650,AB644)>0,AB650+AB644,\"\")","v":""},{"$f":"IF(COUNT(AC650,AC644)>0,AC650+AC644,\"\")","v":""},{"$f":"IF(COUNT(AD650,AD644)>0,AD650+AD644,\"\")","v":""},{"$f":"IF(COUNT(AE650,AE644)>0,AE650+AE644,\"\")","v":""},{"$f":"IF(AND(AI650>0,AR650+AR644>0),AI650+AI644,\"\")","v":""}]
[]
[null,null,null,null,null,null,null,null,null,null,null,null,null,null,null,null,null,null,null,null,null,null,null,null,null,null,null,null,null,null,null,null,null,null,null,null,null,null,null,null,null,null,null,null,null,null,"Tiergewicht/Wasserverbrauch",null,null,null,null,null,null,null,null,"Mittelwert"]
[null,null,null,null,null,null,null,null,null,null,null,null,null,null,null,null,null,null,null,null,null,null,null,null,null,null,null,null,null,null,null,null,null,null,null,null,null,null,null,null,null,null,null,null,null,null,null,null,null,null,"1. Monat","2. Monat","3. Monat","4. Monat","5. Monat","Mast"]
["AA>F30|910|W07","AB>F30|910|W11","AC>F30|910|W15","AD>F30|910|W19","AE>F30|910|W23","AF>F30|910|W27",null,null,null,null,null,null,null,null,null,null,null,null,null,null,null,null,null,null,null,null,null,null,null,null,null,null,null,null,null,null,null,null,null,null,null,null,null,null,null,null,"Sollgewichtserfüllung",null,null,"%",{"$f":"IF(AA654>0,AA654,\"\")","v":""},"","","","",{"$f":"IF(COUNT(AY654:BC654)>0,AVERAGE(AY654:BC654),\"\")","v":""}]
["AA>F30|909|W07","AB>F30|909|W11","AC>F30|909|W15","AD>F30|909|W19","AE>F30|909|W23","AF>F30|909|W27",null,null,null,null,null,null,null,null,null,null,null,null,null,null,null,null,null,null,null,null,null,null,null,null,null,null,null,null,null,null,null,null,null,null,null,null,null,null,null,null,"Uniformität",null,null,"%","","","","","",{"$f":"IF(COUNT(AY655:BC655)>0,AVERAGE(AY655:BC655),\"\")","v":""}]
[{"$f":"A637&R656","v":"AA>F401|911|W45"},{"$f":"B637&R656","v":"AB>F402|911|W45"},{"$f":"C637&R656","v":"AC>F403|911|W45"},{"$f":"D637&R656","v":"AD>F404|911|W45"},{"$f":"E637&R656","v":"AE>F405|911|W45"},{"$f":"F637&R656","v":"AF>F406|911|W45"},null,null,null,null,null,null,null,null,null,null,null,"911|W45",null,null,null,null,null,null,null,null,null,null,null,null,null,null,null,null,null,null,null,null,null,null,null,null,null,null,null,null,"Wasserverbrauch",null,null,"ø l/Tier",{"$f":"IF(AA656>0,AA656,\"\")","v":""},{"$f":"IF(AB656>0,AB656,\"\")","v":""},"","","",{"$f":"IF(COUNT(AY656:BC656)>0,AVERAGE(AY656:BC656),\"\")","v":""}]
[]
[null,null,null,null,null,null,null,null,null,null,null,null,null,null,null,null,null,null,null,{"$f":"AU658","v":"Abschlusserhebungen"},null,null,null,null,null,null,null,null,null,null,null,null,null,null,null,null,null,null,null,null,null,null,null,null,null,null,"Abschlusserhebungen"]
[null,null,null,null,null,null,null,null,null,null,null,null,null,null,null,null,null,null,null,null,null,null,null,null,null,null,null,null,null,null,null,null,null,null,null,null,null,null,null,null,null,null,null,null,null,null,"Schlachthofindikatoren",null,null,null,"Gesamt",null,"verletzt","tot"]
["AA>F50|901|W10",null,null,null,null,"AB>F50|901|W01",null,null,null,null,"AC>F50|901|W02",null,null,null,null,null,null,null,null,null,null,null,null,null,null,null,null,null,null,null,null,null,null,null,null,null,null,null,null,null,null,null,null,null,null,null,"Verletzt und tot angelieferte Tiere",null,null,"%",{"$f":"IF(AA660<>\"\",AA660,\"\")","v":""},null,{"$f":"IF(AB660<>\"\",AB660,\"\")","v":""},{"$f":"IF(AC660<>\"\",AC660,\"\")","v":""}]
[]
[null,null,null,null,null,null,null,null,null,null,null,null,null,null,null,null,null,null,null,null,null,null,null,null,null,null,null,null,null,null,null,null,null,null,null,null,null,null,null,null,null,null,null,null,null,null,null,null,null,null,null,null,"Ab-","Wasser-","Umfangs-","Ent-","Verletz-","Sonstige"]
[null,null,null,null,null,null,null,null,null,null,null,null,null,null,null,null,null,null,null,null,null,null,null,null,null,null,null,null,null,null,null,null,null,null,null,null,null,null,null,null,null,null,null,null,null,null,null,null,null,null,"Gesamt",null,"magerung","bauch","vermehr.","zündungen","ungen","Ursachen"]
["AA>F50|902|W10","AB>F50|902|W01","AC>F50|902|W02","AD>F50|902|W03","AE>F50|902|W04","AF>F50|902|W05","AG>F50|902|W06",null,null,null,null,null,null,null,null,null,null,null,null,null,null,null,null,null,null,null,null,null,null,null,null,null,null,null,null,null,null,null,null,null,null,null,null,null,null,null,"Verwürfe und Ursachen",null,null,"%",{"$f":"IF(AA664<>\"\",AA664,\"\")","v":""},null,{"$f":"IF(AB664<>\"\",AB664,\"\")","v":""},"","","","",""]
[]
[null,null,null,null,null,null,null,null,null,null,null,null,null,null,null,null,null,null,null,null,null,null,null,null,null,null,null,null,null,null,null,null,null,null,null,null,null,null,null,null,null,null,null,null,null,null,null,null,null,null,null,null,"Hähne",null,null,"Hennen"]
[null,null,null,null,null,null,null,null,null,null,null,null,null,null,null,null,null,null,null,null,null,null,null,null,null,null,null,null,null,null,null,null,null,null,null,null,null,null,null,null,null,null,null,null,null,null,null,null,null,null,null,null,"Brusthautveränderungen",null,null,"Brusthautveränderungen",null,null,"Fussballen-"]
[null,null,null,null,null,null,null,null,null,null,null,null,null,null,null,null,null,null,null,null,null,null,null,null,null,null,null,null,null,null,null,null,null,null,null,null,null,null,null,null,null,null,null,null,null,null,null,null,null,null,"Gesamt",null,"kleine","hochgradige",null,"kleine","hochgradige",null,"veränderungen"]
["AA>F50|904|W10","AB>F50|904|W01","AC>F50|904|W02","AD>F50|904|W03","AE>F50|904|W04","AF>F50|904|W05",null,null,null,null,null,null,null,null,null,null,null,null,null,null,null,null,null,null,null,null,null,null,null,null,null,null,null,null,null,null,null,null,null,null,null,null,null,null,null,null,"Schlachthofbefunde",null,null,"%",{"$f":"IF(AA669<>\"\",AA669,\"\")","v":""},null,{"$f":"IF(AB669<>\"\",AB669,\"\")","v":""},{"$f":"IF(AC669<>\"\",AC669,\"\")","v":""},null,{"$f":"IF(AD669<>\"\",AD669,\"\")","v":""},{"$f":"IF(AE669<>\"\",AE669,\"\")","v":""},null,{"$f":"IF(AF669<>\"\",AF669,\"\")","v":""}]
["BEREICH_ENDE"]

{"sheet":"InternAuswertung","index":4,"n_rows":16,"n_cols":13,"rows_kept":16,"cut":false,"hidden":true,"merged":[]}
["F25_Z902","W09",null,null,null,"Listen","Geflügel",null,null,"Schwein",null,null,"Rind"]
["ZeileID","SpaltenName",null,null,null,null,"Masthühner (Durchgang: 2 / Schlupfdatum: 20.05.2017)",10,"GF_HUHN"]
[{"$f":"A1","v":"F25_Z902"},{"$f":"B1","v":"W09"},{"$f":"DGET(InternDaten_Datenbank,B3,$A$2:$A$3)","v":{"$error":"#VALUE!"}},null,null,null,"Jung- und Legehennen (Durchgang: 1 / Schlupfdatum: 23.06.2017)",38,"GF_HENNE"]
[]
[]
[]
["Listen der verfügbaren Erhebungen"]
["Keine Erhebungen vorhanden"]
["START_GF"]
["ENDE_GF"]
[]
["START_SW"]
["ENDE_SW"]
[]
["START_RD"]
["ENDE_RD"]

{"sheet":"InternDaten","index":5,"n_rows":1,"n_cols":67,"rows_kept":1,"cut":false,"hidden":true,"merged":[]}
["FormID","ZeileID","TypTier","TypForm","TypAnz","TypZeit","TypAuswert","Zyklus","W01","W02","W03","W04","W05","W06","W07","W08","W09","W10","W11","W12","W13","W14","W15","W16","W17","W18","W19","W20","W21","W22","W23","W24","W25","W26","W27","W28","W29","W30","W31","W32","W33","W34","W35","W36","W37","W38","W39","W40","W41","W42","W43","W44","W45","W46","W47","W48","W49","W50","W51","W52","W53","W54","W55","W56","W57","W58","W59"]

{"sheet":"Allg. Betriebsdaten_GF","index":6,"n_rows":41,"n_cols":8,"rows_kept":41,"cut":false,"hidden":true,"merged":[[40,5,40,7]]}
[null,"GF"]
[null,null,null,null,null,null,null,{"$f":"Intern_Eikotiger","v":"Eigenkontrolle Tiergerechtheit"}]
[null,"GF_BETRIEB",null,null,null,null,null,"Allg. Betriebsdaten"]
[null,null,null," ? "]
[]
[]
[]
[null,null,null,null,"Betrieb"]
[null,null,null,null,null,"Name"]
[null,null,null,null,"*","Ort"]
[null,null,null,null,"*","Straße"]
[null,null,null,null,"*","Bearbeiter"]
[null,null,null,null,"      * = optionale Angaben"]
[null,null,null,null,"Betriebs-ID"]
[]
[null,null,null,null,"Produktionsrichtung"]
[]
[]
[]
[]
[]
[null,null,null,null,"Ställe (Herden)",null,null,"(falls gesonderte Erhebungen durchgeführt werden)"]
[null,null,null,null,null,"Nr.","Eigene Bezeichnung","Lageskizze / Notizen"]
[null,null,null,null,null,1]
[null,null,null,null,null,2]
[null,null,null,null,null,3]
[null,null,null,null,null,4]
[null,null,null,null,null,5]
[null,null,null,null,null,6]
[null,null,null,null,null,7]
[null,null,null,null,null,8]
[null,null,null,null,null,9]
[null,null,null,null,null,10]
[]
[]
[]
[]
[]
[]
[]
[null,null,null,null,null,"Für die Datenerhebung klicken Sie bitte auf den Reiter 'Erhebungen'."]

{"sheet":"Allg. Betriebsdaten_SW","index":7,"n_rows":32,"n_cols":8,"rows_kept":32,"cut":false,"hidden":true,"merged":[[39,5,39,7]]}
[null,"SW"]
[null,null,null,null,null,null,null,{"$f":"Intern_Eikotiger","v":"Eigenkontrolle Tiergerechtheit"}]
[null,"SW_BETRIEB",null,null,null,null,null,"Allg. Betriebsdaten"]
[null,null,null," ? "]
[]
[]
[]
[null,null,null,null,"Betrieb"]
[null,null,null,null,null,"Name"]
[null,null,null,null,"*","Zusatz"]
[null,null,null,null,"*","Ort"]
[null,null,null,null,"*","Straße"]
[null,null,null,null,"*","Bearbeiter"]
[null,null,null,null,"      * = optionale Angaben"]
[null,null,null,null,"Betriebs-ID"]
[]
[null,null,null,null,"Produktionsrichtung"]
[]
[null,null,null,null,null,null,null,"Für die Datenerhebung klicken Sie bitte auf den Reiter 'Erhebungen'"]
[]
[null,null,null,null,"Betriebsteil/Ställe",null,null,"(falls gesonderte Erhebungen durchgeführt werden)"]
[null,null,null,null,null,"Nr.","Eigene Bezeichnung","Lageskizze / Notizen"]
[null,null,null,null,null,1]
[null,null,null,null,null,2]
[null,null,null,null,null,3]
[null,null,null,null,null,4]
[null,null,null,null,null,5]
[null,null,null,null,null,6]
[null,null,null,null,null,7]
[null,null,null,null,null,8]
[null,null,null,null,null,9]
[null,null,null,null,null,10]

{"sheet":"Erhebungen_GF","index":8,"n_rows":11,"n_cols":21,"rows_kept":11,"cut":false,"hidden":true,"merged":[]}
["GF",null,null,null,null,null,null,null,null,null,null,null,null,null,null,null,null,null,null,null,"Neue Erhebung hinzufügen"]
["GF_MB","Wirklich ein Erhebungsformular für den Folgemonat einfügen?",null,null,null,null,null,null,null,null,null,null,null,null,null,{"$f":"Intern_Eikotiger","v":"Eigenkontrolle Tiergerechtheit"}]
[1,null,null,null,null,null,null,null,null,null,null,null,null,null,null,"Erhebungen Übersicht"]
[null,"GF_HENNE1",null,null,null,null,null," ? "]
[]
[]
["DATEN_START",null,null,null,null,null,null,"Erhebung auswählen",null,null,null,null,null,null,null,null,null,null,null,"anzeigen ..."]
[]
[]
[]
["DATEN_ENDE"]

{"sheet":"Erhebungen_SW","index":9,"n_rows":12,"n_cols":21,"rows_kept":12,"cut":false,"hidden":true,"merged":[[6,19,6,20]]}
["SW",null,null,null,null,null,null,null,null,null,null,null,null,null,null,null,null,null,null,null,"Neue Erhebung hinzufügen"]
["SW_BUCHT","Wirklich ein Formular für eine weitere Bucht einfügen?",null,null,null,null,null,null,null,null,null,null,null,null,null,null,{"$f":"Intern_Eikotiger","v":"Eigenkontrolle Tiergerechtheit"}]
[1,null,null,null,null,null,null,null,null,null,null,null,null,null,null,null,"Erhebungen Übersicht"]
[null,"SW_FERKEL",null,null,null,null,null," ? "]
[]
[]
["DATEN_START",null,null,null,null,null,null,"Erhebung auswählen",null,null,null,null,null,null,null,null,null,null,null,"anzeigen ..."]
[]
[]
[]
[]
["DATEN_ENDE"]

{"sheet":"GF_SP","index":10,"n_rows":84,"n_cols":33,"rows_kept":84,"cut":false,"hidden":true,"merged":[[9,2,9,7]]}
[null,"GF_HUHN","Masthühner",null,null,null,null,"Tierbeurteilung (LW 2)",null,null,35]
[null,44,"T","T",{"$f":"IF(ISERROR(FIND(E3,$B$7))=FALSE,\"W\",\"-\")","v":"-"},{"$f":"IF(ISERROR(FIND(F3,$B$7))=FALSE,\"W\",\"-\")","v":"W"},{"$f":"IF(B1=\"GF_HUHN\",\"W\",\"-\")","v":"W"},{"$f":"I2","v":"-"},{"$f":"IF(ISERROR(FIND(I3,$B$7))=FALSE,\"W\",\"-\")","v":"-"},{"$f":"K2","v":"-"},{"$f":"IF(ISERROR(FIND(K3,$B$7))=FALSE,\"W\",\"-\")","v":"-"},{"$f":"M2","v":"-"},{"$f":"IF(ISERROR(FIND(M3,$B$7))=FALSE,\"W\",\"-\")","v":"-"},{"$f":"O2","v":"-"},{"$f":"IF(ISERROR(FIND(O3,$B$7))=FALSE,\"W\",\"-\")","v":"-"},{"$f":"Q2","v":"W"},{"$f":"IF(ISERROR(FIND(Q3,$B$7))=FALSE,\"W\",\"-\")","v":"W"},{"$f":"S2","v":"-"},{"$f":"IF(ISERROR(FIND(S3,$B$7))=FALSE,\"W\",\"-\")","v":"-"},{"$f":"U2","v":"-"},{"$f":"IF(ISERROR(FIND(U3,$B$7))=FALSE,\"W\",\"-\")","v":"-"},{"$f":"W2","v":"-"},{"$f":"IF(ISERROR(FIND(W3,$B$7))=FALSE,\"W\",\"-\")","v":"-"},{"$f":"Y2","v":"-"},{"$f":"IF(ISERROR(FIND(Y3,$B$7))=FALSE,\"W\",\"-\")","v":"-"},{"$f":"IF(AF2=\"W\",\"-\")","v":false},{"$f":"Y2","v":"-"},{"$f":"Y2","v":"-"},{"$f":"IF(AND(AE2=\"W\",AB2=\"W\"),\"W\",\"-\")","v":"-"},{"$f":"AE2","v":"-"},{"$f":"IF(ISERROR(FIND(AE3,$B$7))=FALSE,\"W\",\"-\")","v":"-"},{"$f":"AE2","v":"-"},{"$f":"IF(ISERROR(FIND(AG3,$B$7))=FALSE,\"W\",\"-\")","v":"W"}]
[null,"GF_SP","T","W01","W02","W15","T","T","W04","T","W05","T","W06","T","W07","T","W08","T","W09","T","W10","T","W03","T","W12","T","T","R13","T","T","W11","T","W14"]
[null,"MH_LW02","Clear","17-66",{"$f":"D4","v":"17-66"},{"$f":"E4","v":"17-66"},null,null,"17-66;69-71",null,{"$f":"$I$4","v":"17-66;69-71"},null,{"$f":"$I$4","v":"17-66;69-71"},null,{"$f":"$W$4","v":"17-66;69-70"},null,{"$f":"$W$4","v":"17-66;69-70"},null,{"$f":"$I$4","v":"17-66;69-71"},null,{"$f":"$I$4","v":"17-66;69-71"},null,"17-66;69-70",null,"17-66;69;71",null,null,null,null,null,{"$f":"$W$4","v":"17-66;69-70"}]
[null,2,null,{"$f":"$C$1 & \" (\" & Intern_BetriebID & \")\"","v":"Masthühner ()"}]
[null,9,null,{"$f":"\"Stichprobe: \" & H1 & IF($J$1<> \"\",\" vom \" & TEXT($J$1,\"tt.MM.jjjj\"),\"\")","v":"Stichprobe: Tierbeurteilung (LW 2)"}]
[null,{"$f":"VLOOKUP(B4,InternInfos!A21:D35,4)","v":"W01;W08;W14;W15"},"    ?    ",{"$f":"IF(D1<>\"\",  D1 & \" - \",\"\") & IF(F1<>\"\",\"Schlupfdatum: \" & TEXT(F1,\"tt.MM.JJJJ\"),\"\")","v":""},null,null,null,null,null,null,null,null,null,null,null,null,null,null,null,null,null,null,null,null,null,null,null,null,null,null,null,{"$f":"IF(OR(AND(X2=\"W\",AE2=\"W\"),AE2=\"W\"),\"© KTBL & Uni Kassel\",\"\")","v":""},{"$f":"IF(AF7=\"\",\"© KTBL & Uni Kassel\",\"\")","v":"© KTBL & Uni Kassel"}]
[null,{"$f":"IF(B5=2,\"|HUHN_71-71|HUHN_80-82\",\"VOLL\")","v":"|HUHN_71-71|HUHN_80-82"}]
[]
[null,null,"Speichern und schließen ..."]
[]
[null,null,"Stichprobe",null,null,null," ",{"$f":"IF(AND(B1=\"GF_Pute\",B5=8),\"Tierschutzindikatoren\",\"\")","v":""},null,"Tierschutzindikatoren"]
[]
[null,null,"Tier","Stall","Abteil","Geschlecht",null,null,"Schnabel-",null,"Gefieder-",null,"Haut-",null,"Zehen-",null,"Fußballen-",null,"Fußballen-",null,"Fußballen-",null,"Brustbein-",null,"Tiergewicht",null,null,null,null,null,"Lahmheit"]
[null,null,null,null,null,null,null,null,"kürzung",null,"schäden",null,"verletzungen",null,"verletzungen","veränderungen",null,"veränderungen",null,"veränderungen",null,null,"schäden"]
[null,null,"Nr","Bez.","Bez.","[M,W]",null,null,"[0,1,2]",null,"[0,1,2]",null,"[0,1,2]",null,"[0,1]",null,"[0,1]",null,"[0,1,2]",null,"[A,B,C]",null,"[0,1]",null,"g",null,null,null,null,null,"[0,1]"]
[null,"DATEN002",1]
[null,"DATEN003",2]
[null,"DATEN004",3]
[null,"DATEN005",4]
[null,"DATEN006",5]
[null,"DATEN007",6]
[null,"DATEN008",7]
[null,"DATEN009",8]
[null,"DATEN010",9]
[null,"DATEN011",10]
[null,"DATEN012",11]
[null,"DATEN013",12]
[null,"DATEN014",13]
[null,"DATEN015",14]
[null,"DATEN016",15]
[null,"DATEN017",16]
[null,"DATEN018",17]
[null,"DATEN019",18]
[null,"DATEN020",19]
[null,"DATEN021",20]
[null,"DATEN022",21]
[null,"DATEN023",22]
[null,"DATEN024",23]
[null,"DATEN025",24]
[null,"DATEN026",25]
[null,"DATEN027",26]
[null,"DATEN028",27]
[null,"DATEN029",28]
[null,"DATEN030",29]
[null,"DATEN031",30]
[null,"DATEN032",31]
[null,"DATEN033",32]
[null,"DATEN034",33]
[null,"DATEN035",34]
[null,"DATEN036",35]
[null,"DATEN037",36]
[null,"DATEN038",37]
[null,"DATEN039",38]
[null,"DATEN040",39]
[null,"DATEN041",40]
[null,"DATEN042",41]
[null,"DATEN043",42]
[null,"DATEN044",43]
[null,"DATEN045",44]
[null,"DATEN046",45]
[null,"DATEN047",46]
[null,"DATEN048",47]
[null,"DATEN049",48]
[null,"DATEN050",49]
[null,"DATEN051",50]
[]
[null,null,"Direkteingabe",null,null,null,null,null,"Anzahl",null,"Anzahl",null,"Anzahl",null,"Anzahl",null,"Anzahl",null,"Anzahl",null,"Anzahl",null,"Anzahl",null,"Ø Gewicht g",null,null,null,null,null,"Anzahl"]
[null,"DATEN071_W03_W04_W05_W06_W07_W08_W09_W10_W11_W12",null,{"$f":"IF(B5<>12,\"Boniturwert 0\",\"\")","v":"Boniturwert 0"},null,null,null,null,null,null,null,null,null,null,null,null,null,null,null,"A"]
[null,"DATEN072_W03_W04_W05_W06_W07_W08_W09_W10_W11",null,{"$f":"IF(B5<>12,\"Boniturwert 1\",\"\")","v":"Boniturwert 1"},null,null,null,null,null,null,null,null,null,null,null,null,null,null,null,"B",null,null,null,null,"Uniformität %"]
[null,"DATEN073_W04_W05_W06_W09_W10_W12",null,{"$f":"IF(B5<>12,\"Boniturwert 2\",\"\")","v":"Boniturwert 2"},null,null,null,null,null,null,null,null,null,null,null,null,null,null,null,"C"]
[null,"ERGEB950",null,"Anzahl Tiere",null,null,null,null,{"$f":"IF(SUM(I69:I71)>0,SUM(I69:I71),COUNTIF(I17:I66,\">-1\"))","v":0},null,{"$f":"IF(SUM(K69:K71)>0,SUM(K69:K71),COUNTIF(K17:K66,\">-1\"))","v":0},null,{"$f":"IF(SUM(M69:M71)>0,SUM(M69:M71),COUNTIF(M17:M66,\">-1\"))","v":0},null,{"$f":"IF(SUM(O69:O71)>0,SUM(O69:O71),COUNTIF(O17:O66,\">-1\"))","v":0},null,{"$f":"IF(SUM(Q69:Q71)>0,SUM(Q69:Q71),COUNTIF(Q17:Q66,\">-1\"))","v":0},null,{"$f":"IF(SUM(S69:S71)>0,SUM(S69:S71),COUNTIF(S17:S66,\">-1\"))","v":0},null,{"$f":"IF(SUM(U69:U71)>0,SUM(U69:U71),COUNTA(U17:U66))","v":0},null,{"$f":"IF(SUM(W69:W71)>0,SUM(W69:W71),COUNTIF(W17:W66,\">-1\"))","v":0},null,{"$f":"IF(Y69=\"\",COUNTIF(Y17:Y66,\">-1\"),\"?\")","v":0},null,null,null,null,null,{"$f":"IF(SUM(AE69:AE71)>0,SUM(AE69:AE71),COUNTIF(AE17:AE66,\">-1\"))","v":0}]
[]
[null,null,null,"Ergebnisse",null,null,null,null,null,null,null,null,null,null,null,null,null,null,null,null,null,null,null,null,"Sollgewichts-",null,null,"Uniformität"]
[null,"ERGEB901",null,{"$f":"IF(B5<>12,\"Boniturwert 0\",\"\")","v":"Boniturwert 0"},"Anzahl","Anzahl","Anz.",null,{"$f":"IF(I69<>\"\",I69,COUNTIF(I17:I66,0))","v":0},null,{"$f":"IF(K69<>\"\",K69,COUNTIF(K17:K66,0))","v":0},null,{"$f":"IF(M69<>\"\",M69,COUNTIF(M17:M66,0))","v":0},null,{"$f":"IF(O69<>\"\",O69,COUNTIF(O17:O66,0))","v":0},null,{"$f":"IF(Q69<>\"\",Q69,COUNTIF(Q17:Q66,0))","v":0},null,{"$f":"IF(S69<>\"\",S69,COUNTIF(S17:S66,0))","v":0},"A",{"$f":"IF(U69<>\"\",U69,COUNTIF(U17:U66,\"A\"))","v":0},null,{"$f":"IF(W69<>\"\",W69,COUNTIF(W17:W66,0))","v":0},null,"erfüllung %",null,null,"%",null,{"$f":"IF(AC2=\"W\",\"Anz.\",\"\")","v":""},{"$f":"IF(AE69<>\"\",AE69,COUNTIF(AE17:AE66,0))","v":0}]
[null,"ERGEB902",null,null,"%","%","%",null,{"$f":"IF(I72>0,I75/I72*100,0)","v":0},null,{"$f":"IF(K72>0,K75/K72*100,0)","v":0},null,{"$f":"IF(M72>0,M75/M72*100,0)","v":0},null,{"$f":"IF(O72>0,O75/O72*100,0)","v":0},null,{"$f":"IF(Q72>0,Q75/Q72*100,0)","v":0},null,{"$f":"IF(S72>0,S75/S72*100,0)","v":0},"A",{"$f":"IF(U72>0,U75/U72*100,0)","v":0},null,{"$f":"IF(W72>0,W75/W72*100,0)","v":0},null,{"$f":"IF(Y82>0,Y79/Y82*100,0)","v":0},null,null,{"$f":"IF(Y71<>\"\",Y71,IF(AND(COUNT(Y72)=1,Y72>0),(Y72-AB78-AB81)/Y72*100,0))","v":0},null,{"$f":"IF(AC2=\"W\",\"%\",\"\")","v":""},{"$f":"IF(AE72>0,AE75/AE72*100,0)","v":0}]
[null,null,null,null,null,null,null,null,null,null,null,null,null,null,null,null,null,null,null,null,null,null,null,null,null,null,null,"Zu leichte Tiere"]
[null,"ERGEB911",null,{"$f":"IF(B5<>12,\"Boniturwert 1\",\"\")","v":"Boniturwert 1"},"Anzahl","Anzahl","Anz.",null,{"$f":"IF(I70<>\"\",I70,COUNTIF(I17:I66,1))","v":0},null,{"$f":"IF(K70<>\"\",K70,COUNTIF(K17:K66,1))","v":0},null,{"$f":"IF(M70<>\"\",M70,COUNTIF(M17:M66,1))","v":0},null,{"$f":"IF(O70<>\"\",O70,COUNTIF(O17:O66,1))","v":0},null,{"$f":"IF(Q70<>\"\",Q70,COUNTIF(Q17:Q66,1))","v":0},null,{"$f":"IF(S70<>\"\",S70,COUNTIF(S17:S66,1))","v":0},"B",{"$f":"IF(U70<>\"\",U70,COUNTIF(U17:U66,\"B\"))","v":0},null,{"$f":"IF(W70<>\"\",W70,COUNTIF(W17:W66,1))","v":0},null,"Ø Gewicht g",null,"Anz.",{"$f":"COUNTIF(Y17:Y66,\"<\"&Y79*0.9)","v":0},null,{"$f":"IF(AC2=\"W\",\"Anz.\",\"\")","v":""},{"$f":"IF(AE70<>\"\",AE70,COUNTIF(AE17:AE66,1))","v":0}]
[null,"ERGEB912",null,null,"%","%","%",null,{"$f":"IF(I72>0,I78/I72*100,0)","v":0},null,{"$f":"IF(K72>0,K78/K72*100,0)","v":0},null,{"$f":"IF(M72>0,M78/M72*100,0)","v":0},null,{"$f":"IF(O72>0,O78/O72*100,0)","v":0},null,{"$f":"IF(Q72>0,Q78/Q72*100,0)","v":0},null,{"$f":"IF(S72>0,S78/S72*100,0)","v":0},"B",{"$f":"IF(U72>0,U78/U72*100,0)","v":0},null,{"$f":"IF(W72>0,W78/W72*100,0)","v":0},null,{"$f":"IF(Y69<>\"\",Y69,IF(SUM($Y$17:Y$66)> 0,AVERAGE($Y$17:Y$66),0))","v":0},null,"%",{"$f":"IF(AND(COUNT(Y72)=1,Y72>0),AB78/Y72*100,0)","v":0},null,{"$f":"IF(AC2=\"W\",\"%\",\"\")","v":""},{"$f":"IF(AE72>0,AE78/AE72*100,0)","v":0}]
[null,"ERGEB913",null,null,null,null,null,null,null,null,null,null,null,null,null,null,null,null,null,null,null,null,null,null,null,null,null,"Zu schwere Tiere"]
[null,"ERGEB921",null,{"$f":"IF(B5<>12,\"Boniturwert 2\",\"\")","v":"Boniturwert 2"},"Anzahl","Anzahl","Anz.",null,{"$f":"IF(I71<>\"\",I71,COUNTIF(I17:I66,2))","v":0},null,{"$f":"IF(K71<>\"\",K71,COUNTIF(K17:K66,2))","v":0},null,{"$f":"IF(M71<>\"\",M71,COUNTIF(M17:M66,2))","v":0},null,null,null,null,null,{"$f":"IF(S71<>\"\",S71,COUNTIF(S17:S66,2))","v":0},"C",{"$f":"IF(U71<>\"\",U71,COUNTIF(U17:U66,\"C\"))","v":0},null,null,null,"Sollgewicht g",null,"Anz.",{"$f":"COUNTIF(Y17:Y66,\">\"&Y79*1.1)","v":0}]
[null,"ERGEB922",null,null,"%","%","%",null,{"$f":"IF(I72>0,I81/I72*100,0)","v":0},null,{"$f":"IF(K72>0,K81/K72*100,0)","v":0},null,{"$f":"IF(M72>0,M81/M72*100,0)","v":0},null,null,null,null,null,{"$f":"IF(S72>0,S81/S72*100,0)","v":0},"C",{"$f":"IF(U72>0,U81/U72*100,0)","v":0},null,null,null,{"$f":"K1","v":35},null,"%",{"$f":"IF(AND(COUNT(Y72)=1,Y72>0),AB81/Y72*100,0)","v":0}]
[]
[null,"DATEN_ENDE"]

{"sheet":"GF_GW","index":11,"n_rows":89,"n_cols":57,"rows_kept":89,"cut":false,"hidden":true,"merged":[[9,2,9,9]]}
[null,"GF_HUHN","Masthühner",null,null,null,null,"Tiergewichte/Uniformität (Futterphase 1-5)",null,null,35,1]
[null,47,"T","T",{"$f":"IF(B1=\"GF_PUTE\",\"W\",\"-\")","v":"-"},{"$f":"IF(RIGHT(B1,5)= \"HENNE\",\"W\",\"-\")","v":"-"},{"$f":"IF(RIGHT(B1,5)= \"HENNE\",\"-\",\"W\")","v":"W"},{"$f":"IF(B1<>\"GF_PUTE\",\"W\",\"-\")","v":"W"},{"$f":"IF(OR($B$1=\"GF_HENNE\",$B$4=\"GF_MAST\"),\"W\",IF(J13<=INT(($K$1-1)/7)+1,\"W\",\"-\"))","v":"W"},{"$f":"I2","v":"W"},{"$f":"IF(OR($B$1=\"GF_HENNE\",$B$4=\"GF_MAST\"),\"W\",IF(L13<=INT(($K$1-1)/7)+1,\"W\",\"-\"))","v":"W"},{"$f":"K2","v":"W"},{"$f":"IF(OR($B$1=\"GF_HENNE\",$B$4=\"GF_MAST\"),\"W\",IF(N13<=INT(($K$1-1)/7)+1,\"W\",\"-\"))","v":"W"},{"$f":"M2","v":"W"},{"$f":"IF(OR($B$1=\"GF_HENNE\",$B$4=\"GF_MAST\"),\"W\",IF(P13<=INT(($K$1-1)/7)+1,\"W\",\"-\"))","v":"W"},{"$f":"O2","v":"W"},{"$f":"IF(OR($B$1=\"GF_HENNE\",$B$4=\"GF_MAST\"),\"W\",IF(R13<=INT(($K$1-1)/7)+1,\"W\",\"-\"))","v":"W"},{"$f":"Q2","v":"W"},{"$f":"IF(OR($B$1=\"GF_HENNE\",$B$4=\"GF_MAST\"),\"W\",IF(T13<=INT(($K$1-1)/7)+1,\"W\",\"-\"))","v":"-"},{"$f":"S2","v":"-"},{"$f":"IF(OR($B$1=\"GF_HENNE\",$B$4=\"GF_MAST\"),\"W\",IF(V13<=INT(($K$1-1)/7)+1,\"W\",\"-\"))","v":"-"},{"$f":"U2","v":"-"},{"$f":"IF(OR($B$1=\"GF_HENNE\",$B$4=\"GF_MAST\"),\"W\",IF(X13<=INT(($K$1-1)/7)+1,\"W\",\"-\"))","v":"-"},{"$f":"W2","v":"-"},{"$f":"IF(OR($B$1=\"GF_HENNE\",$B$4=\"GF_MAST\"),\"W\",IF(Z13<=INT(($K$1-1)/7)+1,\"W\",\"-\"))","v":"-"},{"$f":"Y2","v":"-"},{"$f":"IF(OR($B$1=\"GF_HENNE\",$B$4=\"GF_MAST\"),\"W\",IF(AB13<=INT(($K$1-1)/7)+1,\"W\",\"-\"))","v":"-"},{"$f":"AA2","v":"-"},{"$f":"IF(OR($B$1=\"GF_HENNE\",$B$4=\"GF_MAST\"),\"W\",IF(AD13<=INT(($K$1-1)/7)+1,\"W\",\"-\"))","v":"-"},{"$f":"AC2","v":"-"},{"$f":"IF(OR($B$1=\"GF_HENNE\",$B$4=\"GF_MAST\"),\"W\",IF(AF13<=INT(($K$1-1)/7)+1,\"W\",\"-\"))","v":"-"},{"$f":"AE2","v":"-"},{"$f":"IF(OR($B$1=\"GF_HENNE\",$B$4=\"GF_MAST\"),\"W\",IF(AH13<=INT(($K$1-1)/7)+1,\"W\",\"-\"))","v":"-"},{"$f":"AG2","v":"-"},{"$f":"IF(OR($B$1=\"GF_HENNE\",$B$4=\"GF_MAST\"),\"W\",IF(AJ13<=INT(($K$1-1)/7)+1,\"W\",\"-\"))","v":"-"},{"$f":"AI2","v":"-"},{"$f":"IF(OR($B$1=\"GF_HENNE\",$B$4=\"GF_MAST\"),\"W\",IF(AL13<=INT(($K$1-1)/7)+1,\"W\",\"-\"))","v":"-"},{"$f":"AK2","v":"-"},{"$f":"IF(OR($B$1=\"GF_HENNE\",$B$4=\"GF_MAST\"),\"W\",IF(AN13<=INT(($K$1-1)/7)+1,\"W\",\"-\"))","v":"-"},{"$f":"AM2","v":"-"},{"$f":"IF(OR($B$1=\"GF_HENNE\",$B$4=\"GF_MAST\"),\"W\",IF(AP13<=INT(($K$1-1)/7)+1,\"W\",\"-\"))","v":"-"},{"$f":"AO2","v":"-"},{"$f":"IF(OR($B$1=\"GF_HENNE\",$B$4=\"GF_MAST\"),\"W\",IF(AR13<=INT(($K$1-1)/7)+1,\"W\",\"-\"))","v":"-"},{"$f":"AQ2","v":"-"},{"$f":"IF(OR($B$1=\"GF_HENNE\",$B$4=\"GF_MAST\"),\"W\",IF(AT13<=INT(($K$1-1)/7)+1,\"W\",\"-\"))","v":"-"},{"$f":"AS2","v":"-"},{"$f":"IF(OR($B$1=\"GF_HENNE\",$B$4=\"GF_MAST\"),\"W\",IF(AV13<=INT(($K$1-1)/7)+1,\"W\",\"-\"))","v":"-"},{"$f":"AU2","v":"-"},{"$f":"IF(OR($B$1=\"GF_HENNE\",$B$4=\"GF_MAST\"),\"W\",IF(AX13<=INT(($K$1-1)/7)+1,\"W\",\"-\"))","v":"-"},{"$f":"AW2","v":"-"},{"$f":"IF(OR($B$1=\"GF_HENNE\",$B$4=\"GF_MAST\"),\"W\",IF(AZ13<=INT(($K$1-1)/7)+1,\"W\",\"-\"))","v":"-"},{"$f":"AY2","v":"-"},{"$f":"IF(OR($B$1=\"GF_HENNE\",$B$4=\"GF_MAST\"),\"W\",IF(BB13<=INT(($K$1-1)/7)+1,\"W\",\"-\"))","v":"-"},{"$f":"BA2","v":"-"},{"$f":"IF(OR($B$1=\"GF_HENNE\",$B$4=\"GF_MAST\"),\"W\",IF(BD13<=INT(($K$1-1)/7)+1,\"W\",\"-\"))","v":"-"},{"$f":"BC2","v":"-"},"T"]
[null,"GF_GW","T","W01","T","W02","W03","T","T","W04","T","W05","T","W06","T","W07","T","W08","T","W09","T","W10","T","W11","T","W12","T","W13","T","W14","T","W15","T","W16","T","W17","T","W18","T","W19","T","W20","T","W21","T","W22","T","W23","T","W24","T","W25","T","W26","T","W27","T"]
[null,"GF_HUHN","Clear","19-68",null,{"$f":"$D$4","v":"19-68"},{"$f":"$D$4","v":"19-68"},null,null,"19-68;15;71-72",null,{"$f":"J4","v":"19-68;15;71-72"},null,{"$f":"L4","v":"19-68;15;71-72"},null,{"$f":"N4","v":"19-68;15;71-72"},null,{"$f":"P4","v":"19-68;15;71-72"},null,{"$f":"R4","v":"19-68;15;71-72"},null,{"$f":"T4","v":"19-68;15;71-72"},null,{"$f":"V4","v":"19-68;15;71-72"},null,{"$f":"X4","v":"19-68;15;71-72"},null,{"$f":"Z4","v":"19-68;15;71-72"},null,{"$f":"AB4","v":"19-68;15;71-72"},null,{"$f":"AD4","v":"19-68;15;71-72"},null,{"$f":"AF4","v":"19-68;15;71-72"},null,{"$f":"AH4","v":"19-68;15;71-72"},null,{"$f":"AJ4","v":"19-68;15;71-72"},null,{"$f":"AL4","v":"19-68;15;71-72"},null,{"$f":"AN4","v":"19-68;15;71-72"},null,{"$f":"AP4","v":"19-68;15;71-72"},null,{"$f":"AR4","v":"19-68;15;71-72"},null,{"$f":"AT4","v":"19-68;15;71-72"},null,{"$f":"AV4","v":"19-68;15;71-72"},null,{"$f":"AX4","v":"19-68;15;71-72"},null,{"$f":"AZ4","v":"19-68;15;71-72"},null,{"$f":"BB4","v":"19-68;15;71-72"}]
[null,1,null,{"$f":"$C$1 & \" (\" & Intern_BetriebID & \")\"","v":"Masthühner ()"}]
[null,9,null,{"$f":"$H$1 & IF($J$1<> \"\",\" (Stand vom \" & TEXT($J$1,\"tt.MM.jjjj\") &\")\",\"\")","v":"Tiergewichte/Uniformität (Futterphase 1-5)"}]
[null,null,"    ?    ",{"$f":"IF(D1<>\"\",  D1 & \" - \",\"\") & IF(F1<>\"\",\"Schlupfdatum: \" & TEXT(F1,\"tt.MM.JJJJ\"),\"\")","v":""},null,null,null,null,null,null,null,null,null,null,null,null,null,null,null,null,null,null,null,null,null,null,null,null,null,null,null,null,null,null,null,null,null,null,null,null,null,null,null,null,null,null,null,null,null,null,null,null,null,null,null,null,"© KTBL & Uni Kassel"]
[null,"HUHN_85-87"]
[]
[null,null,"Speichern und schließen ..."]
[]
[null,null,"Tiergewichte/Uniformität"]
[null,null,null,{"$f":"IF(RIGHT(B1,4)=\"HUHN\",\"Futterphasenwechsel\",\"Lebenswoche\")","v":"Futterphasenwechsel"},null,null,null,null,null,{"$f":"L1","v":1},null,{"$f":"J13+1","v":2},null,{"$f":"L13+1","v":3},null,{"$f":"N13+1","v":4},null,{"$f":"P13+1","v":5},null,{"$f":"R13+1","v":6},null,{"$f":"T13+1","v":7},null,{"$f":"V13+1","v":8},null,{"$f":"X13+1","v":9},null,{"$f":"Z13+1","v":10},null,{"$f":"AB13+1","v":11},null,{"$f":"AD13+1","v":12},null,{"$f":"AF13+1","v":13},null,{"$f":"AH13+1","v":14},null,{"$f":"AJ13+1","v":15},null,{"$f":"AL13+1","v":16},null,{"$f":"AN13+1","v":17},null,{"$f":"AP13+1","v":18},null,{"$f":"AR13+1","v":19},null,{"$f":"AT13+1","v":20},null,{"$f":"AV13+1","v":21},null,{"$f":"AX13+1","v":22},null,{"$f":"AZ13+1","v":23},null,{"$f":"BB13+1","v":24}]
[null,null,null,null,null,null,null,null,null,"g",null,"g",null,"g",null,"g",null,"g",null,"g",null,"g",null,"g",null,"g",null,"g",null,"g",null,"g",null,"g",null,"g",null,"g",null,"g",null,"g",null,"g",null,"g",null,"g",null,"g",null,"g",null,"g",null,"g"]
[null,"DATEN002_W03_W04_W05_W06_W07_W08_W09_W10_W11_W12_W13_W14_W15_W16_W17_W18_W19_W20_W21_W22_W23_W24_W25_W26_W27",null,"Sollgewicht"]
[]
[null,null,"Tier","Stall",null,"Abteil","Geschlecht",null,null,"Gewicht",null,"Gewicht",null,"Gewicht",null,"Gewicht",null,"Gewicht",null,"Gewicht",null,"Gewicht",null,"Gewicht",null,"Gewicht",null,"Gewicht",null,"Gewicht",null,"Gewicht",null,"Gewicht",null,"Gewicht",null,"Gewicht",null,"Gewicht",null,"Gewicht",null,"Gewicht",null,"Gewicht",null,"Gewicht",null,"Gewicht",null,"Gewicht",null,"Gewicht",null,"Gewicht"]
[null,null,"Nr","Bez.",null,"Bez.","[M,W]",null,null,"g",null,"g",null,"g",null,"g",null,"g",null,"g",null,"g",null,"g",null,"g",null,"g",null,"g",null,"g",null,"g",null,"g",null,"g",null,"g",null,"g",null,"g",null,"g",null,"g",null,"g",null,"g",null,"g",null,"g"]
[null,"DATEN003",1]
[null,"DATEN004",2]
[null,"DATEN005",3]
[null,"DATEN006",4]
[null,"DATEN007",5]
[null,"DATEN008",6]
[null,"DATEN009",7]
[null,"DATEN010",8]
[null,"DATEN011",9]
[null,"DATEN012",10]
[null,"DATEN013",11]
[null,"DATEN014",12]
[null,"DATEN015",13]
[null,"DATEN016",14]
[null,"DATEN017",15]
[null,"DATEN018",16]
[null,"DATEN019",17]
[null,"DATEN020",18]
[null,"DATEN021",19]
[null,"DATEN022",20]
[null,"DATEN023",21]
[null,"DATEN024",22]
[null,"DATEN025",23]
[null,"DATEN026",24]
[null,"DATEN027",25]
[null,"DATEN028",26]
[null,"DATEN029",27]
[null,"DATEN030",28]
[null,"DATEN031",29]
[null,"DATEN032",30]
[null,"DATEN033",31]
[null,"DATEN034",32]
[null,"DATEN035",33]
[null,"DATEN036",34]
[null,"DATEN037",35]
[null,"DATEN038",36]
[null,"DATEN039",37]
[null,"DATEN040",38]
[null,"DATEN041",39]
[null,"DATEN042",40]
[null,"DATEN043",41]
[null,"DATEN044",42]
[null,"DATEN045",43]
[null,"DATEN046",44]
[null,"DATEN047",45]
[null,"DATEN048",46]
[null,"DATEN049",47]
[null,"DATEN050",48]
[null,"DATEN051",49]
[null,"DATEN052",50]
[]
[null,null,null,"Direkteingabe (bei automatischer Wiegung)"]
[null,"DATEN060_W04_W05_W06_W07_W08_W09_W10_W11_W12_W13_W14_W15_W16_W17_W18_W19_W20_W21_W22_W23_W24_W25_W26_W27",null,"Uniformität","%",null,null,"%"]
[null,"DATEN061_W04_W05_W06_W07_W08_W09_W10_W11_W12_W13_W14_W15_W16_W17_W18_W19_W20_W21_W22_W23_W24_W25_W26_W27",null,"Sollgewichtserfüllung","%",null,null,"%"]
[]
[]
[null,null,null,"Ergebnisse"]
[null,"ERGEB901_GFGWMittel",null,"Ø Gewicht","g",null,null,"g",null,{"$f":"IF(J77>0,AVERAGE(J19:J68),0)","v":0},null,{"$f":"IF(L77>0,AVERAGE(L19:L68),0)","v":0},null,{"$f":"IF(N77>0,AVERAGE(N19:N68),0)","v":0},null,{"$f":"IF(P77>0,AVERAGE(P19:P68),0)","v":0},null,{"$f":"IF(R77>0,AVERAGE(R19:R68),0)","v":0},null,{"$f":"IF(T77>0,AVERAGE(T19:T68),0)","v":0},null,{"$f":"IF(V77>0,AVERAGE(V19:V68),0)","v":0},null,{"$f":"IF(X77>0,AVERAGE(X19:X68),0)","v":0},null,{"$f":"IF(Z77>0,AVERAGE(Z19:Z68),0)","v":0},null,{"$f":"IF(AB77>0,AVERAGE(AB19:AB68),0)","v":0},null,{"$f":"IF(AD77>0,AVERAGE(AD19:AD68),0)","v":0},null,{"$f":"IF(AF77>0,AVERAGE(AF19:AF68),0)","v":0},null,{"$f":"IF(AH77>0,AVERAGE(AH19:AH68),0)","v":0},null,{"$f":"IF(AJ77>0,AVERAGE(AJ19:AJ68),0)","v":0},null,{"$f":"IF(AL77>0,AVERAGE(AL19:AL68),0)","v":0},null,{"$f":"IF(AN77>0,AVERAGE(AN19:AN68),0)","v":0},null,{"$f":"IF(AP77>0,AVERAGE(AP19:AP68),0)","v":0},null,{"$f":"IF(AR77>0,AVERAGE(AR19:AR68),0)","v":0},null,{"$f":"IF(AT77>0,AVERAGE(AT19:AT68),0)","v":0},null,{"$f":"IF(AV77>0,AVERAGE(AV19:AV68),0)","v":0},null,{"$f":"IF(AX77>0,AVERAGE(AX19:AX68),0)","v":0},null,{"$f":"IF(AZ77>0,AVERAGE(AZ19:AZ68),0)","v":0},null,{"$f":"IF(BB77>0,AVERAGE(BB19:BB68),0)","v":0},null,{"$f":"IF(BD77>0,AVERAGE(BD19:BD68),0)","v":0}]
[null,null,null,"Anzahl Tiere","Anz.",null,null,"Anz.",null,{"$f":"COUNTIF(J19:J68,\">0\")","v":0},null,{"$f":"COUNTIF(L19:L68,\">0\")","v":0},null,{"$f":"COUNTIF(N19:N68,\">0\")","v":0},null,{"$f":"COUNTIF(P19:P68,\">0\")","v":0},null,{"$f":"COUNTIF(R19:R68,\">0\")","v":0},null,{"$f":"COUNTIF(T19:T68,\">0\")","v":0},null,{"$f":"COUNTIF(V19:V68,\">0\")","v":0},null,{"$f":"COUNTIF(X19:X68,\">0\")","v":0},null,{"$f":"COUNTIF(Z19:Z68,\">0\")","v":0},null,{"$f":"COUNTIF(AB19:AB68,\">0\")","v":0},null,{"$f":"COUNTIF(AD19:AD68,\">0\")","v":0},null,{"$f":"COUNTIF(AF19:AF68,\">0\")","v":0},null,{"$f":"COUNTIF(AH19:AH68,\">0\")","v":0},null,{"$f":"COUNTIF(AJ19:AJ68,\">0\")","v":0},null,{"$f":"COUNTIF(AL19:AL68,\">0\")","v":0},null,{"$f":"COUNTIF(AN19:AN68,\">0\")","v":0},null,{"$f":"COUNTIF(AP19:AP68,\">0\")","v":0},null,{"$f":"COUNTIF(AR19:AR68,\">0\")","v":0},null,{"$f":"COUNTIF(AT19:AT68,\">0\")","v":0},null,{"$f":"COUNTIF(AV19:AV68,\">0\")","v":0},null,{"$f":"COUNTIF(AX19:AX68,\">0\")","v":0},null,{"$f":"COUNTIF(AZ19:AZ68,\">0\")","v":0},null,{"$f":"COUNTIF(BB19:BB68,\">0\")","v":0},null,{"$f":"COUNTIF(BD19:BD68,\">0\")","v":0}]
[]
[null,"ERGEB902_GWLower",null,"Tiere unter -10%","Anz.",null,null,"Anz.",null,{"$f":"COUNTIF(J19:J68,\"<\"&J76*0.9)","v":0},null,{"$f":"COUNTIF(L19:L68,\"<\"&L76*0.9)","v":0},null,{"$f":"COUNTIF(N19:N68,\"<\"&N76*0.9)","v":0},null,{"$f":"COUNTIF(P19:P68,\"<\"&P76*0.9)","v":0},null,{"$f":"COUNTIF(R19:R68,\"<\"&R76*0.9)","v":0},null,{"$f":"COUNTIF(T19:T68,\"<\"&T76*0.9)","v":0},null,{"$f":"COUNTIF(V19:V68,\"<\"&V76*0.9)","v":0},null,{"$f":"COUNTIF(X19:X68,\"<\"&X76*0.9)","v":0},null,{"$f":"COUNTIF(Z19:Z68,\"<\"&Z76*0.9)","v":0},null,{"$f":"COUNTIF(AB19:AB68,\"<\"&AB76*0.9)","v":0},null,{"$f":"COUNTIF(AD19:AD68,\"<\"&AD76*0.9)","v":0},null,{"$f":"COUNTIF(AF19:AF68,\"<\"&AF76*0.9)","v":0},null,{"$f":"COUNTIF(AH19:AH68,\"<\"&AH76*0.9)","v":0},null,{"$f":"COUNTIF(AJ19:AJ68,\"<\"&AJ76*0.9)","v":0},null,{"$f":"COUNTIF(AL19:AL68,\"<\"&AL76*0.9)","v":0},null,{"$f":"COUNTIF(AN19:AN68,\"<\"&AN76*0.9)","v":0},null,{"$f":"COUNTIF(AP19:AP68,\"<\"&AP76*0.9)","v":0},null,{"$f":"COUNTIF(AR19:AR68,\"<\"&AR76*0.9)","v":0},null,{"$f":"COUNTIF(AT19:AT68,\"<\"&AT76*0.9)","v":0},null,{"$f":"COUNTIF(AV19:AV68,\"<\"&AV76*0.9)","v":0},null,{"$f":"COUNTIF(AX19:AX68,\"<\"&AX76*0.9)","v":0},null,{"$f":"COUNTIF(AZ19:AZ68,\"<\"&AZ76*0.9)","v":0},null,{"$f":"COUNTIF(BB19:BB68,\"<\"&BB76*0.9)","v":0},null,{"$f":"COUNTIF(BD19:BD68,\"<\"&BD76*0.9)","v":0}]
[null,"ERGEB903_GWUpper",null,"Tiere über +10%","Anz.",null,null,"Anz.",null,{"$f":"COUNTIF(J19:J68,\">\"&J76*1.1)","v":0},null,{"$f":"COUNTIF(L19:L68,\">\"&L76*1.1)","v":0},null,{"$f":"COUNTIF(N19:N68,\">\"&N76*1.1)","v":0},null,{"$f":"COUNTIF(P19:P68,\">\"&P76*1.1)","v":0},null,{"$f":"COUNTIF(R19:R68,\">\"&R76*1.1)","v":0},null,{"$f":"COUNTIF(T19:T68,\">\"&T76*1.1)","v":0},null,{"$f":"COUNTIF(V19:V68,\">\"&V76*1.1)","v":0},null,{"$f":"COUNTIF(X19:X68,\">\"&X76*1.1)","v":0},null,{"$f":"COUNTIF(Z19:Z68,\">\"&Z76*1.1)","v":0},null,{"$f":"COUNTIF(AB19:AB68,\">\"&AB76*1.1)","v":0},null,{"$f":"COUNTIF(AD19:AD68,\">\"&AD76*1.1)","v":0},null,{"$f":"COUNTIF(AF19:AF68,\">\"&AF76*1.1)","v":0},null,{"$f":"COUNTIF(AH19:AH68,\">\"&AH76*1.1)","v":0},null,{"$f":"COUNTIF(AJ19:AJ68,\">\"&AJ76*1.1)","v":0},null,{"$f":"COUNTIF(AL19:AL68,\">\"&AL76*1.1)","v":0},null,{"$f":"COUNTIF(AN19:AN68,\">\"&AN76*1.1)","v":0},null,{"$f":"COUNTIF(AP19:AP68,\">\"&AP76*1.1)","v":0},null,{"$f":"COUNTIF(AR19:AR68,\">\"&AR76*1.1)","v":0},null,{"$f":"COUNTIF(AT19:AT68,\">\"&AT76*1.1)","v":0},null,{"$f":"COUNTIF(AV19:AV68,\">\"&AV76*1.1)","v":0},null,{"$f":"COUNTIF(AX19:AX68,\">\"&AX76*1.1)","v":0},null,{"$f":"COUNTIF(AZ19:AZ68,\">\"&AZ76*1.1)","v":0},null,{"$f":"COUNTIF(BB19:BB68,\">\"&BB76*1.1)","v":0},null,{"$f":"COUNTIF(BD19:BD68,\">\"&BD76*1.1)","v":0}]
[null,"ERGEB904_GWOK",null,"Tiere im Bereich","Anz.",null,null,"Anz.",null,{"$f":"J77-J79-J80","v":0},null,{"$f":"L77-L79-L80","v":0},null,{"$f":"N77-N79-N80","v":0},null,{"$f":"P77-P79-P80","v":0},null,{"$f":"R77-R79-R80","v":0},null,{"$f":"T77-T79-T80","v":0},null,{"$f":"V77-V79-V80","v":0},null,{"$f":"X77-X79-X80","v":0},null,{"$f":"Z77-Z79-Z80","v":0},null,{"$f":"AB77-AB79-AB80","v":0},null,{"$f":"AD77-AD79-AD80","v":0},null,{"$f":"AF77-AF79-AF80","v":0},null,{"$f":"AH77-AH79-AH80","v":0},null,{"$f":"AJ77-AJ79-AJ80","v":0},null,{"$f":"AL77-AL79-AL80","v":0},null,{"$f":"AN77-AN79-AN80","v":0},null,{"$f":"AP77-AP79-AP80","v":0},null,{"$f":"AR77-AR79-AR80","v":0},null,{"$f":"AT77-AT79-AT80","v":0},null,{"$f":"AV77-AV79-AV80","v":0},null,{"$f":"AX77-AX79-AX80","v":0},null,{"$f":"AZ77-AZ79-AZ80","v":0},null,{"$f":"BB77-BB79-BB80","v":0},null,{"$f":"BD77-BD79-BD80","v":0}]
[null,"ERGEG905_LEICHTE",null,"Zu leichte Tiere","%",null,null,"%",null,{"$f":"IF(J77>0,J79/J77*100,\"\")","v":""},null,{"$f":"IF(L77>0,L79/L77*100,\"\")","v":""},null,{"$f":"IF(N77>0,N79/N77*100,\"\")","v":""},null,{"$f":"IF(P77>0,P79/P77*100,\"\")","v":""},null,{"$f":"IF(R77>0,R79/R77*100,\"\")","v":""},null,{"$f":"IF(T77>0,T79/T77*100,\"\")","v":""},null,{"$f":"IF(V77>0,V79/V77*100,\"\")","v":""},null,{"$f":"IF(X77>0,X79/X77*100,\"\")","v":""},null,{"$f":"IF(Z77>0,Z79/Z77*100,\"\")","v":""},null,{"$f":"IF(AB77>0,AB79/AB77*100,\"\")","v":""},null,{"$f":"IF(AD77>0,AD79/AD77*100,\"\")","v":""},null,{"$f":"IF(AF77>0,AF79/AF77*100,\"\")","v":""},null,{"$f":"IF(AH77>0,AH79/AH77*100,\"\")","v":""},null,{"$f":"IF(AJ77>0,AJ79/AJ77*100,\"\")","v":""},null,{"$f":"IF(AL77>0,AL79/AL77*100,\"\")","v":""},null,{"$f":"IF(AN77>0,AN79/AN77*100,\"\")","v":""},null,{"$f":"IF(AP77>0,AP79/AP77*100,\"\")","v":""},null,{"$f":"IF(AR77>0,AR79/AR77*100,\"\")","v":""},null,{"$f":"IF(AT77>0,AT79/AT77*100,\"\")","v":""},null,{"$f":"IF(AV77>0,AV79/AV77*100,\"\")","v":""},null,{"$f":"IF(AX77>0,AX79/AX77*100,\"\")","v":""},null,{"$f":"IF(AZ77>0,AZ79/AZ77*100,\"\")","v":""},null,{"$f":"IF(BB77>0,BB79/BB77*100,\"\")","v":""},null,{"$f":"IF(BD77>0,BD79/BD77*100,\"\")","v":""}]
[null,"ERGEB906_GWUNI",null,"Uniformität","%",null,null,"%",null,{"$f":"IF(COUNT(J71) = 1,J71,IF(J77>0,J81/J77*100,\"\"))","v":""},null,{"$f":"IF(COUNT(L71) = 1,L71,IF(L77>0,L81/L77*100,\"\"))","v":""},null,{"$f":"IF(COUNT(N71) = 1,N71,IF(N77>0,N81/N77*100,\"\"))","v":""},null,{"$f":"IF(COUNT(P71) = 1,P71,IF(P77>0,P81/P77*100,\"\"))","v":""},null,{"$f":"IF(COUNT(R71) = 1,R71,IF(R77>0,R81/R77*100,\"\"))","v":""},null,{"$f":"IF(COUNT(T71) = 1,T71,IF(T77>0,T81/T77*100,\"\"))","v":""},null,{"$f":"IF(COUNT(V71) = 1,V71,IF(V77>0,V81/V77*100,\"\"))","v":""},null,{"$f":"IF(COUNT(X71) = 1,X71,IF(X77>0,X81/X77*100,\"\"))","v":""},null,{"$f":"IF(COUNT(Z71) = 1,Z71,IF(Z77>0,Z81/Z77*100,\"\"))","v":""},null,{"$f":"IF(COUNT(AB71) = 1,AB71,IF(AB77>0,AB81/AB77*100,\"\"))","v":""},null,{"$f":"IF(COUNT(AD71) = 1,AD71,IF(AD77>0,AD81/AD77*100,\"\"))","v":""},null,{"$f":"IF(COUNT(AF71) = 1,AF71,IF(AF77>0,AF81/AF77*100,\"\"))","v":""},null,{"$f":"IF(COUNT(AH71) = 1,AH71,IF(AH77>0,AH81/AH77*100,\"\"))","v":""},null,{"$f":"IF(COUNT(AJ71) = 1,AJ71,IF(AJ77>0,AJ81/AJ77*100,\"\"))","v":""},null,{"$f":"IF(COUNT(AL71) = 1,AL71,IF(AL77>0,AL81/AL77*100,\"\"))","v":""},null,{"$f":"IF(COUNT(AN71) = 1,AN71,IF(AN77>0,AN81/AN77*100,\"\"))","v":""},null,{"$f":"IF(COUNT(AP71) = 1,AP71,IF(AP77>0,AP81/AP77*100,\"\"))","v":""},null,{"$f":"IF(COUNT(AR71) = 1,AR71,IF(AR77>0,AR81/AR77*100,\"\"))","v":""},null,{"$f":"IF(COUNT(AT71) = 1,AT71,IF(AT77>0,AT81/AT77*100,\"\"))","v":""},null,{"$f":"IF(COUNT(AV71) = 1,AV71,IF(AV77>0,AV81/AV77*100,\"\"))","v":""},null,{"$f":"IF(COUNT(AX71) = 1,AX71,IF(AX77>0,AX81/AX77*100,\"\"))","v":""},null,{"$f":"IF(COUNT(AZ71) = 1,AZ71,IF(AZ77>0,AZ81/AZ77*100,\"\"))","v":""},null,{"$f":"IF(COUNT(BB71) = 1,BB71,IF(BB77>0,BB81/BB77*100,\"\"))","v":""},null,{"$f":"IF(COUNT(BD71) = 1,BD71,IF(BD77>0,BD81/BD77*100,\"\"))","v":""}]
[null,"ERGEB907_GWSOLL",null,"Sollgewichtserfüllung","%",null,null,"%",null,{"$f":"IF(COUNT(J72)=1,J72,IF(J15>0,J76/J15*100,\"\"))","v":""},null,{"$f":"IF(COUNT(L72)=1,L72,IF(L15>0,L76/L15*100,\"\"))","v":""},null,{"$f":"IF(COUNT(N72)=1,N72,IF(N15>0,N76/N15*100,\"\"))","v":""},null,{"$f":"IF(COUNT(P72)=1,P72,IF(P15>0,P76/P15*100,\"\"))","v":""},null,{"$f":"IF(COUNT(R72)=1,R72,IF(R15>0,R76/R15*100,\"\"))","v":""},null,{"$f":"IF(COUNT(T72)=1,T72,IF(T15>0,T76/T15*100,\"\"))","v":""},null,{"$f":"IF(COUNT(V72)=1,V72,IF(V15>0,V76/V15*100,\"\"))","v":""},null,{"$f":"IF(COUNT(X72)=1,X72,IF(X15>0,X76/X15*100,\"\"))","v":""},null,{"$f":"IF(COUNT(Z72)=1,Z72,IF(Z15>0,Z76/Z15*100,\"\"))","v":""},null,{"$f":"IF(COUNT(AB72)=1,AB72,IF(AB15>0,AB76/AB15*100,\"\"))","v":""},null,{"$f":"IF(COUNT(AD72)=1,AD72,IF(AD15>0,AD76/AD15*100,\"\"))","v":""},null,{"$f":"IF(COUNT(AF72)=1,AF72,IF(AF15>0,AF76/AF15*100,\"\"))","v":""},null,{"$f":"IF(COUNT(AH72)=1,AH72,IF(AH15>0,AH76/AH15*100,\"\"))","v":""},null,{"$f":"IF(COUNT(AJ72)=1,AJ72,IF(AJ15>0,AJ76/AJ15*100,\"\"))","v":""},null,{"$f":"IF(COUNT(AL72)=1,AL72,IF(AL15>0,AL76/AL15*100,\"\"))","v":""},null,{"$f":"IF(COUNT(AN72)=1,AN72,IF(AN15>0,AN76/AN15*100,\"\"))","v":""},null,{"$f":"IF(COUNT(AP72)=1,AP72,IF(AP15>0,AP76/AP15*100,\"\"))","v":""},null,{"$f":"IF(COUNT(AR72)=1,AR72,IF(AR15>0,AR76/AR15*100,\"\"))","v":""},null,{"$f":"IF(COUNT(AT72)=1,AT72,IF(AT15>0,AT76/AT15*100,\"\"))","v":""},null,{"$f":"IF(COUNT(AV72)=1,AV72,IF(AV15>0,AV76/AV15*100,\"\"))","v":""},null,{"$f":"IF(COUNT(AX72)=1,AX72,IF(AX15>0,AX76/AX15*100,\"\"))","v":""},null,{"$f":"IF(COUNT(AZ72)=1,AZ72,IF(AZ15>0,AZ76/AZ15*100,\"\"))","v":""},null,{"$f":"IF(COUNT(BB72)=1,BB72,IF(BB15>0,BB76/BB15*100,\"\"))","v":""},null,{"$f":"IF(COUNT(BD72)=1,BD72,IF(BD15>0,BD76/BD15*100,\"\"))","v":""}]
[null,"ERGEB908_GWUNI_MON",null,"Monatswerte","% zu leichte Tiere",null,null,"% zu leichte Tiere",null,null,null,null,null,null,null,{"$f":"IF(COUNT(J82:P82)>0,AVERAGE(J82:P82),\"\")","v":""},null,null,null,null,null,null,null,{"$f":"IF(COUNT(R82:X82)>0,AVERAGE(R82:X82),\"\")","v":""},null,null,null,null,null,null,null,{"$f":"IF(COUNT(Z82:AF82)>0,AVERAGE(Z82:AF82),\"\")","v":""},null,null,null,null,null,null,null,{"$f":"IF(COUNT(AH82:AN82)>0,AVERAGE(AH82:AN82),\"\")","v":""},null,null,null,null,null,null,null,{"$f":"IF(COUNT(AP82:AV82)>0,AVERAGE(AP82:AV82),\"\")","v":""},null,null,null,null,null,null,null,{"$f":"IF(COUNT(AX82:BD82)>0,AVERAGE(AX82:BD82),\"\")","v":""}]
[null,"ERGEB909",null,null,"Uniformität %",null,null,"Uniformität %",null,null,null,null,null,null,null,{"$f":"IF(COUNT(J83:P83)>0,AVERAGE(J83:P83),\"\")","v":""},null,null,null,null,null,null,null,{"$f":"IF(COUNT(R83:X83)>0,AVERAGE(R83:X83),\"\")","v":""},null,null,null,null,null,null,null,{"$f":"IF(COUNT(Z83:AF83)>0,AVERAGE(Z83:AF83),\"\")","v":""},null,null,null,null,null,null,null,{"$f":"IF(COUNT(AH83:AN83)>0,AVERAGE(AH83:AN83),\"\")","v":""},null,null,null,null,null,null,null,{"$f":"IF(COUNT(AP83:AV83)>0,AVERAGE(AP83:AV83),\"\")","v":""},null,null,null,null,null,null,null,{"$f":"IF(COUNT(AX83:BD83)>0,AVERAGE(AX83:BD83),\"\")","v":""}]
[null,"ERGEB910",null,null,"Sollgewichtserfüllung %",null,null,"Sollgewichtserfüllung %",null,null,null,null,null,null,null,{"$f":"IF(COUNT(J84:P84)>0,AVERAGE(J84:P84),\"\")","v":""},null,null,null,null,null,null,null,{"$f":"IF(COUNT(R84:X84)>0,AVERAGE(R84:X84),\"\")","v":""},null,null,null,null,null,null,null,{"$f":"IF(COUNT(Z84:AF84)>0,AVERAGE(Z84:AF84),\"\")","v":""},null,null,null,null,null,null,null,{"$f":"IF(COUNT(AH84:AN84)>0,AVERAGE(AH84:AN84),\"\")","v":""},null,null,null,null,null,null,null,{"$f":"IF(COUNT(AP84:AV84)>0,AVERAGE(AP84:AV84),\"\")","v":""},null,null,null,null,null,null,null,{"$f":"IF(COUNT(AX84:BD84)>0,AVERAGE(AX84:BD84),\"\")","v":""}]
[]
[null,"DATEN_ENDE"]

{"sheet":"GF_GWAUTO","index":12,"n_rows":68,"n_cols":12,"rows_kept":68,"cut":false,"hidden":true,"merged":[[9,2,9,3]]}
[null,"GF_HUHN","Masthühner","1900-01-13","1910-12-13","2017-04-03",null,"Gewicht (automatische Wiegung)",null,null,null,1]
[null,28,"T","T",null,"T","T","T","T","T"]
[null,"GF_GWAUTO","T","W01",null,null,"W02","W03",null,"T"]
[null,"GF_HUHN","Clear","16-57",null,null,"16-57","16-57"]
[null,1,null,{"$f":"$C$1& \" (\" & $D$1 & \". Durchgang)\"","v":"Masthühner (13. Durchgang)"}]
[null,2,null,{"$f":"$M$1 & IF($O$1<> \"\",\" vom \" & TEXT($O$1,\"tt.MM.jjjj\"),\"\")","v":""}]
[null,null,"    ?    ",{"$f":"\"Betrieb: \" & Intern_BetriebID","v":"Betrieb: "},null,null,null,null,null,"© KTBL & Uni Kassel"]
[]
[]
[null,null,"Speichern und schließen ..."]
[]
[null,null,"Gewicht",null,null,null,"Lahmheit"]
[null,null,"Tag im ","Durchschnitts-","Wochen",null,"Lahme Tiere"]
[null,null,"Betrieb","gewicht","Nr",null,"separiert","gemerzt","Gesamt"]
[null,null,"Nr","g",null,null,"Anzahl","Anzahl","Anzahl"]
[null,"DATEN002",1,null,{"$f":"INT((C16-1)/7)+1","v":1},null,null,null,{"$f":"SUM(G16:H16)","v":0}]
[null,"DATEN003",2,null,{"$f":"INT((C17-1)/7)+1","v":1},null,null,null,{"$f":"SUM(G17:H17)","v":0}]
[null,"DATEN004",3,null,1,null,null,null,0]
[null,"DATEN005",4,null,1,null,null,null,0]
[null,"DATEN006",5,null,1,null,null,null,0]
[null,"DATEN007",6,null,1,null,null,null,0]
[null,"DATEN008",7,null,1,null,null,null,0]
[null,"DATEN009",8,null,2,null,null,null,0]
[null,"DATEN010",9,null,2,null,null,null,0]
[null,"DATEN011",10,null,2,null,null,null,0]
[null,"DATEN012",11,null,2,null,null,null,0]
[null,"DATEN013",12,null,2,null,null,null,0]
[null,"DATEN014",13,null,2,null,null,null,0]
[null,"DATEN015",14,null,2,null,null,null,0]
[null,"DATEN016",15,null,3,null,null,null,0]
[null,"DATEN017",16,null,3,null,null,null,0]
[null,"DATEN018",17,null,3,null,null,null,0]
[null,"DATEN019",18,null,3,null,null,null,0]
[null,"DATEN020",19,null,3,null,null,null,0]
[null,"DATEN021",20,null,3,null,null,null,0]
[null,"DATEN022",21,null,3,null,null,null,0]
[null,"DATEN023",22,null,4,null,null,null,0]
[null,"DATEN024",23,null,4,null,null,null,0]
[null,"DATEN025",24,null,4,null,null,null,0]
[null,"DATEN026",25,null,4,null,null,null,0]
[null,"DATEN027",26,null,4,null,null,null,0]
[null,"DATEN028",27,null,4,null,null,null,0]
[null,"DATEN029",28,null,4,null,null,null,0]
[null,"DATEN030",29,null,5,null,null,null,0]
[null,"DATEN031",30,null,5,null,null,null,0]
[null,"DATEN032",31,null,5,null,null,null,0]
[null,"DATEN033",32,null,5,null,null,null,0]
[null,"DATEN034",33,null,5,null,null,null,0]
[null,"DATEN035",34,null,5,null,null,null,0]
[null,"DATEN036",35,null,5,null,null,null,0]
[null,"DATEN037",36,null,6,null,null,null,0]
[null,"DATEN038",37,null,6,null,null,null,0]
[null,"DATEN039",38,null,6,null,null,null,0]
[null,"DATEN040",39,null,6,null,null,null,0]
[null,"DATEN041",40,null,6,null,null,null,0]
[null,"DATEN042",41,null,6,null,null,null,0]
[null,"DATEN043",42,null,6,null,null,null,0]
[]
[]
[null,null,"Ergebnis"]
[null,null,"Woche 1",{"$f":"IF(SUMIFS($D$16:$D$57,$E$16:$E$57,E61)>0,AVERAGEIFS($D$16:$D$57,$E$16:$E$57,E61),0)","v":0},1,null,{"$f":"SUMIFS($G$16:$G$57,$E$16:$E$57,E61)","v":0},{"$f":"SUMIFS($H$16:$H$57,$E$16:$E$57,E61)","v":0}]
[null,null,"Woche 2",0,2,null,{"$f":"SUMIFS($G$16:$G$57,$E$16:$E$57,E62)","v":0},{"$f":"SUMIFS($H$16:$H$57,$E$16:$E$57,E62)","v":0}]
[null,null,"Woche 3",0,3,null,0,0]
[null,null,"Woche 4",0,4,null,0,0]
[null,null,"Woche 5",0,5,null,0,0]
[null,null,"Woche 6",0,6,null,0,0]
[]
[null,"DATEN_ENDE"]

{"sheet":"GF_MB","index":13,"n_rows":99,"n_cols":75,"rows_kept":99,"cut":false,"hidden":true,"merged":[[9,2,9,3]]}
[null,"GF_PUTE","Jungputen",null,null,null,null,"Verluste, Wasserverbrauch - Aufzucht",null,null,28]
[null,54,"T","T",{"$f":"IF(RIGHT($B$4,2) = \"TV\",\"W\",\"-\")","v":"W"},{"$f":"$E$2","v":"W"},"W","W","W","W",{"$f":"IF(AND(RIGHT(B1,4)<>\"HUHN\",RIGHT(B4,2)=\"TV\"),\"W\",\"-\")","v":"W"},{"$f":"K2","v":"W"},"W","W",{"$f":"IF(AND(RIGHT(B1,4)<>\"PUTE\",RIGHT(B4,2)=\"TV\"),\"W\",\"-\")","v":"-"},{"$f":"IF(AND(RIGHT(B1,4)<>\"PUTE\",RIGHT(B4,2)=\"TV\"),\"W\",\"-\")","v":"-"},{"$f":"IF(AND(RIGHT(B1,4)=\"PUTE\",RIGHT(B4,2)=\"TV\"),\"W\",\"-\")","v":"W"},{"$f":"IF(AND(RIGHT(B1,4)=\"PUTE\",RIGHT(B4,2)=\"TV\"),\"W\",\"-\")","v":"W"},"W","W",{"$f":"T2","v":"W"},"W",{"$f":"IF(AND(RIGHT(B1,4)<>\"HUHN\",RIGHT(B4,2)=\"TV\"),\"W\",\"-\")","v":"W"},{"$f":"IF(AND(RIGHT(B1,4)=\"HUHN\",RIGHT(B4,2)=\"TV\"),\"W\",\"-\")","v":"-"},{"$f":"$X$2","v":"-"},"-","-","-","-","-",{"$f":"IF(OR($B$4 = \"MH_TV\",$B$4 = \"MP_TV\"),\"W\",\"-\")","v":"W"},{"$f":"$AE$2","v":"W"},{"$f":"$AE$2","v":"W"},{"$f":"IF($B$4 = \"MP_TV\",\"W\",\"-\")","v":"W"},{"$f":"AH2","v":"W"},{"$f":"IF($B$4 = \"MH_TV\",\"W\",\"-\")","v":"-"},"-","-",{"$f":"IF(RIGHT($B$4,2) = \"LL\",\"W\",\"-\")","v":"-"},{"$f":"$AM$2","v":"-"},{"$f":"$AM$2","v":"-"},"-","-",{"$f":"$AM$2","v":"-"},"-","-","-","-","-","-","-","-","-","-","-","-","-",{"$f":"IF(RIGHT($B$4,2) = \"WV\",\"W\",\"-\")","v":"-"},{"$f":"$BF$2","v":"-"},"-","-","-","-","-","-","-","-","-","-","-","-","-",{"$f":"IF(AND(RIGHT(B1,4)=\"PUTE\",RIGHT(B4,2)=\"WV\"),\"W\",\"-\")","v":"-"},{"$f":"IF(AND(RIGHT(B1,4)<>\"PUTE\",RIGHT(B4,2)=\"WV\"),\"W\",\"-\")","v":"-"},"T"]
[null,"GF_MB","T","R30","T","W02","T","W03","T","W04","T","W05","T","W06","T","W07","T","W09","T","W08","T","R31","R36","R32","R33","R34","R35","R37","R38","R39","T","T","W10","T",{"$f":"LEFT(AG3,1) & TEXT(INT(RIGHT(AG3,2)) + 1,\"00\")","v":"W11"},"T","T","T","T","W12","T","R42","T","W13","T",{"$f":"LEFT(AR3,1) & TEXT(INT(RIGHT(AR3,2)) + 1,\"00\")","v":"W14"},"T",{"$f":"LEFT(AT3,1) & TEXT(INT(RIGHT(AT3,2)) + 1,\"00\")","v":"W15"},"T",{"$f":"LEFT(AV3,1) & TEXT(INT(RIGHT(AV3,2)) + 1,\"00\")","v":"W16"},"T",{"$f":"LEFT(AX3,1) & TEXT(INT(RIGHT(AX3,2)) + 1,\"00\")","v":"W17"},"T",{"$f":"LEFT(AZ3,1) & TEXT(INT(RIGHT(AZ3,2)) + 1,\"00\")","v":"W18"},"T","R43","R47","T","W20","T","T","W21","T","T","W22","T","T","W23","T","W24","T","R44","R45","R46","T"]
[null,"MP_TV",null,17,null,"21-27;29-35;37-43;45-51;53-59;61-67;69-75;77-83;86",null,{"$f":"$F$4","v":"21-27;29-35;37-43;45-51;53-59;61-67;69-75;77-83;86"},null,{"$f":"$F$4","v":"21-27;29-35;37-43;45-51;53-59;61-67;69-75;77-83;86"},null,{"$f":"$F$4","v":"21-27;29-35;37-43;45-51;53-59;61-67;69-75;77-83;86"},null,{"$f":"$F$4","v":"21-27;29-35;37-43;45-51;53-59;61-67;69-75;77-83;86"},null,{"$f":"$F$4","v":"21-27;29-35;37-43;45-51;53-59;61-67;69-75;77-83;86"},null,{"$f":"$F$4","v":"21-27;29-35;37-43;45-51;53-59;61-67;69-75;77-83;86"},null,{"$f":"$F$4","v":"21-27;29-35;37-43;45-51;53-59;61-67;69-75;77-83;86"},null,null,null,null,null,null,null,null,null,null,null,null,{"$f":"$F$4","v":"21-27;29-35;37-43;45-51;53-59;61-67;69-75;77-83;86"},null,{"$f":"$F$4","v":"21-27;29-35;37-43;45-51;53-59;61-67;69-75;77-83;86"},null,null,null,null,{"$f":"$F$4","v":"21-27;29-35;37-43;45-51;53-59;61-67;69-75;77-83;86"},null,null,null,{"$f":"$F$4","v":"21-27;29-35;37-43;45-51;53-59;61-67;69-75;77-83;86"},null,{"$f":"$F$4","v":"21-27;29-35;37-43;45-51;53-59;61-67;69-75;77-83;86"},null,{"$f":"$F$4","v":"21-27;29-35;37-43;45-51;53-59;61-67;69-75;77-83;86"},null,{"$f":"$F$4","v":"21-27;29-35;37-43;45-51;53-59;61-67;69-75;77-83;86"},null,{"$f":"$F$4","v":"21-27;29-35;37-43;45-51;53-59;61-67;69-75;77-83;86"},null,{"$f":"$F$4","v":"21-27;29-35;37-43;45-51;53-59;61-67;69-75;77-83;86"},null,null,null,null,{"$f":"BR4& \";17\"","v":"21-27;29-35;37-43;45-51;53-59;61-67;69-75;77-83;17"},null,null,{"$f":"$BG$4","v":"21-27;29-35;37-43;45-51;53-59;61-67;69-75;77-83;17"},null,null,{"$f":"$BG$4","v":"21-27;29-35;37-43;45-51;53-59;61-67;69-75;77-83;17"},null,null,{"$f":"$BG$4","v":"21-27;29-35;37-43;45-51;53-59;61-67;69-75;77-83;17"},null,"21-27;29-35;37-43;45-51;53-59;61-67;69-75;77-83"]
[null,1,null,{"$f":"$C$1 & \" (\" & Intern_BetriebID & \")\"","v":"Jungputen ()"}]
[null,10,null,{"$f":"$H$1 & IF($J$1<> \"\",\" (Stand vom \" & TEXT($J$1,\"tt.MM.jjjj\") &\")\",\"\")","v":"Verluste, Wasserverbrauch - Aufzucht"}]
[null,null,"    ?    ",{"$f":"IF(D1<>\"\",  D1 & \" - \",\"\") & IF(F1<>\"\",\"Schlupfdatum: \" & TEXT(F1,\"tt.MM.JJJJ\"),\"\")","v":""},null,null,null,null,null,null,null,null,null,null,null,null,null,null,null,null,null,null,null,null,null,null,null,null,null,null,null,null,null,null,null,null,null,null,null,null,null,null,null,null,null,null,null,null,null,null,null,null,null,null,null,null,null,null,null,null,null,null,null,null,null,null,null,null,null,null,null,null,null,null,"© KTBL & Uni Kassel"]
[null,{"$f":"\"HENNE_53-84|HUHN_52-84\" & IF(B10<>\"\",\"|\" & B10,\"\")&\"|HENNE_95-95|HUHN_28-28|HUHN_36-36|HUHN_44-44|HUHN_52-52|PUTE_95-95|\"","v":"HENNE_53-84|HUHN_52-84|PUTE_53-84|HENNE_95-95|HUHN_28-28|HUHN_36-36|HUHN_44-44|HUHN_52-52|PUTE_95-95|"}]
[]
[null,{"$f":"IF(AND(B1=\"GF_PUTE\",B5=1),IF(K1<50,\"PUTE_\" &21+( (INT((MAX(K1,7)-1)/7)+1)*8) & \"-84\",\"\"),\"PUTE_53-84\")","v":"PUTE_53-84"},"Speichern und schließen ..."]
[]
[]
[]
[null,null,"Tierbestand",null,null,null,"Tierverluste",null,null,null,null,null,null,null,null,null,null,null,null,null,null,null,null,null,null,null,null,null,null,null,null,"Separierungen",null,null,null,null,null,null,null,"Legeleistung",null,null,null,"Eiqualität",null,null,null,null,null,null,null,null,null,null,null,null,null,null,"Wasserverbrauch"]
[null,null,{"$f":"IF(OR(COUNT(E1)=0,E1<1),\"Keine Anzahl eingestallter Tiere angegeben.\",\"Zahl eingestallter Tiere: \" & TEXT(E1,\"#.###\") & \" Tiere\")","v":"Keine Anzahl eingestallter Tiere angegeben."}]
[null,null,null,"Anfangsbestand",null,null,null,null,null,null,null,null,null,null,null,null,null,null,null,null,null,null,null,null,null,null,null,null,null,null,null,null,null,null,null,null,null,null,null,null,null,null,null,null,null,null,null,null,null,null,null,null,null,null,null,null,null,null,"Startwert Zähler",null,null,"Startwert Zähler",null,null,"Startwert Zähler",null,null,"Startwert Zähler"]
[null,"DATEN002_W30_W20_W21_W22_W23",null,null,null,null,null,null,null,null,null,null,null,null,null,null,null,null,null,null,null,"Gesamtverluste",null,null,"Verluste nach Ursachen",null,null,null,null,null,null,null,null,"Haut-",null,null,null,null,null,null,null,null,null,null,null,null,null,null,null,"Eischalen-",null,null,null,null,null,null,null,null,null,null,null,null,null,null,null,null,null,null,null,"Direkteingabe",null,"Täglicher"]
[null,null,"Tag","Anzahl anwesende",null,"Unfall",null,"Erkrank-",null,"Hunger/",null,"Kanniba-",null,"Lahm-",null,"Beute-",null,"Haut-",null,"Sonstige",null,null,null,null,"Unfall","Erkrank-","Hunger/","Lahm-","Beute-","Sonstige",null,null,"Lahm-","verletz-",null,null,null,null,null,null,null,"Lege-",null,"Knick-",null,"Bruch-",null,"Schmutz-",null,"deforma-",null,"Blut-",null,"Sonstige",null,"Sekunda-",null,null,"Wasser-",null,null,"Wasser-",null,null,"Wasser-",null,null,"Wasser-",null,"Wasser-",null,"Wasserverbrauch"]
[null,null,null,{"$f":"IF(B1=\"GF_HENNE\",\"Legehennen\",IF(B1=\"GF_HUHN\",\"Masthühner\",\"Mastputen\"))","v":"Mastputen"},null,null,null,"ungen",null,"Durst",null,"lismus",null,"heit",null,"greifer",null,"verletz.",null,"Ursachen",null,null,null,null,null,"ungen","Durst","heit","greifer","Ursachen",null,null,"heit","ungen",null,null,null,null,null,"Eier",null,"leistung",null,"eier",null,"eier",null,"eier",null,"tionen",null,"eier",null,null,null,"eier",null,null,"uhr 1",null,null,"uhr 2",null,null,"uhr 3",null,null,"uhr 4",null,"verbrauch"]
[null,null,"Nr","Anz.",null,"Anz.",null,"Anz.",null,"Anz.",null,"Anz.",null,"Anz.",null,"Anz.",null,"Anz.",null,"Anz.",null,"Anz.","%","%","%","%","%","%","%","%",null,null,"Anz.",null,"Anz.",null,null,"Anz.",null,"Anz.",null,"%",null,"Anz.",null,"Anz.",null,"Anz.",null,"Anz.",null,"Anz.",null,"Anz.",null,"Anz.","%",null,"Zählerstand","m3",null,"Zählerstand","m3",null,"Zählerstand","m3",null,"Zählerstand","m3","Liter",null,"l/Herde","l/Tier","l/1000 Tiere"]
[null,"DATEN003",1,{"$f":"D17","v":0},null,null,null,null,null,null,null,null,null,null,null,null,null,null,null,null,null,{"$f":"SUM(F21:T21)","v":0},{"$f":"IF(AND(V21>0,$E$1>0),V21/$E$1*100,0)","v":0},{"$f":"IF(AND(V21>0,D21>0),V21/D21*100,0)","v":0},{"$f":"IF(AND(COUNT(F21)=1,D21>0),F21/D21*100,\"\")","v":""},{"$f":"IF(AND(COUNT(H21)=1,D21>0),H21/D21*100,\"\")","v":""},{"$f":"IF(AND(COUNT(J21)=1,D21>0),J21/D21*100,\"\")","v":""},{"$f":"IF(AND(COUNT(N21)=1,D21>0),N21/D21*100,\"\")","v":""},{"$f":"IF(AND(COUNT(P21)=1,D21>0),P21/D21*100,\"\")","v":""},{"$f":"IF(AND(COUNT(T21)=1,D21>0),T21/D21*100,\"\")","v":""},null,null,null,null,null,null,null,{"$f":"SUM(AG21:AI21)","v":0},null,null,null,{"$f":"IF(D21>0,AN21/D21*100,\"\")","v":""},null,null,null,null,null,null,null,null,null,null,null,null,null,{"$f":"SUM(AR21:BB21)","v":0},{"$f":"IF(AN21>0,BD21/AN21*100,0)","v":0},null,null,{"$f":"IF(AND(COUNT(BG$17)=1,BG21>BG17),BG21-BG17,0)","v":0},null,null,{"$f":"IF(AND(COUNT(BJ$17)=1,BJ21>BJ17),BJ21-BJ17,0)","v":0},null,null,{"$f":"IF(AND(COUNT(BM$17)=1,BM21>BM17),BM21-BM17,0)","v":0},null,null,{"$f":"IF(AND(COUNT(BP$17)=1,BP21>BP17),BP21-BP17,0)","v":0},null,null,{"$f":"IF((BH21+BK21+BN21+BQ21+BR21/1000)>0,(BH21+BK21+BN21+BQ21+BR21/1000)*1000,\"\")","v":""},{"$f":"IF(AND(D21>0,BT21<>\"\"),BT21/D21,\"\")","v":""},{"$f":"IF(AND(D21>0,BT21<>\"\"),BT21/D21*1000,\"\")","v":""}]
[null,"DATEN004",2,{"$f":"D21-V21","v":0},null,null,null,null,null,null,null,null,null,null,null,null,null,null,null,null,null,0,0,0,"","","","","","",null,null,null,null,null,null,null,0,null,null,null,"",null,null,null,null,null,null,null,null,null,null,null,null,null,{"$f":"SUM(AR22:BB22)","v":0},{"$f":"IF(AN22>0,BD22/AN22*100,0)","v":0},null,null,{"$f":"IF(AND(COUNT(BG$17)=1,COUNT(BG21)=1, BG22>BG21),BG22-BG21,0)","v":0},null,null,{"$f":"IF(AND(COUNT(BJ$17)=1,COUNT(BJ21)=1, BJ22>BJ21),BJ22-BJ21,0)","v":0},null,null,{"$f":"IF(AND(COUNT(BM$17)=1,COUNT(BM21)=1, BM22>BM21),BM22-BM21,0)","v":0},null,null,{"$f":"IF(AND(COUNT(BP$17)=1,COUNT(BP21)=1, BP22>BP21),BP22-BP21,0)","v":0},null,null,{"$f":"IF((BH22+BK22+BN22+BQ22+BR22/1000)>0,(BH22+BK22+BN22+BQ22+BR22/1000)*1000,\"\")","v":""},"",""]
[null,"DATEN005",3,0,null,null,null,null,null,null,null,null,null,null,null,null,null,null,null,null,null,{"$f":"SUM(F23:T23)","v":0},0,0,"","","","","","",null,null,null,null,null,null,null,0,null,null,null,"",null,null,null,null,null,null,null,null,null,null,null,null,null,0,0,null,null,{"$f":"IF(AND(COUNT(BG$17)=1,COUNT(BG22)=1, BG23>BG22),BG23-BG22,0)","v":0},null,null,{"$f":"IF(AND(COUNT(BJ$17)=1,COUNT(BJ22)=1, BJ23>BJ22),BJ23-BJ22,0)","v":0},null,null,{"$f":"IF(AND(COUNT(BM$17)=1,COUNT(BM22)=1, BM23>BM22),BM23-BM22,0)","v":0},null,null,{"$f":"IF(AND(COUNT(BP$17)=1,COUNT(BP22)=1, BP23>BP22),BP23-BP22,0)","v":0},null,null,"","",""]
[null,"DATEN006",4,0,null,null,null,null,null,null,null,null,null,null,null,null,null,null,null,null,null,0,0,0,"","","","","","",null,null,null,null,null,null,null,0,null,null,null,"",null,null,null,null,null,null,null,null,null,null,null,null,null,0,0,null,null,0,null,null,0,null,null,0,null,null,0,null,null,"","",""]
[null,"DATEN007",5,0,null,null,null,null,null,null,null,null,null,null,null,null,null,null,null,null,null,0,0,0,"","","","","","",null,null,null,null,null,null,null,0,null,null,null,"",null,null,null,null,null,null,null,null,null,null,null,null,null,0,0,null,null,0,null,null,0,null,null,0,null,null,0,null,null,"","",""]
[null,"DATEN008",6,0,null,null,null,null,null,null,null,null,null,null,null,null,null,null,null,null,null,0,0,0,"","","","","","",null,null,null,null,null,null,null,0,null,null,null,"",null,null,null,null,null,null,null,null,null,null,null,null,null,0,0,null,null,0,null,null,0,null,null,0,null,null,0,null,null,"","",""]
[null,"DATEN009",7,0,null,null,null,null,null,null,null,null,null,null,null,null,null,null,null,null,null,0,0,0,"","","","","","",null,null,null,null,null,null,null,0,null,null,null,"",null,null,null,null,null,null,null,null,null,null,null,null,null,0,0,null,null,0,null,null,0,null,null,0,null,null,0,null,null,"","",""]
[null,"ERGEB901",null,"Ergebnisse","%",{"$f":"IF($E$1>0,SUM(F21:F27)/$E$1*100,0)","v":0},null,{"$f":"IF($E$1>0,SUM(H21:H27)/$E$1*100,0)","v":0},null,{"$f":"IF($E$1>0,SUM(J21:J27)/$E$1*100,0)","v":0},null,{"$f":"IF($E$1>0,SUM(L21:L27)/$E$1*100,0)","v":0},null,{"$f":"IF($E$1>0,SUM(N21:N27)/$E$1*100,0)","v":0},null,{"$f":"IF($E$1>0,SUM(P21:P27)/$E$1*100,0)","v":0},null,{"$f":"IF($E$1>0,SUM(R21:R27)/$E$1*100,0)","v":0},null,{"$f":"IF($E$1>0,SUM(T21:T27)/$E$1*100,0)","v":0},null,{"$f":"SUM(V21:V27)","v":0},{"$f":"IF($E$1>0,SUM(V21:V27)/$E$1*100,0)","v":0},{"$f":"SUM(X21:X27)","v":0},{"$f":"IF(COUNT(Y21:Y27)>0,SUM(Y21:Y27),\"\")","v":""},"","","","","",null,null,{"$f":"IF($E$1>0,SUM(AG21:AG27)/$E$1*100,0)","v":0},null,{"$f":"IF($E$1>0,SUM(AI21:AI27)/$E$1*100,0)","v":0},null,null,{"$f":"IF($E$1>0,SUM(AL21:AL27)/$E$1*100,0)","v":0},null,{"$f":"SUM(AN21:AN27)","v":0},null,null,null,{"$f":"IF($AN28>0,SUM(AR21:AR27)/$AN28,0)","v":0},null,{"$f":"IF($AN28>0,SUM(AT21:AT27)/$AN28,0)","v":0},null,{"$f":"IF($AN28>0,SUM(AV21:AV27)/$AN28,0)","v":0},null,{"$f":"IF($AN28>0,SUM(AX21:AX27)/$AN28,0)","v":0},null,{"$f":"IF($AN28>0,SUM(AZ21:AZ27)/$AN28,0)","v":0},null,{"$f":"IF($AN28>0,SUM(BB21:BB27)/$AN28,0)","v":0},null,{"$f":"SUM(BD21:BD27)","v":0},{"$f":"IF(AN28>0,BD28/AN28,0)","v":0},null,null,{"$f":"SUM(BH21:BH27)","v":0},null,null,{"$f":"SUM(BK21:BK27)","v":0},null,null,{"$f":"SUM(BN21:BN27)","v":0},null,null,{"$f":"SUM(BQ21:BQ27)","v":0},{"$f":"SUM(BR21:BR27)","v":0},null,{"$f":"IF(SUM(BT21:BT27)>0,AVERAGE(BT21:BT27),\"\")","v":""},{"$f":"IF(SUM(BU21:BU27)>0,AVERAGE(BU21:BU27),\"\")","v":""},{"$f":"IF(SUM(BV21:BV27)>0,AVERAGE(BV21:BV27),\"\")","v":""}]
[null,"DATEN010",8,{"$f":"D27-V27","v":0},null,null,null,null,null,null,null,null,null,null,null,null,null,null,null,null,null,{"$f":"SUM(F29:T29)","v":0},{"$f":"IF(AND(V29>0,$E$1>0),V29/$E$1*100,0)","v":0},{"$f":"IF(AND(V29>0,D29>0),V29/D29*100,0)","v":0},{"$f":"IF(AND(COUNT(F29)=1,D29>0),F29/D29*100,\"\")","v":""},{"$f":"IF(AND(COUNT(H29)=1,D29>0),H29/D29*100,\"\")","v":""},{"$f":"IF(AND(COUNT(J29)=1,D29>0),J29/D29*100,\"\")","v":""},{"$f":"IF(AND(COUNT(N29)=1,D29>0),N29/D29*100,\"\")","v":""},{"$f":"IF(AND(COUNT(P29)=1,D29>0),P29/D29*100,\"\")","v":""},{"$f":"IF(AND(COUNT(T29)=1,D29>0),T29/D29*100,\"\")","v":""},null,null,null,null,null,null,null,{"$f":"SUM(AG29:AI29)","v":0},null,null,null,{"$f":"IF(D29>0,AN29/D29*100,\"\")","v":""},null,null,null,null,null,null,null,null,null,null,null,null,null,0,0,null,null,{"$f":"IF(AND(COUNT(BG$17)=1,COUNT(BG27)=1, BG29>BG27),BG29-BG27,0)","v":0},null,null,{"$f":"IF(AND(COUNT(BJ$17)=1,COUNT(BJ27)=1, BJ29>BJ27),BJ29-BJ27,0)","v":0},null,null,{"$f":"IF(AND(COUNT(BM$17)=1,COUNT(BM27)=1, BM29>BM27),BM29-BM27,0)","v":0},null,null,{"$f":"IF(AND(COUNT(BP$17)=1,COUNT(BP27)=1, BP29>BP27),BP29-BP27,0)","v":0},null,null,{"$f":"IF((BH29+BK29+BN29+BQ29+BR29/1000)>0,(BH29+BK29+BN29+BQ29+BR29/1000)*1000,\"\")","v":""},{"$f":"IF(AND(D29>0,BT29<>\"\"),BT29/D29,\"\")","v":""},{"$f":"IF(AND(D29>0,BT29<>\"\"),BT29/D29*1000,\"\")","v":""}]
[null,"DATEN011",9,{"$f":"D29-V29","v":0},null,null,null,null,null,null,null,null,null,null,null,null,null,null,null,null,null,0,0,0,"","","","","","",null,null,null,null,null,null,null,0,null,null,null,"",null,null,null,null,null,null,null,null,null,null,null,null,null,0,0,null,null,0,null,null,0,null,null,0,null,null,0,null,null,"","",""]
[null,"DATEN012",10,0,null,null,null,null,null,null,null,null,null,null,null,null,null,null,null,null,null,0,0,0,"","","","","","",null,null,null,null,null,null,null,0,null,null,null,"",null,null,null,null,null,null,null,null,null,null,null,null,null,0,0,null,null,0,null,null,0,null,null,0,null,null,0,null,null,"","",""]
[null,"DATEN013",11,0,null,null,null,null,null,null,null,null,null,null,null,null,null,null,null,null,null,0,0,0,"","","","","","",null,null,null,null,null,null,null,0,null,null,null,"",null,null,null,null,null,null,null,null,null,null,null,null,null,0,0,null,null,0,null,null,0,null,null,0,null,null,0,null,null,"","",""]
[null,"DATEN014",12,0,null,null,null,null,null,null,null,null,null,null,null,null,null,null,null,null,null,0,0,0,"","","","","","",null,null,null,null,null,null,null,0,null,null,null,"",null,null,null,null,null,null,null,null,null,null,null,null,null,0,0,null,null,0,null,null,0,null,null,0,null,null,0,null,null,"","",""]
[null,"DATEN015",13,0,null,null,null,null,null,null,null,null,null,null,null,null,null,null,null,null,null,0,0,0,"","","","","","",null,null,null,null,null,null,null,0,null,null,null,"",null,null,null,null,null,null,null,null,null,null,null,null,null,0,0,null,null,0,null,null,0,null,null,0,null,null,0,null,null,"","",""]
[null,"DATEN016",14,0,null,null,null,null,null,null,null,null,null,null,null,null,null,null,null,null,null,0,0,0,"","","","","","",null,null,null,null,null,null,null,0,null,null,null,"",null,null,null,null,null,null,null,null,null,null,null,null,null,0,0,null,null,0,null,null,0,null,null,0,null,null,0,null,null,"","",""]
[null,"ERGEB902",null,"Ergebnisse","%",{"$f":"IF($E$1>0,SUM(F29:F35)/$E$1*100,0)","v":0},null,{"$f":"IF($E$1>0,SUM(H29:H35)/$E$1*100,0)","v":0},null,{"$f":"IF($E$1>0,SUM(J29:J35)/$E$1*100,0)","v":0},null,{"$f":"IF($E$1>0,SUM(L29:L35)/$E$1*100,0)","v":0},null,{"$f":"IF($E$1>0,SUM(N29:N35)/$E$1*100,0)","v":0},null,{"$f":"IF($E$1>0,SUM(P29:P35)/$E$1*100,0)","v":0},null,{"$f":"IF($E$1>0,SUM(R29:R35)/$E$1*100,0)","v":0},null,{"$f":"IF($E$1>0,SUM(T29:T35)/$E$1*100,0)","v":0},null,{"$f":"SUM(V29:V35)","v":0},{"$f":"IF($E$1>0,SUM(V29:V35)/$E$1*100,0)","v":0},{"$f":"SUM(X29:X35)","v":0},{"$f":"IF(COUNT(Y29:Y35)>0,SUM(Y29:Y35),\"\")","v":""},"","","","","",null,null,{"$f":"IF($E$1>0,SUM(AG29:AG35)/$E$1*100,0)","v":0},null,{"$f":"IF($E$1>0,SUM(AI29:AI35)/$E$1*100,0)","v":0},null,null,{"$f":"IF($E$1>0,SUM(AL29:AL35)/$E$1*100,0)","v":0},null,{"$f":"SUM(AN29:AN35)","v":0},null,null,null,{"$f":"IF($AN36>0,SUM(AR29:AR35)/$AN36,0)","v":0},null,{"$f":"IF($AN36>0,SUM(AT29:AT35)/$AN36,0)","v":0},null,{"$f":"IF($AN36>0,SUM(AV29:AV35)/$AN36,0)","v":0},null,{"$f":"IF($AN36>0,SUM(AX29:AX35)/$AN36,0)","v":0},null,{"$f":"IF($AN36>0,SUM(AZ29:AZ35)/$AN36,0)","v":0},null,{"$f":"IF($AN36>0,SUM(BB29:BB35)/$AN36,0)","v":0},null,{"$f":"SUM(BD29:BD35)","v":0},{"$f":"IF(AN36>0,BD36/AN36,0)","v":0},null,null,{"$f":"SUM(BH29:BH35)","v":0},null,null,{"$f":"SUM(BK29:BK35)","v":0},null,null,{"$f":"SUM(BN29:BN35)","v":0},null,null,{"$f":"SUM(BQ29:BQ35)","v":0},{"$f":"SUM(BR29:BR35)","v":0},null,{"$f":"IF(SUM(BT29:BT35)>0,AVERAGE(BT29:BT35),\"\")","v":""},{"$f":"IF(SUM(BU29:BU35)>0,AVERAGE(BU29:BU35),\"\")","v":""},{"$f":"IF(SUM(BV29:BV35)>0,AVERAGE(BV29:BV35),\"\")","v":""}]
[null,"DATEN017",15,{"$f":"D35-V35","v":0},null,null,null,null,null,null,null,null,null,null,null,null,null,null,null,null,null,{"$f":"SUM(F37:T37)","v":0},{"$f":"IF(AND(V37>0,$E$1>0),V37/$E$1*100,0)","v":0},{"$f":"IF(AND(V37>0,D37>0),V37/D37*100,0)","v":0},{"$f":"IF(AND(COUNT(F37)=1,D37>0),F37/D37*100,\"\")","v":""},{"$f":"IF(AND(COUNT(H37)=1,D37>0),H37/D37*100,\"\")","v":""},{"$f":"IF(AND(COUNT(J37)=1,D37>0),J37/D37*100,\"\")","v":""},{"$f":"IF(AND(COUNT(N37)=1,D37>0),N37/D37*100,\"\")","v":""},{"$f":"IF(AND(COUNT(P37)=1,D37>0),P37/D37*100,\"\")","v":""},{"$f":"IF(AND(COUNT(T37)=1,D37>0),T37/D37*100,\"\")","v":""},null,null,null,null,null,null,null,{"$f":"SUM(AG37:AI37)","v":0},null,null,null,{"$f":"IF(D37>0,AN37/D37*100,\"\")","v":""},null,null,null,null,null,null,null,null,null,null,null,null,null,0,0,null,null,{"$f":"IF(AND(COUNT(BG$17)=1,COUNT(BG35)=1, BG37>BG35),BG37-BG35,0)","v":0},null,null,{"$f":"IF(AND(COUNT(BJ$17)=1,COUNT(BJ35)=1, BJ37>BJ35),BJ37-BJ35,0)","v":0},null,null,{"$f":"IF(AND(COUNT(BM$17)=1,COUNT(BM35)=1, BM37>BM35),BM37-BM35,0)","v":0},null,null,{"$f":"IF(AND(COUNT(BP$17)=1,COUNT(BP35)=1, BP37>BP35),BP37-BP35,0)","v":0},null,null,{"$f":"IF((BH37+BK37+BN37+BQ37+BR37/1000)>0,(BH37+BK37+BN37+BQ37+BR37/1000)*1000,\"\")","v":""},{"$f":"IF(AND(D37>0,BT37<>\"\"),BT37/D37,\"\")","v":""},{"$f":"IF(AND(D37>0,BT37<>\"\"),BT37/D37*1000,\"\")","v":""}]
[null,"DATEN018",16,{"$f":"D37-V37","v":0},null,null,null,null,null,null,null,null,null,null,null,null,null,null,null,null,null,0,0,0,"","","","","","",null,null,null,null,null,null,null,0,null,null,null,"",null,null,null,null,null,null,null,null,null,null,null,null,null,0,0,null,null,{"$f":"IF(AND(COUNT(BG$17)=1,COUNT(BG37)=1, BG38>BG37),BG38-BG37,0)","v":0},null,null,{"$f":"IF(AND(COUNT(BJ$17)=1,COUNT(BJ37)=1, BJ38>BJ37),BJ38-BJ37,0)","v":0},null,null,{"$f":"IF(AND(COUNT(BM$17)=1,COUNT(BM37)=1, BM38>BM37),BM38-BM37,0)","v":0},null,null,{"$f":"IF(AND(COUNT(BP$17)=1,COUNT(BP37)=1, BP38>BP37),BP38-BP37,0)","v":0},null,null,"","",""]
[null,"DATEN019",17,0,null,null,null,null,null,null,null,null,null,null,null,null,null,null,null,null,null,0,0,0,"","","","","","",null,null,null,null,null,null,null,0,null,null,null,"",null,null,null,null,null,null,null,null,null,null,null,null,null,0,{"$f":"IF(AN39>0,BD39/AN39*100,0)","v":0},null,null,0,null,null,0,null,null,0,null,null,0,null,null,"","",""]
[null,"DATEN020",18,0,null,null,null,null,null,null,null,null,null,null,null,null,null,null,null,null,null,0,0,0,"","","","","","",null,null,null,null,null,null,null,0,null,null,null,"",null,null,null,null,null,null,null,null,null,null,null,null,null,0,0,null,null,0,null,null,0,null,null,0,null,null,0,null,null,"","",""]
[null,"DATEN021",19,0,null,null,null,null,null,null,null,null,null,null,null,null,null,null,null,null,null,0,0,0,"","","","","","",null,null,null,null,null,null,null,0,null,null,null,"",null,null,null,null,null,null,null,null,null,null,null,null,null,0,0,null,null,0,null,null,0,null,null,0,null,null,0,null,null,"","",""]
[null,"DATEN022",20,0,null,null,null,null,null,null,null,null,null,null,null,null,null,null,null,null,null,0,0,0,"","","","","","",null,null,null,null,null,null,null,0,null,null,null,"",null,null,null,null,null,null,null,null,null,null,null,null,null,0,0,null,null,0,null,null,0,null,null,0,null,null,0,null,null,"","",""]
[null,"DATEN023",21,0,null,null,null,null,null,null,null,null,null,null,null,null,null,null,null,null,null,0,0,0,"","","","","","",null,null,null,null,null,null,null,0,null,null,null,"",null,null,null,null,null,null,null,null,null,null,null,null,null,0,0,null,null,0,null,null,0,null,null,0,null,null,0,null,null,"","",""]
[null,"ERGEB903",null,"Ergebnisse","%",{"$f":"IF($E$1>0,SUM(F37:F43)/$E$1*100,0)","v":0},null,{"$f":"IF($E$1>0,SUM(H37:H43)/$E$1*100,0)","v":0},null,{"$f":"IF($E$1>0,SUM(J37:J43)/$E$1*100,0)","v":0},null,{"$f":"IF($E$1>0,SUM(L37:L43)/$E$1*100,0)","v":0},null,{"$f":"IF($E$1>0,SUM(N37:N43)/$E$1*100,0)","v":0},null,{"$f":"IF($E$1>0,SUM(P37:P43)/$E$1*100,0)","v":0},null,{"$f":"IF($E$1>0,SUM(R37:R43)/$E$1*100,0)","v":0},null,{"$f":"IF($E$1>0,SUM(T37:T43)/$E$1*100,0)","v":0},null,{"$f":"SUM(V37:V43)","v":0},{"$f":"IF($E$1>0,SUM(V37:V43)/$E$1*100,0)","v":0},{"$f":"SUM(X37:X43)","v":0},{"$f":"IF(COUNT(Y37:Y43)>0,SUM(Y37:Y43),\"\")","v":""},"","","","","",null,null,{"$f":"IF($E$1>0,SUM(AG37:AG43)/$E$1*100,0)","v":0},null,{"$f":"IF($E$1>0,SUM(AI37:AI43)/$E$1*100,0)","v":0},null,null,{"$f":"IF($E$1>0,SUM(AL37:AL43)/$E$1*100,0)","v":0},null,{"$f":"SUM(AN37:AN43)","v":0},null,null,null,{"$f":"IF($AN44>0,SUM(AR37:AR43)/$AN44,0)","v":0},null,{"$f":"IF($AN44>0,SUM(AT37:AT43)/$AN44,0)","v":0},null,{"$f":"IF($AN44>0,SUM(AV37:AV43)/$AN44,0)","v":0},null,{"$f":"IF($AN44>0,SUM(AX37:AX43)/$AN44,0)","v":0},null,{"$f":"IF($AN44>0,SUM(AZ37:AZ43)/$AN44,0)","v":0},null,{"$f":"IF($AN44>0,SUM(BB37:BB43)/$AN44,0)","v":0},null,{"$f":"SUM(BD37:BD43)","v":0},{"$f":"IF(AN44>0,BD44/AN44,0)","v":0},null,null,{"$f":"SUM(BH37:BH43)","v":0},null,null,{"$f":"SUM(BK37:BK43)","v":0},null,null,{"$f":"SUM(BN37:BN43)","v":0},null,null,{"$f":"SUM(BQ37:BQ43)","v":0},{"$f":"SUM(BR37:BR43)","v":0},null,{"$f":"IF(SUM(BT37:BT43)>0,AVERAGE(BT37:BT43),\"\")","v":""},{"$f":"IF(SUM(BU37:BU43)>0,AVERAGE(BU37:BU43),\"\")","v":""},{"$f":"IF(SUM(BV37:BV43)>0,AVERAGE(BV37:BV43),\"\")","v":""}]
[null,"DATEN024",22,{"$f":"D43-V43","v":0},null,null,null,null,null,null,null,null,null,null,null,null,null,null,null,null,null,{"$f":"SUM(F45:T45)","v":0},{"$f":"IF(AND(V45>0,$E$1>0),V45/$E$1*100,0)","v":0},{"$f":"IF(AND(V45>0,D45>0),V45/D45*100,0)","v":0},{"$f":"IF(AND(COUNT(F45)=1,D45>0),F45/D45*100,\"\")","v":""},{"$f":"IF(AND(COUNT(H45)=1,D45>0),H45/D45*100,\"\")","v":""},{"$f":"IF(AND(COUNT(J45)=1,D45>0),J45/D45*100,\"\")","v":""},{"$f":"IF(AND(COUNT(N45)=1,D45>0),N45/D45*100,\"\")","v":""},{"$f":"IF(AND(COUNT(P45)=1,D45>0),P45/D45*100,\"\")","v":""},{"$f":"IF(AND(COUNT(T45)=1,D45>0),T45/D45*100,\"\")","v":""},null,null,null,null,null,null,null,{"$f":"SUM(AG45:AI45)","v":0},null,null,null,{"$f":"IF(D45>0,AN45/D45*100,\"\")","v":""},null,null,null,null,null,null,null,null,null,null,null,null,null,{"$f":"SUM(AR45:BB45)","v":0},{"$f":"IF(AN45>0,BD45/AN45*100,0)","v":0},null,null,{"$f":"IF(AND(COUNT(BG$17)=1,COUNT(BG43)=1, BG45>BG43),BG45-BG43,0)","v":0},null,null,{"$f":"IF(AND(COUNT(BJ$17)=1,COUNT(BJ43)=1, BJ45>BJ43),BJ45-BJ43,0)","v":0},null,null,{"$f":"IF(AND(COUNT(BM$17)=1,COUNT(BM43)=1, BM45>BM43),BM45-BM43,0)","v":0},null,null,{"$f":"IF(AND(COUNT(BP$17)=1,COUNT(BP43)=1, BP45>BP43),BP45-BP43,0)","v":0},null,null,{"$f":"IF((BH45+BK45+BN45+BQ45+BR45/1000)>0,(BH45+BK45+BN45+BQ45+BR45/1000)*1000,\"\")","v":""},{"$f":"IF(AND(D45>0,BT45<>\"\"),BT45/D45,\"\")","v":""},{"$f":"IF(AND(D45>0,BT45<>\"\"),BT45/D45*1000,\"\")","v":""}]
[null,"DATEN025",23,{"$f":"D45-V45","v":0},null,null,null,null,null,null,null,null,null,null,null,null,null,null,null,null,null,0,0,0,"","","","","","",null,null,null,null,null,null,null,0,null,null,null,"",null,null,null,null,null,null,null,null,null,null,null,null,null,0,0,null,null,{"$f":"IF(AND(COUNT(BG$17)=1,COUNT(BG45)=1, BG46>BG45),BG46-BG45,0)","v":0},null,null,{"$f":"IF(AND(COUNT(BJ$17)=1,COUNT(BJ45)=1, BJ46>BJ45),BJ46-BJ45,0)","v":0},null,null,{"$f":"IF(AND(COUNT(BM$17)=1,COUNT(BM45)=1, BM46>BM45),BM46-BM45,0)","v":0},null,null,{"$f":"IF(AND(COUNT(BP$17)=1,COUNT(BP45)=1, BP46>BP45),BP46-BP45,0)","v":0},null,null,"","",""]
[null,"DATEN026",24,0,null,null,null,null,null,null,null,null,null,null,null,null,null,null,null,null,null,0,0,0,"","","","","","",null,null,null,null,null,null,null,0,null,null,null,"",null,null,null,null,null,null,null,null,null,null,null,null,null,0,{"$f":"IF(AN47>0,BD47/AN47*100,0)","v":0},null,null,0,null,null,0,null,null,0,null,null,0,null,null,"","",""]
[null,"DATEN027",25,0,null,null,null,null,null,null,null,null,null,null,null,null,null,null,null,null,null,0,0,0,"","","","","","",null,null,null,null,null,null,null,0,null,null,null,"",null,null,null,null,null,null,null,null,null,null,null,null,null,0,{"$f":"IF(AN48>0,BD48/AN48*100,0)","v":0},null,null,0,null,null,0,null,null,0,null,null,0,null,null,"","",""]
[null,"DATEN028",26,0,null,null,null,null,null,null,null,null,null,null,null,null,null,null,null,null,null,0,0,0,"","","","","","",null,null,null,null,null,null,null,0,null,null,null,"",null,null,null,null,null,null,null,null,null,null,null,null,null,0,0,null,null,0,null,null,0,null,null,0,null,null,0,null,null,"","",""]
[null,"DATEN029",27,0,null,null,null,null,null,null,null,null,null,null,null,null,null,null,null,null,null,0,0,0,"","","","","","",null,null,null,null,null,null,null,0,null,null,null,"",null,null,null,null,null,null,null,null,null,null,null,null,null,0,0,null,null,0,null,null,0,null,null,0,null,null,0,null,null,"","",""]
[null,"DATEN030",28,0,null,null,null,null,null,null,null,null,null,null,null,null,null,null,null,null,null,0,0,0,"","","","","","",null,null,null,null,null,null,null,0,null,null,null,"",null,null,null,null,null,null,null,null,null,null,null,null,null,0,0,null,null,0,null,null,0,null,null,0,null,null,0,null,null,"","",""]
[null,"ERGEB904",null,"Ergebnisse","%",{"$f":"IF($E$1>0,SUM(F45:F51)/$E$1*100,0)","v":0},null,{"$f":"IF($E$1>0,SUM(H45:H51)/$E$1*100,0)","v":0},null,{"$f":"IF($E$1>0,SUM(J45:J51)/$E$1*100,0)","v":0},null,{"$f":"IF($E$1>0,SUM(L45:L51)/$E$1*100,0)","v":0},null,{"$f":"IF($E$1>0,SUM(N45:N51)/$E$1*100,0)","v":0},null,{"$f":"IF($E$1>0,SUM(P45:P51)/$E$1*100,0)","v":0},null,{"$f":"IF($E$1>0,SUM(R45:R51)/$E$1*100,0)","v":0},null,{"$f":"IF($E$1>0,SUM(T45:T51)/$E$1*100,0)","v":0},null,{"$f":"SUM(V45:V51)","v":0},{"$f":"IF($E$1>0,SUM(V45:V51)/$E$1*100,0)","v":0},{"$f":"SUM(X45:X51)","v":0},{"$f":"IF(COUNT(Y45:Y51)>0,SUM(Y45:Y51),\"\")","v":""},"","","","","",null,null,{"$f":"IF($E$1>0,SUM(AG45:AG51)/$E$1*100,0)","v":0},null,{"$f":"IF($E$1>0,SUM(AI45:AI51)/$E$1*100,0)","v":0},null,null,{"$f":"IF($E$1>0,SUM(AL45:AL51)/$E$1*100,0)","v":0},null,{"$f":"SUM(AN45:AN51)","v":0},null,null,null,{"$f":"IF($AN52>0,SUM(AR45:AR51)/$AN52,0)","v":0},null,{"$f":"IF($AN52>0,SUM(AT45:AT51)/$AN52,0)","v":0},null,{"$f":"IF($AN52>0,SUM(AV45:AV51)/$AN52,0)","v":0},null,{"$f":"IF($AN52>0,SUM(AX45:AX51)/$AN52,0)","v":0},null,{"$f":"IF($AN52>0,SUM(AZ45:AZ51)/$AN52,0)","v":0},null,{"$f":"IF($AN52>0,SUM(BB45:BB51)/$AN52,0)","v":0},null,{"$f":"SUM(BD45:BD51)","v":0},{"$f":"IF(AN52>0,BD52/AN52,0)","v":0},null,null,{"$f":"SUM(BH45:BH51)","v":0},null,null,{"$f":"SUM(BK45:BK51)","v":0},null,null,{"$f":"SUM(BN45:BN51)","v":0},null,null,{"$f":"SUM(BQ45:BQ51)","v":0},{"$f":"SUM(BR45:BR51)","v":0},null,{"$f":"IF(SUM(BT45:BT51)>0,AVERAGE(BT45:BT51),\"\")","v":""},{"$f":"IF(SUM(BU45:BU51)>0,AVERAGE(BU45:BU51),\"\")","v":""},{"$f":"IF(SUM(BV45:BV51)>0,AVERAGE(BV45:BV51),\"\")","v":""}]
[null,"DATEN032",29,{"$f":"D51-V51","v":0},null,null,null,null,null,null,null,null,null,null,null,null,null,null,null,null,null,{"$f":"SUM(F53:T53)","v":0},{"$f":"IF(AND(V53>0,$E$1>0),V53/$E$1*100,0)","v":0},{"$f":"IF(AND(V53>0,D53>0),V53/D53*100,0)","v":0},{"$f":"IF(AND(COUNT(F53)=1,D53>0),F53/D53*100,\"\")","v":""},{"$f":"IF(AND(COUNT(H53)=1,D53>0),H53/D53*100,\"\")","v":""},{"$f":"IF(AND(COUNT(J53)=1,D53>0),J53/D53*100,\"\")","v":""},{"$f":"IF(AND(COUNT(N53)=1,D53>0),N53/D53*100,\"\")","v":""},{"$f":"IF(AND(COUNT(P53)=1,D53>0),P53/D53*100,\"\")","v":""},{"$f":"IF(AND(COUNT(T53)=1,D53>0),T53/D53*100,\"\")","v":""},null,null,null,null,null,null,null,{"$f":"SUM(AG53:AI53)","v":0},null,null,null,{"$f":"IF(D53>0,AN53/D53*100,\"\")","v":""},null,null,null,null,null,null,null,null,null,null,null,null,null,{"$f":"SUM(AR53:BB53)","v":0},{"$f":"IF(AN53>0,BD53/AN53*100,0)","v":0},null,null,{"$f":"IF(AND(COUNT(BG$17)=1,COUNT(BG51)=1, BG53>BG51),BG53-BG51,0)","v":0},null,null,{"$f":"IF(AND(COUNT(BJ$17)=1,COUNT(BJ51)=1, BJ53>BJ51),BJ53-BJ51,0)","v":0},null,null,{"$f":"IF(AND(COUNT(BM$17)=1,COUNT(BM51)=1, BM53>BM51),BM53-BM51,0)","v":0},null,null,{"$f":"IF(AND(COUNT(BP$17)=1,COUNT(BP51)=1, BP53>BP51),BP53-BP51,0)","v":0},null,null,{"$f":"IF((BH53+BK53+BN53+BQ53+BR53/1000)>0,(BH53+BK53+BN53+BQ53+BR53/1000)*1000,\"\")","v":""},{"$f":"IF(AND(D53>0,BT53<>\"\"),BT53/D53,\"\")","v":""},{"$f":"IF(AND(D53>0,BT53<>\"\"),BT53/D53*1000,\"\")","v":""}]
[null,"DATEN033",30,{"$f":"D53-V53","v":0},null,null,null,null,null,null,null,null,null,null,null,null,null,null,null,null,null,0,0,0,"","","","","","",null,null,null,null,null,null,null,0,null,null,null,"",null,null,null,null,null,null,null,null,null,null,null,null,null,0,0,null,null,{"$f":"IF(AND(COUNT(BG$17)=1,COUNT(BG53)=1, BG54>BG53),BG54-BG53,0)","v":0},null,null,{"$f":"IF(AND(COUNT(BJ$17)=1,COUNT(BJ53)=1, BJ54>BJ53),BJ54-BJ53,0)","v":0},null,null,{"$f":"IF(AND(COUNT(BM$17)=1,COUNT(BM53)=1, BM54>BM53),BM54-BM53,0)","v":0},null,null,{"$f":"IF(AND(COUNT(BP$17)=1,COUNT(BP53)=1, BP54>BP53),BP54-BP53,0)","v":0},null,null,"","",""]
[null,"DATEN034",31,0,null,null,null,null,null,null,null,null,null,null,null,null,null,null,null,null,null,0,0,0,"","","","","","",null,null,null,null,null,null,null,0,null,null,null,"",null,null,null,null,null,null,null,null,null,null,null,null,null,0,{"$f":"IF(AN55>0,BD55/AN55*100,0)","v":0},null,null,0,null,null,0,null,null,0,null,null,0,null,null,"","",""]
[null,"DATEN035",32,0,null,null,null,null,null,null,null,null,null,null,null,null,null,null,null,null,null,0,0,0,"","","","","","",null,null,null,null,null,null,null,0,null,null,null,"",null,null,null,null,null,null,null,null,null,null,null,null,null,0,{"$f":"IF(AN56>0,BD56/AN56*100,0)","v":0},null,null,0,null,null,0,null,null,0,null,null,0,null,null,"","",""]
[null,"DATEN036",33,0,null,null,null,null,null,null,null,null,null,null,null,null,null,null,null,null,null,0,0,0,"","","","","","",null,null,null,null,null,null,null,0,null,null,null,"",null,null,null,null,null,null,null,null,null,null,null,null,null,0,0,null,null,0,null,null,0,null,null,0,null,null,0,null,null,"","",""]
[null,"DATEN037",34,0,null,null,null,null,null,null,null,null,null,null,null,null,null,null,null,null,null,0,0,0,"","","","","","",null,null,null,null,null,null,null,0,null,null,null,"",null,null,null,null,null,null,null,null,null,null,null,null,null,0,0,null,null,0,null,null,0,null,null,0,null,null,0,null,null,"","",""]
[null,"DATEN038",35,0,null,null,null,null,null,null,null,null,null,null,null,null,null,null,null,null,null,0,0,0,"","","","","","",null,null,null,null,null,null,null,0,null,null,null,"",null,null,null,null,null,null,null,null,null,null,null,null,null,0,0,null,null,0,null,null,0,null,null,0,null,null,0,null,null,"","",""]
[null,"ERGEB905",null,"Ergebnisse","%",{"$f":"IF($E$1>0,SUM(F53:F59)/$E$1*100,0)","v":0},null,{"$f":"IF($E$1>0,SUM(H53:H59)/$E$1*100,0)","v":0},null,{"$f":"IF($E$1>0,SUM(J53:J59)/$E$1*100,0)","v":0},null,{"$f":"IF($E$1>0,SUM(L53:L59)/$E$1*100,0)","v":0},null,{"$f":"IF($E$1>0,SUM(N53:N59)/$E$1*100,0)","v":0},null,{"$f":"IF($E$1>0,SUM(P53:P59)/$E$1*100,0)","v":0},null,{"$f":"IF($E$1>0,SUM(R53:R59)/$E$1*100,0)","v":0},null,{"$f":"IF($E$1>0,SUM(T53:T59)/$E$1*100,0)","v":0},null,{"$f":"SUM(V53:V59)","v":0},{"$f":"IF($E$1>0,SUM(V53:V59)/$E$1*100,0)","v":0},{"$f":"SUM(X53:X59)","v":0},{"$f":"IF(COUNT(Y53:Y59)>0,SUM(Y53:Y59),\"\")","v":""},"","","","","",null,null,{"$f":"IF($E$1>0,SUM(AG53:AG59)/$E$1*100,0)","v":0},null,{"$f":"IF($E$1>0,SUM(AI53:AI59)/$E$1*100,0)","v":0},null,null,{"$f":"IF($E$1>0,SUM(AL53:AL59)/$E$1*100,0)","v":0},null,{"$f":"SUM(AN53:AN59)","v":0},null,null,null,{"$f":"IF($AN60>0,SUM(AR53:AR59)/$AN60,0)","v":0},null,{"$f":"IF($AN60>0,SUM(AT53:AT59)/$AN60,0)","v":0},null,{"$f":"IF($AN60>0,SUM(AV53:AV59)/$AN60,0)","v":0},null,{"$f":"IF($AN60>0,SUM(AX53:AX59)/$AN60,0)","v":0},null,{"$f":"IF($AN60>0,SUM(AZ53:AZ59)/$AN60,0)","v":0},null,{"$f":"IF($AN60>0,SUM(BB53:BB59)/$AN60,0)","v":0},null,{"$f":"SUM(BD53:BD59)","v":0},{"$f":"IF(AN60>0,BD60/AN60,0)","v":0},null,null,{"$f":"SUM(BH53:BH59)","v":0},null,null,{"$f":"SUM(BK53:BK59)","v":0},null,null,{"$f":"SUM(BN53:BN59)","v":0},null,null,{"$f":"SUM(BQ53:BQ59)","v":0},{"$f":"SUM(BR53:BR59)","v":0},null,{"$f":"IF(SUM(BT53:BT59)>0,AVERAGE(BT53:BT59),\"\")","v":""},{"$f":"IF(SUM(BU53:BU59)>0,AVERAGE(BU53:BU59),\"\")","v":""},{"$f":"IF(SUM(BV53:BV59)>0,AVERAGE(BV53:BV59),\"\")","v":""}]
[null,"DATEN040",36,{"$f":"D59-V59","v":0},null,null,null,null,null,null,null,null,null,null,null,null,null,null,null,null,null,{"$f":"SUM(F61:T61)","v":0},{"$f":"IF(AND(V61>0,$E$1>0),V61/$E$1*100,0)","v":0},{"$f":"IF(AND(V61>0,D61>0),V61/D61*100,0)","v":0},{"$f":"IF(AND(COUNT(F61)=1,D61>0),F61/D61*100,\"\")","v":""},{"$f":"IF(AND(COUNT(H61)=1,D61>0),H61/D61*100,\"\")","v":""},{"$f":"IF(AND(COUNT(J61)=1,D61>0),J61/D61*100,\"\")","v":""},{"$f":"IF(AND(COUNT(N61)=1,D61>0),N61/D61*100,\"\")","v":""},{"$f":"IF(AND(COUNT(P61)=1,D61>0),P61/D61*100,\"\")","v":""},{"$f":"IF(AND(COUNT(T61)=1,D61>0),T61/D61*100,\"\")","v":""},null,null,null,null,null,null,null,{"$f":"SUM(AG61:AI61)","v":0},null,null,null,{"$f":"IF(D61>0,AN61/D61*100,\"\")","v":""},null,null,null,null,null,null,null,null,null,null,null,null,null,{"$f":"SUM(AR61:BB61)","v":0},{"$f":"IF(AN61>0,BD61/AN61*100,0)","v":0},null,null,{"$f":"IF(AND(COUNT(BG$17)=1,COUNT(BG59)=1, BG61>BG59),BG61-BG59,0)","v":0},null,null,{"$f":"IF(AND(COUNT(BJ$17)=1,COUNT(BJ59)=1, BJ61>BJ59),BJ61-BJ59,0)","v":0},null,null,{"$f":"IF(AND(COUNT(BM$17)=1,COUNT(BM59)=1, BM61>BM59),BM61-BM59,0)","v":0},null,null,{"$f":"IF(AND(COUNT(BP$17)=1,COUNT(BP59)=1, BP61>BP59),BP61-BP59,0)","v":0},null,null,{"$f":"IF((BH61+BK61+BN61+BQ61+BR61/1000)>0,(BH61+BK61+BN61+BQ61+BR61/1000)*1000,\"\")","v":""},{"$f":"IF(AND(D61>0,BT61<>\"\"),BT61/D61,\"\")","v":""},{"$f":"IF(AND(D61>0,BT61<>\"\"),BT61/D61*1000,\"\")","v":""}]
[null,"DATEN041",37,{"$f":"D61-V61","v":0},null,null,null,null,null,null,null,null,null,null,null,null,null,null,null,null,null,0,0,0,"","","","","","",null,null,null,null,null,null,null,0,null,null,null,"",null,null,null,null,null,null,null,null,null,null,null,null,null,0,0,null,null,{"$f":"IF(AND(COUNT(BG$17)=1,COUNT(BG61)=1, BG62>BG61),BG62-BG61,0)","v":0},null,null,{"$f":"IF(AND(COUNT(BJ$17)=1,COUNT(BJ61)=1, BJ62>BJ61),BJ62-BJ61,0)","v":0},null,null,{"$f":"IF(AND(COUNT(BM$17)=1,COUNT(BM61)=1, BM62>BM61),BM62-BM61,0)","v":0},null,null,{"$f":"IF(AND(COUNT(BP$17)=1,COUNT(BP61)=1, BP62>BP61),BP62-BP61,0)","v":0},null,null,"","",""]
[null,"DATEN042",38,0,null,null,null,null,null,null,null,null,null,null,null,null,null,null,null,null,null,0,0,0,"","","","","","",null,null,null,null,null,null,null,0,null,null,null,"",null,null,null,null,null,null,null,null,null,null,null,null,null,0,{"$f":"IF(AN63>0,BD63/AN63*100,0)","v":0},null,null,0,null,null,0,null,null,0,null,null,0,null,null,"","",""]
[null,"DATEN043",39,0,null,null,null,null,null,null,null,null,null,null,null,null,null,null,null,null,null,0,0,0,"","","","","","",null,null,null,null,null,null,null,0,null,null,null,"",null,null,null,null,null,null,null,null,null,null,null,null,null,0,{"$f":"IF(AN64>0,BD64/AN64*100,0)","v":0},null,null,0,null,null,0,null,null,0,null,null,0,null,null,"","",""]
[null,"DATEN044",40,0,null,null,null,null,null,null,null,null,null,null,null,null,null,null,null,null,null,0,0,0,"","","","","","",null,null,null,null,null,null,null,0,null,null,null,"",null,null,null,null,null,null,null,null,null,null,null,null,null,0,0,null,null,0,null,null,0,null,null,0,null,null,0,null,null,"","",""]
[null,"DATEN045",41,0,null,null,null,null,null,null,null,null,null,null,null,null,null,null,null,null,null,0,0,0,"","","","","","",null,null,null,null,null,null,null,0,null,null,null,"",null,null,null,null,null,null,null,null,null,null,null,null,null,0,0,null,null,0,null,null,0,null,null,0,null,null,0,null,null,"","",""]
[null,"DATEN046",42,0,null,null,null,null,null,null,null,null,null,null,null,null,null,null,null,null,null,0,0,0,"","","","","","",null,null,null,null,null,null,null,0,null,null,null,"",null,null,null,null,null,null,null,null,null,null,null,null,null,0,0,null,null,0,null,null,0,null,null,0,null,null,0,null,null,"","",""]
[null,"ERGEB906",null,"Ergebnisse","%",{"$f":"IF($E$1>0,SUM(F61:F67)/$E$1*100,0)","v":0},null,{"$f":"IF($E$1>0,SUM(H61:H67)/$E$1*100,0)","v":0},null,{"$f":"IF($E$1>0,SUM(J61:J67)/$E$1*100,0)","v":0},null,{"$f":"IF($E$1>0,SUM(L61:L67)/$E$1*100,0)","v":0},null,{"$f":"IF($E$1>0,SUM(N61:N67)/$E$1*100,0)","v":0},null,{"$f":"IF($E$1>0,SUM(P61:P67)/$E$1*100,0)","v":0},null,{"$f":"IF($E$1>0,SUM(R61:R67)/$E$1*100,0)","v":0},null,{"$f":"IF($E$1>0,SUM(T61:T67)/$E$1*100,0)","v":0},null,{"$f":"SUM(V61:V67)","v":0},{"$f":"IF($E$1>0,SUM(V61:V67)/$E$1*100,0)","v":0},{"$f":"SUM(X61:X67)","v":0},{"$f":"IF(COUNT(Y61:Y67)>0,SUM(Y61:Y67),\"\")","v":""},{"$f":"IF(COUNT(Z61:Z67)>0,SUM(Z61:Z67),\"\")","v":""},"","","","",null,null,{"$f":"IF($E$1>0,SUM(AG61:AG67)/$E$1*100,0)","v":0},null,{"$f":"IF($E$1>0,SUM(AI61:AI67)/$E$1*100,0)","v":0},null,null,{"$f":"IF($E$1>0,SUM(AL61:AL67)/$E$1*100,0)","v":0},null,{"$f":"SUM(AN61:AN67)","v":0},null,null,null,{"$f":"IF($AN68>0,SUM(AR61:AR67)/$AN68,0)","v":0},null,{"$f":"IF($AN68>0,SUM(AT61:AT67)/$AN68,0)","v":0},null,{"$f":"IF($AN68>0,SUM(AV61:AV67)/$AN68,0)","v":0},null,{"$f":"IF($AN68>0,SUM(AX61:AX67)/$AN68,0)","v":0},null,{"$f":"IF($AN68>0,SUM(AZ61:AZ67)/$AN68,0)","v":0},null,{"$f":"IF($AN68>0,SUM(BB61:BB67)/$AN68,0)","v":0},null,{"$f":"SUM(BD61:BD67)","v":0},{"$f":"IF(AN68>0,BD68/AN68,0)","v":0},null,null,{"$f":"SUM(BH61:BH67)","v":0},null,null,{"$f":"SUM(BK61:BK67)","v":0},null,null,{"$f":"SUM(BN61:BN67)","v":0},null,null,{"$f":"SUM(BQ61:BQ67)","v":0},{"$f":"SUM(BR61:BR67)","v":0},null,{"$f":"IF(SUM(BT61:BT67)>0,AVERAGE(BT61:BT67),\"\")","v":""},{"$f":"IF(SUM(BU61:BU67)>0,AVERAGE(BU61:BU67),\"\")","v":""},{"$f":"IF(SUM(BV61:BV67)>0,AVERAGE(BV61:BV67),\"\")","v":""}]
[null,"DATEN047",43,{"$f":"D67-V68","v":0},null,null,null,null,null,null,null,null,null,null,null,null,null,null,null,null,null,{"$f":"SUM(F69:T69)","v":0},{"$f":"IF(AND(V69>0,$E$1>0),V69/$E$1*100,0)","v":0},{"$f":"IF(AND(V69>0,D69>0),V69/D69*100,0)","v":0},{"$f":"IF(AND(COUNT(F69)=1,D69>0),F69/D69*100,\"\")","v":""},{"$f":"IF(AND(COUNT(H69)=1,D69>0),H69/D69*100,\"\")","v":""},{"$f":"IF(AND(COUNT(J69)=1,D69>0),J69/D69*100,\"\")","v":""},{"$f":"IF(AND(COUNT(N69)=1,D69>0),N69/D69*100,\"\")","v":""},{"$f":"IF(AND(COUNT(P69)=1,D69>0),P69/D69*100,\"\")","v":""},{"$f":"IF(AND(COUNT(T69)=1,D69>0),T69/D69*100,\"\")","v":""},null,null,null,null,null,null,null,{"$f":"SUM(AG69:AI69)","v":0},null,null,null,{"$f":"IF(D69>0,AN69/D69*100,\"\")","v":""},null,null,null,null,null,null,null,null,null,null,null,null,null,{"$f":"SUM(AR69:BB69)","v":0},{"$f":"IF(AN69>0,BD69/AN69*100,0)","v":0},null,null,{"$f":"IF(AND(COUNT(BG$17)=1,COUNT(BG67)=1, BG69>BG67),BG69-BG67,0)","v":0},null,null,{"$f":"IF(AND(COUNT(BJ$17)=1,COUNT(BJ67)=1, BJ69>BJ67),BJ69-BJ67,0)","v":0},null,null,{"$f":"IF(AND(COUNT(BM$17)=1,COUNT(BM67)=1, BM69>BM67),BM69-BM67,0)","v":0},null,null,{"$f":"IF(AND(COUNT(BP$17)=1,COUNT(BP67)=1, BP69>BP67),BP69-BP67,0)","v":0},null,null,{"$f":"IF((BH69+BK69+BN69+BQ69+BR69/1000)>0,(BH69+BK69+BN69+BQ69+BR69/1000)*1000,\"\")","v":""},{"$f":"IF(AND(D69>0,BT69<>\"\"),BT69/D69,\"\")","v":""},{"$f":"IF(AND(D69>0,BT69<>\"\"),BT69/D69*1000,\"\")","v":""}]
[null,"DATEN048",44,{"$f":"D69-V69","v":0},null,null,null,null,null,null,null,null,null,null,null,null,null,null,null,null,null,0,0,0,"","","","","","",null,null,null,null,null,null,null,0,null,null,null,"",null,null,null,null,null,null,null,null,null,null,null,null,null,0,0,null,null,{"$f":"IF(AND(COUNT(BG$17)=1,COUNT(BG69)=1, BG70>BG69),BG70-BG69,0)","v":0},null,null,{"$f":"IF(AND(COUNT(BJ$17)=1,COUNT(BJ69)=1, BJ70>BJ69),BJ70-BJ69,0)","v":0},null,null,{"$f":"IF(AND(COUNT(BM$17)=1,COUNT(BM69)=1, BM70>BM69),BM70-BM69,0)","v":0},null,null,{"$f":"IF(AND(COUNT(BP$17)=1,COUNT(BP69)=1, BP70>BP69),BP70-BP69,0)","v":0},null,null,"","",""]
[null,"DATEN049",45,0,null,null,null,null,null,null,null,null,null,null,null,null,null,null,null,null,null,0,0,0,"","","","","","",null,null,null,null,null,null,null,0,null,null,null,"",null,null,null,null,null,null,null,null,null,null,null,null,null,0,0,null,null,0,null,null,0,null,null,0,null,null,0,null,null,"","",""]
[null,"DATEN050",46,0,null,null,null,null,null,null,null,null,null,null,null,null,null,null,null,null,null,0,0,0,"","","","","","",null,null,null,null,null,null,null,0,null,null,null,"",null,null,null,null,null,null,null,null,null,null,null,null,null,0,0,null,null,0,null,null,0,null,null,0,null,null,0,null,null,"","",""]
[null,"DATEN051",47,0,null,null,null,null,null,null,null,null,null,null,null,null,null,null,null,null,null,0,0,0,"","","","","","",null,null,null,null,null,null,null,0,null,null,null,"",null,null,null,null,null,null,null,null,null,null,null,null,null,0,0,null,null,0,null,null,0,null,null,0,null,null,0,null,null,"","",""]
[null,"DATEN052",48,0,null,null,null,null,null,null,null,null,null,null,null,null,null,null,null,null,null,0,0,0,"","","","","","",null,null,null,null,null,null,null,0,null,null,null,"",null,null,null,null,null,null,null,null,null,null,null,null,null,0,0,null,null,0,null,null,0,null,null,0,null,null,0,null,null,"","",""]
[null,"DATEN053",49,0,null,null,null,null,null,null,null,null,null,null,null,null,null,null,null,null,null,0,0,0,"","","","","","",null,null,null,null,null,null,null,0,null,null,null,"",null,null,null,null,null,null,null,null,null,null,null,null,null,0,0,null,null,0,null,null,0,null,null,0,null,null,0,null,null,"","",""]
[null,"ERGEB907",null,"Ergebnisse","%",{"$f":"IF($E$1>0,SUM(F69:F75)/$E$1*100,0)","v":0},null,{"$f":"IF($E$1>0,SUM(H69:H75)/$E$1*100,0)","v":0},null,{"$f":"IF($E$1>0,SUM(J69:J75)/$E$1*100,0)","v":0},null,{"$f":"IF($E$1>0,SUM(L69:L75)/$E$1*100,0)","v":0},null,{"$f":"IF($E$1>0,SUM(N69:N75)/$E$1*100,0)","v":0},null,{"$f":"IF($E$1>0,SUM(P69:P75)/$E$1*100,0)","v":0},null,{"$f":"IF($E$1>0,SUM(R69:R75)/$E$1*100,0)","v":0},null,{"$f":"IF($E$1>0,SUM(T69:T75)/$E$1*100,0)","v":0},null,{"$f":"SUM(V69:V75)","v":0},{"$f":"IF($E$1>0,SUM(V69:V75)/$E$1*100,0)","v":0},{"$f":"SUM(X69:X75)","v":0},{"$f":"IF(COUNT(Y69:Y75)>0,SUM(Y69:Y75),\"\")","v":""},{"$f":"IF(COUNT(Z69:Z75)>0,SUM(Z69:Z75),\"\")","v":""},"","","","",null,null,{"$f":"IF($E$1>0,SUM(AG69:AG75)/$E$1*100,0)","v":0},null,{"$f":"IF($E$1>0,SUM(AI69:AI75)/$E$1*100,0)","v":0},null,null,{"$f":"IF($E$1>0,SUM(AL69:AL75)/$E$1*100,0)","v":0},null,{"$f":"SUM(AN69:AN75)","v":0},null,null,null,{"$f":"IF($AN76>0,SUM(AR69:AR75)/$AN76,0)","v":0},null,{"$f":"IF($AN76>0,SUM(AT69:AT75)/$AN76,0)","v":0},null,{"$f":"IF($AN76>0,SUM(AV69:AV75)/$AN76,0)","v":0},null,{"$f":"IF($AN76>0,SUM(AX69:AX75)/$AN76,0)","v":0},null,{"$f":"IF($AN76>0,SUM(AZ69:AZ75)/$AN76,0)","v":0},null,{"$f":"IF($AN76>0,SUM(BB69:BB75)/$AN76,0)","v":0},null,{"$f":"SUM(BD69:BD75)","v":0},{"$f":"IF(AN76>0,BD76/AN76,0)","v":0},null,null,{"$f":"SUM(BH69:BH75)","v":0},null,null,{"$f":"SUM(BK69:BK75)","v":0},null,null,{"$f":"SUM(BN69:BN75)","v":0},null,null,{"$f":"SUM(BQ69:BQ75)","v":0},{"$f":"SUM(BR69:BR75)","v":0},null,{"$f":"IF(SUM(BT69:BT75)>0,AVERAGE(BT69:BT75),\"\")","v":""},{"$f":"IF(SUM(BU69:BU75)>0,AVERAGE(BU69:BU75),\"\")","v":""},{"$f":"IF(SUM(BV69:BV75)>0,AVERAGE(BV69:BV75),\"\")","v":""}]
[null,"DATEN054",50,{"$f":"D75-V76","v":0},null,null,null,null,null,null,null,null,null,null,null,null,null,null,null,null,null,{"$f":"SUM(F77:T77)","v":0},{"$f":"IF(AND(V77>0,$E$1>0),V77/$E$1*100,0)","v":0},{"$f":"IF(AND(V77>0,D77>0),V77/D77*100,0)","v":0},{"$f":"IF(AND(COUNT(F77)=1,D77>0),F77/D77*100,\"\")","v":""},{"$f":"IF(AND(COUNT(H77)=1,D77>0),H77/D77*100,\"\")","v":""},{"$f":"IF(AND(COUNT(J77)=1,D77>0),J77/D77*100,\"\")","v":""},{"$f":"IF(AND(COUNT(N77)=1,D77>0),N77/D77*100,\"\")","v":""},{"$f":"IF(AND(COUNT(P77)=1,D77>0),P77/D77*100,\"\")","v":""},{"$f":"IF(AND(COUNT(T77)=1,D77>0),T77/D77*100,\"\")","v":""},null,null,null,null,null,null,null,{"$f":"SUM(AG77:AI77)","v":0},null,null,null,{"$f":"IF(D77>0,AN77/D77*100,\"\")","v":""},null,null,null,null,null,null,null,null,null,null,null,null,null,{"$f":"SUM(AR77:BB77)","v":0},{"$f":"IF(AN77>0,BD77/AN77*100,0)","v":0},null,null,{"$f":"IF(AND(COUNT(BG$17)=1,COUNT(BG75)=1, BG77>BG75),BG77-BG75,0)","v":0},null,null,{"$f":"IF(AND(COUNT(BJ$17)=1,COUNT(BJ75)=1, BJ77>BJ75),BJ77-BJ75,0)","v":0},null,null,{"$f":"IF(AND(COUNT(BM$17)=1,COUNT(BM75)=1, BM77>BM75),BM77-BM75,0)","v":0},null,null,{"$f":"IF(AND(COUNT(BP$17)=1,COUNT(BP75)=1, BP77>BP75),BP77-BP75,0)","v":0},null,null,{"$f":"IF((BH77+BK77+BN77+BQ77+BR77/1000)>0,(BH77+BK77+BN77+BQ77+BR77/1000)*1000,\"\")","v":""},{"$f":"IF(AND(D77>0,BT77<>\"\"),BT77/D77,\"\")","v":""},{"$f":"IF(AND(D77>0,BT77<>\"\"),BT77/D77*1000,\"\")","v":""}]
[null,"DATEN055",51,{"$f":"D77-V77","v":0},null,null,null,null,null,null,null,null,null,null,null,null,null,null,null,null,null,0,0,0,"","","","","","",null,null,null,null,null,null,null,0,null,null,null,"",null,null,null,null,null,null,null,null,null,null,null,null,null,0,0,null,null,{"$f":"IF(AND(COUNT(BG$17)=1,COUNT(BG77)=1, BG78>BG77),BG78-BG77,0)","v":0},null,null,{"$f":"IF(AND(COUNT(BJ$17)=1,COUNT(BJ77)=1, BJ78>BJ77),BJ78-BJ77,0)","v":0},null,null,{"$f":"IF(AND(COUNT(BM$17)=1,COUNT(BM77)=1, BM78>BM77),BM78-BM77,0)","v":0},null,null,{"$f":"IF(AND(COUNT(BP$17)=1,COUNT(BP77)=1, BP78>BP77),BP78-BP77,0)","v":0},null,null,"","",""]
[null,"DATEN056",52,0,null,null,null,null,null,null,null,null,null,null,null,null,null,null,null,null,null,0,0,0,"","","","","","",null,null,null,null,null,null,null,0,null,null,null,"",null,null,null,null,null,null,null,null,null,null,null,null,null,0,0,null,null,0,null,null,0,null,null,0,null,null,0,null,null,"","",""]
[null,"DATEN057",53,0,null,null,null,null,null,null,null,null,null,null,null,null,null,null,null,null,null,0,0,0,"","","","","","",null,null,null,null,null,null,null,0,null,null,null,"",null,null,null,null,null,null,null,null,null,null,null,null,null,0,0,null,null,0,null,null,0,null,null,0,null,null,0,null,null,"","",""]
[null,"DATEN058",54,0,null,null,null,null,null,null,null,null,null,null,null,null,null,null,null,null,null,0,0,0,"","","","","","",null,null,null,null,null,null,null,0,null,null,null,"",null,null,null,null,null,null,null,null,null,null,null,null,null,0,0,null,null,0,null,null,0,null,null,0,null,null,0,null,null,"","",""]
[null,"DATEN059",55,0,null,null,null,null,null,null,null,null,null,null,null,null,null,null,null,null,null,0,0,0,"","","","","","",null,null,null,null,null,null,null,0,null,null,null,"",null,null,null,null,null,null,null,null,null,null,null,null,null,0,0,null,null,0,null,null,0,null,null,0,null,null,0,null,null,"","",""]
[null,"DATEN060",56,0,null,null,null,null,null,null,null,null,null,null,null,null,null,null,null,null,null,0,0,0,"","","","","","",null,null,null,null,null,null,null,0,null,null,null,"",null,null,null,null,null,null,null,null,null,null,null,null,null,0,0,null,null,0,null,null,0,null,null,0,null,null,0,null,null,"","",""]
[null,"ERGEB908",null,"Ergebnisse","%",{"$f":"IF($E$1>0,SUM(F77:F83)/$E$1*100,0)","v":0},null,{"$f":"IF($E$1>0,SUM(H77:H83)/$E$1*100,0)","v":0},null,{"$f":"IF($E$1>0,SUM(J77:J83)/$E$1*100,0)","v":0},null,{"$f":"IF($E$1>0,SUM(L77:L83)/$E$1*100,0)","v":0},null,{"$f":"IF($E$1>0,SUM(N77:N83)/$E$1*100,0)","v":0},null,{"$f":"IF($E$1>0,SUM(P77:P83)/$E$1*100,0)","v":0},null,{"$f":"IF($E$1>0,SUM(R77:R83)/$E$1*100,0)","v":0},null,{"$f":"IF($E$1>0,SUM(T77:T83)/$E$1*100,0)","v":0},null,{"$f":"SUM(V77:V83)","v":0},{"$f":"IF($E$1>0,SUM(V77:V83)/$E$1*100,0)","v":0},{"$f":"SUM(X77:X83)","v":0},{"$f":"IF(COUNT(Y77:Y83)>0,SUM(Y77:Y83),\"\")","v":""},{"$f":"IF(COUNT(Z77:Z83)>0,SUM(Z77:Z83),\"\")","v":""},"","","","",null,null,{"$f":"IF($E$1>0,SUM(AG77:AG83)/$E$1*100,0)","v":0},null,{"$f":"IF($E$1>0,SUM(AI77:AI83)/$E$1*100,0)","v":0},null,null,{"$f":"IF($E$1>0,SUM(AL77:AL83)/$E$1*100,0)","v":0},null,{"$f":"SUM(AN77:AN83)","v":0},null,null,null,{"$f":"IF($AN84>0,SUM(AR77:AR83)/$AN84,0)","v":0},null,{"$f":"IF($AN84>0,SUM(AT77:AT83)/$AN84,0)","v":0},null,{"$f":"IF($AN84>0,SUM(AV77:AV83)/$AN84,0)","v":0},null,{"$f":"IF($AN84>0,SUM(AX77:AX83)/$AN84,0)","v":0},null,{"$f":"IF($AN84>0,SUM(AZ77:AZ83)/$AN84,0)","v":0},null,{"$f":"IF($AN84>0,SUM(BB77:BB83)/$AN84,0)","v":0},null,{"$f":"SUM(BD77:BD83)","v":0},{"$f":"IF(AN84>0,BD84/AN84,0)","v":0},null,null,{"$f":"SUM(BH77:BH83)","v":0},null,null,{"$f":"SUM(BK77:BK83)","v":0},null,null,{"$f":"SUM(BN77:BN83)","v":0},null,null,{"$f":"SUM(BQ77:BQ83)","v":0},{"$f":"SUM(BR77:BR83)","v":0},null,{"$f":"IF(SUM(BT77:BT83)>0,AVERAGE(BT77:BT83),\"\")","v":""},{"$f":"IF(SUM(BU77:BU83)>0,AVERAGE(BU77:BU83),\"\")","v":""},{"$f":"IF(SUM(BV77:BV83)>0,AVERAGE(BV77:BV83),\"\")","v":""}]
[]
[null,"DATEN099",{"$f":"IF(RIGHT(B4,2)=\"WV\",\"\",\"Direkteingabe\")","v":"Direkteingabe"},null,null,null,null,null,null,null,null,null,null,null,null,null,null,null,null,null,null,{"$f":"SUM(F86:T86)","v":0},{"$f":"IF(V86>0,V86/D17*100,0)","v":0},{"$f":"X84+X76+X68+X60+X52+X44+X36+X28","v":0},null,null,null,null,null,null,null,null,null,null,null,null,null,{"$f":"SUM(AG86:AI86)","v":0},null,null,null,null,null,null,null,null,null,null,null,null,null,null,null,null,null,0]
[]
[]
[null,null,null,null,"Ergebnisse"]
[null,null,null,null,"Tierverluste nach Ursachen",null,null,null,null,null,null,null,null,null,null,null,null,null,null,null,null,null,null,"Summe täglicher Mortalitätsraten",null,null,null,null,null,null,null,"Separierung wegen",null,null,null,null,null,null,null,"Ergebnisse",null,null,null,null,null,null,null,null,null,null,null,null,null,null,null,null,null,null,"Ergebnisse"]
[null,null,null,null,null,{"$f":"F18","v":"Unfall"},null,"Erkrank-",null,"Hunger/",null,"Kanniba-",null,"Lahm-",null,"Beute-",null,"Haut-",null,"Sonstige",null,null,"Gesamt-","Gesamt",{"$f":"Y18","v":"Unfall"},"Erkrank-","Hunger/","Lahm-","Beute-","Sonstige",null,null,"Lahm-",null,"Haut-",null,null,null,null,"Legeleistung / Eiqualität",null,null,null,null,null,null,null,null,null,null,null,null,null,null,null,null,null,null,"Wasserverbrauch"]
[null,null,null,null,null,null,null,"ungen",null,"Durst",null,"lismus",null,"heit",null,"greifer",null,"verletz.",null,"Ursachen",null,null,"verluste",null,null,"ungen","Durst","heit","greifer","Ursachen",null,null,"heit",null,"verl.",null,null,null,null,null,null,null,null,null,null,null,null,null,null,null,null,null,null,null,null,null,null,null,null,null,null,null,null,null,null,null,null,null,null,null,null,"Durchschnittsverbrauch"]
[null,"ERGEB910",null,null,"Anzahl",{"$f":"IF(F86<>\"\",F86,SUM(F21:F27,F29:F35,F37:F43,F45:F51,F53:F59,F61:F67,F69:F75,F77:F83))","v":0},null,{"$f":"IF(H86<>\"\",H86,SUM(H21:H27,H29:H35,H37:H43,H45:H51,H53:H59,H61:H67,H69:H75,H77:H83))","v":0},null,{"$f":"IF(J86<>\"\",J86,SUM(J21:J27,J29:J35,J37:J43,J45:J51,J53:J59,J61:J67,J69:J75,J77:J83))","v":0},null,{"$f":"IF(L86<>\"\",L86,SUM(L21:L27,L29:L35,L37:L43,L45:L51,L53:L59,L61:L67,L69:L75,L77:L83))","v":0},null,{"$f":"IF(N86<>\"\",N86,SUM(N21:N27,N29:N35,N37:N43,N45:N51,N53:N59,N61:N67,N69:N75,N77:N83))","v":0},null,{"$f":"IF(P86<>\"\",P86,SUM(P21:P27,P29:P35,P37:P43,P45:P51,P53:P59,P61:P67,P69:P75,P77:P83))","v":0},null,{"$f":"IF(R86<>\"\",R86,SUM(R21:R27,R29:R35,R37:R43,R45:R51,R53:R59,R61:R67,R69:R75,R77:R83))","v":0},null,{"$f":"IF(T86<>\"\",T86,SUM(T21:T27,T29:T35,T37:T43,T45:T51,T53:T59,T61:T67,T69:T75,T77:T83))","v":0},null,null,{"$f":"SUM(F93:T93)","v":0},null,null,null,null,null,null,null,null,null,{"$f":"IF(AG86<>\"\",AG86,SUM(AG21:AG27,AG29:AG35,AG37:AG43,AG45:AG51,AG53:AG59,AG61:AG67,AG69:AG75,AG77:AG83))","v":0},null,{"$f":"IF(AI86<>\"\",AI86,SUM(AI21:AI27,AI29:AI35,AI37:AI43,AI45:AI51,AI53:AI59,AI61:AI67,AI69:AI75,AI77:AI83))","v":0},null,null,null,"Anzahl",{"$f":"IF(AN86<>\"\",AN86,SUM(AN21:AN27,AN29:AN35,AN37:AN43,AN45:AN51,AN53:AN59,AN61:AN67,AN69:AN75,AN77:AN83))","v":0},null,null,null,{"$f":"IF(AR86<>\"\",AR86,SUM(AR21:AR27,AR29:AR35,AR37:AR43,AR45:AR51,AR53:AR59,AR61:AR67,AR69:AR75,AR77:AR83))","v":0},null,{"$f":"IF(AT86<>\"\",AT86,SUM(AT21:AT27,AT29:AT35,AT37:AT43,AT45:AT51,AT53:AT59,AT61:AT67,AT69:AT75,AT77:AT83))","v":0},null,{"$f":"IF(AV86<>\"\",AV86,SUM(AV21:AV27,AV29:AV35,AV37:AV43,AV45:AV51,AV53:AV59,AV61:AV67,AV69:AV75,AV77:AV83))","v":0},null,{"$f":"IF(AX86<>\"\",AX86,SUM(AX21:AX27,AX29:AX35,AX37:AX43,AX45:AX51,AX53:AX59,AX61:AX67,AX69:AX75,AX77:AX83))","v":0},null,{"$f":"IF(AZ86<>\"\",AZ86,SUM(AZ21:AZ27,AZ29:AZ35,AZ37:AZ43,AZ45:AZ51,AZ53:AZ59,AZ61:AZ67,AZ69:AZ75,AZ77:AZ83))","v":0},null,{"$f":"IF(BB86<>\"\",BB86,SUM(BB21:BB27,BB29:BB35,BB37:BB43,BB45:BB51,BB53:BB59,BB61:BB67,BB69:BB75,BB77:BB83))","v":0},null,{"$f":"SUM(AR93:BB93)","v":0},null,null,"Wasseruhr 1",null,null,"Wasseruhr 2",null,null,"Wasseruhr 3",null,null,"Wasseruhr 4",null,null,null,"l/Herde","l/Tier","l/1000 Tiere"]
[null,"ERGEB911",null,null,"%",{"$f":"IF(B1=\"GF_HUHN\",\"\",IF(AND(COUNT(F21:F27,F29:F35,F37:F43,F45:F51,F53:F59,F61:F67,F69:F75,F77:F83,F86)>0,$E$1>0),F93/$E$1*100,\"\"))","v":""},null,{"$f":"IF(D1=\"GF_HUHN\",\"\",IF(AND(COUNT(H21:H27,H29:H35,H37:H43,H45:H51,H53:H59,H61:H67,H69:H75,H77:H83,H86)>0,$E$1>0),H93/$E$1*100,\"\"))","v":""},null,{"$f":"IF(F1=\"GF_HUHN\",\"\",IF(AND(COUNT(J21:J27,J29:J35,J37:J43,J45:J51,J53:J59,J61:J67,J69:J75,J77:J83,J86)>0,$E$1>0),J93/$E$1*100,\"\"))","v":""},null,{"$f":"IF(H1=\"GF_HUHN\",\"\",IF(AND(COUNT(L21:L27,L29:L35,L37:L43,L45:L51,L53:L59,L61:L67,L69:L75,L77:L83,L86)>0,$E$1>0),L93/$E$1*100,\"\"))","v":""},null,{"$f":"IF(J1=\"GF_HUHN\",\"\",IF(AND(COUNT(N21:N27,N29:N35,N37:N43,N45:N51,N53:N59,N61:N67,N69:N75,N77:N83,N86)>0,$E$1>0),N93/$E$1*100,\"\"))","v":""},null,{"$f":"IF(L1=\"GF_HUHN\",\"\",IF(AND(COUNT(P21:P27,P29:P35,P37:P43,P45:P51,P53:P59,P61:P67,P69:P75,P77:P83,P86)>0,$E$1>0),P93/$E$1*100,\"\"))","v":""},null,{"$f":"IF(N1=\"GF_HUHN\",\"\",IF(AND(COUNT(R21:R27,R29:R35,R37:R43,R45:R51,R53:R59,R61:R67,R69:R75,R77:R83,R86)>0,$E$1>0),R93/$E$1*100,\"\"))","v":""},null,{"$f":"IF(P1=\"GF_HUHN\",\"\",IF(AND(COUNT(T21:T27,T29:T35,T37:T43,T45:T51,T53:T59,T61:T67,T69:T75,T77:T83,T86)>0,$E$1>0),T93/$E$1*100,\"\"))","v":""},null,null,{"$f":"IF(B1=\"GF_HUHN\",\"\",IF(AND(W93>0,$E$1>0),W93/$E$1*100,0))","v":0},{"$f":"IF(X86<>\"\",X86,SUM(X21:X27,X29:X35,X37:X43,X45:X51,X53:X59,X61:X67,X69:X75,X77:X83))","v":0},{"$f":"IF(COUNT(Y21:Y86) >0,IF(Y86<>\"\",Y86,SUM(Y21:Y27,Y29:Y35,Y37:Y43,Y45:Y51,Y53:Y59,Y61:Y67,Y69:Y75,Y77:Y83)),\"\")","v":""},{"$f":"IF(COUNT(Z21:Z86) >0,IF(Z86<>\"\",Z86,SUM(Z21:Z27,Z29:Z35,Z37:Z43,Z45:Z51,Z53:Z59,Z61:Z67,Z69:Z75,Z77:Z83)),\"\")","v":""},"","","","",null,null,{"$f":"IF(AND(COUNT(AG21:AG86)>8,$E$1>0),AG93/$E$1*100,\"\")","v":""},null,{"$f":"IF(AND(COUNT(AI21:AI86)>8,$E$1>0),AI93/$E$1*100,\"\")","v":""},null,null,null,"%",null,null,{"$f":"IF(SUM(D21:D51)>0,AN93/SUM(D21:D51)*100,0)","v":0},null,{"$f":"IF(AND(AR93>0,$AN$93>0),AR93/$AN$93*100,0)","v":0},null,{"$f":"IF(AND(AT93>0,$AN$93>0),AT93/$AN$93*100,0)","v":0},null,{"$f":"IF(AND(AV93>0,$AN$93>0),AV93/$AN$93*100,0)","v":0},null,{"$f":"IF(AND(AX93>0,$AN$93>0),AX93/$AN$93*100,0)","v":0},null,{"$f":"IF(AND(AZ93>0,$AN$93>0),AZ93/$AN$93*100,0)","v":0},null,{"$f":"IF(AND(BB93>0,$AN$93>0),BB93/$AN$93*100,0)","v":0},null,{"$f":"IF(AND(BD93>0,$AN$93>0),BD93/$AN$93*100,0)","v":0},null,null,{"$f":"SUM(BH21:BH27,BH29:BH35,BH37:BH43,BH45:BH51,BH53:BH59,BH61:BH67,BH69:BH75,BH77:BH83)","v":0},"m3",null,{"$f":"SUM(BK21:BK27,BK29:BK35,BK37:BK43,BK45:BK51,BK53:BK59,BK61:BK67,BK69:BK75,BK77:BK83)","v":0},"m3",null,{"$f":"SUM(BN21:BN27,BN29:BN35,BN37:BN43,BN45:BN51,BN53:BN59,BN61:BN67,BN69:BN75,BN77:BN83)","v":0},"m3",null,{"$f":"SUM(BQ21:BQ27,BQ29:BQ35,BQ37:BQ43,BQ45:BQ51,BQ53:BQ59,BQ61:BQ67,BQ69:BQ75,BQ77:BQ83)","v":0},"m3",null,null,{"$f":"IF(SUM(BT21:BT84)>0,AVERAGE(BT21:BT27,BT29:BT35,BT37:BT43,BT45:BT51,BT53:BT59,BT61:BT67,BT69:BT75,BT77:BT83),0)","v":0},{"$f":"IF(SUM(BU21:BU84)>0,AVERAGE(BU21:BU27,BU29:BU35,BU37:BU43,BU45:BU51,BU53:BU59,BU61:BU67,BU69:BU75,BU77:BU83),0)","v":0},{"$f":"IF(SUM(BV21:BV84)>0,AVERAGE(BV21:BV27,BV29:BV35,BV37:BV43,BV45:BV51,BV53:BV59,BV61:BV67,BV69:BV75,BV77:BV83),0)","v":0}]
[null,"ERGEB912",null,null,null,null,null,null,null,null,null,null,null,null,null,null,null,null,null,null,null,null,null,null,null,null,null,null,null,null,{"$f":"\"% aufgrund von Lahmheit\" & IF(B1=\"GF_Pute\",\"/Hautverletzungen\",\"\") & \" gemerzte/separierte Tiere\"","v":"% aufgrund von Lahmheit/Hautverletzungen gemerzte/separierte Tiere"},null,{"$f":"IF($E$1>0,(N93+R93+AG93+AI93)/$E$1*100,0)","v":0}]
[]
[null,"DATEN_ENDE"]
[null,"CheckWert"]
[null,1]

{"sheet":"GF_SB","index":14,"n_rows":60,"n_cols":17,"rows_kept":60,"cut":false,"hidden":true,"merged":[[9,2,9,7]]}
[null,"GF_HUHN","Masthühner",null,null,null,null,"Schlachthofindikatoren",null,null,35]
[null,50,"T","T","T","T","T","T","T","T","T","T","T","T","T","T","T"]
[null,"GF_SB","T","W01","T","W02","T","W03","T","W04","T","W05","T","W06","T","R10","T"]
[null,null,"Clear","21;32;43;54",null,"12;21;32;43;54",null,"32;43;54",null,{"$f":"H4","v":"32;43;54"},null,"12;14;32;43;54",null,32]
[null,null,null,{"$f":"$C$1 & \" (\" & Intern_BetriebID & \")\"","v":"Masthühner ()"}]
[null,9,null,{"$f":"$H$1 & IF($J$1<> \"\",\" vom \" & TEXT($J$1,\"tt.MM.jjjj\"),\"\")","v":"Schlachthofindikatoren"}]
[null,null,"    ?    ",{"$f":"IF(D1<>\"\",  D1 & \" - \",\"\") & IF(F1<>\"\",\"Schlupfdatum: \" & TEXT(F1,\"tt.MM.JJJJ\"),\"\")","v":""},null,null,null,null,null,null,null,null,null,null,null,null,"© KTBL & Uni Kassel"]
[null,"HENNE_37-58|HUHN_48-58|HUHN_14-15|PUTE_37-47|PUTE_14-15"]
[]
[null,null,"Speichern und schließen ..."]
[]
[null,"DATEN002_W02_W05","Ausstallung am",null,null,null,null,"Gesamtzahl der angelieferten Tiere",null,null,null,null,"Anzahl",null,{"$f":"IF(B1=\"GF_HENNE\",\"Gewicht bei Schlachtung\",\"\")","v":""}]
[]
[null,"DATEN003_W05",null,null,null,null,null,"Durchschnittliches Tiergewicht",null,null,null,null,"g",null,null,{"$f":"IF(COUNT(L14)=1,L14,\"\")","v":""}]
[]
[null,null,"Transport"]
[null,null,null,"Verletzt oder tot angelieferte Tiere"]
[null,null,null,"Verletzt",null,"Tot",null,null,null,null,null,null,null,null,null,"Gesamtanzahl"]
[null,null,null,"angelieferte Tiere","angelieferte Tiere",null,null,null,null,null,null,null,null,null,null,"betroffene Tiere"]
[null,null,null,"Anzahl",null,"Anzahl",null,null,null,null,null,null,null,null,null,"Anzahl"]
[null,"DATEN010_W01_W02",null,null,null,null,null,null,null,null,null,null,null,null,null,{"$f":"IF(COUNT(D21:F21)>0,SUM(D21:N21),\"\")","v":""}]
[]
[null,null,null,"Ergebnisse"]
[null,null,null,"% verletzt",null,"% tot",null,null,null,null,null,null,null,null,null,"% gesamt"]
[null,"ERGEB901",null,{"$f":"IF(AND($L$12<>\"\",D21<>\"\"),D21/$L$12*100,\"\")","v":""},null,{"$f":"IF(AND($L$12<>\"\",F21<>\"\"),F21/$L$12*100,\"\")","v":""},null,null,null,null,null,null,null,null,null,{"$f":"IF(AND($L$12<>\"\",P21<>\"\"),P21/$L$12*100,\"\")","v":""}]
[]
[null,null,"Verwürfe"]
[null,null,null,"Nicht schlachtfähige und genussuntaugliche Tiere"]
[null,null,null,"Abmagerung",null,"Wasserbauch","Umfangsvermehrung",null,null,"Entzündungen",null,"Verletzungen",null,"Sonstige",null,"Gesamtanzahl"]
[null,null,null,"(Kachexie)",null,"(Aszites)",null,"(Neoplasie)",null,"(akut/chron.)",null,"(akut/chron.)",null,"Ursachen",null,"betroffene Tiere"]
[null,null,null,"Anzahl",null,"Anzahl",null,"Anzahl",null,"Anzahl",null,"Anzahl",null,"Anzahl",null,"Anzahl"]
[null,"DATEN020",null,null,null,null,null,null,null,null,null,null,null,null,null,{"$f":"IF(COUNT(D32:N32)>0,SUM(D32:N32),\"\")","v":""}]
[]
[null,null,null,"Ergebnisse"]
[null,null,null,"%",null,"%",null,"%",null,"%",null,"%",null,"%",null,"% gesamt"]
[null,"ERGEB902",null,{"$f":"IF(AND($L$12<>\"\",D32<>\"\"),D32/$L$12*100,\"\")","v":""},null,{"$f":"IF(AND($L$12<>\"\",F32<>\"\"),F32/$L$12*100,\"\")","v":""},null,{"$f":"IF(AND($L$12<>\"\",H32<>\"\"),H32/$L$12*100,\"\")","v":""},null,{"$f":"IF(AND($L$12<>\"\",J32<>\"\"),J32/$L$12*100,\"\")","v":""},null,{"$f":"IF(AND($L$12<>\"\",L32<>\"\"),L32/$L$12*100,\"\")","v":""},null,{"$f":"IF(AND($L$12<>\"\",N32<>\"\"),N32/$L$12*100,\"\")","v":""},null,{"$f":"IF(AND($L$12<>\"\",P32<>\"\"),P32/$L$12*100,\"\")","v":""}]
[]
[null,null,"Schlachtbefunde"]
[]
[null,null,null,"Tiere mit tiefer",null,"Brusthaut-",null,"Fersenhöcker-",null,"Fußballen-",null,null,null,null,null,"Gesamtanzahl"]
[null,null,null,"Dermatitis",null,"veränderungen",null,"veränderungen",null,"veränderungen",null,null,null,null,null,"betroffene Tiere"]
[null,null,null,"Anzahl",null,"Anzahl",null,"Anzahl",null,"Anz. Bonitur 1",null,"Anz. Bonitur 2",null,null,null,"Anzahl"]
[null,"DATEN030_W01_W02_W03_W04_W05",null,null,null,null,null,null,null,null,null,null,null,null,null,{"$f":"IF(COUNT(D43:L43)>0,SUM(D43:N43),\"\")","v":""}]
[]
[null,null,null,"Ergebnisse"]
[null,null,null,"%",null,"%",null,"%",null,"%",null,"%",null,null,null,"% gesamt"]
[null,"ERGEB903",null,{"$f":"IF(AND($L$12<>\"\",D43<>\"\"),D43/$L$12*100,\"\")","v":""},null,{"$f":"IF(AND($L$12<>\"\",F43<>\"\"),F43/$L$12*100,\"\")","v":""},null,{"$f":"IF(AND($L$12<>\"\",H43<>\"\"),H43/$L$12*100,\"\")","v":""},null,{"$f":"IF(AND($L$12<>\"\",J43<>\"\"),J43/$L$12*100,\"\")","v":""},null,{"$f":"IF(AND($L$12<>\"\",L43<>\"\"),L43/$L$12*100,\"\")","v":""},null,null,null,{"$f":"IF(AND($L$12<>\"\",P43<>\"\"),P43/$L$12*100,\"\")","v":""}]
[]
[null,null,"Schlachtbefunde"]
[]
[null,null,null,"Brusthautveränderungen (Hähne)",null,null,"Brusthautveränderungen (Hennen)",null,null,null,null,"Fußballen-",null,null,null,"Gesamtanzahl"]
[null,null,null,"kleine",null,"hochgradige",null,"kleine",null,"hochgradige",null,"veränderungen",null,null,null,"betroffene Tiere"]
[null,null,null,"Anzahl",null,"Anzahl",null,"Anzahl",null,"Anzahl",null,"Anzahl",null,null,null,"Anzahl"]
[null,"DATEN040_W01_W02_W03_W04_W05",null,null,null,null,null,null,null,null,null,null,null,null,null,{"$f":"IF(COUNT(D54:L54),SUM(D54:N54),\"\")","v":""}]
[]
[null,null,null,"Ergebnisse"]
[null,null,null,"%",null,"%",null,"%",null,"%",null,"%",null,null,null,"% gesamt"]
[null,"ERGEB904",null,{"$f":"IF(AND($L$12<>\"\",D54<>\"\"),D54/$L$12*100,\"\")","v":""},null,{"$f":"IF(AND($L$12<>\"\",F54<>\"\"),F54/$L$12*100,\"\")","v":""},null,{"$f":"IF(AND($L$12<>\"\",H54<>\"\"),H54/$L$12*100,\"\")","v":""},null,{"$f":"IF(AND($L$12<>\"\",J54<>\"\"),J54/$L$12*100,\"\")","v":""},null,{"$f":"IF(AND($L$12<>\"\",L54<>\"\"),L54/$L$12*100,\"\")","v":""},null,null,null,{"$f":"IF(AND($L$12<>\"\",P54<>\"\"),P54/$L$12*100,\"\")","v":""}]
[]
[null,"DATEN_ENDE"]

{"sheet":"SW_EINZEL","index":15,"n_rows":75,"n_cols":38,"rows_kept":75,"cut":false,"hidden":true,"merged":[[9,2,9,5],[13,8,13,14]]}
[null,"SW_SAU","Sauen",null,null,null,null,"Tierbeurteilung/Wasser - Deckstall"]
[null,2,"T","T","T","T","T","T","T","T","T","T","T","T",{"$f":"IF(RIGHT(B4,5)=\"WARTE\",\"W\",\"-\")","v":"-"},{"$f":"$O$2","v":"-"},{"$f":"IF(RIGHT(B4,8)=\"ABFERKEL\",\"W\",\"-\")","v":"-"},{"$f":"$Q$2","v":"-"},"-","-","-","-","T",{"$f":"$Q$2","v":"-"},"-","-","-","-","-","T","T","T","T","T","T","T","-","T"]
[null,"SW_EINZEL","T","W01","T","W02","T","W03","T","W04","T","W05","T","W06","T","W07","T","W08","T","W10","T","W11","T","W30","W31","T","W32","W33","T","T","W20","T","W21","W22","R23","R24","T","T"]
[null,"SW_DECK","Clear","22-51;55;56",null,"22-51;55-57;14",null,"22-51;55-57",null,"22-51;56-60",null,{"$f":"$D$4","v":"22-51;55;56"},null,{"$f":"$D$4","v":"22-51;55;56"},null,{"$f":"$D$4","v":"22-51;55;56"},null,{"$f":"$H$4&\";14\"","v":"22-51;55-57;14"},null,{"$f":"$D$4","v":"22-51;55;56"},null,{"$f":"$D$4","v":"22-51;55;56"},null,"22-51;55",{"$f":"$X$4","v":"22-51;55"},null,{"$f":"$X$4","v":"22-51;55"},{"$f":"$X$4","v":"22-51;55"},null,null,"22-51",null,{"$f":"$AE$4","v":"22-51"},{"$f":"$AE$4","v":"22-51"}]
[null,2,null,{"$f":"$C$1& \" (\" & $D$1 & \" \" &$E$1 & \")\"","v":"Sauen ( )"}]
[null,2,null,{"$f":"\"Stichprobe: \" & $H$1 & IF($J$1<> \"\",\" vom \" & TEXT($J$1,\"tt.MM.jjjj\"),\"\")","v":"Stichprobe: Tierbeurteilung/Wasser - Deckstall"}]
[null,null,"    ?    ",{"$f":"\"Betrieb: \" & Intern_BetriebID & IF(F1<>\"\",\" [\" & F1 & \"]\",\"\")","v":"Betrieb: "},null,null,null,null,null,null,null,null,null,null,null,null,null,null,null,null,null,null,null,null,null,null,null,null,null,null,null,null,null,null,null,null,null,"© KTBL & FLI"]
[null,"DECK_12-16|WARTE_12-16|ABFERKEL_42-51"]
[]
[null,null,"Speichern und schließen ..."]
[]
[null,null,"Nestbaumaterial"]
[null,null,"Nestbaumaterial, einmalig pro Erhebungszeitraum an jeder Sau einer neu eingestallten Gruppe am Tag vor dem Abferkeln erheben"]
[null,"DATEN001_W02_W08",null,"Anzahl Sauen",null,null,null,null,"Anzahl Sauen mit geeignetem Nestbaumaterial, \n\"geeignet\" laut Definition im Leitfaden S.18"]
[]
[]
[null,null,"Stichprobe Tierbeurteilung",null,null,null,null,null,null,null,null,null,null,null,null,null,null,null,null,null,null,null,null,"Saugferkel",null,null,null,null,null,"Wasserversorgung"]
[null,null,null,null,null,null,null,null,null,null,null,null,null,null,null,null,null,null,null,null,null,null,null,"An den Saugferkeln der ferkelführenden Sau erheben",null,null,null,null,null,"Tränke"]
[null,null,"Sau","Stereo-",null,"Kotver-",null,"Haut-",null,"Körper-",null,"Schwellung",null,"Anzeichen",null,"Lahm-","Schulterläsionen",null,null,"Zitzen und",null,"Klauen-",null,"Ferkel ","Kümmerer",null,"Hautverletzungen am",null,null,null,"Tränke",null,"Ermittlung Durchflussrate"]
[null,null,null,"typien",null,"schmutzung",null,"verletzung",null,"kondition",null,"an Beinen",null,"Ektoparasiten",null,"heit","linke/rechte Seite",null,null,"Gesäuge",null,"veränderung",null,"im Wurf",null,null,"Kopf","Karpalgelenk",null,null,"defekt?",null,"Dauer","Menge","Rate","Urteil"]
[null,null,"Nr","[0=nein,1=ja]",null,"[0,1,2]",null,"[0,1,2]",null,"[1,2,3,4,5]",null,"[0,1]",null,"[0=nein,1=ja]",null,"[0,1]",null,"[0,1,2]",null,"[0,1]",null,"[0,1]",null,"Anz.","Anz.",null,"Anz.","Anz.",null,"Nr","[0=nein,1=ja]",null,"Sek.","ml","l/min","ok,nicht ok"]
[null,"DATEN010",1,null,null,null,null,null,null,null,null,null,null,null,null,null,null,null,null,null,null,null,null,null,null,null,null,null,null,1,null,null,null,null,{"$f":"IF(AND(AE22=0,AG22>0,AH22>0),60/AG22/1000*AH22,\"\")","v":""},{"$f":"IF(AK22=0,\"ok\",IF(AK22=1,\"nicht ok\",\"\"))","v":""},{"$f":"IF(OR(AE22<>\"\",AG22<>\"\",AH22<>\"\"),IF(AND(AI22>=$AG$66,AI22<=$AG$67),0,1),-1)","v":-1}]
[null,"DATEN011",2,null,null,null,null,null,null,null,null,null,null,null,null,null,null,null,null,null,null,null,null,null,null,null,null,null,null,2,null,null,null,null,{"$f":"IF(AND(AE23=0,AG23>0,AH23>0),60/AG23/1000*AH23,\"\")","v":""},{"$f":"IF(AK23=0,\"ok\",IF(AK23=1,\"nicht ok\",\"\"))","v":""},{"$f":"IF(OR(AE23<>\"\",AG23<>\"\",AH23<>\"\"),IF(AND(AI23>=$AG$66,AI23<=$AG$67),0,1),-1)","v":-1}]
[null,"DATEN012",3,null,null,null,null,null,null,null,null,null,null,null,null,null,null,null,null,null,null,null,null,null,null,null,null,null,null,3,null,null,null,null,"","",-1]
[null,"DATEN013",4,null,null,null,null,null,null,null,null,null,null,null,null,null,null,null,null,null,null,null,null,null,null,null,null,null,null,4,null,null,null,null,"","",-1]
[null,"DATEN014",5,null,null,null,null,null,null,null,null,null,null,null,null,null,null,null,null,null,null,null,null,null,null,null,null,null,null,5,null,null,null,null,"","",-1]
[null,"DATEN015",6,null,null,null,null,null,null,null,null,null,null,null,null,null,null,null,null,null,null,null,null,null,null,null,null,null,null,6,null,null,null,null,"","",-1]
[null,"DATEN016",7,null,null,null,null,null,null,null,null,null,null,null,null,null,null,null,null,null,null,null,null,null,null,null,null,null,null,7,null,null,null,null,"","",-1]
[null,"DATEN017",8,null,null,null,null,null,null,null,null,null,null,null,null,null,null,null,null,null,null,null,null,null,null,null,null,null,null,8,null,null,null,null,"","",-1]
[null,"DATEN018",9,null,null,null,null,null,null,null,null,null,null,null,null,null,null,null,null,null,null,null,null,null,null,null,null,null,null,9,null,null,null,null,"","",-1]
[null,"DATEN019",10,null,null,null,null,null,null,null,null,null,null,null,null,null,null,null,null,null,null,null,null,null,null,null,null,null,null,10,null,null,null,null,"","",-1]
[null,"DATEN020",11,null,null,null,null,null,null,null,null,null,null,null,null,null,null,null,null,null,null,null,null,null,null,null,null,null,null,11,null,null,null,null,"","",-1]
[null,"DATEN021",12,null,null,null,null,null,null,null,null,null,null,null,null,null,null,null,null,null,null,null,null,null,null,null,null,null,null,12,null,null,null,null,"","",-1]
[null,"DATEN022",13,null,null,null,null,null,null,null,null,null,null,null,null,null,null,null,null,null,null,null,null,null,null,null,null,null,null,13,null,null,null,null,"","",-1]
[null,"DATEN023",14,null,null,null,null,null,null,null,null,null,null,null,null,null,null,null,null,null,null,null,null,null,null,null,null,null,null,14,null,null,null,null,"","",-1]
[null,"DATEN024",15,null,null,null,null,null,null,null,null,null,null,null,null,null,null,null,null,null,null,null,null,null,null,null,null,null,null,15,null,null,null,null,"","",-1]
[null,"DATEN025",16,null,null,null,null,null,null,null,null,null,null,null,null,null,null,null,null,null,null,null,null,null,null,null,null,null,null,16,null,null,null,null,"","",-1]
[null,"DATEN026",17,null,null,null,null,null,null,null,null,null,null,null,null,null,null,null,null,null,null,null,null,null,null,null,null,null,null,17,null,null,null,null,"","",-1]
[null,"DATEN027",18,null,null,null,null,null,null,null,null,null,null,null,null,null,null,null,null,null,null,null,null,null,null,null,null,null,null,18,null,null,null,null,"","",-1]
[null,"DATEN028",19,null,null,null,null,null,null,null,null,null,null,null,null,null,null,null,null,null,null,null,null,null,null,null,null,null,null,19,null,null,null,null,"","",-1]
[null,"DATEN029",20,null,null,null,null,null,null,null,null,null,null,null,null,null,null,null,null,null,null,null,null,null,null,null,null,null,null,20,null,null,null,null,"","",-1]
[null,"DATEN030",21,null,null,null,null,null,null,null,null,null,null,null,null,null,null,null,null,null,null,null,null,null,null,null,null,null,null,21,null,null,null,null,"","",-1]
[null,"DATEN031",22,null,null,null,null,null,null,null,null,null,null,null,null,null,null,null,null,null,null,null,null,null,null,null,null,null,null,22,null,null,null,null,"","",-1]
[null,"DATEN032",23,null,null,null,null,null,null,null,null,null,null,null,null,null,null,null,null,null,null,null,null,null,null,null,null,null,null,23,null,null,null,null,"","",-1]
[null,"DATEN033",24,null,null,null,null,null,null,null,null,null,null,null,null,null,null,null,null,null,null,null,null,null,null,null,null,null,null,24,null,null,null,null,"","",-1]
[null,"DATEN034",25,null,null,null,null,null,null,null,null,null,null,null,null,null,null,null,null,null,null,null,null,null,null,null,null,null,null,25,null,null,null,null,"","",-1]
[null,"DATEN035",26,null,null,null,null,null,null,null,null,null,null,null,null,null,null,null,null,null,null,null,null,null,null,null,null,null,null,26,null,null,null,null,"","",-1]
[null,"DATEN036",27,null,null,null,null,null,null,null,null,null,null,null,null,null,null,null,null,null,null,null,null,null,null,null,null,null,null,27,null,null,null,null,"","",-1]
[null,"DATEN037",28,null,null,null,null,null,null,null,null,null,null,null,null,null,null,null,null,null,null,null,null,null,null,null,null,null,null,28,null,null,null,null,"","",-1]
[null,"DATEN038",29,null,null,null,null,null,null,null,null,null,null,null,null,null,null,null,null,null,null,null,null,null,null,null,null,null,null,29,null,null,null,null,"","",-1]
[null,"DATEN039",30,null,null,null,null,null,null,null,null,null,null,null,null,null,null,null,null,null,null,null,null,null,null,null,null,null,null,30,null,null,null,null,"","",-1]
[]
[null,null,"Direkteingabe",null,null,null,null,null,null,null,null,null,null,null,null,null,null,null,null,null,null,null,null,"Direkteingabe"]
[null,null,null,"Anz.",null,"Anz.",null,"Anz.",null,"Anz.",null,"Anz.",null,"Anz.",null,"[Anz.]",null,"Anz.",null,"Anz.",null,"Anz.",null,"Anz.","Anz.",null,"Anz.","Anz."]
[null,"DATEN040_W01_W02_W03_W05_W06_W07_W08_W10_W11_W30_W31_W32_W33","Bonitur 0"]
[null,"DATEN041_W01_W02_W03_W04_W05_W06_W07_W08_W10_W11","Bonitur 1"]
[null,"DATEN042_W02_W03_W04_W08","Bonitur 2"]
[null,"DATEN043_W04","Bonitur 3"]
[null,"DATEN044_W04","Bonitur 4"]
[null,"DATEN045_W04","Bonitur 5"]
[]
[null,null,"Ergebnisse"]
[null,null,"Tierbeurteilung",null,null,null,null,null,null,null,null,null,null,null,null,null,null,null,null,null,null,null,null,"Saugferkel",null,null,null,null,null,"Wasserversorgung"]
[null,"ERGEB901","Anzahl",{"$f":"IF(SUM(D55:D60)>0,SUM(D55:D60),SUM(D65:D70))","v":0},null,{"$f":"IF(SUM(F55:F60)>0,SUM(F55:F60),SUM(F65:F70))","v":0},null,{"$f":"IF(SUM(H55:H60)>0,SUM(H55:H60),SUM(H65:H70))","v":0},null,{"$f":"IF(SUM(J55:J60)>0,SUM(J55:J60),SUM(J65:J70))","v":0},null,{"$f":"IF(SUM(L55:L60)>0,SUM(L55:L60),SUM(L65:L70))","v":0},null,{"$f":"IF(SUM(N55:N60)>0,SUM(N55:N60),SUM(N65:N70))","v":0},null,{"$f":"IF(SUM(P55:P60)>0,SUM(P55:P60),SUM(P65:P70))","v":0},null,{"$f":"IF(SUM(R55:R60)>0,SUM(R55:R60),SUM(R65:R70))","v":0},null,{"$f":"IF(SUM(T55:T60)>0,SUM(T55:T60),SUM(T65:T70))","v":0},null,{"$f":"IF(SUM(V55:V60)>0,SUM(V55:V60),SUM(V65:V70))","v":0},null,null,null,null,null,null,null,"Anzahl Tränken",null,null,null,null,null,{"$f":"COUNTIF(AK22:AK51,\">-1\")","v":0}]
[null,"ERGEB902","Bonitur 0",{"$f":"IF(D55>0,D55,COUNTIF(D$22:D$51,\"0\"))","v":0},null,{"$f":"IF(F55>0,F55,COUNTIF(F$22:F$51,\"0\"))","v":0},null,{"$f":"IF(H55>0,H55,COUNTIF(H$22:H$51,\"0\"))","v":0},null,null,null,{"$f":"IF(L55>0,L55,COUNTIF(L$22:L$51,\"0\"))","v":0},null,{"$f":"IF(N55>0,N55,COUNTIF(N$22:N$51,\"0\"))","v":0},null,{"$f":"IF(P55>0,P55,COUNTIF(P$22:P$51,\"0\"))","v":0},null,{"$f":"IF(R55>0,R55,COUNTIF(R$22:R$51,\"0\"))","v":0},null,{"$f":"IF(T55>0,T55,COUNTIF(T$22:T$51,\"0\"))","v":0},null,{"$f":"IF(V55>0,V55,COUNTIF(V$22:V$51,\"0\"))","v":0},null,{"$f":"IF(X55>0,X55,SUM(X$22:X$51))","v":0},{"$f":"IF(Y55>0,Y55,SUM(Y$22:Y$51))","v":0},null,{"$f":"IF(AA55>0,AA55,SUM(AA$22:AA$51))","v":0},{"$f":"IF(AB55>0,AB55,SUM(AB$22:AB$51))","v":0},null,"notwendige Durchflussrate"]
[null,"ERGEB903","Bonitur 1",{"$f":"IF(D56>0,D56,COUNTIF(D$22:D$51,\"1\"))","v":0},null,{"$f":"IF(F56>0,F56,COUNTIF(F$22:F$51,\"1\"))","v":0},null,{"$f":"IF(H56>0,H56,COUNTIF(H$22:H$51,\"1\"))","v":0},null,{"$f":"IF(J56>0,J56,COUNTIF(J$22:J$51,\"1\"))","v":0},null,{"$f":"IF(L56>0,L56,COUNTIF(L$22:L$51,\"1\"))","v":0},null,{"$f":"IF(N56>0,N56,COUNTIF(N$22:N$51,\"1\"))","v":0},null,{"$f":"IF(P56>0,P56,COUNTIF(P$22:P$51,\"1\"))","v":0},null,{"$f":"IF(R56>0,R56,COUNTIF(R$22:R$51,\"1\"))","v":0},null,{"$f":"IF(T56>0,T56,COUNTIF(T$22:T$51,\"1\"))","v":0},null,{"$f":"IF(V56>0,V56,COUNTIF(V$22:V$51,\"1\"))","v":0},null,"%Anteile",{"$f":"IF($X$65>0,Y65/$X$65*100,0)","v":0},null,{"$f":"IF($X$65>0,AA65/$X$65*100,0)","v":0},{"$f":"IF($X$65>0,AB65/$X$65*100,0)","v":0},null,"mindestens",null,"l/min",{"$f":"IF(B4=\"SW_ABFERKEL\",2.5,1.5)","v":1.5}]
[null,"ERGEB904","Bonitur 2",null,null,{"$f":"IF(F57>0,F57,COUNTIF(F$22:F$51,\"2\"))","v":0},null,{"$f":"IF(H57>0,H57,COUNTIF(H$22:H$51,\"2\"))","v":0},null,{"$f":"IF(J57>0,J57,COUNTIF(J$22:J$51,\"2\"))","v":0},null,null,null,null,null,null,null,{"$f":"IF(R57>0,R57,COUNTIF(R$22:R$51,\"2\"))","v":0},null,null,null,null,null,null,null,null,null,null,null,"maximal",null,"l/min",{"$f":"IF(B4=\"SW_ABFERKEL\",3,1.8)","v":1.8}]
[null,"ERGEB905","Bonitur 3",null,null,null,null,null,null,{"$f":"IF(J58>0,J58,COUNTIF(J$22:J$51,\"3\"))","v":0}]
[null,"ERGEB906","Bonitur 4",null,null,null,null,null,null,{"$f":"IF(J59>0,J59,COUNTIF(J$22:J$51,\"4\"))","v":0},null,null,null,null,null,null,null,null,null,null,null,null,null,null,null,null,null,null,null,"Tränken mit unzureichender Durchflussrate",null,null,null,null,null,{"$f":"IF(AJ64>0,COUNTIF(AJ$22:AJ$51,\"nicht OK\"),\"\")","v":""}]
[null,"ERGEB907","Bonitur 5",null,null,null,null,null,null,{"$f":"IF(J60>0,J60,COUNTIF(J$22:J$51,\"5\"))","v":0},null,null,null,null,null,null,null,null,null,null,null,null,null,null,null,null,null,null,null,"Tränken mit unzureichender Durchflussrate %",null,null,null,null,null,{"$f":"IF(AJ64>0,AJ69/AJ64*100,\"\")","v":""}]
[null,null,"Ergebnisse",null,null,null,null,null,null,null,null,null,null,null,null,null,null,null,null,null,null,null,null,"Nestbaumaterial"]
[null,"ERGEB911","%",{"$f":"IF(D64>0,D66/D64*100,0)","v":0},null,{"$f":"IF(F64>0,F67/F64*100,0)","v":0},null,{"$f":"IF(H64>0,H67/H64*100,0)","v":0},null,{"$f":"IF(J64>0,J66/J64*100,0)","v":0},null,{"$f":"IF(L64>0,L66/L64*100,0)","v":0},null,null,null,{"$f":"IF(P64>0,P66/P64*100,0)","v":0},null,{"$f":"IF(R64>0,R67/R64*100,0)","v":0},null,{"$f":"IF(T64>0,T66/T64*100,0)","v":0},null,{"$f":"IF(V64>0,V66/V64*100,0)","v":0},null,"%",{"$f":"IF(F14>0,R14/F14*100,0)","v":0}]
[null,"ERGEB912",null,null,null,null,null,null,null,null,null,"Anzeichen von Ektoparasiten",null,{"$f":"IF(N66>0,\"Ja\",\"Nein\")","v":"Nein"}]
[]
[null,"DATEN_ENDE"]

{"sheet":"SW_BUCHT","index":16,"n_rows":54,"n_cols":28,"rows_kept":54,"cut":false,"hidden":true,"merged":[[9,3,9,9]]}
[null,"SW_FERKEL","Aufzuchtferkel",null,null,null,null,"Tierbeurteilung/Wasser - Bucht 1"]
[null,2,"T","T","T","T","T","T","T","T","T","T","T","T","T","T","T","-","T","T","T","T","T","T","T","T","-","T"]
[null,"SW_BUCHT","T","T","T","W11","T","W01","T","W02","T","W03","T","W04","T","W12","T","T","T","T","W06","T","W07","W08","T","R10","T","T"]
[null,null,null,"Clear",null,"24-38;16;41-43",null,{"$f":"F4","v":"24-38;16;41-43"},null,"24-38;16;41-42",null,"24-38;41-42",null,{"$f":"$L$4","v":"24-38;41-42"},null,{"$f":"N4","v":"24-38;41-42"},null,null,null,null,"24-38",null,{"$f":"$U$4 & \";15\"","v":"24-38;15"},{"$f":"$U$4","v":"24-38"},null,15]
[null,1,null,null,null,null,null,{"$f":"$C$1& \" (\" & $D$1 & \" \" &$G$1 & \")\"","v":"Aufzuchtferkel ( )"}]
[null,2,null,null,null,null,null,{"$f":"\"Stichprobe: \" & $J$1 & IF($L$1<> \"\",\" vom \" & TEXT($L$1,\"tt.MM.jjjj\"),\"\")","v":"Stichprobe: "}]
[null,null,null,"    ?    ",null,null,null,{"$f":"\"Betrieb: \" & Intern_BetriebID & IF(H1<>\"\",\" [\" & H1 & \"]\",\"\")","v":"Betrieb:  [Tierbeurteilung/Wasser - Bucht 1]"},null,null,null,null,null,null,null,null,null,null,null,null,null,null,null,null,null,null,null,"© KTBL & FLI"]
[]
[]
[null,null,null,"Speichern und schließen ..."]
[]
[null,null,null,"Stichprobe Tierbeurteilung",null,null,null,null,null,null,null,null,null,null,null,null,null,null,null,"Wasserversorgung"]
[null,null,null,"vor der Bucht erheben, alle Tiere",null,null,null,null,null,null,null,null,null,null,null,null,null,null,null,"in der Bucht erheben, alle Tränken"]
[null,null,null,null,"Bucht",null,null,null,"Kümmerer",null," "]
[null,"DATEN002_W07_R10",null,null,"Bezeichnung",null,"Anzahl Tiere \nin Bucht",null,null,"Anzahl",null,null,null,null,null,null,null,{"$f":"J16>H16","v":false},null,"Gewicht",null,null,null,null,"oder kg"]
[null,"DATEN003_W01_W02_W11",null,null,null,null," "]
[null,null,null,null,null,null,null,null,null,null,null,null,null,null,null,null,null,{"$f":"IF(Z15<29,0.5,IF(Z15<50,0.6,IF(Z15<80,0.8,1.5)))","v":0.5},null,"Sollwerte Durchflussrate",null,null,null,"min",{"$f":"IF(Z15=\"\",INDEX(Intern_SW_Wasserbedarf,IF(W15<>\"\",W15,1),2),R17)","v":0},"l/min"]
[null,null,null,null,null,null,null,null,null,null,null,null,null,null,null,null,null,{"$f":"IF(Z15<29,0.7,IF(Z15<50,1,IF(Z15<80,1.2,1.8)))","v":0.7},null,null,null,null,null,"max",{"$f":"IF(Z15=\"\",INDEX(Intern_SW_Wasserbedarf,IF(W15<>\"\",W15,1),3),R18)","v":0},"l/min"]
[]
[null,null,null,"in der Bucht erheben, Stichprobe"]
[null,null,null,"Tier","Kot-",null,"Haut-",null,"Ohr-",null,"Schwanz-",null,"Anzeichen",null,"Lahmheit",null,null,null,null,"Tränke","Tränke",null,"Ermittlung Durchflussrate"]
[null,null,null,null,"verschmutzung",null,"verletzung",null,"verletzung",null,"verletzung",null,"Ektoparasiten",null," ",null,null,null,null,null,"defekt?",null,"Dauer","Menge","Rate","Urteil"]
[null,null,null,"Nr",null,"[0,1,2]",null,"[0,1,2]",null,"[0,1]",null,"[0,1]",null,"[0,1]",null,"[0,1]",null,null,null,"Nr","[0=nein,1=ja]",null,"Sek.","ml","l/min","ok, nicht ok"]
[null,"DATEN010",null,1,null,null,null,null,null,null,null,null,null,null,null,null,null,null,null,1,null,null,null,null,{"$f":"IF(AND(U24=0,W24>0,X24>0),60/W24/1000*X24,\"\")","v":""},{"$f":"IF(AA24>-1,IF(AA24=0,\"ok\",\"nicht ok\"),\"\")","v":""},{"$f":"IF(OR(U24<>\"\",W24+X24>0),IF(OR(Y24<$Y$17,Y24>$Y$18),1,0),-1)","v":-1}]
[null,"DATEN011",null,2,null,null,null,null,null,null,null,null,null,null,null,null,null,null,null,2,null,null,null,null,{"$f":"IF(AND(U25=0,W25>0,X25>0),60/W25/1000*X25,\"\")","v":""},{"$f":"IF(AA25>-1,IF(AA25=0,\"ok\",\"nicht ok\"),\"\")","v":""},{"$f":"IF(OR(U25<>\"\",W25+X25>0),IF(OR(Y25<$Y$17,Y25>$Y$18),1,0),-1)","v":-1}]
[null,"DATEN012",null,3,null,null,null,null,null,null,null,null,null,null,null,null,null,null,null,3,null,null,null,null,"","",-1]
[null,"DATEN013",null,4,null,null,null,null,null,null,null,null,null,null,null,null,null,null,null,4,null,null,null,null,"","",-1]
[null,"DATEN014",null,5,null,null,null,null,null,null,null,null,null,null,null,null,null,null,null,5,null,null,null,null,"","",-1]
[null,"DATEN015",null,6,null,null,null,null,null,null,null,null,null,null,null,null,null,null,null,6,null,null,null,null,"","",-1]
[null,"DATEN016",null,7,null,null,null,null,null,null,null,null,null,null,null,null,null,null,null,7,null,null,null,null,"","",-1]
[null,"DATEN017",null,8,null,null,null,null,null,null,null,null,null,null,null,null,null,null,null,8,null,null,null,null,"","",-1]
[null,"DATEN018",null,9,null,null,null,null,null,null,null,null,null,null,null,null,null,null,null,9,null,null,null,null,"","",-1]
[null,"DATEN019",null,10,null,null,null,null,null,null,null,null,null,null,null,null,null,null,null,10,null,null,null,null,"","",-1]
[null,"DATEN020",null,11,null,null,null,null,null,null,null,null,null,null,null,null,null,null,null,11,null,null,null,null,"","",-1]
[null,"DATEN021",null,12,null,null,null,null,null,null,null,null,null,null,null,null,null,null,null,12,null,null,null,null,"","",-1]
[null,"DATEN022",null,13,null,null,null,null,null,null,null,null,null,null,null,null,null,null,null,13,null,null,null,null,"","",-1]
[null,"DATEN023",null,14,null,null,null,null,null,null,null,null,null,null,null,null,null,null,null,14,null,null,null,null,"","",-1]
[null,"DATEN024",null,15,null,null,null,null,null,null,null,null,null,null,null,null,null,null,null,15,null,null,null,null,"","",-1]
[null,null,null,"Direkteingabe"]
[null,null,null,null,null,"Anz.",null,"Anz.",null,"Anz.",null,"Anz.",null,"Anz.",null,"Anz."]
[null,"DATEN201_W01_W02_W03_W04_W11_W12",null,"Bonitur 0"]
[null,"DATEN202_W01_W02_W03_W04_W11_W12",null,"Bonitur 1"]
[null,"DATEN203_W01_W11",null,"Bonitur 2"]
[]
[null,null,null,"Ergebnisse",null,null,null,null,null,null,null,null,null,null,null,null,null,null,null,"Gesamte Bucht"]
[null,"ERGEB907",null,"Stichprobe",null,null,null,null,null,null,null,null,null,null,null,null,null,null,null,"Anzahl Tränken",null,null,null,null,null,{"$f":"COUNTIF(U24:U38,\">-1\")","v":0}]
[null,"ERGEB901",null,"Anzahl",null,{"$f":"SUM(F48:F50)","v":0},null,{"$f":"SUM(H48:H50)","v":0},null,{"$f":"SUM(J48:J50)","v":0},null,{"$f":"SUM(L48:L50)","v":0},null,{"$f":"SUM(N48:N50)","v":0},null,{"$f":"SUM(P48:P50)","v":0},null,null,null,"Anzahl Tränken mit unzureichender Durchflussmenge",null,null,null,null,null,{"$f":"COUNTIF(AA24:AA38,\"1\")","v":0}]
[null,"ERGEB902",null,"Bonitur 0",null,{"$f":"IF(F41>0,F41,COUNTIF(F$24:F$38,\"0\"))","v":0},null,{"$f":"IF(H41>0,H41,COUNTIF(H$24:H$38,\"0\"))","v":0},null,{"$f":"IF(J41>0,J41,COUNTIF(J$24:J$38,\"0\"))","v":0},null,{"$f":"IF(L41>0,L41,COUNTIF(L$24:L$38,\"0\"))","v":0},null,{"$f":"IF(N41>0,N41,COUNTIF(N$24:N$38,\"0\"))","v":0},null,{"$f":"IF(P41>0,P41,COUNTIF(P$24:P$38,\"0\"))","v":0},null,null,null,"% Tränken mit unzureichender Durchflussmenge",null,null,null,null,null,{"$f":"IF(Z46>0,Z47/Z46*100,0)","v":0}]
[null,"ERGEB903",null,"Bonitur 1",null,{"$f":"IF(F42>0,F42,COUNTIF(F$24:F$38,\"1\"))","v":0},null,{"$f":"IF(H42>0,H42,COUNTIF(H$24:H$38,\"1\"))","v":0},null,{"$f":"IF(J42>0,J42,COUNTIF(J$24:J$38,\"1\"))","v":0},null,{"$f":"IF(L42>0,L42,COUNTIF(L$24:L$38,\"1\"))","v":0},null,{"$f":"IF(N42>0,N42,COUNTIF(N$24:N$38,\"1\"))","v":0},null,{"$f":"IF(P42>0,P42,COUNTIF(P$24:P$38,\"1\"))","v":0},null,null,null,"Anzahl Tiere in Bucht",null,null,null,null,null,{"$f":"H16","v":0}]
[null,"ERGEB904",null,"Bonitur 2",null,{"$f":"IF(F43>0,F43,COUNTIF(F$24:F$38,\"2\"))","v":0},null,{"$f":"IF(H43>0,H43,COUNTIF(H$24:H$38,\"2\"))","v":0},null,null,null,null,null,null,null,null,null,null,null,"% Lahme Tiere",null,null,null,null,null,{"$f":"P51","v":0}]
[null,"ERGEB905",null,"%",null,{"$f":"IF(SUM(F48:F50)>0,F50/SUM(F48:F50)*100,0)","v":0},null,{"$f":"IF(SUM(H48:H50)>0,H50/SUM(H48:H50)*100,0)","v":0},null,{"$f":"IF(SUM(J48:J49)>0,J49/SUM(J48:J49)*100,0)","v":0},null,{"$f":"IF(SUM(L48:L49)>0,L49/SUM(L48:L49)*100,0)","v":0},null,{"$f":"IF(SUM(N48:N49)>0,N49/SUM(N48:N49)*100,0)","v":0},null,{"$f":"IF(SUM(P48:P49)>0,P49/SUM(P48:P49)*100,0)","v":0},null,null,null,"% Kümmerer",null,null,null,null,null,{"$f":"IF(H16>0,J16/H16*100,0)","v":0}]
[null,"ERGEB906",null,null,null,null,null,null,null,null,null,"Anzeichen von Ektoparasiten",null,{"$f":"IF(N49>0,\"Ja\",\"Nein\")","v":"Nein"},null,null,null,null,null,"% Kotverschmutze Tiere",null,null,null,null,null,{"$f":"F51","v":0}]
[]
[null,"DATEN_ENDE"]

{"sheet":"SW_SB","index":17,"n_rows":58,"n_cols":58,"rows_kept":58,"cut":false,"hidden":true,"merged":[[9,2,9,6]]}
[null,"SW_FERKEL","Aufzuchtferkel",null,null,null,null,"Schlachtbefunde"]
[null,6,"T","T","T","T","T","T",{"$f":"IF($E$13=1,\"W\",\"-\")","v":"W"},{"$f":"IF($E$13=2,\"W\",\"-\")","v":"-"},{"$f":"IF($E$13=2,\"W\",\"-\")","v":"-"},"T",{"$f":"IF($E$13=1,\"W\",\"-\")","v":"W"},{"$f":"IF($E$13=2,\"W\",\"-\")","v":"-"},{"$f":"IF($E$13=2,\"W\",\"-\")","v":"-"},"T",{"$f":"IF($E$13=1,\"W\",\"-\")","v":"W"},{"$f":"IF($E$13=2,\"W\",\"-\")","v":"-"},{"$f":"IF($E$13=2,\"W\",\"-\")","v":"-"},"T",{"$f":"IF($E$13=1,\"W\",\"-\")","v":"W"},{"$f":"IF($E$13=2,\"W\",\"-\")","v":"-"},{"$f":"IF($E$13=2,\"W\",\"-\")","v":"-"},"T",{"$f":"IF($E$13=1,\"W\",\"-\")","v":"W"},{"$f":"IF($E$13=2,\"W\",\"-\")","v":"-"},{"$f":"IF($E$13=2,\"W\",\"-\")","v":"-"},"T","T","T",{"$f":"IF($E$13=1,\"W\",\"-\")","v":"W"},{"$f":"IF($E$13=2,\"W\",\"-\")","v":"-"},{"$f":"IF($E$13=2,\"W\",\"-\")","v":"-"},"T",{"$f":"IF($E$13=1,\"W\",\"-\")","v":"W"},{"$f":"IF($E$13=2,\"W\",\"-\")","v":"-"},{"$f":"IF($E$13=2,\"W\",\"-\")","v":"-"},{"$f":"IF($B$1<>\"SW_SAU\",\"W\",\"-\")","v":"W"},{"$f":"IF($B$1<>\"SW_SAU\",IF($E$13=1,\"W\",\"-\"),\"-\")","v":"W"},{"$f":"IF($B$1<>\"SW_SAU\",IF($E$13=2,\"W\",\"-\"),\"-\")","v":"-"},{"$f":"IF($B$1<>\"SW_SAU\",IF($E$13=2,\"W\",\"-\"),\"-\")","v":"-"},{"$f":"IF($B$1<>\"SW_SAU\",\"W\",\"-\")","v":"W"},{"$f":"IF($B$1<>\"SW_SAU\",IF($E$13=1,\"W\",\"-\"),\"-\")","v":"W"},{"$f":"IF($B$1<>\"SW_SAU\",IF($E$13=2,\"W\",\"-\"),\"-\")","v":"-"},{"$f":"IF($B$1<>\"SW_SAU\",IF($E$13=2,\"W\",\"-\"),\"-\")","v":"-"},{"$f":"IF($B$1<>\"SW_SAU\",\"W\",\"-\")","v":"W"},{"$f":"IF($B$1<>\"SW_SAU\",IF($E$13=1,\"W\",\"-\"),\"-\")","v":"W"},{"$f":"IF($B$1<>\"SW_SAU\",IF($E$13=2,\"W\",\"-\"),\"-\")","v":"-"},{"$f":"IF($B$1<>\"SW_SAU\",IF($E$13=2,\"W\",\"-\"),\"-\")","v":"-"},{"$f":"IF(B1=\"SW_SAU\",\"W\",\"-\")","v":"-"},{"$f":"IF(B1=\"SW_SAU\",IF($E$13=1,\"W\",\"-\"),\"-\")","v":"-"},{"$f":"IF(B1=\"SW_SAU\",IF($E$13=2,\"W\",\"-\"),\"-\")","v":"-"},{"$f":"IF(B1=\"SW_SAU\",IF($E$13=2,\"W\",\"-\"),\"-\")","v":"-"},"T",{"$f":"IF($E$13=1,\"W\",\"-\")","v":"W"},{"$f":"IF($E$13=2,\"W\",\"-\")","v":"-"},{"$f":"IF($E$13=2,\"W\",\"-\")","v":"-"},"T"]
[null,"SW_SB","T","T","W01","T","W02","T","W03","W04","R05","T","W06","W07","R08","T","W09","W10","R11","T","W12","W13","R14","T","W15","W16","R17","T","W18","T","W19","W20","R21","T","W22","W23","R24","T","W25","W26","R27","T","W28","W29","R30","T","W31","W32","R33","T","W34","W35","R36","T","W37","W38","R39","T"]
[null,"MAST","Clear",null,"13;22-51",null,"22-51",null,{"$f":"$G$4","v":"22-51"},{"$f":"$G$4","v":"22-51"},null,null,{"$f":"$G$4","v":"22-51"},{"$f":"$G$4","v":"22-51"},null,null,{"$f":"$G$4","v":"22-51"},{"$f":"$G$4","v":"22-51"},null,null,{"$f":"$G$4","v":"22-51"},{"$f":"$G$4","v":"22-51"},null,null,{"$f":"$G$4","v":"22-51"},{"$f":"$G$4","v":"22-51"},null,null,{"$f":"$G$4","v":"22-51"},null,{"$f":"$G$4","v":"22-51"},{"$f":"$G$4","v":"22-51"},null,null,{"$f":"$G$4","v":"22-51"},{"$f":"$G$4","v":"22-51"},null,null,{"$f":"$G$4","v":"22-51"},{"$f":"$G$4","v":"22-51"},null,null,{"$f":"$G$4","v":"22-51"},{"$f":"$G$4","v":"22-51"},null,null,{"$f":"$G$4","v":"22-51"},{"$f":"$G$4","v":"22-51"},null,null,{"$f":"$G$4","v":"22-51"},{"$f":"$G$4","v":"22-51"},null,null,{"$f":"$G$4","v":"22-51"},{"$f":"$G$4","v":"22-51"}]
[null,null,null,null,{"$f":"$C$1& \" (\" & $D$1 & \" \" &$E$1 & \")\"","v":"Aufzuchtferkel ( )"}]
[null,2,null,null,{"$f":"$H$1 & IF($I$1<> \"\",\" (Stand vom \" & TEXT($I$1,\"tt.MM.jjjj\") & \")\",\"\")","v":"Schlachtbefunde"}]
[null,null,"    ?    ",null,{"$f":"\"Betrieb: \" & Intern_BetriebID & IF(F1<>\"\",\" [\" & F1 & \"]\",\"\")","v":"Betrieb: "},null,null,null,null,null,null,null,null,null,null,null,null,null,null,null,null,null,null,null,null,null,null,null,null,null,null,null,null,null,null,null,null,null,null,null,null,null,null,null,null,null,null,null,null,null,null,null,null,null,null,null,null,"© KTBL & FLI"]
[]
[]
[null,null,"Speichern und schließen ..."]
[]
[null,null,"Datenformat vom Schlachthof"]
[null,"DATEN050_W01",null,null,1]
[]
[]
[null,null,null,null,null,null,null,null,"Brustfell-",{"$f":"I16","v":"Brustfell-"},null,null,"Lungen-",{"$f":"M16","v":"Lungen-"},null,null,"Herzbeutel-",{"$f":"Q16","v":"Herzbeutel-"},null,null,"Leberbefunde",{"$f":"U16","v":"Leberbefunde"},null,null,"Abszesse",{"$f":"Y16","v":"Abszesse"},null,null,null,null,"Gelenk-",{"$f":"AE16","v":"Gelenk-"},null,null,"Notgetötete",{"$f":"AI16","v":"Notgetötete"},null,null,"Schwanz-",{"$f":"AM16","v":"Schwanz-"},null,null,"Ohr-",{"$f":"AQ16","v":"Ohr-"},null,null,"Schleimbeutel-",{"$f":"AU16","v":"Schleimbeutel-"},null,null,"Schwellungen",{"$f":"AY16","v":"Schwellungen"},null,null,"Hochgradige",{"$f":"BC16","v":"Hochgradige"}]
[null,null,"Schlachtbefund",null,null,null,null,null,"entzündungen",{"$f":"I17","v":"entzündungen"},null,null,"entzündungen",{"$f":"M17","v":"entzündungen"},null,null,"entzündungen",{"$f":"Q17","v":"entzündungen"},null,null,"und -verwürfe",{"$f":"U17","v":"und -verwürfe"},null,null,null,null,null,null,null,null,"entzündungen",{"$f":"AE17","v":"entzündungen"},null,null,"Tiere",{"$f":"AI17","v":"Tiere"},null,null,"schäden",{"$f":"AM17","v":"schäden"},null,null,"schäden",{"$f":"AQ17","v":"schäden"},null,null,"entzündungen",{"$f":"AU17","v":"entzündungen"},null,null,"an den Beinen",{"$f":"AY17","v":"an den Beinen"},null,null,"Klauen-",{"$f":"BC17","v":"Klauen-"}]
[null,null,"Nr.",null,"Datum",null,"Anzahl Tiere",null,"(mittel- und","(mittel- und",null,null,"(mittel- und","(mittel- und",null,null,null,null,null,null,null,null,null,null,null,null,null,null,null,null,null,null,null,null,null,null,null,null,null,null,null,null,null,null,null,null,null,null,null,null,"(zusätzliche",{"$f":"AY18","v":"(zusätzliche"},null,null,"verletzungen","verletzungen"]
[null,null,null,null,null,null,null,null,"hochgradige","hochgradige",null,null,"hochgradige","hochgradige",null,null,"(Perikaditien)","(Perikaditien)",null,null,"(\"Milkspots\")","(\"Milkspots\")",null,null,null,null,null,null,null,null,"(Arthritis)","(Arthritis)",null,null,null,null,null,null,null,null,null,null,null,null,null,null,"(Bursitiden)","(Bursitiden)",null,null,"Schleimbeutel",{"$f":"AY19","v":"Schleimbeutel"},null,null,"/ -schäden"]
[null,null,null,null,null,null,null,null,"Pleuritiden)","Pleuritiden)",null,null,"Pneumonien)","Pneumonien)",null,null,null,null,null,null,null,null,null,null,null,null,null,null,null,null,null,null,null,null,null,null,null,null,null,null,null,null,null,null,null,null,null,null,null,null,"/-entzündungen)",{"$f":"AY20","v":"/-entzündungen)"}]
[null,null,null,null,null,null,"Anzahl",null,"Anzahl","%","Anzahl",null,"Anzahl","%","Anzahl",null,"Anzahl","%","Anzahl",null,"Anzahl","%","Anzahl",null,"Anzahl","%","Anzahl",null,"wenn vorhanden, Körperregion",null,"Anzahl","%","Anzahl",null,"Anzahl","%","Anzahl",null,"Anzahl","%","Anzahl",null,"Anzahl","%","Anzahl",null,"Anzahl","%","Anzahl",null,"Anzahl","%","Anzahl",null,"Anzahl","%","Anzahl"]
[null,"DATEN001",1,null,null,null,null,null,null,null,{"$f":"IF($E$13=2,IF($G22>0,$G22*J22/100,\"\"),I22)","v":0},null,null,null,{"$f":"IF($E$13=2,IF($G22>0,$G22*N22/100,\"\"),M22)","v":0},null,null,null,{"$f":"IF($E$13=2,IF($G22>0,$G22*R22/100,\"\"),Q22)","v":0},null,null,null,{"$f":"IF($E$13=2,IF($G22>0,$G22*V22/100,\"\"),U22)","v":0},null,null,null,{"$f":"IF($E$13=2,IF($G22>0,$G22*Z22/100,\"\"),Y22)","v":0},null,null,null,null,null,{"$f":"IF($E$13=2,IF($G22>0,$G22*AF22/100,\"\"),AE22)","v":0},null,null,null,{"$f":"IF($E$13=2,IF($G22>0,$G22*AJ22/100,\"\"),AI22)","v":0},null,null,null,{"$f":"IF($E$13=2,IF($G22>0,$G22*AN22/100,\"\"),AM22)","v":0},null,null,null,{"$f":"IF($E$13=2,IF($G22>0,$G22*AR22/100,\"\"),AQ22)","v":0},null,null,null,{"$f":"IF($E$13=2,IF($G22>0,$G22*AV22/100,\"\"),AU22)","v":0},null,null,null,{"$f":"IF($E$13=2,IF($G22>0,$G22*AZ22/100,\"\"),AY22)","v":0},null,null,null,{"$f":"IF($E$13=2,IF($G22>0,$G22*BD22/100,\"\"),BC22)","v":0}]
[null,"DATEN002",2,null,null,null,null,null,null,null,{"$f":"IF($E$13=2,IF($G23>0,$G23*J23/100,\"\"),I23)","v":0},null,null,null,{"$f":"IF($E$13=2,IF($G23>0,$G23*N23/100,\"\"),M23)","v":0},null,null,null,{"$f":"IF($E$13=2,IF($G23>0,$G23*R23/100,\"\"),Q23)","v":0},null,null,null,{"$f":"IF($E$13=2,IF($G23>0,$G23*V23/100,\"\"),U23)","v":0},null,null,null,{"$f":"IF($E$13=2,IF($G23>0,$G23*Z23/100,\"\"),Y23)","v":0},null,null,null,null,null,{"$f":"IF($E$13=2,IF($G23>0,$G23*AF23/100,\"\"),AE23)","v":0},null,null,null,{"$f":"IF($E$13=2,IF($G23>0,$G23*AJ23/100,\"\"),AI23)","v":0},null,null,null,{"$f":"IF($E$13=2,IF($G23>0,$G23*AN23/100,\"\"),AM23)","v":0},null,null,null,{"$f":"IF($E$13=2,IF($G23>0,$G23*AR23/100,\"\"),AQ23)","v":0},null,null,null,{"$f":"IF($E$13=2,IF($G23>0,$G23*AV23/100,\"\"),AU23)","v":0},null,null,null,{"$f":"IF($E$13=2,IF($G23>0,$G23*AZ23/100,\"\"),AY23)","v":0},null,null,null,{"$f":"IF($E$13=2,IF($G23>0,$G23*BD23/100,\"\"),BC23)","v":0}]
[null,"DATEN003",3,null,null,null,null,null,null,null,0,null,null,null,0,null,null,null,0,null,null,null,0,null,null,null,0,null,null,null,null,null,0,null,null,null,0,null,null,null,0,null,null,null,0,null,null,null,0,null,null,null,0,null,null,null,0]
[null,"DATEN004",4,null,null,null,null,null,null,null,0,null,null,null,0,null,null,null,0,null,null,null,0,null,null,null,0,null,null,null,null,null,0,null,null,null,0,null,null,null,0,null,null,null,0,null,null,null,0,null,null,null,0,null,null,null,0]
[null,"DATEN005",5,null,null,null,null,null,null,null,0,null,null,null,0,null,null,null,0,null,null,null,0,null,null,null,0,null,null,null,null,null,0,null,null,null,0,null,null,null,0,null,null,null,0,null,null,null,0,null,null,null,0,null,null,null,0]
[null,"DATEN006",6,null,null,null,null,null,null,null,0,null,null,null,0,null,null,null,0,null,null,null,0,null,null,null,0,null,null,null,null,null,0,null,null,null,0,null,null,null,0,null,null,null,0,null,null,null,0,null,null,null,0,null,null,null,0]
[null,"DATEN007",7,null,null,null,null,null,null,null,0,null,null,null,0,null,null,null,0,null,null,null,0,null,null,null,0,null,null,null,null,null,0,null,null,null,0,null,null,null,0,null,null,null,0,null,null,null,0,null,null,null,0,null,null,null,0]
[null,"DATEN008",8,null,null,null,null,null,null,null,0,null,null,null,0,null,null,null,0,null,null,null,0,null,null,null,0,null,null,null,null,null,0,null,null,null,0,null,null,null,0,null,null,null,0,null,null,null,0,null,null,null,0,null,null,null,0]
[null,"DATEN009",9,null,null,null,null,null,null,null,0,null,null,null,0,null,null,null,0,null,null,null,0,null,null,null,0,null,null,null,null,null,0,null,null,null,0,null,null,null,0,null,null,null,0,null,null,null,0,null,null,null,0,null,null,null,0]
[null,"DATEN010",10,null,null,null,null,null,null,null,0,null,null,null,0,null,null,null,0,null,null,null,0,null,null,null,0,null,null,null,null,null,0,null,null,null,0,null,null,null,0,null,null,null,0,null,null,null,0,null,null,null,0,null,null,null,0]
[null,"DATEN011",11,null,null,null,null,null,null,null,0,null,null,null,0,null,null,null,0,null,null,null,0,null,null,null,0,null,null,null,null,null,0,null,null,null,0,null,null,null,0,null,null,null,0,null,null,null,0,null,null,null,0,null,null,null,0]
[null,"DATEN012",12,null,null,null,null,null,null,null,0,null,null,null,0,null,null,null,0,null,null,null,0,null,null,null,0,null,null,null,null,null,0,null,null,null,0,null,null,null,0,null,null,null,0,null,null,null,0,null,null,null,0,null,null,null,0]
[null,"DATEN013",13,null,null,null,null,null,null,null,0,null,null,null,0,null,null,null,0,null,null,null,0,null,null,null,0,null,null,null,null,null,0,null,null,null,0,null,null,null,0,null,null,null,0,null,null,null,0,null,null,null,0,null,null,null,0]
[null,"DATEN014",14,null,null,null,null,null,null,null,0,null,null,null,0,null,null,null,0,null,null,null,0,null,null,null,0,null,null,null,null,null,0,null,null,null,0,null,null,null,0,null,null,null,0,null,null,null,0,null,null,null,0,null,null,null,0]
[null,"DATEN015",15,null,null,null,null,null,null,null,0,null,null,null,0,null,null,null,0,null,null,null,0,null,null,null,0,null,null,null,null,null,0,null,null,null,0,null,null,null,0,null,null,null,0,null,null,null,0,null,null,null,0,null,null,null,0]
[null,"DATEN016",16,null,null,null,null,null,null,null,0,null,null,null,0,null,null,null,0,null,null,null,0,null,null,null,0,null,null,null,null,null,0,null,null,null,0,null,null,null,0,null,null,null,0,null,null,null,0,null,null,null,0,null,null,null,0]
[null,"DATEN017",17,null,null,null,null,null,null,null,0,null,null,null,0,null,null,null,0,null,null,null,0,null,null,null,0,null,null,null,null,null,0,null,null,null,0,null,null,null,0,null,null,null,0,null,null,null,0,null,null,null,0,null,null,null,0]
[null,"DATEN018",18,null,null,null,null,null,null,null,0,null,null,null,0,null,null,null,0,null,null,null,0,null,null,null,0,null,null,null,null,null,0,null,null,null,0,null,null,null,0,null,null,null,0,null,null,null,0,null,null,null,0,null,null,null,0]
[null,"DATEN019",19,null,null,null,null,null,null,null,0,null,null,null,0,null,null,null,0,null,null,null,0,null,null,null,0,null,null,null,null,null,0,null,null,null,0,null,null,null,0,null,null,null,0,null,null,null,0,null,null,null,0,null,null,null,0]
[null,"DATEN020",20,null,null,null,null,null,null,null,0,null,null,null,0,null,null,null,0,null,null,null,0,null,null,null,0,null,null,null,null,null,0,null,null,null,0,null,null,null,0,null,null,null,0,null,null,null,0,null,null,null,0,null,null,null,0]
[null,"DATEN021",21,null,null,null,null,null,null,null,0,null,null,null,0,null,null,null,0,null,null,null,0,null,null,null,0,null,null,null,null,null,0,null,null,null,0,null,null,null,0,null,null,null,0,null,null,null,0,null,null,null,0,null,null,null,0]
[null,"DATEN022",22,null,null,null,null,null,null,null,0,null,null,null,0,null,null,null,0,null,null,null,0,null,null,null,0,null,null,null,null,null,0,null,null,null,0,null,null,null,0,null,null,null,0,null,null,null,0,null,null,null,0,null,null,null,0]
[null,"DATEN023",23,null,null,null,null,null,null,null,0,null,null,null,0,null,null,null,0,null,null,null,0,null,null,null,0,null,null,null,null,null,0,null,null,null,0,null,null,null,0,null,null,null,0,null,null,null,0,null,null,null,0,null,null,null,0]
[null,"DATEN024",24,null,null,null,null,null,null,null,0,null,null,null,0,null,null,null,0,null,null,null,0,null,null,null,0,null,null,null,null,null,0,null,null,null,0,null,null,null,0,null,null,null,0,null,null,null,0,null,null,null,0,null,null,null,0]
[null,"DATEN025",25,null,null,null,null,null,null,null,0,null,null,null,0,null,null,null,0,null,null,null,0,null,null,null,0,null,null,null,null,null,0,null,null,null,0,null,null,null,0,null,null,null,0,null,null,null,0,null,null,null,0,null,null,null,0]
[null,"DATEN026",26,null,null,null,null,null,null,null,0,null,null,null,0,null,null,null,0,null,null,null,0,null,null,null,0,null,null,null,null,null,0,null,null,null,0,null,null,null,0,null,null,null,0,null,null,null,0,null,null,null,0,null,null,null,0]
[null,"DATEN027",27,null,null,null,null,null,null,null,0,null,null,null,0,null,null,null,0,null,null,null,0,null,null,null,0,null,null,null,null,null,0,null,null,null,0,null,null,null,0,null,null,null,0,null,null,null,0,null,null,null,0,null,null,null,0]
[null,"DATEN028",28,null,null,null,null,null,null,null,0,null,null,null,0,null,null,null,0,null,null,null,0,null,null,null,0,null,null,null,null,null,0,null,null,null,0,null,null,null,0,null,null,null,0,null,null,null,0,null,null,null,0,null,null,null,0]
[null,"DATEN029",29,null,null,null,null,null,null,null,0,null,null,null,0,null,null,null,0,null,null,null,0,null,null,null,0,null,null,null,null,null,0,null,null,null,0,null,null,null,0,null,null,null,0,null,null,null,0,null,null,null,0,null,null,null,0]
[null,"DATEN030",30,null,null,null,null,null,null,null,0,null,null,null,0,null,null,null,0,null,null,null,0,null,null,null,0,null,null,null,null,null,0,null,null,null,0,null,null,null,0,null,null,null,0,null,null,null,0,null,null,null,0,null,null,null,0]
[null,"ERGEB902",null,null,"Summe",null,{"$f":"SUM(G22:G51)","v":0},null,{"$f":"SUM(I22:I51)","v":0},null,{"$f":"SUM(K22:K51)","v":0},null,{"$f":"SUM(M22:M51)","v":0},null,{"$f":"SUM(O22:O51)","v":0},null,{"$f":"SUM(Q22:Q51)","v":0},null,{"$f":"SUM(S22:S51)","v":0},null,{"$f":"SUM(U22:U51)","v":0},null,{"$f":"SUM(W22:W51)","v":0},null,{"$f":"SUM(Y22:Y51)","v":0},null,{"$f":"SUM(AA22:AA51)","v":0},null,null,null,{"$f":"SUM(AE22:AE51)","v":0},null,{"$f":"SUM(AG22:AG51)","v":0},null,{"$f":"SUM(AI22:AI51)","v":0},null,{"$f":"SUM(AK22:AK51)","v":0},null,{"$f":"SUM(AM22:AM51)","v":0},null,{"$f":"SUM(AO22:AO51)","v":0},null,{"$f":"SUM(AQ22:AQ51)","v":0},null,{"$f":"SUM(AS22:AS51)","v":0},null,{"$f":"SUM(AU22:AU51)","v":0},null,{"$f":"SUM(AW22:AW51)","v":0},null,{"$f":"SUM(AY22:AY51)","v":0},null,{"$f":"SUM(BA22:BA51)","v":0},null,{"$f":"SUM(BC22:BC51)","v":0},null,{"$f":"SUM(BE22:BE51)","v":0}]
[]
[null,null,null,null,"Ergebnisse",null,null,null,"Anteil betroffener Tiere"]
[null,null,null,null,null,null,null,null,"je Schlachtbefund %"]
[null,"ERGEB901",null,null,null,null,null,null,{"$f":"IF($G$52>0,K52/$G$52*100,0)","v":0},null,{"$f":"IF($G$52>0,K52/$G$52*100,0)","v":0},null,{"$f":"IF($G$52>0,O52/$G$52*100,0)","v":0},null,{"$f":"IF($G$52>0,O52/$G$52*100,0)","v":0},null,{"$f":"IF($G$52>0,S52/$G$52*100,0)","v":0},null,{"$f":"IF($G$52>0,S52/$G$52*100,0)","v":0},null,{"$f":"IF($G$52>0,W52/$G$52*100,0)","v":0},null,{"$f":"IF($G$52>0,W52/$G$52*100,0)","v":0},null,{"$f":"IF($G$52>0,AA52/$G$52*100,0)","v":0},null,{"$f":"IF($G$52>0,AA52/$G$52*100,0)","v":0},null,null,null,{"$f":"IF($G$52>0,AG52/$G$52*100,0)","v":0},null,{"$f":"IF($G$52>0,AG52/$G$52*100,0)","v":0},null,{"$f":"IF($G$52>0,AK52/$G$52*100,0)","v":0},null,{"$f":"IF($G$52>0,AK52/$G$52*100,0)","v":0},null,{"$f":"IF($G$52>0,AO52/$G$52*100,0)","v":0},null,{"$f":"IF($G$52>0,AO52/$G$52*100,0)","v":0},null,{"$f":"IF($G$52>0,AS52/$G$52*100,0)","v":0},null,{"$f":"IF($G$52>0,AS52/$G$52*100,0)","v":0},null,{"$f":"IF($G$52>0,AW52/$G$52*100,0)","v":0},null,{"$f":"IF($G$52>0,AW52/$G$52*100,0)","v":0},null,{"$f":"IF($G$52>0,BA52/$G$52*100,0)","v":0},null,{"$f":"IF($G$52>0,BA52/$G$52*100,0)","v":0},null,{"$f":"IF($G$52>0,BE52/$G$52*100,0)","v":0},null,{"$f":"IF($G$52>0,BE52/$G$52*100,0)","v":0}]
[]
[null,"DATEN_ENDE"]

{"sheet":"SW_SCHWANZ","index":18,"n_rows":54,"n_cols":17,"rows_kept":54,"cut":false,"hidden":true,"merged":[[9,4,9,7]]}
[null,"SW_FERKEL","Aufzuchtferkel",null,null,null,null,"Schwanzlänge"]
[null,5,"T","T","T","T","T","T","T","T","T","T","T","T","T","T","-"]
[null,"SW_SCHWANZ","T","T","W01","T","W02","T","W03","T","W04","T","W05","T","W06","T","T"]
[null,null,null,"Clear","16-45",null,{"$f":"$E$4","v":"16-45"},null,{"$f":"$E$4","v":"16-45"},null,{"$f":"$E$4","v":"16-45"},null,{"$f":"$E$4","v":"16-45"},null,{"$f":"$E$4","v":"16-45"}]
[null,null,null,null,{"$f":"$C$1& \" (\" & $D$1 & \" \" &$E$1 & \")\"","v":"Aufzuchtferkel ( )"}]
[null,2,null,null,{"$f":"$H$1 & IF($J$1<> \"\",\" (Stand vom \" & TEXT($J$1,\"tt.MM.jjjj\") & \")\",\"\")","v":"Schwanzlänge"}]
[null,null,"    ?    ",null,{"$f":"\"Betrieb: \" & Intern_BetriebID & IF(F1<>\"\",\" [\" & F1 & \"]\",\"\")","v":"Betrieb: "},null,null,null,null,null,null,null,null,null,null,"© KTBL & FLI"]
[]
[]
[null,null,null,null,"Speichern und schließen ..."]
[]
[null,null,null,null,null,null,null,null,null,null,"Beurteilung Schwanzlänge"]
[null,null,"Nr.",null,"Einstallung",null,"Eingestallte",null,"Sind Tiere"]
[null,null,null,null,"Datum",null,"Tiere",null,"kupiert?"]
[null,null,null,null,null,null,"Anzahl",null,"[0=nein,1=ja]",null,"Anzahl Bonitur 0",null,"Anzahl Bonitur 1",null,"Anzahl Bonitur 2"]
[null,"DATEN001",1,null,null,null,null,null,null,null,null,null,null,null,null,null,{"$f":"SUM(K16:O16)<>G16","v":false}]
[null,"DATEN002",2,null,null,null,null,null,null,null,null,null,null,null,null,null,{"$f":"SUM(K17:O17)<>G17","v":false}]
[null,"DATEN003",3,null,null,null,null,null,null,null,null,null,null,null,null,null,false]
[null,"DATEN004",4,null,null,null,null,null,null,null,null,null,null,null,null,null,false]
[null,"DATEN005",5,null,null,null,null,null,null,null,null,null,null,null,null,null,false]
[null,"DATEN006",6,null,null,null,null,null,null,null,null,null,null,null,null,null,false]
[null,"DATEN007",7,null,null,null,null,null,null,null,null,null,null,null,null,null,false]
[null,"DATEN008",8,null,null,null,null,null,null,null,null,null,null,null,null,null,false]
[null,"DATEN009",9,null,null,null,null,null,null,null,null,null,null,null,null,null,false]
[null,"DATEN010",10,null,null,null,null,null,null,null,null,null,null,null,null,null,false]
[null,"DATEN011",11,null,null,null,null,null,null,null,null,null,null,null,null,null,false]
[null,"DATEN012",12,null,null,null,null,null,null,null,null,null,null,null,null,null,false]
[null,"DATEN013",13,null,null,null,null,null,null,null,null,null,null,null,null,null,false]
[null,"DATEN014",14,null,null,null,null,null,null,null,null,null,null,null,null,null,false]
[null,"DATEN015",15,null,null,null,null,null,null,null,null,null,null,null,null,null,false]
[null,"DATEN016",16,null,null,null,null,null,null,null,null,null,null,null,null,null,false]
[null,"DATEN017",17,null,null,null,null,null,null,null,null,null,null,null,null,null,false]
[null,"DATEN018",18,null,null,null,null,null,null,null,null,null,null,null,null,null,false]
[null,"DATEN019",19,null,null,null,null,null,null,null,null,null,null,null,null,null,false]
[null,"DATEN020",20,null,null,null,null,null,null,null,null,null,null,null,null,null,false]
[null,"DATEN021",21,null,null,null,null,null,null,null,null,null,null,null,null,null,false]
[null,"DATEN022",22,null,null,null,null,null,null,null,null,null,null,null,null,null,false]
[null,"DATEN023",23,null,null,null,null,null,null,null,null,null,null,null,null,null,false]
[null,"DATEN024",24,null,null,null,null,null,null,null,null,null,null,null,null,null,false]
[null,"DATEN025",25,null,null,null,null,null,null,null,null,null,null,null,null,null,false]
[null,"DATEN026",26,null,null,null,null,null,null,null,null,null,null,null,null,null,false]
[null,"DATEN027",27,null,null,null,null,null,null,null,null,null,null,null,null,null,false]
[null,"DATEN028",28,null,null,null,null,null,null,null,null,null,null,null,null,null,false]
[null,"DATEN029",29,null,null,null,null,null,null,null,null,null,null,null,null,null,false]
[null,"DATEN030",30,null,null,null,null,null,null,null,null,null,null,null,null,null,false]
[]
[null,null,null,null,"Summe",null,{"$f":"SUM(G16:G45)","v":0},null,null,null,{"$f":"SUM(K16:K45)","v":0},null,{"$f":"SUM(M16:M45)","v":0},null,{"$f":"SUM(O16:O45)","v":0}]
[]
[null,null,null,null,"Ergebnisse"]
[null,null,null,null,null,null,null,null,"Anzahl Tiere",null,"% Bonitur 0",null,"% Bonitur 1",null,"% Bonitur 2"]
[null,"ERGEB901",null,null,"Nicht kupierte Tiere",null,null,null,{"$f":"SUMIFS(G16:G45,I16:I45,\"0\")","v":0},null,{"$f":"IF($I$51>0,SUMIFS(K16:K45,$I$16:$I$45,\"0\")/$I$51*100,0)","v":0},null,{"$f":"IF($I$51>0,SUMIFS(M16:M45,$I$16:$I$45,\"0\")/$I$51*100,0)","v":0},null,{"$f":"IF($I$51>0,SUMIFS(O16:O45,$I$16:$I$45,\"0\")/$I$51*100,0)","v":0}]
[null,"ERGEB902",null,null,"Kupierte Tiere",null,null,null,{"$f":"SUMIFS(G16:G45,I16:I45,\"1\")","v":0},null,{"$f":"IF($I$52>0,SUMIFS(K16:K45,$I$16:$I$45,\"1\")/$I$52*100,0)","v":0},null,{"$f":"IF($I$52>0,SUMIFS(M16:M45,$I$16:$I$45,\"1\")/$I$52*100,0)","v":0},null,{"$f":"IF($I$52>0,SUMIFS(O16:O45,$I$16:$I$45,\"1\")/$I$52*100,0)","v":0}]
[]
[null,"DATEN_ENDE"]

{"sheet":"SW_BESTAND","index":19,"n_rows":40,"n_cols":10,"rows_kept":40,"cut":false,"hidden":true,"merged":[[9,2,9,3],[12,3,12,8]]}
[null,"SW_FERKEL","Aufzuchtferkel",null,null,null,null,"Bestandsbezogene Indikatoren"]
[null,7,"T","T","T","T","T","T","T"]
[null,"SW_BESTAND","T","T","T","W01","T","T","T"]
[null,null,"Clear",null,null,"15;20-23;26-28;32-33;37-38"]
[null,null,null,{"$f":"$C$1& \" (\" & $D$1 & \" \" &$E$1 & \")\"","v":"Aufzuchtferkel ( )"}]
[null,2,null,{"$f":"$H$1 & IF($J$1<> \"\",\" (Stand vom \" & TEXT($J$1,\"tt.MM.jjjj\") & \")\",\"\")","v":"Bestandsbezogene Indikatoren"}]
[null,null,"    ?    ",{"$f":"\"Betrieb: \" & Intern_BetriebID & IF(F1<>\"\",\" [\" & F1 & \"]\",\"\")","v":"Betrieb: "},null,null,null,null,null,"© KTBL & FLI"]
[null,"MAST_18-29|MAST_35-39|SAU_30-39|FERKEL_18-34"]
[]
[null,null,"Speichern und schließen ..."]
[]
[null,null,null,"Berichtszeitraum"]
[null,null,null,"Bitte geben Sie die bestandsbezogenen Indikatoren als Durchschnitt der zurückliegenden sechs Monate an. Geben Sie dafür das heutige Datum an. Der Berichtszeitraum wird automatisch berechnet."]
[null,"ERGEB901",null,"Anfangsdatum",null,{"$f":"IF(F15<>\"\",EDATE(F15,-6),\"\")","v":""}]
[null,"DATEN001",null,"Enddatum"]
[]
[]
[null,null,null,"Sauenplanerdaten (bestandsbezogen)"]
[null,null,null,"Sauen"]
[null,"DATEN021",null,"Umrauscherquote","%"]
[null,"DATEN022",null,"Abortrate","%"]
[null,"DATEN023",null,"Wurfzahl","ø"]
[null,"DATEN024",null,"Tierverluste Sauen","%"]
[]
[null,null,null,"Saugferkel"]
[null,"DATEN025",null,"Anteil tot geborene Tiere","%"]
[null,"DATEN026",null,"Anteil verendete oder euthanisierte Tiere","%"]
[null,"DATEN027",null,"Anteil Verluste insgesamt","%"]
[]
[null,null,null,"Mastplanerdaten (bestandsbezogen)"]
[null,null,null,"Mastschweine"]
[null,"DATEN031",null,"Tierverluste Mastschweine","%"]
[null,"DATEN032",null,"Tägliche Gewichtszunahme","g/Tag"]
[]
[null,null,null,"Mastplanerdaten (bestandsbezogen)"]
[null,null,null,"Aufzuchtferkel"]
[null,"DATEN041",null,"Tierverluste Aufzuchtferkel","%"]
[null,"DATEN042",null,"Tägliche Gewichtszunahme","g/Tag"]
[]
[null,"DATEN_ENDE"]

{"sheet":"ET_AZ","index":20,"n_rows":81,"n_cols":24,"rows_kept":81,"cut":false,"hidden":true,"merged":[[12,2,12,9],[9,2,9,9],[17,12,17,19],[12,12,12,19]]}
[null,"SW_FERKEL","Aufzuchtferkel",null,null,null,null,"Antibiotikaeinsatz"]
[null,4,"T",{"$f":"IF(B4=\"GF\",\"W\",\"-\")","v":"-"},"T","T","T",{"$f":"IF(B4=\"SW\",\"-\",\"T\")","v":"-"},{"$f":"$H$2","v":"-"},{"$f":"IF(B4=\"SW\",\"T\",\"-\")","v":"T"},{"$f":"$H$2","v":"-"},"T","T","T","T","T","T","T",{"$f":"IF(B4=\"SW\",\"W\",\"-\")","v":"W"},{"$f":"$S$2","v":"W"},"-","-",{"$f":"IF(B4=\"GF\",\"W\",\"-\")","v":"-"},"T"]
[null,"ET_AZ","T","W01","T","W02","T","W03","R04","W09","W05","T","W06","T","W07","T","W08","R10","W11","R12","T","T","W13","T"]
[null,"SW","Clear","24-71",null,{"$f":"$D$4","v":"24-71"},null,{"$f":"$D$4","v":"24-71"},null,{"$f":"$D$4 & \";17\"","v":"24-71;17"},{"$f":"$D$4","v":"24-71"},null,{"$f":"$D$4","v":"24-71"},null,{"$f":"$D$4 & \";16\"","v":"24-71;16"},null,{"$f":"$D$4","v":"24-71"},{"$f":"\"16;17\"","v":"16;17"},{"$f":"O4&\";17\"","v":"24-71;16;17"},null,null,null,{"$f":"$D$4","v":"24-71"}]
[null,null,null,null,{"$f":"$C$1 & IF(B4=\"SW\",\" (\"&$D$1&\" \"&$E$1&\")\",\" (\" & Intern_BetriebID & \")\")","v":"Aufzuchtferkel ( )"}]
[null,2,null,null,{"$f":"$H$1 & IF($K$1<> \"\",\" (Stand vom \" & TEXT($K$1,\"tt.MM.jjjj\") & \")\",\"\")","v":"Antibiotikaeinsatz"}]
[null,null,"    ?    ",null,{"$f":"IF(B4=\"GF\",IF(D1<>\"\",  D1 & \" - \",\"\") & IF(F1<>\"\",\"Schlupfdatum: \" & TEXT(F1,\"tt.MM.JJJJ\"),\"\"),\"Betrieb: \" & Intern_BetriebID & IF(F1<>\"\",\" [\" & F1 & \"]\",\"\") )","v":"Betrieb: "},null,null,null,null,null,null,null,null,null,null,null,null,null,null,null,null,null,null,{"$f":"\"© KTBL \" & IF(B4=\"GF\",\"Uni Kassel\",\"FLI\")","v":"© KTBL FLI"}]
[null,"HENNE_12-19|HUHN_12-19|PUTE_12-19|HENNE_72-74|HUHN_72-74|PUTE_72-74|MAST_18-18|FERKEL_18-18"]
[]
[null,null,"Speichern und schließen ..."]
[]
[null,null,"Antibiotikaeinsatz"]
[null,null,"Bitte geben Sie den Antibiotikaeinsatz der zurückliegenden sechs Monate an. Geben Sie dafür das heutige Datum an. Der Berichtszeitraum wird automatisch berechnet.",null,null,null,null,null,null,null,null,null,"Den Antibiotikaeinsatz können Sie als Therapiehäufigkeit aus HIT oder als Therapieindex aus QS angeben. Als nicht meldepflichtiger Betrieb an die HIT können Sie Ihre Antibiotikagaben im unteren Formularbereich selbst eingeben und den Therapieindex nach QS errechnen."]
[null,null,"Berichtszeitraum",null,null,null,null,null,null,null,null,null,null,null,"Therapiehäufigkeit",null,null,"Therapieindex"]
[null,null,null,null,null,null,null,null,null,null,null,null,null,null,"TH",null,null,"Kalenderquartal","TI"]
[null,"DATEN001_W07_W10_W11","Anfangsdatum",null,null,null,null,null,null,{"$f":"IF(J17<>\"\",EDATE(J17,-6),\"\")","v":""},null,null,{"$f":"IF(B1=\"SW_SAU\",\"Sauen\",IF(B1=\"SW_FERKEL\",\"Aufzuchtferkel\",\"Mastschweine\"))","v":"Aufzuchtferkel"}]
[null,"DATEN002_W09_W10_W11","Enddatum"]
[null,null,null,null,null,null,null,null,null,null,null,null,"Die Antibiotikagaben können für Sauen in HI-Tier als freiwillige Angaben eingetragen und die Therapiehäufigkeit errechnet werden. Die Aufwendungen für Ferkel sind den Muttertieren zuzurechnen."]
[]
[null,null,"Behandlungen"]
[null,null,null,"Lebens-",null,{"$f":"IF(B4=\"GF\",\"Zeitraum Arzneimitteleinsatz\",\"\")","v":""},null,null,null,"Anwendungsdauer","Wirk-",null,{"$f":"IF(B4=\"SW\",\"Antibiotika\",\"Arzneimittel\")","v":"Antibiotika"},null,"Wirk-",null,"Behandelte","Behandlungs-","Tierzahl im ",null,"Prüfung","Hälfte ","Erkrankung"]
[null,null,null,"woche",null,{"$f":"IF(B4=\"GF\",\"Beginn\",\"\")","v":""},null,"Ende","Dauer","inkl. Wirktage","dauer",null,"Präparat",null,"stoffe",null,"Tiere","einheit","Bestand",null,"Datum","im Zeitraum","Diagnose"]
[null,null,"Nr","Nr.",null,"Datum",null,"Datum","Tage","Tage","Tage",null,null,null,"Anzahl",null,"Anzahl","Anzahl","Anzahl"]
[null,"DATEN010",1,null,null,null,null,null,{"$f":"IF(AND(F24<>\"\",H24<>\"\"),(H24-F24)+1,\"\")","v":""},null,null,null,null,null,null,null,null,{"$f":"IF((J24+K24)*O24*Q24>0,(J24+K24)*O24*Q24,\"\")","v":""},null,null,{"$f":"IF(OR(F24<>\"\",H24<>\"\"),IF($B$4=\"SW\",IF(OR(F24<$J$16,F24>$J$17),TRUE,FALSE),IF(OR(F24>H24,F24=\"\",H24=\"\"),TRUE,FALSE)),FALSE)","v":false},{"$f":"IF(F24<>\"\",IF(F24>EDATE($J$17,-3),2,1),0)","v":0}]
[null,"DATEN011",2,null,null,null,null,null,"",null,null,null,null,null,null,null,null,{"$f":"IF((J25+K25)*O25*Q25>0,(J25+K25)*O25*Q25,\"\")","v":""},null,null,false,0]
[null,"DATEN012",3,null,null,null,null,null,"",null,null,null,null,null,null,null,null,"",null,null,false,0]
[null,"DATEN013",4,null,null,null,null,null,"",null,null,null,null,null,null,null,null,"",null,null,false,0]
[null,"DATEN014",5,null,null,null,null,null,"",null,null,null,null,null,null,null,null,"",null,null,false,0]
[null,"DATEN015",6,null,null,null,null,null,"",null,null,null,null,null,null,null,null,"",null,null,false,0]
[null,"DATEN016",7,null,null,null,null,null,"",null,null,null,null,null,null,null,null,"",null,null,false,0]
[null,"DATEN017",8,null,null,null,null,null,"",null,null,null,null,null,null,null,null,"",null,null,false,0]
[null,"DATEN018",9,null,null,null,null,null,"",null,null,null,null,null,null,null,null,"",null,null,false,0]
[null,"DATEN019",10,null,null,null,null,null,"",null,null,null,null,null,null,null,null,"",null,null,false,0]
[null,"DATEN020",11,null,null,null,null,null,"",null,null,null,null,null,null,null,null,"",null,null,false,0]
[null,"DATEN021",12,null,null,null,null,null,"",null,null,null,null,null,null,null,null,"",null,null,false,0]
[null,"DATEN022",13,null,null,null,null,null,"",null,null,null,null,null,null,null,null,"",null,null,false,0]
[null,"DATEN023",14,null,null,null,null,null,"",null,null,null,null,null,null,null,null,"",null,null,false,0]
[null,"DATEN024",15,null,null,null,null,null,"",null,null,null,null,null,null,null,null,"",null,null,false,0]
[null,"DATEN025",16,null,null,null,null,null,"",null,null,null,null,null,null,null,null,"",null,null,false,0]
[null,"DATEN026",17,null,null,null,null,null,"",null,null,null,null,null,null,null,null,"",null,null,false,0]
[null,"DATEN027",18,null,null,null,null,null,"",null,null,null,null,null,null,null,null,"",null,null,false,0]
[null,"DATEN028",19,null,null,null,null,null,"",null,null,null,null,null,null,null,null,"",null,null,false,0]
[null,"DATEN029",20,null,null,null,null,null,"",null,null,null,null,null,null,null,null,"",null,null,false,0]
[null,"DATEN030",21,null,null,null,null,null,"",null,null,null,null,null,null,null,null,"",null,null,false,0]
[null,"DATEN031",22,null,null,null,null,null,"",null,null,null,null,null,null,null,null,"",null,null,false,0]
[null,"DATEN032",23,null,null,null,null,null,"",null,null,null,null,null,null,null,null,"",null,null,false,0]
[null,"DATEN033",24,null,null,null,null,null,"",null,null,null,null,null,null,null,null,"",null,null,false,0]
[null,"DATEN034",25,null,null,null,null,null,"",null,null,null,null,null,null,null,null,"",null,null,false,0]
[null,"DATEN035",26,null,null,null,null,null,"",null,null,null,null,null,null,null,null,"",null,null,false,0]
[null,"DATEN036",27,null,null,null,null,null,"",null,null,null,null,null,null,null,null,"",null,null,false,0]
[null,"DATEN037",28,null,null,null,null,null,"",null,null,null,null,null,null,null,null,"",null,null,false,0]
[null,"DATEN038",29,null,null,null,null,null,"",null,null,null,null,null,null,null,null,"",null,null,false,0]
[null,"DATEN039",30,null,null,null,null,null,"",null,null,null,null,null,null,null,null,"",null,null,false,0]
[null,"DATEN040",31,null,null,null,null,null,"",null,null,null,null,null,null,null,null,"",null,null,false,0]
[null,"DATEN041",32,null,null,null,null,null,"",null,null,null,null,null,null,null,null,"",null,null,false,0]
[null,"DATEN042",33,null,null,null,null,null,"",null,null,null,null,null,null,null,null,"",null,null,{"$f":"IF(OR(F56<>\"\",H56<>\"\"),IF($B$4=\"SW\",IF(OR(F56<$J$16,F56>$J$17),TRUE,FALSE),IF(OR(F56>H56,F56=\"\",H56=\"\"),TRUE,FALSE)),FALSE)","v":false},{"$f":"IF(F56<>\"\",IF(F56>EDATE($J$17,-3),2,1),0)","v":0}]
[null,"DATEN043",34,null,null,null,null,null,"",null,null,null,null,null,null,null,null,"",null,null,false,0]
[null,"DATEN044",35,null,null,null,null,null,"",null,null,null,null,null,null,null,null,"",null,null,false,0]
[null,"DATEN045",36,null,null,null,null,null,"",null,null,null,null,null,null,null,null,"",null,null,false,0]
[null,"DATEN046",37,null,null,null,null,null,"",null,null,null,null,null,null,null,null,"",null,null,false,0]
[null,"DATEN047",38,null,null,null,null,null,"",null,null,null,null,null,null,null,null,"",null,null,false,0]
[null,"DATEN048",39,null,null,null,null,null,"",null,null,null,null,null,null,null,null,"",null,null,false,0]
[null,"DATEN049",40,null,null,null,null,null,"",null,null,null,null,null,null,null,null,"",null,null,false,0]
[null,"DATEN050",41,null,null,null,null,null,"",null,null,null,null,null,null,null,null,"",null,null,false,0]
[null,"DATEN051",42,null,null,null,null,null,"",null,null,null,null,null,null,null,null,"",null,null,false,0]
[null,"DATEN052",43,null,null,null,null,null,"",null,null,null,null,null,null,null,null,"",null,null,false,0]
[null,"DATEN053",44,null,null,null,null,null,"",null,null,null,null,null,null,null,null,"",null,null,false,0]
[null,"DATEN054",45,null,null,null,null,null,"",null,null,null,null,null,null,null,null,"",null,null,false,0]
[null,"DATEN055",46,null,null,null,null,null,"",null,null,null,null,null,null,null,null,"",null,null,false,0]
[null,"DATEN056",47,null,null,null,null,null,"",null,null,null,null,null,null,null,null,"",null,null,false,0]
[null,"DATEN057",48,null,null,null,null,null,"",null,null,null,null,null,null,null,null,"",null,null,false,0]
[]
[null,null,null,null,null,null,null,null,null,null,null,null,null,null,null,null,null,null,{"$f":"\"Ø \" & S77","v":"Ø .Quartal"},{"$f":"\"Ø \" & T77","v":"Ø .Quartal"}]
[null,null,null,null,null,null,null,null,null,null,null,null,null,null,null,null,null,null,{"$f":"IF(SUMIFS(S24:S71,V24:V71,\"1\")>0,AVERAGEIFS(S24:S71,V24:V71,\"1\"),0)","v":0},{"$f":"IF(SUMIFS(S24:S71,V24:V71,\"2\")>0,AVERAGEIFS(S24:S71,V24:V71,\"2\"),0)","v":0}]
[]
[null,null,"Ergebnis",null,null,null,null,null,null,null,null,null,null,null,null,null,null,null,"Behandlungseinheiten"]
[null,null,null,"Therapieindex",null,null,null,null,null,null,null,null,null,null,null,null,null,null,{"$f":"R16&\".Quartal\"","v":".Quartal"},{"$f":"R17&\".Quartal\"","v":".Quartal"}]
[null,"ERGEB901",null,{"$f":"IF(AND(E1>0,SUM(R24:R71)>0),SUM(R24:R71)/E1,\"\")","v":""},null,null,null,null,null,null,null,null,null,null,null,null,null,null,{"$f":"SUMIFS(R24:R71,V24:V71,\"1\")","v":0},{"$f":"SUMIFS(R24:R71,V24:V71,\"2\")","v":0}]
[null,null,null,null,null,null,null,null,null,null,null,null,null,null,null,null,null,null,"Therapieindex"]
[null,"ERGEB902",null,null,null,null,null,null,null,null,null,null,null,null,null,null,null,null,{"$f":"IF(S16<>\"\",S16,IF(S74>0,S78/S74,0))","v":0},{"$f":"IF(S17<>\"\",S17,IF(T74>0,T78/T74,0))","v":0}]
[null,"DATEN_ENDE"]

{"sheet":"Ergebnisse_GF","index":21,"n_rows":7,"n_cols":57,"rows_kept":7,"cut":false,"hidden":true,"merged":[[6,56,6,57]]}
["GF"]
[null,null,null,null,null,null,null,null,null,null,null,null,null,null,null,null,null,null,null,null,null,null,null,null,null,null,null,null,null,null,null,null,null,null,null,null,null,null,null,null,null,null,null,null,null,null,null,null,null,null,null,null,{"$f":"Intern_Eikotiger","v":"Eigenkontrolle Tiergerechtheit"}]
[1,null,null,null,null,null,null,null,null,null,null,null,null,null,null,null,null,null,null,null,null,null,null,null,null,null,null,null,null,null,null,null,null,null,null,null,null,null,null,null,null,null,null,null,null,null,null,null,null,null,null,null,"Ergebnisse Übersicht"]
[null,{"$f":"IF(T10<>\"\",T10,\"GF_HENNE\")","v":"GF_HENNE"},null,null,null,null,null,null,null,null,null,null,null,null,null,null,null,null,null,null,null,null,null,null,null,null,null,null,null,null,null,null,null,null,null,null,null,null,null,null,null,null,null,null,null," ? "]
[]
[]
[null,null,null,null,null,null,null,null,null,null,null,null,null,null,null,null,null,null,null,null,null,null,null,null,null,null,null,null,null,null,null,null,null,null,null,null,null,null,null,null,null,null,null,null,null,"Erhebung auswählen",null,null,null,null,null,null,null,null,null,null,"auswerten ..."]

{"sheet":"Ergebnisse_SW","index":22,"n_rows":7,"n_cols":55,"rows_kept":7,"cut":false,"hidden":true,"merged":[]}
["SW"]
[null,null,null,null,null,null,null,null,null,null,null,null,null,null,null,null,null,null,null,null,null,null,null,null,null,null,null,null,null,null,null,null,null,null,null,null,null,null,null,null,null,null,null,null,null,null,null,null,null,null,null,{"$f":"Intern_Eikotiger","v":"Eigenkontrolle Tiergerechtheit"}]
[1,null,null,null,null,null,null,null,null,null,null,null,null,null,null,null,null,null,null,null,null,null,null,null,null,null,null,null,null,null,null,null,null,null,null,null,null,null,null,null,null,null,null,null,null,null,null,null,null,null,null,"Ergebnisse Übersicht"]
[null,{"$f":"IF(T10<>\"\",T10,\"SW_SAU\")","v":"SW_SAU"},null,null,null,null,null,null,null,null,null,null,null,null,null,null,null,null,null,null,null,null,null,null,null,null,null,null,null,null,null,null,null,null,null,null,null,null,null,null,null,null,null,null,null," ? "]
[]
["DATEN_START"]
[null,null,null,null,null,null,null,null,null,null,null,null,null,null,null,null,null,null,null,null,null,null,null,null,null,null,null,null,null,null,null,null,null,null,null,null,null,null,null,null,null,null,null,null,null,"Erhebung auswählen",null,null,null,null,null,null,null,null,"auswerten ..."]

{"sheet":"Allg. Betriebsdaten","index":23,"n_rows":37,"n_cols":8,"rows_kept":37,"cut":false,"hidden":true,"merged":[[44,5,44,7]]}
[null,"RD"]
[null,null,null,null,null,null,null,{"$f":"Intern_Eikotiger","v":"Eigenkontrolle Tiergerechtheit"}]
[null,"RD_BETRIEB",null,null,null,null,null,"Allg. Betriebsdaten"]
[null,null,null," ? "]
[]
[]
[]
[null,null,null,null,"Betrieb"]
[null,null,null,null,null,"Name"]
[null,null,null,null,"*","Zusatz"]
[null,null,null,null,"*","Ort"]
[null,null,null,null,"*","Straße"]
[null,null,null,null,"*","Bearbeiter"]
[null,null,null,null,"*","Telefon"]
[null,null,null,null,"*","EMail"]
[null,null,null,null,"      * = optionale Angaben"]
[null,null,null,null,"Betriebs-ID"]
[]
[]
[null,null,null,null,"MLP (bei Betrieben mit Milchkühen angeben)"]
[null,null,null,null,null,"Sind Daten aus der Milchleistungsprüfung vorhanden?"]
[null,null,null,null,"Produktionsrichtung"]
[]
[null,null,null,null,null,null,null,"Für die Datenerhebung klicken Sie bitte auf den Reiter 'Erhebungen'"]
[]
[null,null,null,null,"Betriebsteile/Ställe",null,null,"(falls gesondere Erhebungen durchgeführt werden)"]
[null,null,null,null,null,"Nr.","Eigene Bezeichnung","Lageskizze / Notizen"]
[null,null,null,null,null,1]
[null,null,null,null,null,2]
[null,null,null,null,null,3]
[null,null,null,null,null,4]
[null,null,null,null,null,5]
[null,null,null,null,null,6]
[null,null,null,null,null,7]
[null,null,null,null,null,8]
[null,null,null,null,null,9]
[null,null,null,null,null,10]

{"sheet":"Erhebungen","index":24,"n_rows":11,"n_cols":23,"rows_kept":11,"cut":false,"hidden":true,"merged":[[6,21,6,22]]}
["RD",null,null,null,null,null,null,null,null,null,null,null,null,null,null,null,null,null,null,null,null,null,"Neue Erhebung einfügen"]
["RD_HORN","Ein weiteres Blatt 'Komplikationen nach Enthornung' einfügen?",null,null,null,null,null,null,null,null,null,null,null,null,null,{"$f":"Intern_Eikotiger","v":"Eigenkontrolle Tiergerechtheit"},null,null,null,null,null,null,"Milchkühe ..."]
[1,null,null,null,null,null,null,null,null,null,null,null,null,null,null,"Erhebungen Übersicht",null,null,null,null,null,null,"Aufzuchtkälber ..."]
[null,"RD_MILCH",null,null,null,null,null," ? ",null,null,null,null,null,null,null,null,null,null,null,null,null,null,"Mastrinder ..."]
[]
[]
["DATEN_START",null,null,null,null,null,null,"Erhebung auswählen",null,null,null,null,null,null,null,null,null,null,null,null,null,"anzeigen ..."]
[]
[]
[]
["DATEN_ENDE"]

{"sheet":"RD_MILCH","index":25,"n_rows":53,"n_cols":30,"rows_kept":53,"cut":false,"hidden":true,"merged":[[9,3,9,6],[40,20,40,25]]}
[null,"RD_MILCH","Milchkühe",null,null,null,null,"MLP-Daten/Geburten/Nutzungsdauer/Tierverluste",null,null,null,null,0,0]
[null,8,"T","T",{"$f":"IF(Intern_RD_MLP,\"W\",\"-\")","v":"W"},{"$f":"$E$2","v":"W"},"W","W","W","W","W","W","W","W","W","W","W","-","-","W","T","T","T","-","T","T",{"$f":"IF(Intern_RD_MLP=FALSE,\"W\",\"-\")","v":"-"},{"$f":"$AA$2","v":"-"},{"$f":"$AA$2","v":"-"},"T"]
[null,"RD_MILCH","T","T","W01","T","W02","T","W03","T","T","W04","T","W05","R20","W06","R21","T","T","T","W07","T","W08","T","T","R09","T","T","W10","T"]
[null,null,null,"Clear","19-30",null,{"$f":"$E$4","v":"19-30"},null,{"$f":"$E$4","v":"19-30"},null,null,"19-30",null,{"$f":"$L$4","v":"19-30"},null,{"$f":"$L$4","v":"19-30"},null,null,null,null,{"$f":"$L$4&\";38;40\"","v":"19-30;38;40"},null,{"$f":"$L$4&\";38;40;45\"","v":"19-30;38;40;45"},null,null,"32;38;40",null,null,{"$f":"$L$4&\";40\"","v":"19-30;40"}]
[null,null,null,{"$f":"$C$1& \" (\" & $D$1 & \")\"","v":"Milchkühe ()"}]
[null,2,null,{"$f":"$H$1 & IF($J$1<> \"\",\" vom \" & TEXT($J$1,\"tt.MM.jjjj\"),\"\")","v":"MLP-Daten/Geburten/Nutzungsdauer/Tierverluste"}]
[null,null,"    ?    ",{"$f":"\"Betrieb: \" & Intern_BetriebID & IF(E1<>\"\",\" [\" & E1 & \"]\",\"\")","v":"Betrieb: "},null,null,null,null,null,null,null,null,null,null,null,null,null,null,null,null,null,null,null,null,null,null,null,null,null,"© KTBL & Thünen"]
[]
[]
[null,null,null,"Speichern und schließen ..."]
[]
[null,null,null,null,"Milchleistungsprüfung - Zusammenfassung",null,null,null,null,null,null,null,null,null,null,null,null,null,null,null,"Aufzeichnungen"]
[null,null,null,null,"Kühe",null,"Kühe",null,"Erst-",null,null,"Kühe in den ersten 100 Laktationstagen",null,null,null,null,null,null,null,null,"Schwergeburten",null,null,null,null,null,null,null,"Mastitis-"]
[null,null,null,null,null,null,null,null,"laktierende",null,null,null,null,null,null,null,null,null,null,null,null,null,null,null,null,null,null,null,"behandlungen"]
[]
[null,null,null,null,"mit Zellzahl ",null,"mit Zellzahl ",null,"mit Zellzahl "]
[null,null,null,null,"< 100.000",null,"> 400.000",null,"≥ 100.000",null,null,"Kühe","Kühe mit FEQ ≥ 1,5",null,null,"Kühe mit FEQ < 1",null,null,null,null,"Geburten",null,"Schwergeburten"]
[null,null,null,"Monat","%",null,"%",null,"%",null,null,"Anzahl",null,"Anzahl","%","Anzahl","%",null,null,null,"Anzahl",null,"Anzahl",null,null,"%",null,null,"Anzahl"]
[null,"Daten001",null,"Januar",null,null,null,null,null,null,null,null,null,null,{"$f":"IF(AND(L19>0,N19<>\"\"),N19/L19*100,\"\")","v":""},null,{"$f":"IF(AND(L19>0,P19<>\"\"),P19/L19*100,\"\")","v":""},{"$f":"N19>L19","v":false},{"$f":"P19>L19","v":false},null,null,null,null,{"$f":"W19>U19","v":false},null,{"$f":"IF(U19>0,W19/U19*100,\"\")","v":""}]
[null,"Daten002",null,"Februar",null,null,null,null,null,null,null,null,null,null,{"$f":"IF(AND(L20>0,N20<>\"\"),N20/L20*100,\"\")","v":""},null,{"$f":"IF(AND(L20>0,P20<>\"\"),P20/L20*100,\"\")","v":""},{"$f":"N20>L20","v":false},{"$f":"P20>L20","v":false},null,null,null,null,{"$f":"W20>U20","v":false},null,{"$f":"IF(U20>0,W20/U20*100,\"\")","v":""}]
[null,"Daten003",null,"März",null,null,null,null,null,null,null,null,null,null,"",null,"",false,false,null,null,null,null,false,null,""]
[null,"Daten004",null,"April",null,null,null,null,null,null,null,null,null,null,"",null,"",false,false,null,null,null,null,false,null,""]
[null,"Daten005",null,"Mai",null,null,null,null,null,null,null,null,null,null,"",null,"",{"$f":"N23>L23","v":false},false,null,null,null,null,false,null,""]
[null,"Daten006",null,"Juni",null,null,null,null,null,null,null,null,null,null,"",null,"",false,false,null,null,null,null,false,null,""]
[null,"Daten007",null,"Juli",null,null,null,null,null,null,null,null,null,null,"",null,"",false,false,null,null,null,null,false,null,""]
[null,"Daten008",null,"August",null,null,null,null,null,null,null,null,null,null,"",null,"",false,false,null,null,null,null,false,null,""]
[null,"Daten009",null,"September",null,null,null,null,null,null,null,null,null,null,"",null,"",false,false,null,null,null,null,false,null,""]
[null,"Daten010",null,"Oktober",null,null,null,null,null,null,null,null,null,null,"",null,"",false,false,null,null,null,null,false,null,""]
[null,"Daten011",null,"November",null,null,null,null,null,null,null,null,null,null,"",null,"",false,false,null,null,null,null,false,null,""]
[null,"Daten012",null,"Dezember",null,null,null,null,null,null,null,null,null,null,"",null,"",false,false,null,null,null,null,false,null,""]
[null,null,null,null,null,null,null,null,null,null,null,null,null,null,null,null,null,null,null,null,"Direkteingabe"]
[null,"Daten021_W09",null,null,null,null,null,null,null,null,null,null,null,null,null,null,null,null,null,null,"Schwergeburtenrate %"]
[]
[]
[null,null,null,null,null,null,null,null,null,null,null,null,null,null,null,null,null,null,null,null,"Nutzungsdauer",null,null,null,null,null,null,"Tieranzahl"]
[null,null,null,null,null,null,null,null,null,null,null,null,null,null,null,null,null,null,null,null,null,null,null,null,null,null,null,"Gesamtzahl Kühe"]
[null,null,null,null,null,null,null,null,null,null,null,null,null,null,null,null,null,null,null,null,"Aktuelles Jahr",null,"Vorjahr",null,null,"Vorvorjahr",null,"im Zeitraum"]
[null,"Daten024_W07_W08_W09"]
[null,null,null,null,null,null,null,null,null,null,null,null,null,null,null,null,null,null,null,null,"Monate",null,"Monate",null,null,"Monate",null,null,"Anzahl"]
[null,"Daten022_W07_W08_W09_W10"]
[]
[]
[null,null,null,null,null,null,null,null,null,null,null,null,null,null,null,null,null,null,null,null,"Tierverluste"]
[null,null,null,null,null,null,null,null,null,null,null,null,null,null,null,null,null,null,null,null,null,null,"Mortalitätsrate"]
[null,"Daten023_W08"]
[]
[]
[null,"ERGEB904",null,"Ergebnisse",null,null,null,null,null,null,null,"Anzahl Kühe",null,null,"% Kühe mit ",null,"% Kühe mit ",null,null,null,"Geburten",null,null,null,null,{"$f":"IF(COUNT(Z32)=0,SUM(U19:U30),\"\")","v":0},null,null,"Anzahl Kühe"]
[null,"ERGEB903",null,{"$f":"IF(Intern_RD_MLP=TRUE,\"Anzahl Eintragungen\",\"\")","v":"Anzahl Eintragungen"},{"$f":"COUNT(E19:E30)","v":0},null,{"$f":"COUNT(G19:G30)","v":0},null,{"$f":"COUNT(I19:I30)","v":0},null,null,null,null,null,"FEQ ≥ 1,5",null,"FEQ < 1",null,null,null,"Schwergeburten",null,null,null,"%",{"$f":"IF(COUNT(Z32)=1,Z32,IF(SUM(W19:W30)>0,SUM(W19:W30)/SUM(U19:U30)*100,\"\"))","v":""},null,null,{"$f":"AC40","v":0}]
[null,"ERGEB901",null,{"$f":"IF(Intern_RD_MLP=TRUE,\"Mittelwerte %\",\"\")","v":"Mittelwerte %"},{"$f":"IF(SUM(E19:E30)>0,AVERAGE(E19:E30),0)","v":0},null,{"$f":"IF(SUM(G19:G30)>0,AVERAGE(G19:G30),0)","v":0},null,{"$f":"IF(SUM(I19:I30)>0,AVERAGE(I19:I30),0)","v":0},null,null,{"$f":"SUM(L19:L30)","v":0},null,{"$f":"SUM(N19:N30)","v":0},{"$f":"IF(L50>0,N50/L50*100,0)","v":0},{"$f":"SUM(P19:P30)","v":0},{"$f":"IF(L50>0,P50/L50*100,0)","v":0},null,null,null,"Nutzungsdauer",null,null,null,"Jahre",{"$f":"IF(SUM(U40:Z40)>0,AVERAGE(U40,W40,Z40)/12,0)","v":0},null,null,"Behand.Inzidenz"]
[null,"ERGEB902",null,null,null,null,null,null,null,null,null,null,null,null,null,null,null,null,null,null,"Mortalitätsrate",null,null,null,null,{"$f":"IF(W45<>\"\",W45,\"\")","v":""},null,null,{"$f":"IF(AC49>0,SUM(AC19:AC30)/AC40*100,\"\")","v":""}]
[]
[null,"DATEN_ENDE",null,null,null,null,null,null,null,null,null,null,null,null,null,null,null,null,null,null,null,null,null,null,null,"für bedingtes Format",null,null,{"$f":"IF(AND(AC40=\"\",SUM(AC19:AC30)>0),TRUE,FALSE)","v":false}]

{"sheet":"RD_KALB","index":26,"n_rows":46,"n_cols":14,"rows_kept":46,"cut":false,"hidden":true,"merged":[[9,3,9,6]]}
[null,"RD_KALB","Aufzuchtkälber",null,null,null,null,"Behandlungen/Tierverluste",null,null,null,null,0,0]
[null,13,"T","T","T","T","T","T"]
[null,"RD_KALB","T","W01","W02","T","W03","T"]
[null,null,"Clear",40,"21-32",null,{"$f":"$E$4&\";14;40\"","v":"21-32;14;40"}]
[null,null,null,{"$f":"$C$1& \" (\" & $D$1  & \")\"","v":"Aufzuchtkälber ()"}]
[null,3,null,{"$f":"H1 & IF(J1<> \"\",\" (Stand vom \" & TEXT(J1,\"tt.MM.jjjj\") & \")\",\"\")","v":"Behandlungen/Tierverluste"}]
[null,null,"    ?    ",{"$f":"\"Betrieb: \" & Intern_BetriebID & IF(E1<>\"\",\" [\" & E1 & \"]\",\"\")","v":"Betrieb: "},null,null,null,null,null,"© KTBL & Thünen"]
[]
[]
[null,null,null,"Speichern und schließen ..."]
[]
[]
[null,null,null,"Anzahl Tiere"]
[null,"DATEN001_W03",null,"Gesamtzahl Kälber im Zeitraum",null,null,120]
[]
[null,null,null,null,"Behandlungen"]
[null,null,null,null,"Atemwegs-",null,"Durchfall-"]
[null,null,null,"Monat","erkrankungen",null,"erkrankungen"]
[]
[null,null,null,null,"Anzahl",null,"Anzahl"]
[null,"DATEN010_W02_W03",null,"Januar",null,null,2]
[null,"DATEN011_W02_W03",null,"Februar",null,null,2]
[null,"DATEN012_W02_W03",null,"März"]
[null,"DATEN013_W02_W03",null,"April"]
[null,"DATEN014_W02_W03",null,"Mai"]
[null,"DATEN015_W02_W03",null,"Juni",null,null,2]
[null,"DATEN016_W02_W03",null,"Juli",null,null,2]
[null,"DATEN017_W02_W03",null,"August"]
[null,"DATEN018_W02_W03",null,"September"]
[null,"DATEN019_W02_W03",null,"Oktober"]
[null,"DATEN020_W02_W03",null,"November"]
[null,"DATEN021_W02_W03",null,"Dezember"]
[]
[]
[null,null,"Tierverluste"]
[null,null,null,"Mortalitätsrate",null,null,"Mortalitätsrate"]
[null,null,null,"≥ 7 Tage bis",null,null,"> 12 Wochen "]
[null,null,null,"12 Wochen",null,null,"bis 6 Monate"]
[]
[null,"DATEN030_W01_W03",null,1.23,null,null,0.45]
[]
[null,null,null,"Ergebnisse"]
[null,null,null,"Summe",{"$f":"SUM(E21:E32)","v":0},null,{"$f":"SUM(G21:G32)","v":8}]
[null,"ERGEB901",null,"Behandlungsinzidenz %",{"$f":"IF(COUNT($G$14)=1,SUM(E21:E32)/$G$14*100,\"\")","v":0},null,{"$f":"IF(COUNT($G$14)=1,SUM(G21:G32)/$G$14*100,\"\")","v":6.7}]
[null,"ERGEB902",null,"Mortalitätsraten",{"$f":"IF(COUNT(D40)=1,D40,\"\")","v":1.23},null,{"$f":"IF(COUNT(G40)=1,G40,\"\")","v":0.45}]
[null,"DATEN_ENDE"]

{"sheet":"RD_EINZEL","index":27,"n_rows":125,"n_cols":40,"rows_kept":125,"cut":false,"hidden":true,"merged":[[13,37,14,37],[13,36,14,36],[13,34,14,34],[13,20,14,20],[9,2,9,10],[13,17,14,17],[13,18,14,18],[13,19,14,19],[13,12,14,12],[13,7,14,7],[13,6,14,6]]}
[null,"RD_MILCH","Milchkühe",null,null,null,null,"Tierbeurteilung",null,null,null,null,0,0]
[null,6,"T","T","T",{"$f":"G2","v":"-"},{"$f":"IF(ISERROR(FIND(G3,$B$7))=FALSE,\"W\",\"-\")","v":"-"},{"$f":"IF(ISERROR(FIND(H3,$B$7))=FALSE,\"W\",\"-\")","v":"W"},{"$f":"IF(COUNTIF(J2:P2,\"W\")>0,\"W\",\"-\")","v":"W"},{"$f":"IF(ISERROR(FIND(J3,$B$7))=FALSE,\"W\",\"-\")","v":"W"},"W","W","W","W",{"$f":"IF(ISERROR(FIND(O3,$B$7))=FALSE,\"W\",\"-\")","v":"W"},{"$f":"IF(ISERROR(FIND(P3,$B$7))=FALSE,\"W\",\"-\")","v":"-"},{"$f":"IF(COUNTIF(R2:U2,\"W\")>0,\"W\",\"-\")","v":"W"},{"$f":"IF(ISERROR(FIND(R3,$B$7))=FALSE,\"W\",\"-\")","v":"W"},{"$f":"IF(ISERROR(FIND(S3,$B$7))=FALSE,\"W\",\"-\")","v":"W"},{"$f":"IF(ISERROR(FIND(T3,$B$7))=FALSE,\"W\",\"-\")","v":"W"},{"$f":"IF(ISERROR(FIND(U3,$B$7))=FALSE,\"W\",\"-\")","v":"-"},{"$f":"IF(COUNTIF(W2:AF2,\"W\")>0,\"W\",\"-\")","v":"W"},{"$f":"IF(ISERROR(FIND(W3,$B$7))=FALSE,\"W\",\"-\")","v":"W"},{"$f":"IF(ISERROR(FIND(X3,$B$7))=FALSE,\"W\",\"-\")","v":"W"},{"$f":"Z2","v":"W"},{"$f":"IF(ISERROR(FIND(Z3,$B$7))=FALSE,\"W\",\"-\")","v":"W"},{"$f":"IF(ISERROR(FIND(AA3,$B$7))=FALSE,\"W\",\"-\")","v":"W"},{"$f":"AC2","v":"W"},{"$f":"IF(ISERROR(FIND(AC3,$B$7))=FALSE,\"W\",\"-\")","v":"W"},{"$f":"IF(ISERROR(FIND(AD3,$B$7))=FALSE,\"W\",\"-\")","v":"W"},{"$f":"P2","v":"-"},{"$f":"IF(ISERROR(FIND(AF3,$B$7))=FALSE,\"W\",\"-\")","v":"-"},"-",{"$f":"AI2","v":"W"},{"$f":"IF(ISERROR(FIND(AI3,$B$7))=FALSE,\"W\",\"-\")","v":"W"},{"$f":"IF(COUNTIF(AK2:AL2,\"W\")>0,\"W\",\"-\")","v":"W"},{"$f":"IF(ISERROR(FIND(AK3,$B$7))=FALSE,\"W\",\"-\")","v":"W"},{"$f":"IF(ISERROR(FIND(AL3,$B$7))=FALSE,\"W\",\"-\")","v":"W"},"-","T"]
[null,"RD_EINZEL","T","W01","W02","T","W03","W04","T","W05","W06","W07","W08","W09","R10","W15","T","W16","W17","W18","W19","T","W24","W25","T","W22","W23","T","W20","W21","T","W26","R30","T","W27","T","W28","W29","T","T"]
[null,"RD_MILCH","Clear","17-106",{"$f":"$D$4","v":"17-106"},null,{"$f":"$D$4&\";109-110\"","v":"17-106;109-110"},{"$f":"$D$4","v":"17-106"},null,{"$f":"$D$4","v":"17-106"},{"$f":"$J$4","v":"17-106"},{"$f":"$J$4","v":"17-106"},{"$f":"$J$4","v":"17-106"},{"$f":"M4","v":"17-106"},"109-111",{"$f":"$D$4&\";109-110\"","v":"17-106;109-110"},null,{"$f":"$G$4","v":"17-106;109-110"},"17-106;109-110","17-106;109-110","17-106;109-110",null,{"$f":"$G$4","v":"17-106;109-110"},"17-106;109-110",null,{"$f":"$G$4","v":"17-106;109-110"},"17-106;109-110",null,{"$f":"$G$4","v":"17-106;109-110"},"17-106;109-110",null,{"$f":"$G$4","v":"17-106;109-110"},null,null,{"$f":"$G$4","v":"17-106;109-110"},null,{"$f":"$J$4&\";109-111\"","v":"17-106;109-111"},{"$f":"$G$4","v":"17-106;109-110"}]
[null,2,null,{"$f":"$C$1& \" (\" & $D$1 & IF($B$5=1,\" Sommerhalbjahr\",\" Winterhalbjahr\") & \")\"","v":"Milchkühe ( Winterhalbjahr)"}]
[null,2,null,{"$f":" $H$1 & IF($J$1<> \"\",\" vom \" & TEXT($J$1,\"tt.MM.jjjj\"),\"\")","v":"Tierbeurteilung"}]
[null,{"$f":"VLOOKUP(B4,InternInfos!A21:D39,4)","v":"W01;W02;W04;W05;W06;W07;W08;W09;R10;W16;W17;W18;W20;W21;W22;W23;W24;W25;W27;W28:W29"},"    ?    ",{"$f":"\"Betrieb: \" & Intern_BetriebID & IF(E1<>\"\",\" [\" & E1 & \"]\",\"\")","v":"Betrieb: "},null,null,null,null,null,null,null,null,null,null,null,null,null,null,null,null,null,null,null,null,null,null,null,null,null,null,null,null,null,null,null,null,null,null,null,"© KTBL & Thünen"]
[null,{"$f":"IF(B10<>\"\",\"MILCH_\"&B10&\"|MAST_\"&B10,\"\") & \"|MAST_111-111|MAST_116-116|MAST_121-121\"","v":"MILCH_18-106|MAST_18-106|MAST_111-111|MAST_116-116|MAST_121-121"}]
[]
[null,{"$f":"IF(B5=1,IF(M1<90,MAX(18,(107-(90-M1)))&\"-106\",\"\"),IF(N1<90,MAX(18,(107-(90-N1)))&\"-106\",\"\"))","v":"18-106"},"Speichern und schließen ..."]
[]
[null,null,null,null,null,"Nasen-",null,null,null,"Körperkondition",null,null,null,null,null,"Körper-",null,"Verschmutzung",null,null,"Ver-",null,"Integumentschäden",null,null,null,null,null,null,null,null,null,null,null,"Klauen",null,"Lahmheit",{"$f":"IF(B1=\"RD_MAST\",\"Lahmheit\",\"\")","v":""}]
[null,null,null,null,null,"ausfluss",null,null,null,"0=normal, 1=zu mager, 2=zu fett",null,null,null,null,null,"kondition",null,"0=sauber, 1=verschmutzt",null,null,"schmutzung",null,"0=nein, 1=ja",null,null,null,null,null,null,null,null,null,null,null,null,null,"Laufstall",{"$f":"IF(B1<>\"RD_MAST\",\"Anbindehalt.\",\"\")","v":"Anbindehalt."}]
[null,null,null,null,null,null,"0=kein Ausfluss\n1=deutlich sichtbarer Ausfluss","Anbindehaltung",null,null,null,null,"Sitz-, Hüftbeinhöcker,\nRippen, Dornfortsätze","Direkt-\neingabe",null,null,null,"Unteres Hinterbein","Oberes Hinterbein","Euter","0= nicht verschmutzt\n1= verschmutzt",null,"Sprung-\ngelenk",null,"Vorderfuß-\nwurzelgelenk",null,null,"Nacken",null,null,"Schwanz-\nspitze",null,null,null,"0= keine Mängel\n1= mangelhaft",null,"0= nicht lahm\n1= geringgradig lahm\n2= hochgradig lahm","0= nicht lahm\n1= lahm"]
[null,null,"Tier",{"$f":"\"Nummer / \" &\nIF(B1=\"RD_Milch\",\"Transponder / \",\"\") &\n\"Ohrmarke\"","v":"Nummer / Transponder / Ohrmarke"},{"$f":"IF(B1=\"RD_MAST\",\"Bucht\", \"Gruppen-zugehörigkeit\")","v":"Gruppen-zugehörigkeit"},null,null,null,null,"Schwanzgrube","Lendenbereich","Querfortsätze",null,"0= normal\n1= zu mager\n2 = zu fett","Körperkondition\n(gesamt)","0= normal\n1= zu mager",null,null,null,null,null,null,"Wunde/Kruste","Schwellung",null,"Wunde/Kruste","Schwellung",null,"Wunde/Kruste","Schwellung",null,"Verletzung / \nNekrose"]
[null,null,"Nr",null,null,null,"[0,1]","[0=nein,1=ja]",null,"[0,1,2,]","[0,1,2,]","[0,1,2,]","[0,1,2,]","[0,1,2]",null,"[0,1]",null,"[0,1]","[0,1]","[0,1]","[0,1]",null,"[0,1]","[0,1]",null,"[0,1]","[0,1]",null,"[0,1]","[0,1]",null,"[0,1]",null,null,"[0,1]",null,"[0,1,2]","[0,1]"]
[null,"DATEN010",1,"",null,null,null,null,null,null,null,null,null,null,{"$f":"IF(COUNT(N17)=1,N17,IF(COUNTIF(J17:M17,\">-1\")=4,IF(COUNTIF(J17:M17,\"1\")>2,1,IF(COUNTIF(J17:M17,\"2\")>2,2,0)),\"\"))","v":""},null,null,null,null,null,null,null,null,null,null,null,null,null,null,null,null,null,{"$f":"IF(COUNTIF(W17:AF17,\"0\")=IF($B$1=\"RD_MAST\",7,6),0,IF(SUM(W17:AF17)>0,1,-1))","v":-1},null,null,null,null,null,{"$f":"IF($B$1<>\"RD_MAST\",IF(H17<>\"\",OR(AND(H17=0,AK17=\"\"),AND(H17=1,AL17=\"\"),AND(AK17<>\"\",AL17<>\"\")),OR(AK17<>\"\",AL17<>\"\")),FALSE)","v":false}]
[null,"DATEN011",2,"",null,null,null,null,null,null,null,null,null,null,{"$f":"IF(COUNT(N18)=1,N18,IF(COUNTIF(J18:M18,\">-1\")=4,IF(COUNTIF(J18:M18,\"1\")>2,1,IF(COUNTIF(J18:M18,\"2\")>2,2,0)),\"\"))","v":""},null,null,null,null,null,null,null,null,null,null,null,null,null,null,null,null,null,{"$f":"IF(COUNTIF(W18:AF18,\"0\")=IF($B$1=\"RD_MAST\",7,6),0,IF(SUM(W18:AF18)>0,1,-1))","v":-1},null,null,null,null,null,false]
[null,"DATEN012",3,"",null,null,null,null,null,null,null,null,null,null,"",null,null,null,null,null,null,null,null,null,null,null,null,null,null,null,null,null,-1,null,null,null,null,null,false]
[null,"DATEN013",4,"",null,null,null,null,null,null,null,null,null,null,"",null,null,null,null,null,null,null,null,null,null,null,null,null,null,null,null,null,-1,null,null,null,null,null,false]
[null,"DATEN014",5,"",null,null,null,null,null,null,null,null,null,null,"",null,null,null,null,null,null,null,null,null,null,null,null,null,null,null,null,null,-1,null,null,null,null,null,false]
[null,"DATEN015",6,"",null,null,null,null,null,null,null,null,null,null,"",null,null,null,null,null,null,null,null,null,null,null,null,null,null,null,null,null,-1,null,null,null,null,null,false]
[null,"DATEN016",7,"",null,null,null,null,null,null,null,null,null,null,"",null,null,null,null,null,null,null,null,null,null,null,null,null,null,null,null,null,-1,null,null,null,null,null,false]
[null,"DATEN017",8,"",null,null,null,null,null,null,null,null,null,null,"",null,null,null,null,null,null,null,null,null,null,null,null,null,null,null,null,null,-1,null,null,null,null,null,false]
[null,"DATEN018",9,"",null,null,null,null,null,null,null,null,null,null,"",null,null,null,null,null,null,null,null,null,null,null,null,null,null,null,null,null,-1,null,null,null,null,null,false]
[null,"DATEN019",10,"",null,null,null,null,null,null,null,null,null,null,"",null,null,null,null,null,null,null,null,null,null,null,null,null,null,null,null,null,-1,null,null,null,null,null,false]
[null,"DATEN020",11,"",null,null,null,null,null,null,null,null,null,null,"",null,null,null,null,null,null,null,null,null,null,null,null,null,null,null,null,null,-1,null,null,null,null,null,false]
[null,"DATEN021",12,"",null,null,null,null,null,null,null,null,null,null,"",null,null,null,null,null,null,null,null,null,null,null,null,null,null,null,null,null,-1,null,null,null,null,null,false]
[null,"DATEN022",13,"",null,null,null,null,null,null,null,null,null,null,"",null,null,null,null,null,null,null,null,null,null,null,null,null,null,null,null,null,-1,null,null,null,null,null,false]
[null,"DATEN023",14,"",null,null,null,null,null,null,null,null,null,null,"",null,null,null,null,null,null,null,null,null,null,null,null,null,null,null,null,null,-1,null,null,null,null,null,false]
[null,"DATEN024",15,"",null,null,null,null,null,null,null,null,null,null,"",null,null,null,null,null,null,null,null,null,null,null,null,null,null,null,null,null,-1,null,null,null,null,null,false]
[null,"DATEN025",16,"",null,null,null,null,null,null,null,null,null,null,"",null,null,null,null,null,null,null,null,null,null,null,null,null,null,null,null,null,-1,null,null,null,null,null,false]
[null,"DATEN026",17,"",null,null,null,null,null,null,null,null,null,null,"",null,null,null,null,null,null,null,null,null,null,null,null,null,null,null,null,null,-1,null,null,null,null,null,false]
[null,"DATEN027",18,"",null,null,null,null,null,null,null,null,null,null,"",null,null,null,null,null,null,null,null,null,null,null,null,null,null,null,null,null,-1,null,null,null,null,null,false]
[null,"DATEN028",19,"",null,null,null,null,null,null,null,null,null,null,"",null,null,null,null,null,null,null,null,null,null,null,null,null,null,null,null,null,-1,null,null,null,null,null,false]
[null,"DATEN029",20,"",null,null,null,null,null,null,null,null,null,null,"",null,null,null,null,null,null,null,null,null,null,null,null,null,null,null,null,null,-1,null,null,null,null,null,false]
[null,"DATEN030",21,"",null,null,null,null,null,null,null,null,null,null,"",null,null,null,null,null,null,null,null,null,null,null,null,null,null,null,null,null,-1,null,null,null,null,null,false]
[null,"DATEN031",22,"",null,null,null,null,null,null,null,null,null,null,"",null,null,null,null,null,null,null,null,null,null,null,null,null,null,null,null,null,-1,null,null,null,null,null,false]
[null,"DATEN032",23,"",null,null,null,null,null,null,null,null,null,null,"",null,null,null,null,null,null,null,null,null,null,null,null,null,null,null,null,null,-1,null,null,null,null,null,false]
[null,"DATEN033",24,"",null,null,null,null,null,null,null,null,null,null,"",null,null,null,null,null,null,null,null,null,null,null,null,null,null,null,null,null,-1,null,null,null,null,null,false]
[null,"DATEN034",25,"",null,null,null,null,null,null,null,null,null,null,"",null,null,null,null,null,null,null,null,null,null,null,null,null,null,null,null,null,-1,null,null,null,null,null,false]
[null,"DATEN035",26,"",null,null,null,null,null,null,null,null,null,null,"",null,null,null,null,null,null,null,null,null,null,null,null,null,null,null,null,null,-1,null,null,null,null,null,false]
[null,"DATEN036",27,"",null,null,null,null,null,null,null,null,null,null,"",null,null,null,null,null,null,null,null,null,null,null,null,null,null,null,null,null,-1,null,null,null,null,null,false]
[null,"DATEN037",28,"",null,null,null,null,null,null,null,null,null,null,"",null,null,null,null,null,null,null,null,null,null,null,null,null,null,null,null,null,-1,null,null,null,null,null,false]
[null,"DATEN038",29,"",null,null,null,null,null,null,null,null,null,null,"",null,null,null,null,null,null,null,null,null,null,null,null,null,null,null,null,null,-1,null,null,null,null,null,false]
[null,"DATEN039",30,"",null,null,null,null,null,null,null,null,null,null,"",null,null,null,null,null,null,null,null,null,null,null,null,null,null,null,null,null,-1,null,null,null,null,null,false]
[null,"DATEN040",31,"",null,null,null,null,null,null,null,null,null,null,"",null,null,null,null,null,null,null,null,null,null,null,null,null,null,null,null,null,-1,null,null,null,null,null,false]
[null,"DATEN041",32,"",null,null,null,null,null,null,null,null,null,null,"",null,null,null,null,null,null,null,null,null,null,null,null,null,null,null,null,null,-1,null,null,null,null,null,false]
[null,"DATEN042",33,"",null,null,null,null,null,null,null,null,null,null,"",null,null,null,null,null,null,null,null,null,null,null,null,null,null,null,null,null,-1,null,null,null,null,null,{"$f":"IF($B$1<>\"RD_MAST\",IF(H49<>\"\",OR(AND(H49=0,AK49=\"\"),AND(H49=1,AL49=\"\"),AND(AK49<>\"\",AL49<>\"\")),OR(AK49<>\"\",AL49<>\"\")),FALSE)","v":false}]
[null,"DATEN043",34,"",null,null,null,null,null,null,null,null,null,null,"",null,null,null,null,null,null,null,null,null,null,null,null,null,null,null,null,null,-1,null,null,null,null,null,false]
[null,"DATEN044",35,"",null,null,null,null,null,null,null,null,null,null,"",null,null,null,null,null,null,null,null,null,null,null,null,null,null,null,null,null,-1,null,null,null,null,null,false]
[null,"DATEN045",36,"",null,null,null,null,null,null,null,null,null,null,"",null,null,null,null,null,null,null,null,null,null,null,null,null,null,null,null,null,-1,null,null,null,null,null,false]
[null,"DATEN046",37,"",null,null,null,null,null,null,null,null,null,null,"",null,null,null,null,null,null,null,null,null,null,null,null,null,null,null,null,null,-1,null,null,null,null,null,false]
[null,"DATEN047",38,"",null,null,null,null,null,null,null,null,null,null,"",null,null,null,null,null,null,null,null,null,null,null,null,null,null,null,null,null,-1,null,null,null,null,null,false]
[null,"DATEN048",39,"",null,null,null,null,null,null,null,null,null,null,"",null,null,null,null,null,null,null,null,null,null,null,null,null,null,null,null,null,-1,null,null,null,null,null,false]
[null,"DATEN049",40,"",null,null,null,null,null,null,null,null,null,null,"",null,null,null,null,null,null,null,null,null,null,null,null,null,null,null,null,null,-1,null,null,null,null,null,false]
[null,"DATEN050",41,"",null,null,null,null,null,null,null,null,null,null,"",null,null,null,null,null,null,null,null,null,null,null,null,null,null,null,null,null,-1,null,null,null,null,null,false]
[null,"DATEN051",42,"",null,null,null,null,null,null,null,null,null,null,"",null,null,null,null,null,null,null,null,null,null,null,null,null,null,null,null,null,-1,null,null,null,null,null,false]
[null,"DATEN052",43,"",null,null,null,null,null,null,null,null,null,null,"",null,null,null,null,null,null,null,null,null,null,null,null,null,null,null,null,null,-1,null,null,null,null,null,false]
[null,"DATEN053",44,"",null,null,null,null,null,null,null,null,null,null,"",null,null,null,null,null,null,null,null,null,null,null,null,null,null,null,null,null,-1,null,null,null,null,null,false]
[null,"DATEN054",45,"",null,null,null,null,null,null,null,null,null,null,"",null,null,null,null,null,null,null,null,null,null,null,null,null,null,null,null,null,-1,null,null,null,null,null,false]
[null,"DATEN055",46,"",null,null,null,null,null,null,null,null,null,null,"",null,null,null,null,null,null,null,null,null,null,null,null,null,null,null,null,null,-1,null,null,null,null,null,false]
[null,"DATEN056",47,"",null,null,null,null,null,null,null,null,null,null,"",null,null,null,null,null,null,null,null,null,null,null,null,null,null,null,null,null,-1,null,null,null,null,null,false]
[null,"DATEN057",48,"",null,null,null,null,null,null,null,null,null,null,"",null,null,null,null,null,null,null,null,null,null,null,null,null,null,null,null,null,-1,null,null,null,null,null,false]
[null,"DATEN058",49,"",null,null,null,null,null,null,null,null,null,null,"",null,null,null,null,null,null,null,null,null,null,null,null,null,null,null,null,null,-1,null,null,null,null,null,false]
[null,"DATEN059",50,"",null,null,null,null,null,null,null,null,null,null,"",null,null,null,null,null,null,null,null,null,null,null,null,null,null,null,null,null,-1,null,null,null,null,null,false]
[null,"DATEN060",51,"",null,null,null,null,null,null,null,null,null,null,"",null,null,null,null,null,null,null,null,null,null,null,null,null,null,null,null,null,-1,null,null,null,null,null,false]
[null,"DATEN061",52,"",null,null,null,null,null,null,null,null,null,null,"",null,null,null,null,null,null,null,null,null,null,null,null,null,null,null,null,null,-1,null,null,null,null,null,false]
[null,"DATEN062",53,"",null,null,null,null,null,null,null,null,null,null,"",null,null,null,null,null,null,null,null,null,null,null,null,null,null,null,null,null,-1,null,null,null,null,null,false]
[null,"DATEN063",54,"",null,null,null,null,null,null,null,null,null,null,"",null,null,null,null,null,null,null,null,null,null,null,null,null,null,null,null,null,-1,null,null,null,null,null,false]
[null,"DATEN064",55,"",null,null,null,null,null,null,null,null,null,null,"",null,null,null,null,null,null,null,null,null,null,null,null,null,null,null,null,null,-1,null,null,null,null,null,false]
[null,"DATEN065",56,"",null,null,null,null,null,null,null,null,null,null,"",null,null,null,null,null,null,null,null,null,null,null,null,null,null,null,null,null,-1,null,null,null,null,null,false]
[null,"DATEN066",57,"",null,null,null,null,null,null,null,null,null,null,"",null,null,null,null,null,null,null,null,null,null,null,null,null,null,null,null,null,-1,null,null,null,null,null,false]
[null,"DATEN067",58,"",null,null,null,null,null,null,null,null,null,null,"",null,null,null,null,null,null,null,null,null,null,null,null,null,null,null,null,null,-1,null,null,null,null,null,false]
[null,"DATEN068",59,"",null,null,null,null,null,null,null,null,null,null,"",null,null,null,null,null,null,null,null,null,null,null,null,null,null,null,null,null,-1,null,null,null,null,null,false]
[null,"DATEN069",60,"",null,null,null,null,null,null,null,null,null,null,"",null,null,null,null,null,null,null,null,null,null,null,null,null,null,null,null,null,-1,null,null,null,null,null,false]
[null,"DATEN070",61,"",null,null,null,null,null,null,null,null,null,null,"",null,null,null,null,null,null,null,null,null,null,null,null,null,null,null,null,null,-1,null,null,null,null,null,false]
[null,"DATEN071",62,"",null,null,null,null,null,null,null,null,null,null,"",null,null,null,null,null,null,null,null,null,null,null,null,null,null,null,null,null,-1,null,null,null,null,null,false]
[null,"DATEN072",63,"",null,null,null,null,null,null,null,null,null,null,"",null,null,null,null,null,null,null,null,null,null,null,null,null,null,null,null,null,-1,null,null,null,null,null,false]
[null,"DATEN073",64,"",null,null,null,null,null,null,null,null,null,null,"",null,null,null,null,null,null,null,null,null,null,null,null,null,null,null,null,null,-1,null,null,null,null,null,false]
[null,"DATEN074",65,"",null,null,null,null,null,null,null,null,null,null,"",null,null,null,null,null,null,null,null,null,null,null,null,null,null,null,null,null,-1,null,null,null,null,null,{"$f":"IF($B$1<>\"RD_MAST\",IF(H81<>\"\",OR(AND(H81=0,AK81=\"\"),AND(H81=1,AL81=\"\"),AND(AK81<>\"\",AL81<>\"\")),OR(AK81<>\"\",AL81<>\"\")),FALSE)","v":false}]
[null,"DATEN075",66,"",null,null,null,null,null,null,null,null,null,null,{"$f":"IF(COUNT(N82)=1,N82,IF(COUNTIF(J82:M82,\">-1\")=4,IF(COUNTIF(J82:M82,\"1\")>2,1,IF(COUNTIF(J82:M82,\"2\")>2,2,0)),\"\"))","v":""},null,null,null,null,null,null,null,null,null,null,null,null,null,null,null,null,null,{"$f":"IF(COUNTIF(W82:AF82,\"0\")=IF($B$1=\"RD_MAST\",7,6),0,IF(SUM(W82:AF82)>0,1,-1))","v":-1},null,null,null,null,null,false]
[null,"DATEN076",67,"",null,null,null,null,null,null,null,null,null,null,"",null,null,null,null,null,null,null,null,null,null,null,null,null,null,null,null,null,-1,null,null,null,null,null,false]
[null,"DATEN077",68,"",null,null,null,null,null,null,null,null,null,null,"",null,null,null,null,null,null,null,null,null,null,null,null,null,null,null,null,null,-1,null,null,null,null,null,false]
[null,"DATEN078",69,"",null,null,null,null,null,null,null,null,null,null,"",null,null,null,null,null,null,null,null,null,null,null,null,null,null,null,null,null,-1,null,null,null,null,null,false]
[null,"DATEN079",70,"",null,null,null,null,null,null,null,null,null,null,"",null,null,null,null,null,null,null,null,null,null,null,null,null,null,null,null,null,-1,null,null,null,null,null,false]
[null,"DATEN080",71,"",null,null,null,null,null,null,null,null,null,null,"",null,null,null,null,null,null,null,null,null,null,null,null,null,null,null,null,null,-1,null,null,null,null,null,false]
[null,"DATEN081",72,"",null,null,null,null,null,null,null,null,null,null,"",null,null,null,null,null,null,null,null,null,null,null,null,null,null,null,null,null,-1,null,null,null,null,null,false]
[null,"DATEN082",73,"",null,null,null,null,null,null,null,null,null,null,"",null,null,null,null,null,null,null,null,null,null,null,null,null,null,null,null,null,-1,null,null,null,null,null,false]
[null,"DATEN083",74,"",null,null,null,null,null,null,null,null,null,null,"",null,null,null,null,null,null,null,null,null,null,null,null,null,null,null,null,null,-1,null,null,null,null,null,false]
[null,"DATEN084",75,"",null,null,null,null,null,null,null,null,null,null,"",null,null,null,null,null,null,null,null,null,null,null,null,null,null,null,null,null,-1,null,null,null,null,null,false]
[null,"DATEN085",76,"",null,null,null,null,null,null,null,null,null,null,"",null,null,null,null,null,null,null,null,null,null,null,null,null,null,null,null,null,-1,null,null,null,null,null,false]
[null,"DATEN086",77,"",null,null,null,null,null,null,null,null,null,null,"",null,null,null,null,null,null,null,null,null,null,null,null,null,null,null,null,null,-1,null,null,null,null,null,false]
[null,"DATEN087",78,"",null,null,null,null,null,null,null,null,null,null,"",null,null,null,null,null,null,null,null,null,null,null,null,null,null,null,null,null,-1,null,null,null,null,null,false]
[null,"DATEN088",79,"",null,null,null,null,null,null,null,null,null,null,"",null,null,null,null,null,null,null,null,null,null,null,null,null,null,null,null,null,-1,null,null,null,null,null,false]
[null,"DATEN089",80,"",null,null,null,null,null,null,null,null,null,null,"",null,null,null,null,null,null,null,null,null,null,null,null,null,null,null,null,null,-1,null,null,null,null,null,false]
[null,"DATEN090",81,"",null,null,null,null,null,null,null,null,null,null,"",null,null,null,null,null,null,null,null,null,null,null,null,null,null,null,null,null,-1,null,null,null,null,null,false]
[null,"DATEN091",82,"",null,null,null,null,null,null,null,null,null,null,"",null,null,null,null,null,null,null,null,null,null,null,null,null,null,null,null,null,-1,null,null,null,null,null,false]
[null,"DATEN092",83,"",null,null,null,null,null,null,null,null,null,null,"",null,null,null,null,null,null,null,null,null,null,null,null,null,null,null,null,null,-1,null,null,null,null,null,false]
[null,"DATEN093",84,"",null,null,null,null,null,null,null,null,null,null,"",null,null,null,null,null,null,null,null,null,null,null,null,null,null,null,null,null,-1,null,null,null,null,null,false]
[null,"DATEN094",85,"",null,null,null,null,null,null,null,null,null,null,"",null,null,null,null,null,null,null,null,null,null,null,null,null,null,null,null,null,-1,null,null,null,null,null,false]
[null,"DATEN095",86,"",null,null,null,null,null,null,null,null,null,null,"",null,null,null,null,null,null,null,null,null,null,null,null,null,null,null,null,null,-1,null,null,null,null,null,false]
[null,"DATEN096",87,"",null,null,null,null,null,null,null,null,null,null,"",null,null,null,null,null,null,null,null,null,null,null,null,null,null,null,null,null,-1,null,null,null,null,null,false]
[null,"DATEN097",88,"",null,null,null,null,null,null,null,null,null,null,"",null,null,null,null,null,null,null,null,null,null,null,null,null,null,null,null,null,-1,null,null,null,null,null,false]
[null,"DATEN098",89,"",null,null,null,null,null,null,null,null,null,null,"",null,null,null,null,null,null,null,null,null,null,null,null,null,null,null,null,null,-1,null,null,null,null,null,false]
[null,"DATEN099",90,"",null,null,null,null,null,null,null,null,null,null,"",null,null,null,null,null,null,null,null,null,null,null,null,null,null,null,null,null,-1,null,null,null,null,null,false]
[null,null,null,null," Direkteingabe (Summe)"]
[null,null,null,null,null,null,"Anzahl",null,null,null,null,null,null,null,"Anz.","Anz.",null,"Anz.","Anz.","Anz.","Anzahl",null,"Anz.","Anz.",null,"Anz.","Anz.",null,"Anz.","Anz.",null,"Anz.",null,null,"Anzahl",null,"Anzahl","Anzahl"]
[null,"DATEN100_W03_W10_W15_W16_W17_W18_W19_W20_W21_W22_W23_W24_W25_W26_W27_W28_W29_W30",null,null," Bonitur 0"]
[null,"DATEN101_W03_W10_W15_W16_W17_W18_W19_W20_W21_W22_W23_W24_W25_W26_W27_W28_W29_W30",null,null," Bonitur 1"]
[null,"DATEN102_W10_W28_W30",null,null," Bonitur 2"]
[]
[null,null,null,null," Ergebnisse",null,"Anz."]
[null,"ERGEB901",null,null," Bonitur 0",null,{"$f":"IF(G109<>\"\",G109,COUNTIF(G17:G106,\"0\"))","v":0},null,null,null,null,null,null,null,{"$f":"IF(O109<>\"\",O109,COUNTIF(O17:O106,\"0\"))","v":0},{"$f":"IF(P109<>\"\",P109,COUNTIF(P17:P106,\"0\"))","v":0},null,{"$f":"IF(R109<>\"\",R109,COUNTIF(R17:R106,\"0\"))","v":0},{"$f":"IF(S109<>\"\",S109,COUNTIF(S17:S106,\"0\"))","v":0},{"$f":"IF(T109<>\"\",T109,COUNTIF(T17:T106,\"0\"))","v":0},{"$f":"IF(U109<>\"\",U109,COUNTIF(U17:U106,\"0\"))","v":0},null,{"$f":"IF(W109<>\"\",W109,COUNTIF(W17:W106,\"0\"))","v":0},{"$f":"IF(X109<>\"\",X109,COUNTIF(X17:X106,\"0\"))","v":0},null,{"$f":"IF(Z109<>\"\",Z109,COUNTIF(Z17:Z106,\"0\"))","v":0},{"$f":"IF(AA109<>\"\",AA109,COUNTIF(AA17:AA106,\"0\"))","v":0},null,{"$f":"IF(AC109<>\"\",AC109,COUNTIF(AC17:AC106,\"0\"))","v":0},{"$f":"IF(AD109<>\"\",AD109,COUNTIF(AD17:AD106,\"0\"))","v":0},null,{"$f":"IF(AF109<>\"\",AF109,COUNTIF(AF17:AF106,\"0\"))","v":0},null,null,{"$f":"IF(AI109<>\"\",AI109,COUNTIF(AI17:AI106,\"0\"))","v":0},null,{"$f":"IF(AK109<>\"\",AK109,COUNTIF(AK17:AK106,\"0\"))","v":0},{"$f":"IF(AL109<>\"\",AL109,COUNTIF(AL17:AL106,\"0\"))","v":0}]
[null,"ERGEB902",null,null," Bonitur 1",null,{"$f":"IF(G110<>\"\",G110,COUNTIF(G17:G106,\"1\"))","v":0},null,null,null,null,null,null,null,{"$f":"IF(O110<>\"\",O110,COUNTIF(O17:O106,\"1\"))","v":0},{"$f":"IF(P110<>\"\",P110,COUNTIF(P17:P106,\"1\"))","v":0},null,{"$f":"IF(R110<>\"\",R110,COUNTIF(R17:R106,\"1\"))","v":0},{"$f":"IF(S110<>\"\",S110,COUNTIF(S17:S106,\"1\"))","v":0},{"$f":"IF(T110<>\"\",T110,COUNTIF(T17:T106,\"1\"))","v":0},{"$f":"IF(U110<>\"\",U110,COUNTIF(U17:U106,\"1\"))","v":0},null,{"$f":"IF(W110<>\"\",W110,COUNTIF(W17:W106,\"1\"))","v":0},{"$f":"IF(X110<>\"\",X110,COUNTIF(X17:X106,\"1\"))","v":0},null,{"$f":"IF(Z110<>\"\",Z110,COUNTIF(Z17:Z106,\"1\"))","v":0},{"$f":"IF(AA110<>\"\",AA110,COUNTIF(AA17:AA106,\"1\"))","v":0},null,{"$f":"IF(AC110<>\"\",AC110,COUNTIF(AC17:AC106,\"1\"))","v":0},{"$f":"IF(AD110<>\"\",AD110,COUNTIF(AD17:AD106,\"1\"))","v":0},null,{"$f":"IF(AF110<>\"\",AF110,COUNTIF(AF17:AF106,\"1\"))","v":0},null,null,{"$f":"IF(AI110<>\"\",AI110,COUNTIF(AI17:AI106,\"1\"))","v":0},null,{"$f":"IF(AK110<>\"\",AK110,COUNTIF(AK17:AK106,\"1\"))","v":0},{"$f":"IF(AL110<>\"\",AL110,COUNTIF(AL17:AL106,\"1\"))","v":0}]
[null,"ERGEB903",null,null," Bonitur 2",null,null,null,null,null,null,null,null,null,{"$f":"IF(O111<>\"\",O111,COUNTIF(O17:O106,\"2\"))","v":0},null,null,null,null,null,null,null,null,null,null,null,null,null,null,null,null,null,null,null,null,null,{"$f":"IF(AK111<>\"\",AK111,COUNTIF(AK17:AK106,\"2\"))","v":0}]
[]
[null,"ERGEB904",null,null," Anzahl",null,{"$f":"SUM(G114:G116)","v":0},null,null,null,null,null,null,null,{"$f":"SUM(O114:O116)","v":0},{"$f":"SUM(P114:P116)","v":0},null,{"$f":"SUM(R114:R116)","v":0},{"$f":"SUM(S114:S116)","v":0},{"$f":"SUM(T114:T116)","v":0},{"$f":"SUM(U114:U116)","v":0},null,{"$f":"SUM(W114:W116)","v":0},{"$f":"SUM(X114:X116)","v":0},null,{"$f":"SUM(Z114:Z116)","v":0},{"$f":"SUM(AA114:AA116)","v":0},null,{"$f":"SUM(AC114:AC116)","v":0},{"$f":"SUM(AD114:AD116)","v":0},null,{"$f":"SUM(AF114:AF116)","v":0},null,null,{"$f":"SUM(AI114:AI116)","v":0},null,{"$f":"SUM(AK114:AK116)","v":0},{"$f":"SUM(AL114:AL116)","v":0}]
[null,"ERGEB910",null,null," % Bonitur 0",null,{"$f":"IF(G118>0,G114/G118*100,\"\")","v":""},null,null,null,null,null,null,null,{"$f":"IF(O118>0,O114/O118*100,\"\")","v":""},{"$f":"IF(P118>0,P114/P118*100,\"\")","v":""},null,{"$f":"IF(R118>0,R114/R118*100,\"\")","v":""},{"$f":"IF(S118>0,S114/S118*100,\"\")","v":""},{"$f":"IF(T118>0,T114/T118*100,\"\")","v":""},{"$f":"IF(U118>0,U114/U118*100,\"\")","v":""},null,{"$f":"IF(W118>0,W114/W118*100,\"\")","v":""},{"$f":"IF(X118>0,X114/X118*100,\"\")","v":""},null,{"$f":"IF(Z118>0,Z114/Z118*100,\"\")","v":""},{"$f":"IF(AA118>0,AA114/AA118*100,\"\")","v":""},null,{"$f":"IF(AC118>0,AC114/AC118*100,\"\")","v":""},{"$f":"IF(AD118>0,AD114/AD118*100,\"\")","v":""},null,{"$f":"IF(AF118>0,AF114/AF118*100,\"\")","v":""},null,null,{"$f":"IF(AI118>0,AI114/AI118*100,\"\")","v":""},null,{"$f":"IF(AK118>0,AK114/AK118*100,\"\")","v":""},{"$f":"IF(AL118>0,AL114/AL118*100,\"\")","v":""}]
[null,"ERGEB911",null,null," % Bonitur 1",null,{"$f":"IF(G118>0,G115/G118*100,\"\")","v":""},null,null,null,null,null,null,null,{"$f":"IF(O118>0,O115/O118*100,\"\")","v":""},{"$f":"IF(P118>0,P115/P118*100,\"\")","v":""},null,{"$f":"IF(R118>0,R115/R118*100,\"\")","v":""},{"$f":"IF(S118>0,S115/S118*100,\"\")","v":""},{"$f":"IF(T118>0,T115/T118*100,\"\")","v":""},{"$f":"IF(U118>0,U115/U118*100,\"\")","v":""},null,{"$f":"IF(W118>0,W115/W118*100,\"\")","v":""},{"$f":"IF(X118>0,X115/X118*100,\"\")","v":""},null,{"$f":"IF(Z118>0,Z115/Z118*100,\"\")","v":""},{"$f":"IF(AA118>0,AA115/AA118*100,\"\")","v":""},null,{"$f":"IF(AC118>0,AC115/AC118*100,\"\")","v":""},{"$f":"IF(AD118>0,AD115/AD118*100,\"\")","v":""},null,{"$f":"IF(AF118>0,AF115/AF118*100,\"\")","v":""},null,null,{"$f":"IF(AI118>0,AI115/AI118*100,\"\")","v":""},null,{"$f":"IF(AK118>0,AK115/AK118*100,\"\")","v":""},{"$f":"IF(AL118>0,AL115/AL118*100,\"\")","v":""}]
[null,"ERGEB912",null,null," % Bonitur 2",null,null,null,null,null,null,null,null,null,{"$f":"IF(O118>0,O116/O118*100,\"\")","v":""},null,null,null,null,null,null,null,null,null,null,null,null,null,null,null,null,null,null,null,null,null,{"$f":"IF(AK118>0,AK116/AK118*100,\"\")","v":""}]
[null,null,null,null,null,null,null,null,null,null,null,null,null,null,null,null,null,null,null,null,null,null,"Beurteilt",null,null,"Tiere mit Integumentschäden"]
[null,"ERGEB920",null,null,null,null,null,null,null,null,null,null,null,null,null,null,null,null,null,null,null,null,"Anzahl",{"$f":"IF(SUM(W109:AD110)=0,COUNTIF(AG17:AG106,\">-1\"),\"\")","v":0},null,"Anzahl",{"$f":"IF(COUNT(X123) = 1,COUNTIF(AG17:AG106,\"1\"),\"\")","v":0},null,"%",{"$f":"IF(AND(COUNT(X123) = 1,X123>0),AA123/X123*100,\"\")","v":""}]
[]
[null,"DATEN_ENDE"]

{"sheet":"RD_HORN","index":28,"n_rows":65,"n_cols":14,"rows_kept":65,"cut":false,"hidden":true,"merged":[[9,2,9,8]]}
[null,"RD_KALB","Aufzuchtkälber",null,null,null,null,"Komplikationen nach Enthornung - Blatt 1",null,null,null,null,0,0]
[null,29,"T","T","T","T","T","-","T","T","T"]
[null,"RD_HORN","T","W01","T","W02","W03","T","T","W04","T"]
[null,null,"Clear","16-55",null,{"$f":"$D$4&\";58\"","v":"16-55;58"},{"$f":"F4","v":"16-55;58"},null,null,{"$f":"$D$4","v":"16-55"}]
[null,1,null,{"$f":"$C$1& \" (\" & $D$1 & \" \" &$E$1 & \")\"","v":"Aufzuchtkälber ( )"}]
[null,6,null,{"$f":" $H$1 & IF($J$1<> \"\",\" (Stand vom \" & TEXT($J$1,\"tt.MM.jjjj\") & \")\",\"\")","v":"Komplikationen nach Enthornung - Blatt 1"}]
[null,null,"    ?    ",{"$f":"\"Betrieb: \" & Intern_BetriebID & IF(E1<>\"\",\" [\" & E1 & \"]\",\"\")","v":"Betrieb: "},null,null,null,null,null,null,"© KTBL & Thünen"]
[]
[]
[null,null,"Speichern und schließen ..."]
[]
[]
[null,null,"Komplikationen nach Enthornung"]
[null,null,"Tier","Datum der \nEnthornung\n",null," Nummer\n Ohrmarke","Komplikationen\n(nach 2 Wochen)","Warnung",null,"Anmerkungen\n(Art der Komplikation, Behandlung etc.)"]
[null,null,"Nr",null,null,null,"[0=nein;1=ja]"]
[null,"DATEN010",1,null,null,null,null,{"$f":"IF(AND(D16<>\"\",G16=\"\"),(D16+14) < TODAY(),FALSE)","v":false}]
[null,"DATEN011",2,null,null,null,null,false]
[null,"DATEN012",3,null,null,null,null,false]
[null,"DATEN013",4,null,null,null,null,false]
[null,"DATEN014",5,null,null,null,null,false]
[null,"DATEN015",6,null,null,null,null,false]
[null,"DATEN016",7,null,null,null,null,false]
[null,"DATEN017",8,null,null,null,null,false]
[null,"DATEN018",9,null,null,null,null,false]
[null,"DATEN019",10,null,null,null,null,false]
[null,"DATEN020",11,null,null,null,null,false]
[null,"DATEN021",12,null,null,null,null,false]
[null,"DATEN022",13,null,null,null,null,false]
[null,"DATEN023",14,null,null,null,null,false]
[null,"DATEN024",15,null,null,null,null,false]
[null,"DATEN025",16,null,null,null,null,false]
[null,"DATEN026",17,null,null,null,null,false]
[null,"DATEN027",18,null,null,null,null,false]
[null,"DATEN028",19,null,null,null,null,false]
[null,"DATEN029",20,null,null,null,null,false]
[null,"DATEN030",21,null,null,null,null,false]
[null,"DATEN031",22,null,null,null,null,false]
[null,"DATEN032",23,null,null,null,null,false]
[null,"DATEN033",24,null,null,null,null,false]
[null,"DATEN034",25,null,null,null,null,false]
[null,"DATEN035",26,null,null,null,null,false]
[null,"DATEN036",27,null,null,null,null,false]
[null,"DATEN037",28,null,null,null,null,false]
[null,"DATEN038",29,null,null,null,null,false]
[null,"DATEN039",30,null,null,null,null,false]
[null,"DATEN040",31,null,null,null,null,false]
[null,"DATEN041",32,null,null,null,null,false]
[null,"DATEN042",33,null,null,null,null,{"$f":"IF(AND(D48<>\"\",G48=\"\"),(D48+14) < TODAY(),FALSE)","v":false}]
[null,"DATEN043",34,null,null,null,null,false]
[null,"DATEN044",35,null,null,null,null,false]
[null,"DATEN045",36,null,null,null,null,false]
[null,"DATEN046",37,null,null,null,null,false]
[null,"DATEN047",38,null,null,null,null,false]
[null,"DATEN048",39,null,null,null,null,false]
[null,"DATEN049",40,null,null,null,null,false]
[null,null,null,"Direkteingabe",null,"Enthornte Kälber","Komplikationen"]
[null,null,null,null,null,"Anzahl","Anzahl"]
[null,"DATEN060_W02_W03"]
[]
[null,null,null,"Ergebnis"]
[null,"ERGEB902",null,"Anzahl enthornte Kälber",null,null,{"$f":"IF(F58<>\"\",F58,COUNTIF(G16:G55,\">-1\"))","v":0}]
[null,"ERGEB900",null,"Anzahl Kälber mit Komplikationen",null,null,{"$f":"IF(G58<>\"\",G58,COUNTIF(G16:G55,\"1\"))","v":0}]
[null,"ERGEB901",null,"Komplikationen %",null,null,{"$f":"IF(G62>0,G62/G61*100,0)","v":0}]
[]
[null,"DATEN_ENDE"]

{"sheet":"RD_BUCHT","index":29,"n_rows":136,"n_cols":75,"rows_kept":136,"cut":false,"hidden":true,"merged":[[9,2,9,7]]}
[null,"RD_MILCH","Milchkühe",null,null,null,null,"Liegeplatz/Aufstehverh./Wasserversorgung",null,null,null,null,0,0]
[null,7,"T",{"$f":"IF(B1=\"RD_MAST\",\"W\",\"-\")","v":"-"},"T","T",{"$f":"IF(B1=\"RD_MAST\",\"W\",\"-\")","v":"-"},{"$f":"$G$2","v":"-"},{"$f":"$G$2","v":"-"},{"$f":"$G$2","v":"-"},{"$f":"$G$2","v":"-"},"-",{"$f":"IF(B1=\"RD_MILCH\",\"W\",\"-\")","v":"W"},{"$f":"$M$2","v":"W"},"W","W","W","-","W","W","W","W","-","T","T","T","T","-","T","T","T","T","-","T","T","T","T","-","T","T","T","T","-","T","T","T","T","-","T","T","T","T","-","T","T","T","T","T","-","T",{"$f":"IF(B1=\"RD_MAST\",\"W\",\"-\")","v":"-"},{"$f":"$BI$2","v":"-"},{"$f":"BJ2","v":"-"},{"$f":"BK2","v":"-"},"-",{"$f":"IF(B1<>\"RD_MAST\",\"W\",\"-\")","v":"W"},{"$f":"$BN$2","v":"W"},{"$f":"$BN$2","v":"W"},{"$f":"$BN$2","v":"W"},"T","T","T","-","-","T"]
[null,"RD_BUCHT","T","W01","W02","W03","T","W05","W06","T","W07","T","T","W10","W11","W12","R13","T","T","W14","W16","R17","T","T","W20",{"$f":"LEFT(Y3,1) & TEXT(INT(RIGHT(Y3,2)) + 1,\"00\")","v":"W21"},"W50","T","R22",{"$f":"LEFT(Y3,1) & (INT(RIGHT(Y3,2)) + 3)","v":"W23"},{"$f":"LEFT(Z3,1) & (INT(RIGHT(Z3,2)) + 3)","v":"W24"},"W51","T",{"$f":"LEFT(AC3,1) & (INT(RIGHT(AC3,2)) + 3)","v":"R25"},{"$f":"LEFT(AD3,1) & (INT(RIGHT(AD3,2)) + 3)","v":"W26"},{"$f":"LEFT(AE3,1) & (INT(RIGHT(AE3,2)) + 3)","v":"W27"},"W52","T",{"$f":"LEFT(AH3,1) & (INT(RIGHT(AH3,2)) + 3)","v":"R28"},{"$f":"LEFT(AI3,1) & (INT(RIGHT(AI3,2)) + 3)","v":"W29"},{"$f":"LEFT(AJ3,1) & (INT(RIGHT(AJ3,2)) + 3)","v":"W30"},"W53","T",{"$f":"LEFT(AM3,1) & (INT(RIGHT(AM3,2)) + 3)","v":"R31"},{"$f":"LEFT(AN3,1) & (INT(RIGHT(AN3,2)) + 3)","v":"W32"},{"$f":"LEFT(AO3,1) & (INT(RIGHT(AO3,2)) + 3)","v":"W33"},"W54","T",{"$f":"LEFT(AR3,1) & (INT(RIGHT(AR3,2)) + 3)","v":"R34"},{"$f":"LEFT(AS3,1) & (INT(RIGHT(AS3,2)) + 3)","v":"W35"},{"$f":"LEFT(AT3,1) & (INT(RIGHT(AT3,2)) + 3)","v":"W36"},"W55","T",{"$f":"LEFT(AW3,1) & (INT(RIGHT(AW3,2)) + 3)","v":"R37"},"W56","W57","W58","W59","T","T","T","R38","R45","R46","T","R39","R40","T","R41","T","R42","R43","R44","T","T"]
[null,null,"Clear","28-127",{"$f":"$D$4","v":"28-127"},{"$f":"$D$4&\";14;19\"","v":"28-127;14;19"},null,{"$f":"$D$4","v":"28-127"},{"$f":"$D$4","v":"28-127"},null,{"$f":"$D$4&\";14\"","v":"28-127;14"},null,null,{"$f":"$D$4","v":"28-127"},{"$f":"$D$4","v":"28-127"},{"$f":"$D$4","v":"28-127"},null,null,null,{"$f":"$D$4","v":"28-127"},{"$f":"$D$4","v":"28-127"},null,null,null,{"$f":"$D$4","v":"28-127"},{"$f":"$D$4","v":"28-127"},{"$f":"$D$4","v":"28-127"},null,14,{"$f":"$D$4","v":"28-127"},{"$f":"$D$4","v":"28-127"},{"$f":"$D$4","v":"28-127"},null,null,{"$f":"$D$4","v":"28-127"},{"$f":"$D$4","v":"28-127"},{"$f":"$D$4","v":"28-127"},null,null,{"$f":"$D$4","v":"28-127"},{"$f":"$D$4","v":"28-127"},{"$f":"$D$4","v":"28-127"},null,null,{"$f":"$D$4","v":"28-127"},{"$f":"$D$4","v":"28-127"},{"$f":"$D$4","v":"28-127"},null,null,{"$f":"$D$4","v":"28-127"},{"$f":"$D$4","v":"28-127"},{"$f":"$D$4","v":"28-127"},null,null,{"$f":"$D$4","v":"28-127"},{"$f":"$D$4","v":"28-127"},{"$f":"$D$4","v":"28-127"},{"$f":"$D$4","v":"28-127"}]
[null,2,null,null,{"$f":"$C$1& \" (\" & $D$1 & IF($B$5=1,\" Sommerhalbjahr\",\" Winterhalbjahr\") & \")\"","v":"Milchkühe ( Winterhalbjahr)"}]
[null,2,null,null,{"$f":" $H$1 & IF($J$1<> \"\",\" vom \" & TEXT($J$1,\"tt.MM.jjjj\"),\"\")","v":"Liegeplatz/Aufstehverh./Wasserversorgung"}]
[null,null,"   ?   ",null,{"$f":"\"Betrieb: \" & Intern_BetriebID & IF(E1<>\"\",\" [\" & E1 & \"]\",\"\")","v":"Betrieb: "},null,null,null,null,null,null,null,null,null,null,null,null,null,null,null,null,null,{"$f":"IF(W10<100,\"|MAST_\"&MAX(29,(128-(100-W10)))&\"-127|MILCH_\"&MAX(29,(128-(100-W10)))&\"-127\",\"\"\"\")","v":"|MAST_58-127|MILCH_58-127"},null,null,null,null,null,null,null,null,null,null,null,null,null,null,null,null,null,null,null,null,null,null,null,null,null,null,null,null,null,null,null,null,null,null,null,null,null,null,null,null,null,null,null,null,null,null,null,null,null,null,null,"© KTBL & Thünen"]
[null,{"$f":"\"MILCH_12-16|MAST_17-20\" &W7","v":"MILCH_12-16|MAST_17-20|MAST_58-127|MILCH_58-127"}]
[]
[null,null,"Speichern und schließen ...",null,null,null,null,null,null,null,null,null,null,null,null,"Drucken ...",null,null,null,null,null,null,{"$f":"IF((AC14+F19)<=0,20,IF((AC14+F19)>100,100,(AC14+F19)))","v":30}]
[]
[null,null,"Zungenrollen",null,null,null,null,null,null,null,null,null,null,null,null,null,null,null,null,null,null,null,null,null,null,"Buchten"]
[null,null,null,null,"Tiere","Anzahl",null,"Anzahl Tiere",null,null,"Anzahl",null,null,null,null,null,null,null,null,null,null,null,null,null,null,"Buchten",null,null,"Anzahl"]
[null,"DATEN001_W03_W07_W22",null,null,"beurteilt",null,null,"mit Zungenrollen",null,null,null,null,null,null,null,null,null,{"$f":"IF(OR(K14>F14,AND(F14<>\"\",K14=\"\"),AND(F14=\"\",K14<>\"\")),1,0)","v":0},null,null,null,null,null,null,null,"beurteilt"]
[null,null,null,null,null,null,null,"/Zungenschlagen"]
[]
[null,null,null,null,"Gruppen"]
[null,null,null,null,"Gruppen","Anzahl"]
[null,"DATEN002_W03",null,null,"beurteilt",30]
[]
[]
[null,null,null,null,{"$f":"IF(B1=\"RD_MILCH\",\"Gruppe\",\"Bucht\")","v":"Gruppe"},null,"Flächenangebot",null,null,null,null,null,null,"Liegeplatznutzung",null,null,null,null,null,"Aufstehverhalten",null,null,null,null,"Wasserversorgung",null,null,null,null,null,null,null,null,null,null,null,null,null,null,null,null,null,null,null,null,null,null,null,null,null,null,null,null,null,null,null,null,null,null,null,"Ergebnisse je Bucht",null,null,null,null,"Ergebnisse je Gruppe"]
[null,null,null,null,null,null,null,null,null,null,null,null,null,null,null,null,null,null,null,null,null,null,null,null,"Art: 1=Schalentränke, 2=Trogtränke ",null,null,null,null,null,null,null,null,null,null,null,null,null,null,"Urteil: 0=ausreichend, 1=nicht ausreichend",null,null,null,null,null,null,null,null,null,null,null,null,null,null,"Weitere Tränken",null,null,null,null,null,null,null,null,null,null,"Liegeplatz-",null,"Aufsteh-",null,"Wasser-"]
[null,null,null,null,null,"Tiere",null,null,null,null,null,null,null,"Tiere auf dem Liegeplatz",null,null," ",null,null,"Anzahl Tiere",null,null,null,null,"Tränke 1",null,null,null,null,"Tränke 2",null,null,null,null,"Tränke 3",null,null,null,null,"Tränke 4",null,null,null,null,"Tränke 5",null,null,null,null,"Tränke 6",null,null,null,null,"Schalentränken",null,"Trogtränken",null,null,null,"Flächen-",null,null,null,null,"nutzung",null,"verhalten",null,"versorgung"]
[null,null,null," Mast-",null,"in der ",null,"Größe",null,null,null,null,null,"vollständig","unvollständig",null,"Beurteilte",null,null,"Flüssig","Nicht flüssig","Beurteilte",null,null,null,null,"Direkt-","Rate",null,null,null,"Direkt-","Rate",null,null,null,"Direkt-","Rate",null,null,null,"Direkt-","Rate",null,null,null,"Direkt-","Rate",null,null,null,"Direkt-","Rate",null,"ins-","davon nicht","ins-","davon nicht",null,null,null,null,null,null,null,"liegende","vollständig"]
[null,null,null,"stufe"," Bezeichnung",{"$f":"E22","v":"Gruppe"},null,"Breite","Länge",null,"Fläche",null,null,"liegend","liegend","stehend","Tiere",null,null,"aufstehend","aufstehend","Tiere",null,null,"Art","Menge","eingabe","Rate","Urteil","Art","Menge","eingabe","Rate","Urteil","Art","Menge","eingabe","Rate","Urteil","Art","Menge","eingabe","Rate","Urteil","Art","Menge","eingabe","Rate","Urteil","Art","Menge","eingabe","Rate","Urteil","gesamt","ausreichend","gesamt","ausreichend",null,null,"m2",null," ",null,null,"Tiere je","auf Liegeplatz","nicht flüssig",null,"Soll",null,"ok?","i.O."]
[null,null,"Nr","[A,M,E]",null,"Anzahl",null,"m","m",null,"m2","m2",null,"Anzahl","Anzahl","Anzahl","Anzahl",null,null,"Anzahl","Anzahl","Anzahl",null,null,"[1,2]","l/15sek","[0,1]","l/min","[0,1]","[1,2]","l/15sek","[0,1]","l/min","[0,1]","[1,2]","l/15sek","[0,1]","l/min","[0,1]","[1,2]","l/15sek","[0,1]","l/min","[0,1]","[1,2]","l/15sek","[0,1]","l/min","[0,1]","[1,2]","l/15sek","[0,1]","l/min","[0,1]","Anzahl","Anzahl","Anzahl","Anzahl",null,null,"je Tier",null," ",null,null,"Gruppe %","liegend %","aufstehend %",null,null,"Anz.","ja/nein","Anz."]
[null,"DATEN010",1,null,"",100,null,null,null,null,null,{"$f":"IF(K28>0,K28,I28*H28)","v":0},null,null,null,null,{"$f":"IF(SUM(N28:P28)>0,SUM(N28:P28),\"\")","v":""},{"$f":"IF(COUNT(N28:P28)>0,IF(OR(SUM(N28:P28)>F28,COUNT(N28:P28)<3),1,0),0)","v":0},null,null,null,{"$f":"IF(SUM(T28:U28)>0,SUM(T28:U28),\"\")","v":""},{"$f":"IF(V28<>\"\",IF(V28>F28,1,0),0)","v":0},null,1,null,0,{"$f":"IF(Z28>0,Z28*4,0)","v":0},{"$f":"IF(COUNT(AA28)=1,AA28,IF(AND(OR(Y28=1,Y28=2),Z28<>\"\"),IF(AB28>=IF(Y28=1,10,20),0,1),\"\"))","v":0},null,null,0,{"$f":"IF(AE28>0,AE28*4,0)","v":0},{"$f":"IF(COUNT(AF28)=1,AF28,IF(AND(OR(AD28=1,AD28=2),AE28<>\"\"),IF(AG28>=IF(AD28=1,10,20),0,1),\"\"))","v":0},null,null,0,{"$f":"IF(AJ28>0,AJ28*4,0)","v":0},{"$f":"IF(COUNT(AK28)=1,AK28,IF(AND(OR(AI28=1,AI28=2),AJ28<>\"\"),IF(AL28>=IF(AI28=1,10,20),0,1),\"\"))","v":0},null,null,0,{"$f":"IF(AO28>0,AO28*4,0)","v":0},{"$f":"IF(COUNT(AP28)=1,AP28,IF(AND(OR(AN28=1,AN28=2),AO28<>\"\"),IF(AQ28>=IF(AN28=1,10,20),0,1),\"\"))","v":0},null,null,0,{"$f":"IF(AT28>0,AT28*4,0)","v":0},{"$f":"IF(COUNT(AU28)=1,AU28,IF(AND(OR(AS28=1,AS28=2),AT28<>\"\"),IF(AV28>=IF(AS28=1,10,20),0,1),\"\"))","v":0},null,null,1,{"$f":"IF(AY28>0,AY28*4,0)","v":0},{"$f":"IF(COUNT(AZ28)=1,AZ28,IF(AND(OR(AX28=1,AX28=2),AY28<>\"\"),IF(BA28>=IF(AX28=1,10,20),0,1),\"\"))","v":1},null,null,1,1,{"$f":"IF(AND(COUNT(AC28,AH28,AM28,AR28,AW28,BB28)<>6,COUNT(BC28:BF28)>0),TRUE,IF(OR(BD28>BC28,BF28>BE28),TRUE,IF(OR(COUNT(BC28:BD28)=1,COUNT(BE28:BF28)=1),TRUE,FALSE)))","v":false},null,null,{"$f":"IF(AND(L28>0,F28>0),L28/F28,\"\")","v":""},null,null,null,{"$f":"IF(COUNT(F28,Q28)=2,(N28+O28)/F28*100,\"\")","v":""},{"$f":"IF(F28>0,IF(SUM(N28:P28)>0,N28/SUM(N28:P28)*100,\"\"),\"\")","v":""},null,{"$f":"IF(V28<>\"\",U28/V28*100,\"\")","v":""},null,{"$f":"IF(F28>0,INT((F28-1)/20)+2,\"\")","v":6},{"$f":"IF(BS28<>\"\",IF(BU28>=BS28,\"ja\",\"nein\"),\"\")","v":"nein"},{"$f":"IF(F28>0,IF(AC28=0,1,0)+IF(AH28=0,1,0)+IF(AM28=0,1,0)+IF(AR28=0,1,0)+IF(AW28=0,1,0)+IF(BB28=0,1,0)+IF(BG28=FALSE,(BC28-BD28+BE28-BF28),0),\"\")","v":5},{"$f":"IF(BU28>=BS28,0,1)","v":1}]
[null,"DATEN011",2,null,"",20,null,null,null,null,null,{"$f":"IF(K29>0,K29,I29*H29)","v":0},null,null,null,null,{"$f":"IF(SUM(N29:P29)>0,SUM(N29:P29),\"\")","v":""},{"$f":"IF(COUNT(N29:P29)>0,IF(OR(SUM(N29:P29)>F29,COUNT(N29:P29)<3),1,0),0)","v":0},null,null,null,"",0,null,1,null,0,{"$f":"IF(Z29>0,Z29*4,0)","v":0},{"$f":"IF(COUNT(AA29)=1,AA29,IF(AND(OR(Y29=1,Y29=2),Z29<>\"\"),IF(AB29>=IF(Y29=1,10,20),0,1),\"\"))","v":0},null,null,0,{"$f":"IF(AE29>0,AE29*4,0)","v":0},{"$f":"IF(COUNT(AF29)=1,AF29,IF(AND(OR(AD29=1,AD29=2),AE29<>\"\"),IF(AG29>=IF(AD29=1,10,20),0,1),\"\"))","v":0},null,null,0,{"$f":"IF(AJ29>0,AJ29*4,0)","v":0},{"$f":"IF(COUNT(AK29)=1,AK29,IF(AND(OR(AI29=1,AI29=2),AJ29<>\"\"),IF(AL29>=IF(AI29=1,10,20),0,1),\"\"))","v":0},null,null,0,0,{"$f":"IF(COUNT(AP29)=1,AP29,IF(AND(OR(AN29=1,AN29=2),AO29<>\"\"),IF(AQ29>=IF(AN29=1,10,20),0,1),\"\"))","v":0},null,null,0,0,{"$f":"IF(COUNT(AU29)=1,AU29,IF(AND(OR(AS29=1,AS29=2),AT29<>\"\"),IF(AV29>=IF(AS29=1,10,20),0,1),\"\"))","v":0},null,null,1,0,{"$f":"IF(COUNT(AZ29)=1,AZ29,IF(AND(OR(AX29=1,AX29=2),AY29<>\"\"),IF(BA29>=IF(AX29=1,10,20),0,1),\"\"))","v":1},null,null,22,2,{"$f":"IF(AND(COUNT(AC29,AH29,AM29,AR29,AW29,BB29)<>6,COUNT(BC29:BF29)>0),TRUE,IF(OR(BD29>BC29,BF29>BE29),TRUE,IF(OR(COUNT(BC29:BD29)=1,COUNT(BE29:BF29)=1),TRUE,FALSE)))","v":false},null,null,"",null,null,null,"","",null,"",null,2,{"$f":"IF(BS29<>\"\",IF(BU29>=BS29,\"ja\",\"nein\"),\"\")","v":"ja"},{"$f":"IF(F29>0,IF(AC29=0,1,0)+IF(AH29=0,1,0)+IF(AM29=0,1,0)+IF(AR29=0,1,0)+IF(AW29=0,1,0)+IF(BB29=0,1,0)+IF(BG29=FALSE,(BC29-BD29+BE29-BF29),0),\"\")","v":25},{"$f":"IF(BU29>=BS29,0,1)","v":0}]
[null,"DATEN012",3,null,"",25,null,null,null,null,null,0,null,null,null,null,{"$f":"IF(SUM(N30:P30)>0,SUM(N30:P30),\"\")","v":""},0,null,null,null,"",0,null,1,null,0,0,0,null,null,0,{"$f":"IF(AE30>0,AE30*4,0)","v":0},0,null,null,0,0,0,null,null,0,0,0,null,null,0,0,0,null,null,1,0,1,null,null,23,1,false,null,null,"",null,null,null,"","",null,"",null,3,"ja",27,{"$f":"IF(BU30>=BS30,0,1)","v":0}]
[null,"DATEN013",4,null,"",30,null,null,null,null,null,0,null,null,null,null,"",0,null,null,null,"",0,null,1,null,0,0,0,null,null,0,0,0,null,null,0,0,0,null,null,0,0,0,null,null,0,0,0,null,null,1,0,1,null,null,24,0,false,null,null,"",null,null,null,"","",null,"",null,3,"ja",29,0]
[null,"DATEN014",5,null,"",null,null,null,null,null,null,0,null,null,null,null,"",0,null,null,null,"",0,null,null,null,null,0,"",null,null,null,0,"",null,null,null,0,"",null,null,null,0,"",null,null,null,0,"",null,null,null,0,"",null,null,null,null,false,null,null,"",null,null,null,"","",null,"",null,"","","",0]
[null,"DATEN015",6,null,"",null,null,null,null,null,null,0,null,null,null,null,"",0,null,null,null,"",0,null,null,null,null,0,"",null,null,null,0,"",null,null,null,0,"",null,null,null,{"$f":"IF(AO33>0,AO33*4,0)","v":0},"",null,null,null,0,"",null,null,null,0,"",null,null,null,null,false,null,null,"",null,null,null,"","",null,"",null,"","","",0]
[null,"DATEN016",7,null,"",null,null,null,null,null,null,0,null,null,null,null,"",0,null,null,null,"",0,null,null,null,null,0,"",null,null,null,0,"",null,null,null,0,"",null,null,null,0,"",null,null,null,0,"",null,null,null,0,"",null,null,null,null,false,null,null,"",null,null,null,"","",null,"",null,"","","",0]
[null,"DATEN017",8,null,"",null,null,null,null,null,null,0,null,null,null,null,"",0,null,null,null,"",0,null,null,null,null,0,"",null,null,null,0,"",null,null,null,0,"",null,null,null,0,"",null,null,null,0,"",null,null,null,0,"",null,null,null,null,false,null,null,"",null,null,null,"","",null,"",null,"","","",0]
[null,"DATEN018",9,null,"",null,null,null,null,null,null,0,null,null,null,null,"",0,null,null,null,"",0,null,null,null,null,0,"",null,null,null,0,"",null,null,null,0,"",null,null,null,0,"",null,null,null,0,"",null,null,null,0,"",null,null,null,null,false,null,null,"",null,null,null,"","",null,"",null,"","","",0]
[null,"DATEN019",10,null,"",null,null,null,null,null,null,0,null,null,null,null,"",0,null,null,null,"",0,null,null,null,null,0,"",null,null,null,0,"",null,null,null,0,"",null,null,null,0,"",null,null,null,0,"",null,null,null,0,"",null,null,null,null,false,null,null,"",null,null,null,"","",null,"",null,"","","",0]
[null,"DATEN020",11,null,"",null,null,null,null,null,null,0,null,null,null,null,"",0,null,null,null,"",0,null,null,null,null,0,"",null,null,null,0,"",null,null,null,0,"",null,null,null,0,"",null,null,null,0,"",null,null,null,0,"",null,null,null,null,false,null,null,"",null,null,null,"","",null,"",null,"","","",0]
[null,"DATEN021",12,null,"",null,null,null,null,null,null,0,null,null,null,null,"",0,null,null,null,"",0,null,null,null,null,0,"",null,null,null,0,"",null,null,null,0,"",null,null,null,0,"",null,null,null,0,"",null,null,null,0,"",null,null,null,null,false,null,null,"",null,null,null,"","",null,"",null,"","","",0]
[null,"DATEN022",13,null,"",null,null,null,null,null,null,0,null,null,null,null,"",0,null,null,null,"",0,null,null,null,null,0,"",null,null,null,0,"",null,null,null,0,"",null,null,null,0,"",null,null,null,0,"",null,null,null,0,"",null,null,null,null,false,null,null,"",null,null,null,"","",null,"",null,"","","",0]
[null,"DATEN023",14,null,"",null,null,null,null,null,null,0,null,null,null,null,"",0,null,null,null,"",0,null,null,null,null,0,"",null,null,null,0,"",null,null,null,0,"",null,null,null,0,"",null,null,null,0,"",null,null,null,0,"",null,null,null,null,false,null,null,"",null,null,null,"","",null,"",null,"","","",0]
[null,"DATEN024",15,null,"",null,null,null,null,null,null,0,null,null,null,null,"",0,null,null,null,"",0,null,null,null,null,0,"",null,null,null,0,"",null,null,null,0,"",null,null,null,0,"",null,null,null,0,"",null,null,null,0,"",null,null,null,null,false,null,null,"",null,null,null,"","",null,"",null,"","","",0]
[null,"DATEN025",16,null,"",null,null,null,null,null,null,0,null,null,null,null,"",0,null,null,null,"",0,null,null,null,null,0,"",null,null,null,0,"",null,null,null,0,"",null,null,null,0,"",null,null,null,0,"",null,null,null,0,"",null,null,null,null,false,null,null,"",null,null,null,"","",null,"",null,"","","",0]
[null,"DATEN026",17,null,"",null,null,null,null,null,null,0,null,null,null,null,"",0,null,null,null,"",0,null,null,null,null,0,"",null,null,null,0,"",null,null,null,0,"",null,null,null,0,"",null,null,null,0,"",null,null,null,0,"",null,null,null,null,false,null,null,"",null,null,null,"","",null,"",null,"","","",0]
[null,"DATEN027",18,null,"",null,null,null,null,null,null,0,null,null,null,null,"",0,null,null,null,"",0,null,null,null,null,0,"",null,null,null,0,"",null,null,null,0,"",null,null,null,0,"",null,null,null,0,"",null,null,null,0,"",null,null,null,null,false,null,null,"",null,null,null,"","",null,"",null,"","","",0]
[null,"DATEN028",19,null,"",null,null,null,null,null,null,0,null,null,null,null,"",0,null,null,null,"",0,null,null,null,null,0,"",null,null,null,0,"",null,null,null,0,"",null,null,null,0,"",null,null,null,0,"",null,null,null,0,"",null,null,null,null,false,null,null,"",null,null,null,"","",null,"",null,"","","",0]
[null,"DATEN029",20,null,"",null,null,null,null,null,null,{"$f":"IF(K47>0,K47,I47*H47)","v":0},null,null,null,null,{"$f":"IF(SUM(N47:P47)>0,SUM(N47:P47),\"\")","v":""},{"$f":"IF(COUNT(N47:P47)>0,IF(OR(SUM(N47:P47)>F47,COUNT(N47:P47)<3),1,0),0)","v":0},null,null,null,{"$f":"IF(SUM(T47:U47)>0,SUM(T47:U47),\"\")","v":""},{"$f":"IF(V47<>\"\",IF(V47>F47,1,0),0)","v":0},null,null,null,null,{"$f":"IF(Z47>0,Z47*4,0)","v":0},{"$f":"IF(COUNT(AA47)=1,AA47,IF(AND(OR(Y47=1,Y47=2),Z47<>\"\"),IF(AB47>=IF(Y47=1,10,20),0,1),\"\"))","v":""},null,null,null,{"$f":"IF(AE47>0,AE47*4,0)","v":0},{"$f":"IF(COUNT(AF47)=1,AF47,IF(AND(OR(AD47=1,AD47=2),AE47<>\"\"),IF(AG47>=IF(AD47=1,10,20),0,1),\"\"))","v":""},null,null,null,{"$f":"IF(AJ47>0,AJ47*4,0)","v":0},{"$f":"IF(COUNT(AK47)=1,AK47,IF(AND(OR(AI47=1,AI47=2),AJ47<>\"\"),IF(AL47>=IF(AI47=1,10,20),0,1),\"\"))","v":""},null,null,null,{"$f":"IF(AO47>0,AO47*4,0)","v":0},{"$f":"IF(COUNT(AP47)=1,AP47,IF(AND(OR(AN47=1,AN47=2),AO47<>\"\"),IF(AQ47>=IF(AN47=1,10,20),0,1),\"\"))","v":""},null,null,null,{"$f":"IF(AT47>0,AT47*4,0)","v":0},{"$f":"IF(COUNT(AU47)=1,AU47,IF(AND(OR(AS47=1,AS47=2),AT47<>\"\"),IF(AV47>=IF(AS47=1,10,20),0,1),\"\"))","v":""},null,null,null,{"$f":"IF(AY47>0,AY47*4,0)","v":0},{"$f":"IF(COUNT(AZ47)=1,AZ47,IF(AND(OR(AX47=1,AX47=2),AY47<>\"\"),IF(BA47>=IF(AX47=1,10,20),0,1),\"\"))","v":""},null,null,null,null,false,null,null,"",null,null,null,"","",null,"",null,"",{"$f":"IF(BS47<>\"\",IF(BU47>=BS47,\"ja\",\"nein\"),\"\")","v":""},"",{"$f":"IF(BU47>=BS47,0,1)","v":0}]
[null,"DATEN030",21,null,"",null,null,null,null,null,null,0,null,null,null,null,"",0,null,null,null,"",0,null,null,null,null,0,"",null,null,null,0,"",null,null,null,0,"",null,null,null,0,"",null,null,null,0,"",null,null,null,0,"",null,null,null,null,false,null,null,"",null,null,null,"","",null,"",null,"","","",0]
[null,"DATEN031",22,null,"",null,null,null,null,null,null,0,null,null,null,null,"",0,null,null,null,"",0,null,null,null,null,0,"",null,null,null,0,"",null,null,null,0,"",null,null,null,0,"",null,null,null,0,"",null,null,null,0,"",null,null,null,null,false,null,null,"",null,null,null,"","",null,"",null,"","","",0]
[null,"DATEN032",23,null,"",null,null,null,null,null,null,0,null,null,null,null,"",0,null,null,null,"",0,null,null,null,null,0,"",null,null,null,0,"",null,null,null,0,"",null,null,null,0,"",null,null,null,0,"",null,null,null,0,"",null,null,null,null,false,null,null,"",null,null,null,"","",null,"",null,"","","",0]
[null,"DATEN033",24,null,"",null,null,null,null,null,null,0,null,null,null,null,"",0,null,null,null,"",0,null,null,null,null,0,"",null,null,null,0,"",null,null,null,0,"",null,null,null,0,"",null,null,null,0,"",null,null,null,0,"",null,null,null,null,false,null,null,"",null,null,null,"","",null,"",null,"","","",0]
[null,"DATEN034",25,null,"",null,null,null,null,null,null,0,null,null,null,null,"",0,null,null,null,"",0,null,null,null,null,0,"",null,null,null,0,"",null,null,null,0,"",null,null,null,0,"",null,null,null,0,"",null,null,null,0,"",null,null,null,null,false,null,null,"",null,null,null,"","",null,"",null,"","","",0]
[null,"DATEN035",26,null,"",null,null,null,null,null,null,0,null,null,null,null,"",0,null,null,null,"",0,null,null,null,null,0,"",null,null,null,0,"",null,null,null,0,"",null,null,null,0,"",null,null,null,0,"",null,null,null,0,"",null,null,null,null,false,null,null,"",null,null,null,"","",null,"",null,"","","",0]
[null,"DATEN036",27,null,"",null,null,null,null,null,null,0,null,null,null,null,"",0,null,null,null,"",0,null,null,null,null,0,"",null,null,null,0,"",null,null,null,0,"",null,null,null,0,"",null,null,null,0,"",null,null,null,0,"",null,null,null,null,false,null,null,"",null,null,null,"","",null,"",null,"","","",0]
[null,"DATEN037",28,null,"",null,null,null,null,null,null,0,null,null,null,null,"",0,null,null,null,"",0,null,null,null,null,0,"",null,null,null,0,"",null,null,null,0,"",null,null,null,0,"",null,null,null,0,"",null,null,null,0,"",null,null,null,null,false,null,null,"",null,null,null,"","",null,"",null,"","","",0]
[null,"DATEN038",29,null,"",null,null,null,null,null,null,0,null,null,null,null,"",0,null,null,null,"",0,null,null,null,null,0,"",null,null,null,0,"",null,null,null,0,"",null,null,null,0,"",null,null,null,0,"",null,null,null,0,"",null,null,null,null,false,null,null,"",null,null,null,"","",null,"",null,"","","",0]
[null,"DATEN039",30,null,"",null,null,null,null,null,null,0,null,null,null,null,"",0,null,null,null,"",0,null,null,null,null,0,"",null,null,null,0,"",null,null,null,0,"",null,null,null,0,"",null,null,null,0,"",null,null,null,0,"",null,null,null,null,false,null,null,"",null,null,null,"","",null,"",null,"","","",0]
[null,"DATEN040",31,null,"",null,null,null,null,null,null,0,null,null,null,null,"",0,null,null,null,"",0,null,null,null,null,0,"",null,null,null,0,"",null,null,null,0,"",null,null,null,0,"",null,null,null,0,"",null,null,null,0,"",null,null,null,null,false,null,null,"",null,null,null,"","",null,"",null,"","","",0]
[null,"DATEN041",32,null,"",null,null,null,null,null,null,0,null,null,null,null,"",0,null,null,null,"",0,null,null,null,null,0,"",null,null,null,0,"",null,null,null,0,"",null,null,null,0,"",null,null,null,0,"",null,null,null,0,"",null,null,null,null,false,null,null,"",null,null,null,"","",null,"",null,"","","",0]
[null,"DATEN042",33,null,"",null,null,null,null,null,null,0,null,null,null,null,"",0,null,null,null,"",0,null,null,null,null,0,"",null,null,null,0,"",null,null,null,0,"",null,null,null,0,"",null,null,null,0,"",null,null,null,0,"",null,null,null,null,false,null,null,{"$f":"IF(AND(L60>0,F60>0),L60/F60,\"\")","v":""},null,null,null,{"$f":"IF(COUNT(F60,Q60)=2,(N60+O60)/F60*100,\"\")","v":""},{"$f":"IF(F60>0,IF(SUM(N60:P60)>0,N60/SUM(N60:P60)*100,\"\"),\"\")","v":""},null,{"$f":"IF(V60<>\"\",U60/V60*100,\"\")","v":""},null,{"$f":"IF(F60>0,INT((F60-1)/20)+2,\"\")","v":""},"","",0]
[null,"DATEN043",34,null,"",null,null,null,null,null,null,0,null,null,null,null,"",0,null,null,null,"",0,null,null,null,null,0,"",null,null,null,0,"",null,null,null,0,"",null,null,null,0,"",null,null,null,0,"",null,null,null,0,"",null,null,null,null,false,null,null,"",null,null,null,"","",null,"",null,"","","",0]
[null,"DATEN044",35,null,"",null,null,null,null,null,null,0,null,null,null,null,"",0,null,null,null,"",0,null,null,null,null,0,"",null,null,null,0,"",null,null,null,0,"",null,null,null,0,"",null,null,null,0,"",null,null,null,0,"",null,null,null,null,false,null,null,"",null,null,null,"","",null,"",null,"","","",0]
[null,"DATEN045",36,null,"",null,null,null,null,null,null,0,null,null,null,null,"",0,null,null,null,"",0,null,null,null,null,0,"",null,null,null,0,"",null,null,null,0,"",null,null,null,0,"",null,null,null,0,"",null,null,null,0,"",null,null,null,null,false,null,null,"",null,null,null,"","",null,"",null,"","","",0]
[null,"DATEN046",37,null,"",null,null,null,null,null,null,0,null,null,null,null,"",0,null,null,null,"",0,null,null,null,null,0,"",null,null,null,0,"",null,null,null,0,"",null,null,null,0,"",null,null,null,0,"",null,null,null,0,"",null,null,null,null,false,null,null,"",null,null,null,"","",null,"",null,"","","",0]
[null,"DATEN047",38,null,"",null,null,null,null,null,null,0,null,null,null,null,"",0,null,null,null,"",0,null,null,null,null,0,"",null,null,null,0,"",null,null,null,0,"",null,null,null,0,"",null,null,null,0,"",null,null,null,0,"",null,null,null,null,false,null,null,"",null,null,null,"","",null,"",null,"","","",0]
[null,"DATEN048",39,null,"",null,null,null,null,null,null,0,null,null,null,null,"",0,null,null,null,"",0,null,null,null,null,0,"",null,null,null,0,"",null,null,null,0,"",null,null,null,0,"",null,null,null,0,"",null,null,null,0,"",null,null,null,null,false,null,null,"",null,null,null,"","",null,"",null,"","","",0]
[null,"DATEN049",40,null,"",null,null,null,null,null,null,0,null,null,null,null,"",0,null,null,null,"",0,null,null,null,null,0,"",null,null,null,0,"",null,null,null,0,"",null,null,null,0,"",null,null,null,0,"",null,null,null,0,"",null,null,null,null,false,null,null,"",null,null,null,"","",null,"",null,"","","",0]
[null,"DATEN050",41,null,"",null,null,null,null,null,null,0,null,null,null,null,"",0,null,null,null,"",0,null,null,null,null,0,"",null,null,null,0,"",null,null,null,0,"",null,null,null,0,"",null,null,null,0,"",null,null,null,0,"",null,null,null,null,false,null,null,"",null,null,null,"","",null,"",null,"","","",0]
[null,"DATEN051",42,null,"",null,null,null,null,null,null,0,null,null,null,null,"",0,null,null,null,"",0,null,null,null,null,0,"",null,null,null,0,"",null,null,null,0,"",null,null,null,0,"",null,null,null,0,"",null,null,null,0,"",null,null,null,null,false,null,null,"",null,null,null,"","",null,"",null,"","","",0]
[null,"DATEN052",43,null,"",null,null,null,null,null,null,0,null,null,null,null,"",0,null,null,null,"",0,null,null,null,null,0,"",null,null,null,0,"",null,null,null,0,"",null,null,null,0,"",null,null,null,0,"",null,null,null,0,"",null,null,null,null,false,null,null,"",null,null,null,"","",null,"",null,"","","",0]
[null,"DATEN053",44,null,"",null,null,null,null,null,null,0,null,null,null,null,"",0,null,null,null,"",0,null,null,null,null,0,"",null,null,null,0,"",null,null,null,0,"",null,null,null,0,"",null,null,null,0,"",null,null,null,0,"",null,null,null,null,false,null,null,"",null,null,null,"","",null,"",null,"","","",0]
[null,"DATEN054",45,null,"",null,null,null,null,null,null,0,null,null,null,null,"",0,null,null,null,"",0,null,null,null,null,0,"",null,null,null,0,"",null,null,null,0,"",null,null,null,0,"",null,null,null,0,"",null,null,null,0,"",null,null,null,null,false,null,null,"",null,null,null,"","",null,"",null,"","","",0]
[null,"DATEN055",46,null,"",null,null,null,null,null,null,0,null,null,null,null,"",0,null,null,null,"",0,null,null,null,null,0,"",null,null,null,0,"",null,null,null,0,"",null,null,null,0,"",null,null,null,0,"",null,null,null,0,"",null,null,null,null,false,null,null,"",null,null,null,"","",null,"",null,"","","",0]
[null,"DATEN056",47,null,"",null,null,null,null,null,null,0,null,null,null,null,"",0,null,null,null,"",0,null,null,null,null,0,"",null,null,null,0,"",null,null,null,0,"",null,null,null,0,"",null,null,null,0,"",null,null,null,0,"",null,null,null,null,false,null,null,"",null,null,null,"","",null,"",null,"","","",0]
[null,"DATEN057",48,null,"",null,null,null,null,null,null,0,null,null,null,null,"",0,null,null,null,"",0,null,null,null,null,0,"",null,null,null,0,"",null,null,null,0,"",null,null,null,0,"",null,null,null,0,"",null,null,null,0,"",null,null,null,null,false,null,null,"",null,null,null,"","",null,"",null,"","","",0]
[null,"DATEN058",49,null,"",null,null,null,null,null,null,0,null,null,null,null,"",0,null,null,null,"",0,null,null,null,null,0,"",null,null,null,0,"",null,null,null,0,"",null,null,null,0,"",null,null,null,0,"",null,null,null,0,"",null,null,null,null,false,null,null,"",null,null,null,"","",null,"",null,"","","",0]
[null,"DATEN059",50,null,"",null,null,null,null,null,null,0,null,null,null,null,"",0,null,null,null,"",0,null,null,null,null,0,"",null,null,null,0,"",null,null,null,0,"",null,null,null,0,"",null,null,null,0,"",null,null,null,0,"",null,null,null,null,false,null,null,"",null,null,null,"","",null,"",null,"","","",0]
[null,"DATEN060",51,null,"",null,null,null,null,null,null,0,null,null,null,null,"",0,null,null,null,"",0,null,null,null,null,0,"",null,null,null,0,"",null,null,null,0,"",null,null,null,0,"",null,null,null,0,"",null,null,null,0,"",null,null,null,null,false,null,null,"",null,null,null,"","",null,"",null,"","","",0]
[null,"DATEN061",52,null,"",null,null,null,null,null,null,0,null,null,null,null,"",0,null,null,null,"",0,null,null,null,null,0,"",null,null,null,0,"",null,null,null,0,"",null,null,null,0,"",null,null,null,0,"",null,null,null,0,"",null,null,null,null,false,null,null,"",null,null,null,"","",null,"",null,"","","",0]
[null,"DATEN062",53,null,"",null,null,null,null,null,null,0,null,null,null,null,"",0,null,null,null,"",0,null,null,null,null,0,"",null,null,null,0,"",null,null,null,0,"",null,null,null,0,"",null,null,null,0,"",null,null,null,0,"",null,null,null,null,false,null,null,"",null,null,null,"","",null,"",null,"","","",0]
[null,"DATEN063",54,null,"",null,null,null,null,null,null,0,null,null,null,null,"",0,null,null,null,"",0,null,null,null,null,0,"",null,null,null,0,"",null,null,null,0,"",null,null,null,0,"",null,null,null,0,"",null,null,null,0,"",null,null,null,null,false,null,null,"",null,null,null,"","",null,"",null,"","","",0]
[null,"DATEN064",55,null,"",null,null,null,null,null,null,0,null,null,null,null,"",0,null,null,null,"",0,null,null,null,null,0,"",null,null,null,0,"",null,null,null,0,"",null,null,null,0,"",null,null,null,0,"",null,null,null,0,"",null,null,null,null,false,null,null,"",null,null,null,"","",null,"",null,"","","",0]
[null,"DATEN065",56,null,"",null,null,null,null,null,null,0,null,null,null,null,"",0,null,null,null,"",0,null,null,null,null,0,"",null,null,null,0,"",null,null,null,0,"",null,null,null,0,"",null,null,null,0,"",null,null,null,0,"",null,null,null,null,false,null,null,"",null,null,null,"","",null,"",null,"","","",0]
[null,"DATEN066",57,null,"",null,null,null,null,null,null,0,null,null,null,null,"",0,null,null,null,"",0,null,null,null,null,0,"",null,null,null,0,"",null,null,null,0,"",null,null,null,0,"",null,null,null,0,"",null,null,null,0,"",null,null,null,null,false,null,null,"",null,null,null,"","",null,"",null,"","","",0]
[null,"DATEN067",58,null,"",null,null,null,null,null,null,0,null,null,null,null,"",0,null,null,null,"",0,null,null,null,null,0,"",null,null,null,0,"",null,null,null,0,"",null,null,null,0,"",null,null,null,0,"",null,null,null,0,"",null,null,null,null,false,null,null,"",null,null,null,"","",null,"",null,"","","",0]
[null,"DATEN068",59,null,"",null,null,null,null,null,null,0,null,null,null,null,"",0,null,null,null,"",0,null,null,null,null,0,"",null,null,null,0,"",null,null,null,0,"",null,null,null,0,"",null,null,null,0,"",null,null,null,0,"",null,null,null,null,false,null,null,"",null,null,null,"","",null,"",null,"","","",0]
[null,"DATEN069",60,null,"",null,null,null,null,null,null,0,null,null,null,null,"",0,null,null,null,"",0,null,null,null,null,0,"",null,null,null,0,"",null,null,null,0,"",null,null,null,0,"",null,null,null,0,"",null,null,null,0,"",null,null,null,null,false,null,null,"",null,null,null,"","",null,"",null,"","","",0]
[null,"DATEN070",61,null,"",null,null,null,null,null,null,0,null,null,null,null,"",0,null,null,null,"",0,null,null,null,null,0,"",null,null,null,0,"",null,null,null,0,"",null,null,null,0,"",null,null,null,0,"",null,null,null,0,"",null,null,null,null,false,null,null,"",null,null,null,"","",null,"",null,"","","",0]
[null,"DATEN071",62,null,"",null,null,null,null,null,null,0,null,null,null,null,"",0,null,null,null,"",0,null,null,null,null,0,"",null,null,null,0,"",null,null,null,0,"",null,null,null,0,"",null,null,null,0,"",null,null,null,0,"",null,null,null,null,false,null,null,"",null,null,null,"","",null,"",null,"","","",0]
[null,"DATEN072",63,null,"",null,null,null,null,null,null,0,null,null,null,null,"",0,null,null,null,"",0,null,null,null,null,0,"",null,null,null,0,"",null,null,null,0,"",null,null,null,0,"",null,null,null,0,"",null,null,null,0,"",null,null,null,null,false,null,null,"",null,null,null,"","",null,"",null,"","","",0]
[null,"DATEN073",64,null,"",null,null,null,null,null,null,0,null,null,null,null,"",0,null,null,null,"",0,null,null,null,null,0,"",null,null,null,0,"",null,null,null,0,"",null,null,null,0,"",null,null,null,0,"",null,null,null,0,"",null,null,null,null,false,null,null,"",null,null,null,"","",null,"",null,"","","",0]
[null,"DATEN074",65,null,"",null,null,null,null,null,null,0,null,null,null,null,"",0,null,null,null,"",0,null,null,null,null,0,"",null,null,null,0,"",null,null,null,0,"",null,null,null,0,"",null,null,null,0,"",null,null,null,0,"",null,null,null,null,false,null,null,{"$f":"IF(AND(L92>0,F92>0),L92/F92,\"\")","v":""},null,null,null,{"$f":"IF(COUNT(F92,Q92)=2,(N92+O92)/F92*100,\"\")","v":""},{"$f":"IF(F92>0,IF(SUM(N92:P92)>0,N92/SUM(N92:P92)*100,\"\"),\"\")","v":""},null,{"$f":"IF(V92<>\"\",U92/V92*100,\"\")","v":""},null,{"$f":"IF(F92>0,INT((F92-1)/20)+2,\"\")","v":""},"","",0]
[null,"DATEN075",66,null,"",null,null,null,null,null,null,0,null,null,null,null,"",0,null,null,null,"",0,null,null,null,null,0,"",null,null,null,0,"",null,null,null,0,"",null,null,null,0,"",null,null,null,0,"",null,null,null,0,"",null,null,null,null,{"$f":"IF(AND(COUNT(AC93,AH93,AM93,AR93,AW93,BB93)<>6,COUNT(BC93:BF93)>0),TRUE,IF(OR(BD93>BC93,BF93>BE93),TRUE,IF(OR(COUNT(BC93:BD93)=1,COUNT(BE93:BF93)=1),TRUE,FALSE)))","v":false},null,null,"",null,null,null,"","",null,"",null,"","",{"$f":"IF(F93>0,IF(AC93=0,1,0)+IF(AH93=0,1,0)+IF(AM93=0,1,0)+IF(AR93=0,1,0)+IF(AW93=0,1,0)+IF(BB93=0,1,0)+IF(BG93=FALSE,(BC93-BD93+BE93-BF93),0),\"\")","v":""},0]
[null,"DATEN076",67,null,"",null,null,null,null,null,null,0,null,null,null,null,"",0,null,null,null,"",0,null,null,null,null,0,"",null,null,null,0,"",null,null,null,0,"",null,null,null,0,"",null,null,null,0,"",null,null,null,0,"",null,null,null,null,false,null,null,"",null,null,null,"","",null,"",null,"","","",0]
[null,"DATEN077",68,null,"",null,null,null,null,null,null,0,null,null,null,null,"",0,null,null,null,"",0,null,null,null,null,0,"",null,null,null,0,"",null,null,null,0,"",null,null,null,0,"",null,null,null,0,"",null,null,null,0,"",null,null,null,null,false,null,null,"",null,null,null,"","",null,"",null,"","","",0]
[null,"DATEN078",69,null,"",null,null,null,null,null,null,0,null,null,null,null,"",0,null,null,null,"",0,null,null,null,null,0,"",null,null,null,0,"",null,null,null,0,"",null,null,null,0,"",null,null,null,0,"",null,null,null,0,"",null,null,null,null,false,null,null,"",null,null,null,"","",null,"",null,"","","",0]
[null,"DATEN079",70,null,"",null,null,null,null,null,null,0,null,null,null,null,"",0,null,null,null,"",0,null,null,null,null,0,"",null,null,null,0,"",null,null,null,0,"",null,null,null,0,"",null,null,null,0,"",null,null,null,0,"",null,null,null,null,false,null,null,"",null,null,null,"","",null,"",null,"","","",0]
[null,"DATEN080",71,null,"",null,null,null,null,null,null,0,null,null,null,null,"",0,null,null,null,"",0,null,null,null,null,0,"",null,null,null,0,"",null,null,null,0,"",null,null,null,0,"",null,null,null,0,"",null,null,null,0,"",null,null,null,null,false,null,null,"",null,null,null,"","",null,"",null,"","","",0]
[null,"DATEN081",72,null,"",null,null,null,null,null,null,0,null,null,null,null,"",0,null,null,null,"",0,null,null,null,null,0,"",null,null,null,0,"",null,null,null,0,"",null,null,null,0,"",null,null,null,0,"",null,null,null,0,"",null,null,null,null,false,null,null,"",null,null,null,"","",null,"",null,"","","",0]
[null,"DATEN082",73,null,"",null,null,null,null,null,null,0,null,null,null,null,"",0,null,null,null,"",0,null,null,null,null,0,"",null,null,null,0,"",null,null,null,0,"",null,null,null,0,"",null,null,null,0,"",null,null,null,0,"",null,null,null,null,false,null,null,"",null,null,null,"","",null,"",null,"","","",0]
[null,"DATEN083",74,null,"",null,null,null,null,null,null,0,null,null,null,null,"",0,null,null,null,"",0,null,null,null,null,0,"",null,null,null,0,"",null,null,null,0,"",null,null,null,0,"",null,null,null,0,"",null,null,null,0,"",null,null,null,null,false,null,null,"",null,null,null,"","",null,"",null,"","","",0]
[null,"DATEN084",75,null,"",null,null,null,null,null,null,0,null,null,null,null,"",0,null,null,null,"",0,null,null,null,null,0,"",null,null,null,0,"",null,null,null,0,"",null,null,null,0,"",null,null,null,0,"",null,null,null,0,"",null,null,null,null,false,null,null,"",null,null,null,"","",null,"",null,"","","",0]
[null,"DATEN085",76,null,"",null,null,null,null,null,null,0,null,null,null,null,"",0,null,null,null,"",0,null,null,null,null,0,"",null,null,null,0,"",null,null,null,0,"",null,null,null,0,"",null,null,null,0,"",null,null,null,0,"",null,null,null,null,false,null,null,"",null,null,null,"","",null,"",null,"","","",0]
[null,"DATEN086",77,null,"",null,null,null,null,null,null,0,null,null,null,null,"",0,null,null,null,"",0,null,null,null,null,0,"",null,null,null,0,"",null,null,null,0,"",null,null,null,0,"",null,null,null,0,"",null,null,null,0,"",null,null,null,null,false,null,null,"",null,null,null,"","",null,"",null,"","","",0]
[null,"DATEN087",78,null,"",null,null,null,null,null,null,0,null,null,null,null,"",0,null,null,null,"",0,null,null,null,null,0,"",null,null,null,0,"",null,null,null,0,"",null,null,null,0,"",null,null,null,0,"",null,null,null,0,"",null,null,null,null,false,null,null,"",null,null,null,"","",null,"",null,"","","",0]
[null,"DATEN088",79,null,"",null,null,null,null,null,null,0,null,null,null,null,"",0,null,null,null,"",0,null,null,null,null,0,"",null,null,null,0,"",null,null,null,0,"",null,null,null,0,"",null,null,null,0,"",null,null,null,0,"",null,null,null,null,false,null,null,"",null,null,null,"","",null,"",null,"","","",0]
[null,"DATEN089",80,null,"",null,null,null,null,null,null,0,null,null,null,null,"",0,null,null,null,"",0,null,null,null,null,0,"",null,null,null,0,"",null,null,null,0,"",null,null,null,0,"",null,null,null,0,"",null,null,null,0,"",null,null,null,null,false,null,null,"",null,null,null,"","",null,"",null,"","","",0]
[null,"DATEN090",81,null,"",null,null,null,null,null,null,0,null,null,null,null,"",0,null,null,null,"",0,null,null,null,null,0,"",null,null,null,0,"",null,null,null,0,"",null,null,null,0,"",null,null,null,0,"",null,null,null,0,"",null,null,null,null,false,null,null,"",null,null,null,"","",null,"",null,"","","",0]
[null,"DATEN091",82,null,"",null,null,null,null,null,null,0,null,null,null,null,"",0,null,null,null,"",0,null,null,null,null,0,"",null,null,null,0,"",null,null,null,0,"",null,null,null,0,"",null,null,null,0,"",null,null,null,0,"",null,null,null,null,false,null,null,"",null,null,null,"","",null,"",null,"","","",0]
[null,"DATEN092",83,null,"",null,null,null,null,null,null,0,null,null,null,null,"",0,null,null,null,"",0,null,null,null,null,0,"",null,null,null,0,"",null,null,null,0,"",null,null,null,0,"",null,null,null,0,"",null,null,null,0,"",null,null,null,null,false,null,null,"",null,null,null,"","",null,"",null,"","","",0]
[null,"DATEN093",84,null,"",null,null,null,null,null,null,{"$f":"IF(K111>0,K111,I111*H111)","v":0},null,null,null,null,{"$f":"IF(SUM(N111:P111)>0,SUM(N111:P111),\"\")","v":""},{"$f":"IF(COUNT(N111:P111)>0,IF(OR(SUM(N111:P111)>F111,COUNT(N111:P111)<3),1,0),0)","v":0},null,null,null,{"$f":"IF(SUM(T111:U111)>0,SUM(T111:U111),\"\")","v":""},{"$f":"IF(V111<>\"\",IF(V111>F111,1,0),0)","v":0},null,null,null,null,{"$f":"IF(Z111>0,Z111*4,0)","v":0},{"$f":"IF(COUNT(AA111)=1,AA111,IF(AND(OR(Y111=1,Y111=2),Z111<>\"\"),IF(AB111>=IF(Y111=1,10,20),0,1),\"\"))","v":""},null,null,null,{"$f":"IF(AE111>0,AE111*4,0)","v":0},{"$f":"IF(COUNT(AF111)=1,AF111,IF(AND(OR(AD111=1,AD111=2),AE111<>\"\"),IF(AG111>=IF(AD111=1,10,20),0,1),\"\"))","v":""},null,null,null,{"$f":"IF(AJ111>0,AJ111*4,0)","v":0},{"$f":"IF(COUNT(AK111)=1,AK111,IF(AND(OR(AI111=1,AI111=2),AJ111<>\"\"),IF(AL111>=IF(AI111=1,10,20),0,1),\"\"))","v":""},null,null,null,{"$f":"IF(AO111>0,AO111*4,0)","v":0},{"$f":"IF(COUNT(AP111)=1,AP111,IF(AND(OR(AN111=1,AN111=2),AO111<>\"\"),IF(AQ111>=IF(AN111=1,10,20),0,1),\"\"))","v":""},null,null,null,{"$f":"IF(AT111>0,AT111*4,0)","v":0},{"$f":"IF(COUNT(AU111)=1,AU111,IF(AND(OR(AS111=1,AS111=2),AT111<>\"\"),IF(AV111>=IF(AS111=1,10,20),0,1),\"\"))","v":""},null,null,null,{"$f":"IF(AY111>0,AY111*4,0)","v":0},{"$f":"IF(COUNT(AZ111)=1,AZ111,IF(AND(OR(AX111=1,AX111=2),AY111<>\"\"),IF(BA111>=IF(AX111=1,10,20),0,1),\"\"))","v":""},null,null,null,null,false,null,null,"",null,null,null,"","",null,"",null,"",{"$f":"IF(BS111<>\"\",IF(BU111>=BS111,\"ja\",\"nein\"),\"\")","v":""},"",{"$f":"IF(BU111>=BS111,0,1)","v":0}]
[null,"DATEN094",85,null,"",null,null,null,null,null,null,0,null,null,null,null,"",0,null,null,null,"",0,null,null,null,null,0,"",null,null,null,0,"",null,null,null,0,"",null,null,null,0,"",null,null,null,0,"",null,null,null,0,"",null,null,null,null,false,null,null,"",null,null,null,"","",null,"",null,"","","",0]
[null,"DATEN095",86,null,"",null,null,null,null,null,null,0,null,null,null,null,"",0,null,null,null,"",0,null,null,null,null,0,"",null,null,null,0,"",null,null,null,0,"",null,null,null,0,"",null,null,null,0,"",null,null,null,0,"",null,null,null,null,false,null,null,"",null,null,null,"","",null,"",null,"","","",0]
[null,"DATEN096",87,null,"",null,null,null,null,null,null,0,null,null,null,null,"",0,null,null,null,"",0,null,null,null,null,0,"",null,null,null,0,"",null,null,null,0,"",null,null,null,0,"",null,null,null,0,"",null,null,null,0,"",null,null,null,null,false,null,null,"",null,null,null,"","",null,"",null,"","","",0]
[null,"DATEN097",88,null,"",null,null,null,null,null,null,0,null,null,null,null,"",0,null,null,null,"",0,null,null,null,null,0,"",null,null,null,0,"",null,null,null,0,"",null,null,null,0,"",null,null,null,0,"",null,null,null,0,"",null,null,null,null,false,null,null,"",null,null,null,"","",null,"",null,"","","",0]
[null,"DATEN098",89,null,"",null,null,null,null,null,null,0,null,null,null,null,"",0,null,null,null,"",0,null,null,null,null,0,"",null,null,null,0,"",null,null,null,0,"",null,null,null,0,"",null,null,null,0,"",null,null,null,0,"",null,null,null,null,false,null,null,"",null,null,null,"","",null,"",null,"","","",0]
[null,"DATEN099",90,null,"",null,null,null,null,null,null,0,null,null,null,null,"",0,null,null,null,"",0,null,null,null,null,0,"",null,null,null,0,"",null,null,null,0,"",null,null,null,0,"",null,null,null,0,"",null,null,null,0,"",null,null,null,null,false,null,null,"",null,null,null,"","",null,"",null,"","","",0]
[null,"DATEN100",91,null,"",null,null,null,null,null,null,0,null,null,null,null,"",0,null,null,null,"",0,null,null,null,null,0,"",null,null,null,0,"",null,null,null,0,"",null,null,null,0,"",null,null,null,0,"",null,null,null,0,"",null,null,null,null,false,null,null,"",null,null,null,"","",null,"",null,"","","",0]
[null,"DATEN101",92,null,"",null,null,null,null,null,null,0,null,null,null,null,"",0,null,null,null,"",0,null,null,null,null,0,"",null,null,null,0,"",null,null,null,0,"",null,null,null,0,"",null,null,null,0,"",null,null,null,0,"",null,null,null,null,false,null,null,"",null,null,null,"","",null,"",null,"","","",0]
[null,"DATEN102",93,null,"",null,null,null,null,null,null,0,null,null,null,null,"",0,null,null,null,"",0,null,null,null,null,0,"",null,null,null,0,"",null,null,null,0,"",null,null,null,0,"",null,null,null,0,"",null,null,null,0,"",null,null,null,null,false,null,null,"",null,null,null,"","",null,"",null,"","","",0]
[null,"DATEN103",94,null,"",null,null,null,null,null,null,0,null,null,null,null,"",0,null,null,null,"",0,null,null,null,null,0,"",null,null,null,0,"",null,null,null,0,"",null,null,null,0,"",null,null,null,0,"",null,null,null,0,"",null,null,null,null,false,null,null,"",null,null,null,"","",null,"",null,"","","",0]
[null,"DATEN104",95,null,"",null,null,null,null,null,null,0,null,null,null,null,"",0,null,null,null,"",0,null,null,null,null,0,"",null,null,null,0,"",null,null,null,0,"",null,null,null,0,"",null,null,null,0,"",null,null,null,0,"",null,null,null,null,false,null,null,"",null,null,null,"","",null,"",null,"","","",0]
[null,"DATEN105",96,null,"",null,null,null,null,null,null,0,null,null,null,null,"",0,null,null,null,"",0,null,null,null,null,0,"",null,null,null,0,"",null,null,null,0,"",null,null,null,0,"",null,null,null,0,"",null,null,null,0,"",null,null,null,null,false,null,null,"",null,null,null,"","",null,"",null,"",{"$f":"IF(BS123<>\"\",IF(BU123>=BS123,\"ja\",\"nein\"),\"\")","v":""},"",0]
[null,"DATEN106",97,null,"",null,null,null,null,null,null,0,null,null,null,null,"",0,null,null,null,"",0,null,null,null,null,0,"",null,null,null,0,"",null,null,null,0,"",null,null,null,0,"",null,null,null,0,"",null,null,null,0,"",null,null,null,null,false,null,null,"",null,null,null,"","",null,"",null,"","","",0]
[null,"DATEN107",98,null,"",null,null,null,null,null,null,0,null,null,null,null,"",0,null,null,null,"",0,null,null,null,null,0,"",null,null,null,0,"",null,null,null,0,"",null,null,null,0,"",null,null,null,0,"",null,null,null,0,"",null,null,null,null,false,null,null,"",null,null,null,"","",null,"",null,"","","",0]
[null,"DATEN108",99,null,"",null,null,null,null,null,null,0,null,null,null,null,"",0,null,null,null,"",0,null,null,null,null,0,"",null,null,null,0,"",null,null,null,0,"",null,null,null,0,"",null,null,null,0,"",null,null,null,0,"",null,null,null,null,false,null,null,"",null,null,null,"","",null,"",null,"","","",0]
[null,"DATEN129",100,null,"",null,null,null,null,null,null,0,null,null,null,null,"",0,null,null,null,"",0,null,null,null,null,0,"",null,null,null,0,"",null,null,null,0,"",null,null,null,0,"",null,null,null,0,"",null,null,null,0,"",null,null,null,null,false,null,null,"",null,null,null,"","",null,"",null,"","","",0]
[null,null,null,null,null,{"$f":"SUM(F28:F127)","v":175},null,null,null,null,null,null,null,{"$f":"SUM(N28:N127)","v":0},{"$f":"SUM(O28:O127)","v":0},{"$f":"SUM(P28:P127)","v":0}]
[null,null,null," Ergebnisse",null,null,"Flächenangebot",null,null,null,null,null,null,"Liegeplatznutzung",null,null,null,null,null,"Aufstehverhalten",null,null,null,null,"Wasserversorgung",null,null,null,null,null,null,null,null,null,null,null,null,null,null,null,null,null,null,null,null,null,null,null,null,null,null,null,null,null,null,null,null,null,null,null,null,"Fläche",null,null,null,null,null,null,null,null,null,null,"W01"]
[null,"ERGEB905",null,null,null,null,null,null,"Tiere",null,"Fläche",null,null,"Anzahl Tiere",null,{"$f":"SUM(F28:F127)","v":175},null,null,null,null,null,null,null,null,"A : Unzureichende Tränken",null,null,null,null,null,null,null,null,null,"B: Anteil unzureichend versorgter Tiere",null,null,null,null,null,null,null,null,null,null,null,null,null,null,null,null,null,null,null,null,null,null,null,null,null,null,"je Tier","min","max",null,null,null,null,null,null,null,null,"A"]
[null,"ERGEB901",null,null,null,null,null,"Anfangsmast",{"$f":"SUMIFS(F28:F127,D28:D127,\"A\")","v":0},null,{"$f":"SUMIFS(L28:L127,D28:D127,\"A\")","v":0},{"$f":"SUMIFS(L28:L127,D28:D127,\"A\")","v":0},null,"Anzahl Tiere auf Liegeplatz",null,{"$f":"IF(P130>0,N128+O128+P128,\"\")","v":0},null,null,null,"Tiere (beurteilt)",null,{"$f":"SUM(V28:V127)","v":0},null,null,"Tränken (beurteilt)",null,null,{"$f":"COUNTIF(AC28:AC127,\">=0\")","v":4},null,"Anz.",{"$f":"AB131+AG131+AL131+AQ131+AV131+BA131+BG131","v":94},null,{"$f":"COUNTIF(AH28:AH127,\">=0\")","v":4},null,"Tiere insgesamt",null,null,{"$f":"COUNTIF(AM28:AM127,\">=0\")","v":4},null,"Anz.",{"$f":"IF(AE131>0,SUM(F28:F127),\"\")","v":175},null,{"$f":"COUNTIF(AR28:AR127,\">=0\")","v":4},null,null,null,null,{"$f":"COUNTIF(AW28:AW127,\">=0\")","v":4},null,null,null,null,{"$f":"COUNTIF(BB28:BB127,\">=0\")","v":4},null,null,null,null,null,{"$f":"SUMIFS(BC28:BC127,BG28:BG127,FALSE)+SUMIFS(BE28:BE127,BG28:BG127,FALSE)","v":70},null,"Anfangsmast",{"$f":"IF(AND(I131>0,L131>0),L131/I131,\"\")","v":""},{"$f":"IF(AND(I131>0,K131>0),DMIN(C3:BJ127,\"R38\",BU129:BU130),\"\")","v":""},{"$f":"IF(AND(I131>0,K131>0),DMAX(C3:BJ127,\"R38\",BU129:BU130),\"\")","v":""},null,null,null,null,null,null,null,null,"W01"]
[null,"ERGEB902",null,null,null,null,null,"Mittelmast",{"$f":"SUMIFS(F28:F127,D28:D127,\"M\")","v":0},null,{"$f":"SUMIFS(L28:L127,D28:D127,\"M\")","v":0},{"$f":"SUMIFS(L28:L127,D28:D127,\"M\")","v":0},null,"% liegende Tiere",null,{"$f":"IF(P130>0,(O128+N128)/P130*100,0)","v":0},null,null,null,"nicht flüssig aufstehend",null,{"$f":"SUM(U28:U127)","v":0},null,null,"davon unzureichend",null,null,{"$f":"COUNTIF(AC28:AC127,\"=1\")","v":0},null,"Anz.",{"$f":"AB132+AG132+AL132+AQ132+AV132+BA132+BG132","v":8},null,{"$f":"COUNTIF(AH28:AH127,\"=1\")","v":0},null,"davon unzureichend",null,null,{"$f":"COUNTIF(AM28:AM127,\"=1\")","v":0},null,"Anz.",{"$f":"IF(AE131>0,SUMIFS(F28:F127,BV28:BV127,\"=1\"),\"\")","v":100},null,{"$f":"COUNTIF(AR28:AR127,\"=1\")","v":0},null,null,null,null,{"$f":"COUNTIF(AW28:AW127,\"=1\")","v":0},null,null,null,null,{"$f":"COUNTIF(BB28:BB127,\"=1\")","v":4},null,null,null,null,null,{"$f":"SUMIFS(BD28:BD127,BG28:BG127,FALSE)+SUMIFS(BF28:BF127,BG28:BG127,FALSE)","v":4},null,"Mittelmast",{"$f":"IF(AND(I132>0,L132>0),L132/I132,\"\")","v":""},{"$f":"IF(AND(I132>0,K132>0),DMIN(C3:BJ127,\"R38\",BU131:BU132),\"\")","v":""},{"$f":"IF(AND(I132>0,K132>0),DMAX(C3:BJ127,\"R38\",BU131:BU132),\"\")","v":""},null,null,null,null,null,null,null,null,"M"]
[null,"ERGEB903",null,null,null,null,null,"Endmast",{"$f":"SUMIFS(F28:F127,D28:D127,\"E\")","v":0},null,{"$f":"SUMIFS(L28:L127,D28:D127,\"E\")","v":0},{"$f":"SUMIFS(L28:L127,D28:D127,\"E\")","v":0},null,"% vollst. auf Liegepl. liegend",null,{"$f":"IF(SUM(N128:P128)>0,N128/SUM(N128:P128)*100,0)","v":0},null,null,null,"% Anteil",null,{"$f":"IF(V131>0,V132/V131*100,0)","v":0},null,null,"Anteil",null,null,null,null,"%",{"$f":"IF(AE131>0,AE132/AE131*100,\"\")","v":8.5},null,null,null,"Anteil",null,null,null,null,"%",{"$f":"IF(AND(AE131>0,AO131>0),AO132/AO131*100,\"\")","v":57.1},null,null,null,null,null,null,null,null,null,null,null,null,null,null,null,null,null,null,null,"Endmast",{"$f":"IF(AND(I133>0,L133>0),L133/I133,\"\")","v":""},{"$f":"IF(AND(I133>0,K133>0),DMIN(C3:BJ127,\"R38\",BU133:BU134),\"\")","v":""},{"$f":"IF(AND(I133>0,K133>0),DMAX(C3:BJ127,\"R38\",BU133:BU134),\"\")","v":""},null,null,null,null,null,null,null,null,"W01"]
[null,null,null,null,null,null,null,null,"Tiere","%",null,null,null,null,null,null,null,null,null,null,null,null,null,null,null,null,null,null,null,null,null,null,null,null,null,null,null,null,null,null,null,null,null,null,null,null,null,null,null,null,null,null,null,null,null,null,null,null,null,null,null,null,null,null,null,null,null,null,null,null,null,null,"E"]
[null,"ERGEB904",null,null,null,null,"Zungenr.",null,{"$f":"F14","v":0},null,{"$f":"IF(AND(K14>0,I135>0),K14/I135*100,\"\")","v":""}]
[null,"DATEN_ENDE"]

{"sheet":"RD_BUCHTKALB","index":30,"n_rows":122,"n_cols":24,"rows_kept":122,"cut":false,"hidden":true,"merged":[[9,2,9,6]]}
[null,"RD_KALB","Aufzuchtkälber",null,null,null,null,"Tierbeurteilung",null,null,null,null,0,0]
[null,9,"T","T","T","T","T","T","T","T","-","T","T","T","T","T","-","T","T","-","T","T","-","T"]
[null,"RD_BUCHTKALB","T","W01",{"$f":"LEFT(D3,1) & TEXT(INT(RIGHT(D3,2)) + 1,\"00\")","v":"W02"},{"$f":"LEFT(E3,1) & TEXT(INT(RIGHT(E3,2)) + 1,\"00\")","v":"W03"},{"$f":"LEFT(F3,1) & TEXT(INT(RIGHT(F3,2)) + 1,\"00\")","v":"W04"},"T",{"$f":"LEFT(G3,1) & TEXT(INT(RIGHT(G3,2)) + 1,\"00\")","v":"W05"},"W12","T","T",{"$f":"LEFT(I3,1) & TEXT(INT(RIGHT(I3,2)) + 1,\"00\")","v":"W06"},{"$f":"LEFT(M3,1) & TEXT(INT(RIGHT(M3,2)) + 1,\"00\")","v":"W07"},{"$f":"LEFT(N3,1) & TEXT(INT(RIGHT(N3,2)) + 1,\"00\")","v":"W08"},{"$f":"LEFT(O3,1) & TEXT(INT(RIGHT(O3,2)) + 1,\"00\")","v":"W09"},"T","T",{"$f":"LEFT(P3,1) & TEXT(INT(RIGHT(P3,2)) + 1,\"00\")","v":"W10"},"T","T",{"$f":"LEFT(S3,1) & TEXT(INT(RIGHT(S3,2)) + 1,\"00\")","v":"W11"},"T","T"]
[null,null,"Clear","17-116",{"$f":"$D$4&\";14\"","v":"17-116;14"},{"$f":"$D$4","v":"17-116"},{"$f":"$D$4","v":"17-116"},null,{"$f":"$D$4","v":"17-116"},{"$f":"$D$4","v":"17-116"},null,null,{"$f":"$D$4","v":"17-116"},{"$f":"$D$4","v":"17-116"},{"$f":"$D$4","v":"17-116"},{"$f":"$D$4","v":"17-116"},null,null,{"$f":"$D$4","v":"17-116"},null,null,{"$f":"$D$4","v":"17-116"}]
[null,1,null,{"$f":"$C$1& \" (\" & $D$1 & IF($B$5=1,\" Sommerhalbjahr\",\" Winterhalbjahr\") & \")\"","v":"Aufzuchtkälber ( Sommerhalbjahr)"}]
[null,3,null,{"$f":"$H$1 & IF($J$1<> \"\",\" vom \" & TEXT($J$1,\"tt.MM.jjjj\"),\"\")","v":"Tierbeurteilung"},null,null,null,null,null,null,{"$f":"IF(K7<100,\"KALB_\" & MAX(17,(117-(100-K7)))&\"-116\",\"\")","v":"KALB_37-116"}]
[null,null,"    ?    ",{"$f":"\"Betrieb: \" & Intern_BetriebID & IF(E1<>\"\",\" [\" & E1 & \"]\",\"\")","v":"Betrieb: "},null,null,null,null,null,null,{"$f":"IF(E14<=0,20,IF(E14>100,100,E14))","v":20},null,null,null,null,null,null,null,null,null,null,null,null,"© KTBL & Thünen"]
[null,{"$f":"\"KALB_123-123|\" & K6","v":"KALB_123-123|KALB_37-116"}]
[]
[null,null,"Speichern und schließen ..."]
[]
[null,null,"Bucht",null,null,null,null,null,"Tierschutzindikatoren"]
[null,null,null,"Buchten","Anzahl",null,null,null,"Verschmutzung",null,null,"Einstreumanagement",null,null,null,null,null,"Unterentwickelte",null,null,"Gegenseitiges"]
[null,"DATEN001_W02",null,"beurteilt",null,null,null,null,null,null,null,null,null,null,null,null,null,"Kälber",null,null,"Besaugen/"]
[null,null,null," Bezeichnung","Gruppen-haltung","Bucht mit Einstreu?","Tiere in der Bucht",null,"Beurteilte Kälber","Verschmutze Kälber",null,null,"Liegende Kälber","1 = Extremitäten vollständig sichtbar","2 = Extremitäten teilweise sichtbar","3 = Extremitäten \nnicht sichtbar",null,null,null,null,"Nasenklammern",null," "]
[null,null,"Nr",null,"0=nein,1=ja","0=nein,1=ja","Anzahl",null,"Anzahl","Anzahl",null,null,"Anzahl","Anzahl","Anzahl","Anzahl",null,null,"Anzahl",null,null,"Anzahl"]
[null,"DATEN010",1,"",null,null,null,null,null,null,{"$f":"IF(OR(I17>G17,J17>I17),1,0)","v":0},null,null,null,null,null,{"$f":"IF(F17=1,IF(OR(COUNTIF(M17:P17,\">-1\")<>4,SUM(N17:P17)<>M17,M17>G17),1,0),IF(COUNTIF(M17:P17,\">-1\")<>0,1,0))","v":0},null,null,{"$f":"IF(S17>G17,1,0)","v":0},null,null,{"$f":"IF(OR(V17>G17,AND(E17=1,V17=\"\"),AND(E17=0,V17<>\"\")),1,0)","v":0}]
[null,"DATEN011",2,"",null,null,null,null,null,null,{"$f":"IF(OR(I18>G18,J18>I18),1,0)","v":0},null,null,null,null,null,0,null,null,0,null,null,{"$f":"IF(OR(V18>G18,AND(E18=1,V18=\"\"),AND(E18=0,V18<>\"\")),1,0)","v":0}]
[null,"DATEN012",3,"",null,null,null,null,null,null,0,null,null,null,null,null,0,null,null,0,null,null,{"$f":"IF(OR(V19>G19,AND(E19=1,V19=\"\"),AND(E19=0,V19<>\"\")),1,0)","v":0}]
[null,"DATEN013",4,"",null,null,null,null,null,null,0,null,null,null,null,null,0,null,null,0,null,null,{"$f":"IF(OR(V20>G20,AND(E20=1,V20=\"\"),AND(E20=0,V20<>\"\")),1,0)","v":0}]
[null,"DATEN014",5,"",null,null,null,null,null,null,0,null,null,null,null,null,0,null,null,0,null,null,0]
[null,"DATEN015",6,null,null,null,null,null,null,null,0,null,null,null,null,null,0,null,null,0,null,null,0]
[null,"DATEN016",7,"",null,null,null,null,null,null,0,null,null,null,null,null,0,null,null,0,null,null,0]
[null,"DATEN017",8,"",null,null,null,null,null,null,0,null,null,null,null,null,0,null,null,0,null,null,0]
[null,"DATEN018",9,"",null,null,null,null,null,null,0,null,null,null,null,null,0,null,null,0,null,null,0]
[null,"DATEN019",10,"",null,null,null,null,null,null,0,null,null,null,null,null,0,null,null,0,null,null,0]
[null,"DATEN020",11,"",null,null,null,null,null,null,0,null,null,null,null,null,0,null,null,0,null,null,0]
[null,"DATEN021",12,"",null,null,null,null,null,null,0,null,null,null,null,null,0,null,null,0,null,null,0]
[null,"DATEN022",13,"",null,null,null,null,null,null,0,null,null,null,null,null,0,null,null,0,null,null,0]
[null,"DATEN023",14,"",null,null,null,null,null,null,0,null,null,null,null,null,0,null,null,0,null,null,0]
[null,"DATEN024",15,"",null,null,null,null,null,null,0,null,null,null,null,null,0,null,null,0,null,null,0]
[null,"DATEN025",16,"",null,null,null,null,null,null,0,null,null,null,null,null,0,null,null,0,null,null,0]
[null,"DATEN026",17,"",null,null,null,null,null,null,0,null,null,null,null,null,0,null,null,0,null,null,0]
[null,"DATEN027",18,"",null,null,null,null,null,null,0,null,null,null,null,null,0,null,null,0,null,null,0]
[null,"DATEN028",19,"",null,null,null,null,null,null,0,null,null,null,null,null,0,null,null,0,null,null,0]
[null,"DATEN029",20,"",null,null,null,null,null,null,0,null,null,null,null,null,0,null,null,0,null,null,0]
[null,"DATEN030",21,"",null,null,null,null,null,null,0,null,null,null,null,null,0,null,null,0,null,null,0]
[null,"DATEN031",22,"",null,null,null,null,null,null,0,null,null,null,null,null,0,null,null,0,null,null,0]
[null,"DATEN032",23,"",null,null,null,null,null,null,0,null,null,null,null,null,0,null,null,0,null,null,0]
[null,"DATEN033",24,"",null,null,null,null,null,null,0,null,null,null,null,null,0,null,null,0,null,null,0]
[null,"DATEN034",25,"",null,null,null,null,null,null,0,null,null,null,null,null,0,null,null,0,null,null,0]
[null,"DATEN035",26,"",null,null,null,null,null,null,0,null,null,null,null,null,0,null,null,0,null,null,0]
[null,"DATEN036",27,"",null,null,null,null,null,null,0,null,null,null,null,null,0,null,null,0,null,null,0]
[null,"DATEN037",28,"",null,null,null,null,null,null,0,null,null,null,null,null,0,null,null,0,null,null,0]
[null,"DATEN038",29,"",null,null,null,null,null,null,0,null,null,null,null,null,0,null,null,0,null,null,0]
[null,"DATEN039",30,"",null,null,null,null,null,null,{"$f":"IF(OR(I46>G46,J46>I46),1,0)","v":0},null,null,null,null,null,{"$f":"IF(F46=1,IF(OR(COUNTIF(M46:P46,\">-1\")<>4,SUM(N46:P46)<>M46,M46>G46),1,0),IF(COUNTIF(M46:P46,\">-1\")<>0,1,0))","v":0},null,null,{"$f":"IF(S46>G46,1,0)","v":0},null,null,{"$f":"IF(OR(V46>G46,AND(E46=1,V46=\"\"),AND(E46=0,V46<>\"\")),1,0)","v":0}]
[null,"DATEN040",31,"",null,null,null,null,null,null,0,null,null,null,null,null,0,null,null,0,null,null,0]
[null,"DATEN041",32,"",null,null,null,null,null,null,0,null,null,null,null,null,0,null,null,0,null,null,0]
[null,"DATEN042",33,"",null,null,null,null,null,null,0,null,null,null,null,null,0,null,null,0,null,null,0]
[null,"DATEN043",34,"",null,null,null,null,null,null,0,null,null,null,null,null,0,null,null,0,null,null,0]
[null,"DATEN044",35,"",null,null,null,null,null,null,0,null,null,null,null,null,0,null,null,0,null,null,0]
[null,"DATEN045",36,"",null,null,null,null,null,null,0,null,null,null,null,null,0,null,null,0,null,null,0]
[null,"DATEN046",37,"",null,null,null,null,null,null,0,null,null,null,null,null,0,null,null,0,null,null,0]
[null,"DATEN047",38,"",null,null,null,null,null,null,0,null,null,null,null,null,0,null,null,0,null,null,0]
[null,"DATEN048",39,"",null,null,null,null,null,null,0,null,null,null,null,null,0,null,null,0,null,null,0]
[null,"DATEN049",40,"",null,null,null,null,null,null,0,null,null,null,null,null,0,null,null,0,null,null,0]
[null,"DATEN050",41,"",null,null,null,null,null,null,0,null,null,null,null,null,0,null,null,0,null,null,0]
[null,"DATEN051",42,"",null,null,null,null,null,null,0,null,null,null,null,null,0,null,null,0,null,null,0]
[null,"DATEN052",43,"",null,null,null,null,null,null,0,null,null,null,null,null,0,null,null,0,null,null,0]
[null,"DATEN053",44,"",null,null,null,null,null,null,0,null,null,null,null,null,0,null,null,0,null,null,0]
[null,"DATEN054",45,"",null,null,null,null,null,null,0,null,null,null,null,null,0,null,null,0,null,null,0]
[null,"DATEN055",46,"",null,null,null,null,null,null,0,null,null,null,null,null,0,null,null,0,null,null,0]
[null,"DATEN056",47,"",null,null,null,null,null,null,0,null,null,null,null,null,0,null,null,0,null,null,0]
[null,"DATEN057",48,"",null,null,null,null,null,null,0,null,null,null,null,null,0,null,null,0,null,null,0]
[null,"DATEN058",49,"",null,null,null,null,null,null,0,null,null,null,null,null,0,null,null,0,null,null,0]
[null,"DATEN059",50,"",null,null,null,null,null,null,0,null,null,null,null,null,0,null,null,0,null,null,0]
[null,"DATEN060",51,"",null,null,null,null,null,null,0,null,null,null,null,null,0,null,null,0,null,null,0]
[null,"DATEN061",52,"",null,null,null,null,null,null,0,null,null,null,null,null,0,null,null,0,null,null,0]
[null,"DATEN062",53,"",null,null,null,null,null,null,0,null,null,null,null,null,0,null,null,0,null,null,0]
[null,"DATEN063",54,"",null,null,null,null,null,null,0,null,null,null,null,null,0,null,null,0,null,null,0]
[null,"DATEN064",55,"",null,null,null,null,null,null,0,null,null,null,null,null,0,null,null,0,null,null,0]
[null,"DATEN065",56,"",null,null,null,null,null,null,0,null,null,null,null,null,0,null,null,0,null,null,0]
[null,"DATEN066",57,"",null,null,null,null,null,null,0,null,null,null,null,null,0,null,null,0,null,null,0]
[null,"DATEN067",58,"",null,null,null,null,null,null,0,null,null,null,null,null,0,null,null,0,null,null,0]
[null,"DATEN068",59,"",null,null,null,null,null,null,0,null,null,null,null,null,0,null,null,0,null,null,0]
[null,"DATEN069",60,"",null,null,null,null,null,null,0,null,null,null,null,null,0,null,null,0,null,null,0]
[null,"DATEN070",61,"",null,null,null,null,null,null,0,null,null,null,null,null,0,null,null,0,null,null,0]
[null,"DATEN071",62,"",null,null,null,null,null,null,0,null,null,null,null,null,0,null,null,0,null,null,0]
[null,"DATEN072",63,"",null,null,null,null,null,null,0,null,null,null,null,null,0,null,null,0,null,null,0]
[null,"DATEN073",64,"",null,null,null,null,null,null,0,null,null,null,null,null,0,null,null,0,null,null,0]
[null,"DATEN074",65,"",null,null,null,null,null,null,0,null,null,null,null,null,0,null,null,0,null,null,0]
[null,"DATEN075",66,"",null,null,null,null,null,null,0,null,null,null,null,null,0,null,null,0,null,null,0]
[null,"DATEN076",67,"",null,null,null,null,null,null,0,null,null,null,null,null,0,null,null,0,null,null,0]
[null,"DATEN077",68,"",null,null,null,null,null,null,0,null,null,null,null,null,0,null,null,0,null,null,0]
[null,"DATEN078",69,"",null,null,null,null,null,null,0,null,null,null,null,null,0,null,null,0,null,null,0]
[null,"DATEN079",70,"",null,null,null,null,null,null,0,null,null,null,null,null,0,null,null,0,null,null,0]
[null,"DATEN080",71,"",null,null,null,null,null,null,0,null,null,null,null,null,0,null,null,0,null,null,0]
[null,"DATEN081",72,"",null,null,null,null,null,null,0,null,null,null,null,null,0,null,null,0,null,null,0]
[null,"DATEN082",73,"",null,null,null,null,null,null,0,null,null,null,null,null,0,null,null,0,null,null,0]
[null,"DATEN083",74,"",null,null,null,null,null,null,0,null,null,null,null,null,0,null,null,0,null,null,0]
[null,"DATEN084",75,"",null,null,null,null,null,null,0,null,null,null,null,null,0,null,null,0,null,null,0]
[null,"DATEN085",76,"",null,null,null,null,null,null,0,null,null,null,null,null,0,null,null,0,null,null,0]
[null,"DATEN086",77,"",null,null,null,null,null,null,0,null,null,null,null,null,0,null,null,0,null,null,0]
[null,"DATEN087",78,"",null,null,null,null,null,null,0,null,null,null,null,null,0,null,null,0,null,null,0]
[null,"DATEN088",79,"",null,null,null,null,null,null,0,null,null,null,null,null,0,null,null,0,null,null,0]
[null,"DATEN089",80,"",null,null,null,null,null,null,0,null,null,null,null,null,0,null,null,0,null,null,0]
[null,"DATEN090",81,"",null,null,null,null,null,null,0,null,null,null,null,null,0,null,null,0,null,null,0]
[null,"DATEN091",82,"",null,null,null,null,null,null,0,null,null,null,null,null,0,null,null,0,null,null,0]
[null,"DATEN092",83,"",null,null,null,null,null,null,0,null,null,null,null,null,0,null,null,0,null,null,0]
[null,"DATEN093",84,"",null,null,null,null,null,null,0,null,null,null,null,null,0,null,null,0,null,null,0]
[null,"DATEN094",85,"",null,null,null,null,null,null,0,null,null,null,null,null,0,null,null,0,null,null,0]
[null,"DATEN095",86,"",null,null,null,null,null,null,0,null,null,null,null,null,0,null,null,0,null,null,0]
[null,"DATEN096",87,"",null,null,null,null,null,null,0,null,null,null,null,null,0,null,null,0,null,null,0]
[null,"DATEN097",88,"",null,null,null,null,null,null,0,null,null,null,null,null,0,null,null,0,null,null,0]
[null,"DATEN098",89,"",null,null,null,null,null,null,0,null,null,null,null,null,0,null,null,0,null,null,0]
[null,"DATEN099",90,"",null,null,null,null,null,null,0,null,null,null,null,null,0,null,null,0,null,null,0]
[null,"DATEN100",91,"",null,null,null,null,null,null,0,null,null,null,null,null,0,null,null,0,null,null,0]
[null,"DATEN101",92,"",null,null,null,null,null,null,0,null,null,null,null,null,0,null,null,0,null,null,0]
[null,"DATEN102",93,"",null,null,null,null,null,null,0,null,null,null,null,null,0,null,null,0,null,null,0]
[null,"DATEN103",94,"",null,null,null,null,null,null,{"$f":"IF(OR(I110>G110,J110>I110),1,0)","v":0},null,null,null,null,null,{"$f":"IF(F110=1,IF(OR(COUNTIF(M110:P110,\">-1\")<>4,SUM(N110:P110)<>M110,M110>G110),1,0),IF(COUNTIF(M110:P110,\">-1\")<>0,1,0))","v":0},null,null,{"$f":"IF(S110>G110,1,0)","v":0},null,null,{"$f":"IF(OR(V110>G110,AND(E110=1,V110=\"\"),AND(E110=0,V110<>\"\")),1,0)","v":0}]
[null,"DATEN104",95,"",null,null,null,null,null,null,0,null,null,null,null,null,0,null,null,0,null,null,0]
[null,"DATEN105",96,"",null,null,null,null,null,null,0,null,null,null,null,null,0,null,null,0,null,null,0]
[null,"DATEN106",97,"",null,null,null,null,null,null,0,null,null,null,null,null,0,null,null,0,null,null,0]
[null,"DATEN107",98,"",null,null,null,null,null,null,0,null,null,null,null,null,0,null,null,0,null,null,0]
[null,"DATEN108",99,"",null,null,null,null,null,null,0,null,null,null,null,null,0,null,null,0,null,null,0]
[null,"DATEN109",100,"",null,null,null,null,null,null,{"$f":"IF(OR(I116>G116,J116>I116),1,0)","v":0},null,null,null,null,null,{"$f":"IF(F116=1,IF(OR(COUNTIF(M116:P116,\">-1\")<>4,SUM(N116:P116)<>M116,M116>G116),1,0),IF(COUNTIF(M116:P116,\">-1\")<>0,1,0))","v":0},null,null,{"$f":"IF(S116>G116,1,0)","v":0},null,null,{"$f":"IF(OR(V116>G116,AND(E116=1,V116=\"\"),AND(E116=0,V116<>\"\")),1,0)","v":0}]
[null,null,null,null,null,null,{"$f":"SUM(G17:G116)","v":0},null,{"$f":"SUM(I17:I116)","v":0},{"$f":"SUM(J17:J116)","v":0},null,null,{"$f":"SUM(M17:M116)","v":0},{"$f":"SUM(N17:N116)","v":0},{"$f":"SUM(O17:O116)","v":0},{"$f":"SUM(P17:P116)","v":0},null,null,{"$f":"SUM(S17:S116)","v":0},null,null,{"$f":"SUM(V17:V116)","v":0}]
[null,null,null," Ergebnisse",null,null,null,null,null,null,null,null,null,null,null,null,null,null,null,null,null,"Tiere in Gruppenhaltung"]
[null,"ERGEB902",null,null,null,null,null,null,null,null,null,null,null,null,null,null,null,null,null,null,null,{"$f":"SUMIFS(G17:G116,E17:E116,\"1\")","v":0}]
[null,null,null,null,null,null,"Anzahl",null,"Anzahl","% Anteil",null,null,"Anzahl","% Anteil","% Anteil","% Anteil",null,"% Anteil",null,null,null,"% Anteil"]
[null,"ERGEB901",null,null,null,null,{"$f":"G117","v":0},null,{"$f":"I117","v":0},{"$f":"IF(I117>0,J117/I117*100,0)","v":0},null,null,{"$f":"M117","v":0},{"$f":"IF($M$117>0,N117/$M$117*100,0)","v":0},{"$f":"IF($M$117>0,O117/$M$117*100,0)","v":0},{"$f":"IF($M$117>0,P117/$M$117*100,0)","v":0},null,null,{"$f":"IF(G117>0,S117/G117*100,0)","v":0},null,null,{"$f":"IF(V119>0,V117/V119*100,0)","v":0}]
[null,"DATEN_ENDE"]

{"sheet":"RD_VERLUSTE","index":31,"n_rows":15,"n_cols":14,"rows_kept":15,"cut":false,"hidden":true,"merged":[[9,2,9,7]]}
[null,"RD_MAST","Mastrinder",null,null,null,null,"Tierverluste",null,null,null,null,0,0]
[null,18,"T","T","T","T","T","T","T","T"]
[null,"RD_VERLUSTE","T","T","W01","T","T","T","T","T"]
[null,"RD_MAST","Clear",null,14,null,null,null,{"$f":"$D$4","v":0}]
[null,null,null,{"$f":"$C$1& \" (\" & $D$1 & \" \" &$E$1 & \")\"","v":"Mastrinder ( )"}]
[null,4,null,{"$f":"$H$1 & IF($J$1<> \"\",\" vom \" & TEXT($J$1,\"tt.MM.jjjj\"),\"\")","v":"Tierverluste"}]
[null,null,"    ?    ",{"$f":"\"Betrieb: \" & Intern_BetriebID & IF(E1<>\"\",\" [\" & E1 & \"]\",\"\")","v":"Betrieb: "},null,null,null,null,null,"© KTBL & Thünen"]
[]
[]
[null,null,"Speichern und schließen ..."]
[]
[null,null,"Tierverluste"]
[null,null,null,null,"Mortalitätsrate"]
[null,"DATEN001",null,null,0.12]
[null,"DATEN_ENDE"]

{"sheet":"RD_EINZELAUSWEICH","index":32,"n_rows":125,"n_cols":14,"rows_kept":125,"cut":false,"hidden":true,"merged":[[13,6,14,6],[9,2,9,4]]}
[null,"RD_MILCH","Milchkühe",null,null,null,null,"Ausweichdistanz",null,null,null,null,0,0]
[null,5,"T","T","T",{"$f":"G2","v":"W"},{"$f":"IF(ISERROR(FIND(G3,$B$7))=FALSE,\"W\",\"-\")","v":"W"},"T"]
[null,"RD_EINZELAUSWEICH","T","W01","W02","T","W30","T"]
[null,"RD_MILCHAUSWEICH","Clear","17-106",{"$f":"$D$4","v":"17-106"},null,{"$f":"E4&\";109-111\"","v":"17-106;109-111"}]
[null,2,null,{"$f":"$C$1& \" (\" & $D$1 & IF($B$5=1,\" Sommerhalbjahr\",\" Winterhalbjahr\") & \")\"","v":"Milchkühe ( Winterhalbjahr)"}]
[null,2,null,{"$f":"\"Stichprobe: \" & $H$1 & IF($J$1<> \"\",\" vom \" & TEXT($J$1,\"tt.MM.jjjj\"),\"\")","v":"Stichprobe: Ausweichdistanz"}]
[null,{"$f":"VLOOKUP(B4,InternInfos!A21:D39,4)","v":"W01;W02;W30"},"    ?    ",{"$f":"\"Betrieb: \" & Intern_BetriebID & IF(E1<>\"\",\" [\" & E1 & \"]\",\"\")","v":"Betrieb: "},null,null,null,"© KTBL & Thünen"]
[null,{"$f":"IF(B10<>\"\",\"MILCH_\"&B10&\"|MAST_\"&B10,\"\") & \"|MAST_111-111|MAST_116-116|MAST_121-121\"","v":"MILCH_18-106|MAST_18-106|MAST_111-111|MAST_116-116|MAST_121-121"}]
[]
[null,{"$f":"IF(B5=1,IF(M1<90,MAX(18,(107-(90-M1)))&\"-106\",\"\"),IF(N1<90,MAX(18,(107-(90-N1)))&\"-106\",\"\"))","v":"18-106"},"Speichern und schließen ..."]
[]
[null,null,null,null,null,null,"Ausweich-"]
[null,null,null,null,null,null,"distanz"]
[null,null,null,null,null,null,"0= Berührung\n1= unter 100cm\n2= größer/gleich 100cm"]
[null,null,"Tier"," Nummer\n Transponder /\n Ohrmarke"," Gruppen-\n zugehörigkeit"]
[null,null,"Nr",null,null,null,"[0,1,2]"]
[null,"DATEN010",1,""]
[null,"DATEN011",2,""]
[null,"DATEN012",3,""]
[null,"DATEN013",4,""]
[null,"DATEN014",5,""]
[null,"DATEN015",6,""]
[null,"DATEN016",7,""]
[null,"DATEN017",8,""]
[null,"DATEN018",9,""]
[null,"DATEN019",10,""]
[null,"DATEN020",11,""]
[null,"DATEN021",12,""]
[null,"DATEN022",13,""]
[null,"DATEN023",14,""]
[null,"DATEN024",15,""]
[null,"DATEN025",16,""]
[null,"DATEN026",17,""]
[null,"DATEN027",18,""]
[null,"DATEN028",19,""]
[null,"DATEN029",20,""]
[null,"DATEN030",21,""]
[null,"DATEN031",22,""]
[null,"DATEN032",23,""]
[null,"DATEN033",24,""]
[null,"DATEN034",25,""]
[null,"DATEN035",26,""]
[null,"DATEN036",27,""]
[null,"DATEN037",28,""]
[null,"DATEN038",29,""]
[null,"DATEN039",30,""]
[null,"DATEN040",31,""]
[null,"DATEN041",32,""]
[null,"DATEN042",33,""]
[null,"DATEN043",34,""]
[null,"DATEN044",35,""]
[null,"DATEN045",36,""]
[null,"DATEN046",37,""]
[null,"DATEN047",38,""]
[null,"DATEN048",39,""]
[null,"DATEN049",40,""]
[null,"DATEN050",41,""]
[null,"DATEN051",42,""]
[null,"DATEN052",43,""]
[null,"DATEN053",44,""]
[null,"DATEN054",45,""]
[null,"DATEN055",46,""]
[null,"DATEN056",47,""]
[null,"DATEN057",48,""]
[null,"DATEN058",49,""]
[null,"DATEN059",50,""]
[null,"DATEN060",51,""]
[null,"DATEN061",52,""]
[null,"DATEN062",53,""]
[null,"DATEN063",54,""]
[null,"DATEN064",55,""]
[null,"DATEN065",56,""]
[null,"DATEN066",57,""]
[null,"DATEN067",58,""]
[null,"DATEN068",59,""]
[null,"DATEN069",60,""]
[null,"DATEN070",61,""]
[null,"DATEN071",62,""]
[null,"DATEN072",63,""]
[null,"DATEN073",64,""]
[null,"DATEN074",65,""]
[null,"DATEN075",66,""]
[null,"DATEN076",67,""]
[null,"DATEN077",68,""]
[null,"DATEN078",69,""]
[null,"DATEN079",70,""]
[null,"DATEN080",71,""]
[null,"DATEN081",72,""]
[null,"DATEN082",73,""]
[null,"DATEN083",74,""]
[null,"DATEN084",75,""]
[null,"DATEN085",76,""]
[null,"DATEN086",77,""]
[null,"DATEN087",78,""]
[null,"DATEN088",79,""]
[null,"DATEN089",80,""]
[null,"DATEN090",81,""]
[null,"DATEN091",82,""]
[null,"DATEN092",83,""]
[null,"DATEN093",84,""]
[null,"DATEN094",85,""]
[null,"DATEN095",86,""]
[null,"DATEN096",87,""]
[null,"DATEN097",88,""]
[null,"DATEN098",89,""]
[null,"DATEN099",90,""]
[null,null,null,null,"Direkteingabe (Summe)"]
[null,null,null,null,null,null,"Anzahl"]
[null,"DATEN100_W03_W10_W15_W16_W17_W18_W19_W20_W21_W22_W23_W24_W25_W26_W27_W28_W29_W30",null,null,"Bonitur 0"]
[null,"DATEN101_W03_W10_W15_W16_W17_W18_W19_W20_W21_W22_W23_W24_W25_W26_W27_W28_W29_W30",null,null,"Bonitur 1"]
[null,"DATEN102_W10_W28_W30",null,null,"Bonitur 2"]
[]
[null,null,null,null,"Ergebnisse"]
[null,"ERGEB901",null,null,"Bonitur 0",null,{"$f":"IF(G109<>\"\",G109,COUNTIF(G17:G106,\"0\"))","v":0}]
[null,"ERGEB902",null,null,"Bonitur 1",null,{"$f":"IF(G110<>\"\",G110,COUNTIF(G17:G106,\"1\"))","v":0}]
[null,"ERGEB903",null,null,"Bonitur 2",null,{"$f":"IF(G111<>\"\",G111,COUNTIF(G17:G106,\"2\"))","v":0}]
[]
[null,"ERGEB904",null,null,"Anzahl",null,{"$f":"SUM(G114:G116)","v":0}]
[null,"ERGEB910",null,null,"% Bonitur 0",null,{"$f":"IF(G118>0,G114/G118*100,\"\")","v":""}]
[null,"ERGEB911",null,null,"% Bonitur 1",null,{"$f":"IF(G118>0,G115/G118*100,\"\")","v":""}]
[null,"ERGEB912",null,null,"% Bonitur 2",null,{"$f":"IF(G118>0,G116/G118*100,\"\")","v":""}]
[]
[null,"ERGEB920"]
[]
[null,"DATEN_ENDE"]

{"sheet":"Ergebnisse","index":33,"n_rows":7,"n_cols":54,"rows_kept":7,"cut":false,"hidden":true,"merged":[[6,53,6,55]]}
["RD"]
[null,null,null,null,null,null,null,null,null,null,null,null,null,null,null,null,null,null,null,null,null,null,null,null,null,null,null,null,null,null,null,null,null,null,null,null,null,null,null,null,null,null,null,null,null,null,null,null,null,null,{"$f":"Intern_Eikotiger","v":"Eigenkontrolle Tiergerechtheit"}]
[1,null,null,null,null,null,null,null,null,null,null,null,null,null,null,null,null,null,null,null,null,null,null,null,null,null,null,null,null,null,null,null,null,null,null,null,null,null,null,null,null,null,null,null,null,null,null,null,null,null,"Ergebnisse Übersicht"]
[null,{"$f":"IF(T10<>\"\",T10,\"RD_MILCH\")","v":"RD_MILCH"},null,null,null,null,null,null,null,null,null,null,null,null,null,null,null,null,null,null,null,null,null,null,null,null,null,null,null,null,null,null,null,null,null,null,null,null,null,null,null,null,null,null,null," ? "]
[]
[]
[null,null,null,null,null,null,null,null,null,null,null,null,null,null,null,null,null,null,null,null,null,null,null,null,null,null,null,null,null,null,null,null,null,null,null,null,null,null,null,null,null,null,null,null,null,"Erhebung auswählen",null,null,null,null,null,null,null,"auswerten ..."]

{"sheet":"Information_SW","index":34,"n_rows":277,"n_cols":7,"rows_kept":277,"cut":false,"hidden":true,"merged":[]}
["Spalte für interne Verwaltung"]
[null,null,null,null,null,null,{"$f":"Intern_Eikotiger","v":"Eigenkontrolle Tiergerechtheit"}]
["SW_ERGEBNISSE",null,null,null,null,null,"Erläuterungen und Bearbeitungshinweise"]
[]
["ERGEBNISSE"]
[null,null,null,null,null,"zurück ..."]
[]
[]
[]
[]
["SW_BETRIEB|SW|"]
[null,null,"Hilfeseite „Allgemeine Betriebsdaten“"]
[null,null,null,null,null,null,"Auf der Seite „Allgemeine Betriebsdaten“ können Sie Angaben zu Ihrem Betrieb machen und die Produktionsrichtung(en) auswählen, für die Sie die betriebliche Eigenkontrolle machen wollen. Zusätzlich haben Sie auf der Seite die Möglichkeit mehrere Betriebsteile/Ställe anzulegen, wenn für eine Produktionsrichtung mehrere Ställe mit deutlich unterschiedlichen Fütterungs- und Haltungssystemen vorhanden sind. \nAllgemeiner Hinweis: Bitte legen Sie regelmäßig Sicherheitskopien Ihrer Datei an, damit Ihre Daten erhalten bleiben, falls die Excel-Anwendung unbeabsichtigt zerstört wird."]
[null,null,null,null,null,"Begriff im Formular","Erläuterung"]
[null,null,null,null,null,"Name","Bezeichnung Ihrer Person oder Betriebes. Der Name wird auf allen folgenden Erhebungs- und Ergebnisseiten im Seitenkopf automatisch angezeigt. Alternativ können Sie eine ID für Ihren Betrieb im Feld „Betriebs-ID\" anlegen."]
[null,null,null,null,null,"Optionale Angaben","In den mit * gekennzeichneten Feldern können Sie optionale Angaben zu Ihrem Betrieb machen. Diese optionalen Angaben tauchen auf den Erhebungs- und Ergebnisseiten nicht auf. "]
[null,null,null,null,null,"Optional: Bearbeiter","Die für die betriebliche Eigenkontrolle im Betrieb zuständige Person. Sinnvollerweise sollte immer die gleiche Person die Daten erheben und eingeben."]
[null,null,null,null,null,"Betriebs-ID","Zeichenabfolge (Ziffern, Zahlen und Zeichen), frei wählbar, anhand der Sie Ihren Betrieb identifizieren können. Die Betriebs-ID wird auf allen folgenden Erhebungs- und Ergebnisseiten im Seitenkopf automatisch angezeigt. Alternativ können Sie für Ihren Betrieb einen Namen angeben."]
[null,null,null,null,null,"Produktionsrichtung","Wählen Sie die im Betrieb vorhandene(n) Produktionsrichtung(en) aus. Auf dem Registerblatt „Erhebungen\" können Sie dann für die hier ausgewählte(n) Produktionsrichtung(en) Erhebungen anlegen. "]
[null,null,null,null,null,"Ferkelerzeugung","Auszuwählen, wenn Sauen und Saugferkel gehalten werden."]
[null,null,null,null,null,"Ferkelaufzucht","Auszuwählen, wenn Aufzuchtferkel (bis 29 kg) gehalten werden."]
[null,null,null,null,null,"Schweinemast","Auszuwählen, wenn Mastschweine (ab 30 kg) gehalten werden. "]
[null,null,null,null,null,"Betriebsteil/Ställe","Mindestens je Stalleinheit, also je VVVO-Nummer, soll eine betriebliche Eigenkontrolle durchgeführt werden. Falls Sie je Produktionsrichtung und Produktionsstufe nur einen Stall/eine Stallart haben, brauchen Sie unter Betriebsteil/Ställe keine Eintragungen machen. Falls für eine Produktionsrichtung (oder eine Produktionsstufe bei Ferkelerzeugern) mehrere Ställe mit deutlich unterschiedlichen Fütterungs- oder Haltungssystemen vorhanden sind, empfiehlt es sich je Stallart jeweils eine gesonderte betriebliche Eigenkontrolle durchzuführen. Bitte vergeben Sie in diesem Fall für die Ställe eigene Bezeichnungen (z. B. Abferkelstall alt, Abferkelstall neu, westlicher Maststall, südlicher Maststall). Auf dem Registerblatt „Erhebungen\" können Sie dann den Stall, den Sie bearbeiten wollen, aus einer Dropdownliste Ihrer Ställe auswählen. "]
[]
["SW_ERHEBUNGEN|"]
[null,null,"Hilfeseite „Erhebungen Übersicht\""]
[null,null,null,null,null,null,"Auf dieser Übersichtsseite mit der Registerbezeichnung „Erhebungen\" haben Sie alle Datenerhebungen eines Erhebungszeitraums, also eines Jahres, mit den zugehörigen Formularen zusammen im Blick. Für jeden Erhebungszeitraum können Sie einen mittelblau hinterlegten „Block\" anlegen und/oder weiterbearbeiten. Angezeigt wird jeweils nur ein Block, auch wenn Sie ggf. schon mehrere Blöcke angelegt haben. Ein Teil der Indikatoren soll einmalig im Sommerhalbjahr sowie einmalig im Winterhalbjahr erhoben werden; teils nur an einer ausgewählten Stichprobe von Tieren. Außerdem gibt es ein Formular für „Fortlaufende Erhebungen\", die den gesamten Bestand betreffen. Unter „Stichproben (Sommerhalbjahr) bzw. (Winterhalbjahr)\" geben Sie bitte die zum Erhebungszeitpunkt aktuellen Bestandsdaten ein; sie sind für die automatisch im Hintergrund ablaufenden Berechnungen notwendig. Danach können Sie mit „ausfüllen\" in diesem Block die weiteren auszufüllenden Eingabeformulare ansteuern. "]
[null,null,null,null,null,"Begriff im Formular","Erläuterung"]
[null,null,null,null,null,"Neue Erhebung hinzufügen","Fügt einen neuen Erhebungsblock für eine Produktionsrichtung ein. Klicken Sie auf die Produktionsrichtung, für die Sie eine Erhebung einfügen möchten. Es öffnet sich eine Dialogbox. Um die neue Erhebung einzufügen, klicken Sie auf „Ja\"."]
[null,null,null,null,null,"Erhebung auswählen","Die hinzugefügten Erhebungen erscheinen in einer Drop-Down-Liste. Um die Erhebungen in der Liste anzusehen, klicken Sie auf den Pfeil am rechten Rand der Dropdownliste. Wenn Sie eine bestimmte Erhebung ausgewählt haben, klicken Sie auf „anzeigen\"."]
[null,null,null,null,null,"Erhebung löschen","Löscht den angezeigten Erhebungsblock und damit die gespeicherten Daten aller im Hintergrund dieses Erhebungsblocks abgelegten Formulare. Drücken Sie diesen Link nicht, wenn Sie nur die Daten aus einem Formular löschen möchten."]
[null,null,null,null,null,"Erhebung drucken ...","Hier werden Sie gefragt, welche Seiten gedruckt werden sollen: Die gerade angezeigte Seite \"Erhebungen Übersicht\", die zu Gruppen zusammengefassten Eingabeformulare (die mit \"ausfüllen\" angesteuert werden) oder die Seite \"Ergebnisse Übersicht\" des angezeigten Erhebungsblocks, mit allen bis dahin von Ihnen eingegebenen Daten. Falls Sie nur einzelne Eingabeformulare ausdrucken möchten, nutzen Sie bitte die normale Excel Seiten-Druckfunktion."]
[null,null,null,null,null,"Jahr","Das Jahr (JJJJ oder JJ), in dem die Erhebung für das Sommer- oder das darauffolgende Winterhalbjahr begonnen wird."]
[null,null,null,null,null,"Halbjahr","Sommerhalbjahr (April bis September) oder Winterhalbjahr (Oktober bis März) auswählen."]
[null,null,null,null,null,"Betriebs-ID","Hier steht die von Ihnen in „Allgemeine Betriebsdaten\" eingegebene Betriebs-ID, andernfalls Ihr Name."]
[null,null,null,null,null,"Betriebsteil/Stall","Falls Sie auf der Seite „Allg. Betriebsdaten\" verschiedene Betriebsteile/Ställe eingegeben haben, erscheinen diese in einer Dropdownliste. Um die jeweiligen Betriebsteile/Ställe in der Liste auszuwählen, klicken Sie auf den Pfeil am rechten Rand der Dropdownliste und wählen Sie einen der Betriebsteile/Ställe aus."]
[null,null,null,null,null,"Stichproben","Unter dieser Überschrift finden Sie die Formulare für die Indikatoren, die im Erhebungszeitraum einmalig an einer Stichprobe von Tieren erhoben werden. Um ein Formular zu öffnen, klicken Sie „ausfüllen ...\". Für Aufzuchtferkel und Mastschweine wird je Bucht ein neues Formular ausgefüllt."]
[null,null,null,null,null,"Anzahl Tiere (rot hinterlegt)","Nach Eingabe Ihrer aktuellen Tierzahlen (und Anzahl Buchten für Aufzuchtferkel und Mastschweine) in die rot hinterlegten Felder wird Ihnen automatisch eine Empfehlung errechnet, wie viele Tiere (Stichprobe) dort jeweils beurteilt werden sollten."]
[null,null,null,null,null,"Auswahlregel","Sie macht Ihnen einen Vorschlag für die Stichprobenziehung. Bei Sauen gibt sie an, jedes wievielte Tier pro Produktionsstufe Sie zufällig auswählen sollten, um auf die empfohlene Stichprobengröße zu kommen. In einigen Fällen müssen Sie die vorgeschlagenen Zahlen der Auswahlregel auf ganze Zahlen auf- bzw. abrunden und solange Tiere auswählen, bis Sie die entsprechende Summe der vorgeschlagenen Stichprobengröße erreicht haben."]
[null,null,null,null,null,"Neue Bucht hinzufügen (nur Aufzuchtferkel und Mastschweine)","Fügt ein neues Formular für eine weitere Bucht hinzu."]
[null,null,null,null,null,"Fortlaufende Erhebungen","Enthält die Formulare für die Indikatoren, die im Erhebungszeitraum kontinuierlich am gesamten Bestand erhoben werden. Um ein Formular zu öffnen, klicken Sie „ausfüllen ...\"."]
[null,null,null,null,null,"Abschlusserhebungen","Enthält die Formulare für die Indikatoren, die Sie am Ende des Erhebungszeitraums aus anderen Datenmanagementsystemen oder den Unterlagen vom Schlachthof übertragen können. Um ein Formular zu öffnen, klicken Sie \"ausfüllen...\"."]
[]
["SW_EINZEL|SW_SAU|SW_DECK"]
[null,null,"Hilfeseite „Stichprobe: Tierbeurteilung/Wasser - Deckstall\""]
[null,null,null,null,null,null,"Hier dokumentieren Sie die Tierschutzindikatoren, die Sie im Deckstall an der Stichprobe erfassen. Ihre Eintragungen zu den Tierbeurteilungen und der Wasserversorgung machen Sie im blau hinterlegten Bereich. Sie haben dabei die Möglichkeit, die Tierbeurteilung für die Tiere der Stichprobe einzeln zu notieren (Sau Nr. 1 bis 30) und sich die Summen errechnen zu lassen. Alternativ können Sie unter „Direkteingabe\" nur die bereits summierten Werte aller Tiere einer Stichprobe direkt eingeben. Im grün hinterlegten Bereich erscheint die automatische Berechnung der relevanten Ergebnisse aus den eingetragenen Werten für die Tierbeurteilung und Wasserversorgung, er wird im Ausdruck nicht angezeigt. Die relevanten Ergebnisse aus diesem Formular werden automatisch auf die Seite „Ergebnisse\" übertragen."]
[null,null,null,null,null,"Begriff im Formular","Erläuterung"]
[null,null,null,null,null,"Speichern und schließen","Speichert die eingebenen Werte einer Erhebung und schließt das Formular. Dabei wird automatisch die ganze Datei gespeichert. Zusätzlich sollten Sie Sicherheitskopien Ihrer Datei anlegen."]
[null,null,null,null,null,"Stereotypien","Erläuterung der Boniturnote siehe „Tierschutzindikatoren: Leitfaden für die Praxis - Schwein\", Seite 19. "]
[null,null,null,null,null,"Kotverschmutzung","Erläuterung der Boniturnote siehe „Tierschutzindikatoren: Leitfaden für die Praxis - Schwein\", Seite 20."]
[null,null,null,null,null,"Hautverletzung","Erläuterung der Boniturnote siehe „Tierschutzindikatoren: Leitfaden für die Praxis - Schwein\", Seite 21."]
[null,null,null,null,null,"Körperkondition","Erläuterung der Boniturnote siehe „Tierschutzindikatoren: Leitfaden für die Praxis - Schwein\", Seite 22."]
[null,null,null,null,null,"Schwellung an Beinen","Erläuterung der Boniturnote siehe „Tierschutzindikatoren: Leitfaden für die Praxis - Schwein\", Seite 23."]
[null,null,null,null,null,"Anzeichen Ektoparasiten","Erläuterung siehe „Tierschutzindikatoren: Leitfaden für die Praxis - Schwein\", Seite 24."]
[null,null,null,null,null,"Tränke defekt?","Wenn hier „defekt: Ja\" eingetragen wird, erübrigen sich das Auslitern der Tränke/weitere Eintragungen für diese Tränke."]
[null,null,null,null,null,"Dauer in Sek.","Tragen Sie hier die Zeit in Sekunden ein, wie lange das Tränkeventil geöffnet bzw. fixiert wurde."]
[null,null,null,null,null,"Menge in ml","Tragen Sie hier die Menge an ausströmenden Wasser in Milliliter ein, die in der Zeit, in der das Tränkeventil geöffnet bzw. fixiert wurde, aufgefangen wurde."]
[null,null,null,null,null,"Rate","Automatisch berechnete Durchflussrate einer untersuchten Tränke."]
[null,null,null,null,null,"Urteil","Urteil, ob die ermittelte Durchflussrate ausreichend (ok) oder unzureichend, da zu niedrig oder zu hoch ist (nicht ok)."]
[null,null,null,null,null,"Direkteingabe","Zur direkten Eingabe der Gesamtanzahl von Werten über alle beurteilten Tiere (Tränken) einer Stichprobe."]
[]
["SW_EINZEL|SW_SAU|SW_WARTE"]
[null,null,"Hilfeseite „Stichprobe: Tierbeurteilung/Wasser - Wartestall\""]
[null,null,null,null,null,null,"Hier dokumentieren Sie die Tierschutzindikatoren, die Sie im Wartestall an der Stichprobe erfassen. Ihre Eintragungen zu den Tierbeurteilungen und der Wasserversorgung machen Sie im blau hinterlegten Bereich. Sie haben dabei die Möglichkeit, die Tierbeurteilung für die Tiere der Stichprobe einzeln zu notieren (Sau Nr. 1 bis 30) und sich die Summen errechnen zu lassen. Alternativ können Sie unter „Direkteingabe\" nur die bereits summierten Werte aller Tiere einer Stichprobe direkt eingeben. Im grün hinterlegten Bereich erscheint die automatische Berechnung der relevanten Ergebnisse aus den eingetragenen Werten für die Tierbeurteilung und Wasserversorgung, er wird im Ausdruck nicht angezeigt. Die relevanten Ergebnisse aus diesem Formular werden automatisch auf die Seite „Ergebnisse\" übertragen."]
[null,null,null,null,null,"Begriff im Formular","Erläuterung"]
[null,null,null,null,null,"Speichern und schließen","Speichert die eingebenen Werte einer Erhebung und schließt das Formular. Dabei wird automatisch die ganze Datei gespeichert. Zusätzlich sollten Sie Sicherheitskopien Ihrer Datei anlegen."]
[null,null,null,null,null,"Stereotypien","Erläuterung der Boniturnote siehe „Tierschutzindikatoren: Leitfaden für die Praxis - Schwein\", Seite 19. "]
[null,null,null,null,null,"Kotverschmutzung","Erläuterung der Boniturnote siehe „Tierschutzindikatoren: Leitfaden für die Praxis - Schwein\", Seite 20."]
[null,null,null,null,null,"Hautverletzung","Erläuterung der Boniturnote siehe „Tierschutzindikatoren: Leitfaden für die Praxis - Schwein\", Seite 21."]
[null,null,null,null,null,"Körperkondition","Erläuterung der Boniturnote siehe „Tierschutzindikatoren: Leitfaden für die Praxis - Schwein\", Seite 22."]
[null,null,null,null,null,"Schwellung an Beinen","Erläuterung der Boniturnote siehe „Tierschutzindikatoren: Leitfaden für die Praxis - Schwein\", Seite 23."]
[null,null,null,null,null,"Anzeichen Ektoparasiten","Erläuterung siehe „Tierschutzindikatoren: Leitfaden für die Praxis - Schwein\", Seite 24."]
[null,null,null,null,null,"Lahmheit","Erläuterung der Boniturnote siehe „Tierschutzindikatoren: Leitfaden für die Praxis - Schwein\", Seite 26."]
[null,null,null,null,null,"Tränke defekt?","Wenn hier „defekt: Ja\" eingetragen wird, erübrigen sich das Auslitern der Tränke/weitere Eintragungen für diese Tränke."]
[null,null,null,null,null,"Dauer in Sek.","Tragen Sie hier die Zeit in Sekunden ein, wie lange das Tränkeventil geöffnet bzw. fixiert wurde."]
[null,null,null,null,null,"Menge in ml","Tragen Sie hier die Menge an ausströmenden Wasser in Milliliter ein, die in der Zeit, in der das Tränkeventil geöffnet bzw. fixiert wurde, aufgefangen wurde."]
[null,null,null,null,null,"Rate","Automatisch berechnete Durchflussrate einer untersuchten Tränke."]
[null,null,null,null,null,"Urteil","Urteil, ob die ermittelte Durchflussrate ausreichend (ok) oder unzureichend, da zu niedrig oder zu hoch ist (nicht ok)."]
[null,null,null,null,null,"Direkteingabe","Zur direkten Eingabe der Gesamtanzahl von Werten über alle beurteilten Tiere (Tränken) einer Stichprobe."]
[]
["SW_EINZEL|SW_SAU|SW_ABFERKEL"]
[null,null,"Hilfeseite „Stichprobe: Tierbeurteilung/Wasser - Abferkelstall\""]
[null,null,null,null,null,null,"Hier dokumentieren Sie die Tierschutzindikatoren, die Sie im Abferkelstall an der Stichprobe erfassen. Ihre Eintragungen zu den Tierbeurteilungen und der Wasserversorgung machen Sie im blau hinterlegten Bereich. Sie haben dabei die Möglichkeit, die Tierbeurteilung für die Tiere der Stichprobe einzeln zu notieren (Sau Nr. 1 bis 20) und sich die Summen errechnen zu lassen. Alternativ können Sie unter „Direkteingabe\" nur die bereits summierten Werte aller Tiere einer Stichprobe direkt eingeben. Im grün hinterlegten Bereich erscheint die automatische Berechnung der relevanten Ergebnisse aus den eingetragenen Werten für die Tierbeurteilung und Wasserversorgung, er wird im Ausdruck nicht angezeigt. Die relevanten Ergebnisse aus diesem Formular werden automatisch auf die Seite „Ergebnisse\" übertragen."]
[null,null,null,null,null,"Begriff im Formular","Erläuterung"]
[null,null,null,null,null,"Speichern und schließen","Speichert die eingebenen Werte einer Erhebung und schließt das Formular. Dabei wird automatisch die ganze Datei gespeichert. Zusätzlich sollten Sie Sicherheitskopien Ihrer Datei anlegen."]
[null,null,null,null,null,"Stereotypien","Erläuterung der Boniturnote siehe „Tierschutzindikatoren: Leitfaden für die Praxis - Schwein\", Seite 19. "]
[null,null,null,null,null,"Kotverschmutzung","Erläuterung der Boniturnote siehe „Tierschutzindikatoren: Leitfaden für die Praxis - Schwein\", Seite 20."]
[null,null,null,null,null,"Hautverletzung","Erläuterung der Boniturnote siehe „Tierschutzindikatoren: Leitfaden für die Praxis - Schwein\", Seite 21."]
[null,null,null,null,null,"Körperkondition","Erläuterung der Boniturnote siehe „Tierschutzindikatoren: Leitfaden für die Praxis - Schwein\", Seite 22."]
[null,null,null,null,null,"Schwellung an Beinen","Erläuterung der Boniturnote siehe „Tierschutzindikatoren: Leitfaden für die Praxis - Schwein\", Seite 23."]
[null,null,null,null,null,"Anzeichen Ektoparasiten","Erläuterung siehe „Tierschutzindikatoren: Leitfaden für die Praxis - Schwein\", Seite 24."]
[null,null,null,null,null,"Schulterläsion","Erläuterung der Boniturnote siehe „Tierschutzindikatoren: Leitfaden für die Praxis - Schwein\", Seite 27."]
[null,null,null,null,null,"Zitzen und Gesäuge","Erläuterung der Boniturnote siehe „Tierschutzindikatoren: Leitfaden für die Praxis - Schwein\", Seite 28."]
[null,null,null,null,null,"Klauenveränderung","Erläuterung der Boniturnote siehe „Tierschutzindikatoren: Leitfaden für die Praxis - Schwein\", Seite 29."]
[null,null,null,null,null,"Ferkel im Wurf - Anzahl","Bitte tragen Sie hier die Anzahl an Saugferkeln für jeden Wurf ein, den Sie beurteilen."]
[null,null,null,null,null,"Kümmerer - Anzahl","Erläuterung siehe „Tierschutzindikatoren: Leitfaden für die Praxis - Schwein\", Seite 34."]
[null,null,null,null,null,"Hautverletzung am Kopf - Anzahl","Erläuterung der Boniturnote siehe „Tierschutzindikatoren: Leitfaden für die Praxis - Schwein\", Seite 35."]
[null,null,null,null,null,"Hautverletzung am Karpalgelenk - Anzahl","Erläuterung der Boniturnote siehe „Tierschutzindikatoren: Leitfaden für die Praxis - Schwein\", Seite 36."]
[null,null,null,null,null,"Tränke defekt?","Wenn hier „defekt: Ja\" eingetragen wird, erübrigen sich das Auslitern der Tränke/weitere Eintragungen für diese Tränke."]
[null,null,null,null,null,"Dauer in Sek.","Tragen Sie hier die Zeit in Sekunden ein, wie lange das Tränkeventil geöffnet bzw. fixiert wurde."]
[null,null,null,null,null,"Menge in ml","Tragen Sie hier die Menge an ausströmenden Wasser in Milliliter ein, die in der Zeit in der das Tränkeventil geöffnet bzw. fixiert wurde, aufgefangen wurde."]
[null,null,null,null,null,"Rate","Automatisch berechnete Durchflussrate einer untersuchten Tränke."]
[null,null,null,null,null,"Urteil","Urteil, ob die ermittelte Durchflussrate ausreichend (ok) oder unzureichend, da zu niedrig oder zu hoch ist (nicht ok)."]
[null,null,null,null,null,"Direkteingabe","Zur direkten Eingabe der Gesamtanzahl von Werten über alle beurteilten Tiere (Tränken) einer Stichprobe."]
[]
["ET_AZ|SW_SAU|"]
[null,null,"Hilfeseite „Antibiotikaeinsatz\""]
[null,null,null,null,null,null,"In das Formular „Antibiotikaeinsatz\"  können die Therapiehäufigkeit nach HI-Tier oder den Therapieindex nach QS (Qualität und Sicherheit GmbH) direkt eintragen, falls Ihnen diese bereits vorliegen. Falls Sie nicht zur Meldung an HI-Tier verpflichtet sind, können Sie Ihre fortlaufenden Aufwendungen zum Antibiotikaeinsatz in die Tabelle im Formular eintragen und sich den Therapieindex nach QS automatisch berechnen lassen."]
[null,null,null,null,null,"Begriff im Formular","Erläuterung"]
[null,null,null,null,null,"Speichern und schließen","Speichert die eingebenen Werte einer Erhebung und schließt das Formular. Dabei wird automatisch die ganze Datei gespeichert. Zusätzlich sollten Sie Sicherheitskopien Ihrer Datei anlegen."]
[null,null,null,null,null,"Antibiotikaeinsatz","Eingabebereich, falls Ihnen Daten zur Therapiehäufigkeit bzw. zum Therapieindex vorliegen."]
[null,null,null,null,null,"Berichtszeitraum - Enddatum","Enddatum (TT.MM.JJJJ) des Berichtszeitraums."]
[null,null,null,null,null,"Behandlungen","Tabelle zur Eingabe der Antibiotikabehandlungen im Berichtszeitraum anhand der AuA-Belege, falls Ihnen keine Werte zur Therapiehäufigkeit bzw. zum Therapieindex vorliegen. Aus Ihren Angaben wird der Therapieindex nach QS  berechnet. "]
[null,null,null,null,null,"Datum","Datum (TT.MM.JJJJ) des AuA-Belegs für das Antibiotikum."]
[null,null,null,null,null,"Anwendungsdauer inkl. Wirktage","Behandlungsdauer in Tagen inklusive der Wirktage des Antibiotikums."]
[null,null,null,null,null,"Antibiotika Präparat","Name des Antibiotikums."]
[null,null,null,null,null,"Wirkstoffe","Anzahl Wirkstoffe des verabreichten Antibiotikums."]
[null,null,null,null,null,"Behandelte Tiere","Anzahl Tiere, die behandelt wurden."]
[null,null,null,null,null,"Behandlungseinheit","Automatische Berechnung der Behandlungseinheit."]
[null,null,null,null,null,"Tierzahl im Bestand","Aktuelle Anzahl Tiere im Bestand."]
[null,null,null,null,null,"Ø . Quartal","Durchschnittliche Tierzahl im Bestand über alle Behandlungen im 1., 2., 3. oder 4. Quartal."]
[]
["ET_AZ|SW_MAST|"]
[null,null,"Hilfeseite „Antibiotikaeinsatz\""]
[null,null,null,null,null,null,"In das Formular „Antibiotikaeinsatz\"  können die Therapiehäufigkeit nach HI-Tier oder den Therapieindex nach QS (Qualität und Sicherheit GmbH) direkt eintragen, falls Ihnen diese bereits vorliegen. Falls Sie nicht zur Meldung an HI-Tier verpflichtet sind, können Sie Ihre fortlaufenden Aufwendungen zum Antibiotikaeinsatz in die Tabelle im Formular eintragen und sich den Therapieindex nach QS automatisch berechnen lassen."]
[null,null,null,null,null,"Begriff im Formular","Erläuterung"]
[null,null,null,null,null,"Speichern und schließen","Speichert die eingebenen Werte einer Erhebung und schließt das Formular. Dabei wird automatisch die ganze Datei gespeichert. Zusätzlich sollten Sie Sicherheitskopien Ihrer Datei anlegen."]
[null,null,null,null,null,"Antibiotikaeinsatz","Eingabebereich, falls Ihnen Daten zur Therapiehäufigkeit bzw. zum Therapieindex vorliegen."]
[null,null,null,null,null,"Berichtszeitraum - Enddatum","Enddatum (TT.MM.JJJJ) des Berichtszeitraums."]
[null,null,null,null,null,"Behandlungen","Tabelle zur Eingabe der Antibiotikabehandlungen im Berichtszeitraum anhand der AuA-Belege, falls Ihnen keine Werte zur Therapiehäufigkeit bzw. zum Therapieindex vorliegen. Aus Ihren Angaben wird der Therapieindex nach QS  berechnet. "]
[null,null,null,null,null,"Datum","Datum (TT.MM.JJJJ) des AuA-Belegs für das Antibiotikum."]
[null,null,null,null,null,"Anwendungsdauer inkl. Wirktage","Behandlungsdauer in Tagen inklusive der Wirktage des Antibiotikums."]
[null,null,null,null,null,"Antibiotika Präparat","Name des Antibiotikums."]
[null,null,null,null,null,"Wirkstoffe","Anzahl Wirkstoffe des verabreichten Antibiotikums."]
[null,null,null,null,null,"Behandelte Tiere","Anzahl Tiere, die behandelt wurden."]
[null,null,null,null,null,"Behandlungseinheit","Automatische Berechnung der Behandlungseinheit."]
[null,null,null,null,null,"Tierzahl im Bestand","Aktuelle Anzahl Tiere im Bestand."]
[null,null,null,null,null,"Ø . Quartal","Durchschnittliche Tierzahl im Bestand über alle Behandlungen im 1., 2., 3. oder 4. Quartal."]
[]
["ET_AZ|SW_FERKEL|"]
[null,null,"Hilfeseite „Antibiotikaeinsatz\""]
[null,null,null,null,null,null,"In das Formular „Antibiotikaeinsatz\"  können die Therapiehäufigkeit nach HI-Tier oder den Therapieindex nach QS (Qualität und Sicherheit GmbH) direkt eintragen, falls Ihnen diese bereits vorliegen. Falls Sie nicht zur Meldung an HI-Tier verpflichtet sind, können Sie Ihre fortlaufenden Aufwendungen zum Antibiotikaeinsatz in die Tabelle im Formular eintragen und sich den Therapieindex nach QS automatisch berechnen lassen."]
[null,null,null,null,null,"Begriff im Formular","Erläuterung"]
[null,null,null,null,null,"Speichern und schließen","Speichert die eingebenen Werte einer Erhebung und schließt das Formular. Dabei wird automatisch die ganze Datei gespeichert. Zusätzlich sollten Sie Sicherheitskopien Ihrer Datei anlegen."]
[null,null,null,null,null,"Antibiotikaeinsatz","Eingabebereich, falls Ihnen Daten zur Therapiehäufigkeit bzw. zum Therapieindex vorliegen."]
[null,null,null,null,null,"Berichtszeitraum - Enddatum","Enddatum (TT.MM.JJJJ) des Berichtszeitraums."]
[null,null,null,null,null,"Behandlungen","Tabelle zur Eingabe der Antibiotikabehandlungen im Berichtszeitraum anhand der AuA-Belege, falls Ihnen keine Werte zur Therapiehäufigkeit bzw. zum Therapieindex vorliegen. Aus Ihren Angaben wird der Therapieindex nach QS  berechnet. "]
[null,null,null,null,null,"Datum","Datum (TT.MM.JJJJ) des AuA-Belegs für das Antibiotikum."]
[null,null,null,null,null,"Anwendungsdauer inkl. Wirktage","Behandlungsdauer in Tagen inklusive der Wirktage des Antibiotikums."]
[null,null,null,null,null,"Antibiotika Präparat","Name des Antibiotikums."]
[null,null,null,null,null,"Wirkstoffe","Anzahl Wirkstoffe des verabreichten Antibiotikums."]
[null,null,null,null,null,"Behandelte Tiere","Anzahl Tiere, die behandelt wurden."]
[null,null,null,null,null,"Behandlungseinheit","Automatische Berechnung der Behandlungseinheit."]
[null,null,null,null,null,"Tierzahl im Bestand","Aktuelle Anzahl Tiere im Bestand."]
[null,null,null,null,null,"Ø . Quartal","Durchschnittliche Tierzahl im Bestand über alle Behandlungen im 1., 2., 3. oder 4. Quartal."]
[]
["SW_SB|"]
[null,null,"Hilfeseite „Schlachtbefunde - Sauen\" und „Schlachtbefunde - Mastschweine\" und „Schlachtbefunde - Aufzuchtferkel\""]
[null,null,null,null,null,null,"Mit dem Formular \"Schlachtbefunde\" können Sie für einen Erhebungszeitraum Ihre Schlachtbefunde dokumentieren und zusammenfassend darstellen lassen. Sie haben die Möglichkeit das Datenformat „Schlachtbefunde mit Prozentangaben\" oder „Schlachtbefunde mit absoluten Angaben\" auszuwählen, je nachdem in welchem Datenformat der Schlachthof die Schlachtbefunde an Sie übermittelt. Ihre Eintragungen nehmen Sie dabei im blau hinterlegten Formularbereich vor. Im  grün hinterlegten Formularbereich werden die errechneten Ergebnisse dargestellt. "]
[null,null,null,null,null,"Begriff im Formular","Erläuterung"]
[null,null,null,null,null,"Speichern und schließen","Speichert die eingebenen Werte einer Erhebung und schließt das Formular. Dabei wird automatisch die ganze Datei gespeichert. Zusätzlich sollten Sie Sicherheitskopien Ihrer Datei anlegen."]
[null,null,null,null,null,"Datenformat vom Schlachthof","Wenn Ihnen die Schlachtbefunde in Prozent vorliegen, wählen Sie „Schlachtbefunde mit Prozentangaben\". „Schlachtbefunde mit absoluten Angaben\" wählen Sie aus, wenn Ihre Schlachtbefunde als absolute Zahl an Tieren angegeben werden."]
[null,null,null,null,null,"Anzahl Tiere","Anzahl Tiere, die mit dieser Lieferung an den Schlachthof ging und für die ein Schlachtbefundbericht vorliegt."]
[null,null,null,null,null,"Schlachtbefunde","Eventuell unterscheiden sich die Begriffe auf den Unterlagen, die Sie von Ihrem Schlachtunternehmen erhalten, etwas von den aufgeführten. Nehmen Sie dann eine bestmögliche sinngemäße Zuordnung zu den aufgeführten Schlachtbefundursachen vor. "]
[]
["SW_BESTAND|SW_SAU|"]
[null,null,"Hilfeseite „Bestandsbezogene Indikatoren - Sauen/Saugferkel\""]
[null,null,null,null,null,null,"Hier tragen Sie die standardmäßig vom Sauenplaner berechneten bestandsbezogenen Indikatoren für Ihre Sauen und Saugferkel ein. Lassen Sie sich für den Berichtszeitraum, also für die zurückliegenden sechs Monate, zu den gefragten Indikatoren (Leistungsdaten) einen Bericht im Sauenplaner erstellen und übernehmen Sie die ermittelten Werte in das Formular „Bestandsbezogene Indikatoren\"."]
[null,null,null,null,null,"Begriff im Formular","Erläuterung"]
[null,null,null,null,null,"Speichern und schließen","Speichert die eingebenen Werte einer Erhebung und schließt das Formular. Dabei wird automatisch die ganze Datei gespeichert. Zusätzlich sollten Sie Sicherheitskopien Ihrer Datei anlegen."]
[null,null,null,null,null,"Berichtszeitraum Enddatum","Enddatum (TT.MM.JJJJ) des Berichtszeitraums."]
[null,null,null,null,null,"Sauenplanerdaten (bestandsbezogen)","Entnehmen Sie Ihrem Sauenplaner für den Berichtszeitraum die Werte für die entsprechenden Indikatoren."]
[null,null,null,null,null,"Sauen - Umrauscherquote","Erläuterung siehe „Tierschutzindikatoren: Leitfaden für die Praxis - Schwein\", Seite 13."]
[null,null,null,null,null,"Sauen - Abortrate","Erläuterung siehe „Tierschutzindikatoren: Leitfaden für die Praxis - Schwein\", Seite 14."]
[null,null,null,null,null,"Sauen - Wurfzahl","Erläuterung siehe „Tierschutzindikatoren: Leitfaden für die Praxis - Schwein\", Seite 15."]
[null,null,null,null,null,"Sauen - Tierverluste Sauen","Erläuterung siehe „Tierschutzindikatoren: Leitfaden für die Praxis - Schwein\", Seite 16."]
[null,null,null,null,null,"Saugferkel - Anteil tot geborener Tiere","Erläuterung siehe „Tierschutzindikatoren: Leitfaden für die Praxis - Schwein\", Seite 33."]
[null,null,null,null,null,"Saugferkel - Anteil verendete oder euthanisierte Tiere","Erläuterung siehe „Tierschutzindikatoren: Leitfaden für die Praxis - Schwein\", Seite 33."]
[null,null,null,null,null,"Saugferkel - Anteil Verluste insgesamt","Alle Saugferkelverluste von der Geburt bis zum Absetzen im Berichtszeitraum, in Prozent."]
[]
["SW_BESTAND|SW_FERKEL|"]
[null,null,"Hilfeseite „Bestandsbezogene Indikatoren - Aufzuchtferkel\""]
[null,null,null,null,null,null,"Die hier gefragten bestandsbezogenen Indikatoren werden standardmäßig von Mastplanern bzw. anderen Datenmanagementsystemen berechnet. Der Berichtszeitraum für die zurückliegenden sechs Monate wird Ihnen angezeigt; lassen Sie sich für diesen Zeitraum einen Bericht zu Ihren bestandsbezogenen Indikatoren (= Leistungsdaten) aus dem Mastplaner erstellen. Die ermittelten Werte übertragen Sie in das Formular „Bestandsbezogene Indikatoren\"."]
[null,null,null,null,null,"Begriff im Formular","Erläuterung"]
[null,null,null,null,null,"Speichern und schließen","Speichert die eingebenen Werte einer Erhebung und schließt das Formular. Dabei wird automatisch die ganze Datei gespeichert. Zusätzlich sollten Sie Sicherheitskopien Ihrer Datei anlegen."]
[null,null,null,null,null,"Berichtszeitraum Enddatum","Enddatum (TT.MM.JJJJ) des Berichtszeitraums."]
[null,null,null,null,null,"Tierverluste","Erläuterung siehe „Tierschutzindikatoren: Leitfaden für die Praxis - Schwein\", Seite 39."]
[null,null,null,null,null,"Tägliche Gewichtszunahme","Erläuterung siehe „Tierschutzindikatoren: Leitfaden für die Praxis - Schwein\", Seite 41."]
[]
["SW_SCHWANZ|SW_FERKEL|"]
[null,null,"Hilfeseite „Schwanzlänge\""]
[null,null,null,null,null,null,"Das Formular „Schwanzlänge\" hilft Ihnen bei der Eingangskontrolle für die Beurteilung der Schwanzlänge beim Einstallen Ihrer Tiere in den Aufzucht- und Maststall. Dabei können Sie für einen Erhebungszeitraum Ihre Beurteilungen für mehrere Tiergruppen notieren. "]
[null,null,null,null,null,"Begriff im Formular","Erläuterung"]
[null,null,null,null,null,"Speichern und schließen","Speichert die eingebenen Werte einer Erhebung und schließt das Formular. Dabei wird automatisch die ganze Datei gespeichert. Zusätzlich sollten Sie Sicherheitskopien Ihrer Datei anlegen."]
[null,null,null,null,null,"Rot hinterlegte Felder","Rote Felder müssen ausgefüllt werden. Bleiben rote Felder nach einer Eintragung weiterhin rot, deuten sie auf eine fehlerhafte Eintragung hin. Dann sollte überprüft werden, ob die Summe aller Tiere, für die Boniturnoten vergeben wurden, der Anzahl an eingestallten Tieren entspricht."]
[null,null,null,null,null,"Einstallung Datum","Datum (TT.MM.JJJJ) der Einstallung einer Tiergruppe in den Aufzucht- oder Maststall."]
[null,null,null,null,null,"Beurteilung Schwanzlänge","Erläuterung siehe „Tierschutzindikatoren: Leitfaden für die Praxis - Schwein\", Seite 43."]
[]
["SW_BUCHT|"]
[null,null,"Hilfeseite „Tierbeurteilung/Wasser - Bucht\""]
[null,null,null,null,null,null,"Hier dokumentieren Sie die Tierschutzindikatoren, die Sie im Aufzucht- bzw. Maststall an der Stichprobe erfassen. Je Bucht wird ein Formular ausgefüllt. Ihre Eintragungen zu den Tierbeurteilungen und der Wasserversorgung machen Sie im blau hinterlegten Bereich der Excel-Anwendung. Sie haben dabei die Möglichkeit, die Tierbeurteilung für die Tiere der Stichprobe einzeln zu notieren (Tier Nr. 1 bis 15) und sich die Summen errechnen zu lassen. Alternativ können Sie unter „Direkteingabe\" nur die bereits summierten Werte aller Tiere einer Stichprobe direkt eingeben. Im grün hinterlegten Bereich erscheint die automatische Berechnung der relevanten Ergebnisse aus den eingetragenen Werten für die Tierbeurteilung und Wasserversorgung; er wird im Ausdruck nicht angezeigt. Die relevanten Ergebnisse aus diesem Formular werden automatisch auf die Seite „Ergebnisse\" übertragen."]
[null,null,null,null,null,"Begriff im Formular","Erläuterung"]
[null,null,null,null,null,"Speichern und schließen","Speichert die eingebenen Werte einer Erhebung und schließt das Formular. Dabei wird automatisch die ganze Datei gespeichert. Zusätzlich sollten Sie Sicherheitskopien Ihrer Datei anlegen."]
[null,null,null,null,null,"Rot hinterlegte Felder","Rote Felder müssen ausgefüllt werden. Bleiben rote Felder nach einer Eintragung weiterhin rot, deuten sie auf eine fehlerhafte Eintragung hin. Dann sollte überprüft werden, ob die Summe aller Tiere, für die - bei einen Indikator - Boniturnoten vergeben wurde, der Anzahl an Tieren in der Bucht entspricht."]
[null,null,null,null,null,"Stichprobe Tierbeurteilung","Die für Ihren Betrieb gültige Stichprobengröße mit Auswahlregel finden Sie im Registerblatt „Erhebungen\"."]
[null,null,null,null,null,"vor der Bucht erheben, alle Tiere","Es werden alle Tiere einer Bucht beurteilt. Zur Beurteilung muss die Bucht nicht betreten werden."]
[null,null,null,null,null,"Bezeichnung","Hier können Sie zusätzlich zur automatischen Nummerierung eine eigene Bezeichnung für die Bucht angeben."]
[null,null,null,null,null,"Anzahl Tiere in Bucht","Geben Sie die Gesamtanzahl der Tiere in derjenigen Bucht an, die Sie gerade untersuchen."]
[null,null,null,null,null,"Lahmheit","Erläuterung der Boniturnote siehe „Tierschutzindikatoren: Leitfaden für die Praxis - Schwein\", Seite 50."]
[null,null,null,null,null,"Kümmerer","Erläuterung der Boniturnote siehe „Tierschutzindikatoren: Leitfaden für die Praxis - Schwein\", Seite 44."]
[null,null,null,null,null,"Kotverschmutzte Tiere","Erläuterung der Boniturnote siehe „Tierschutzindikatoren: Leitfaden für die Praxis - Schwein\", Seite 45."]
[null,null,null,null,null,"in der Bucht erheben, Stichprobe","Es wird nur eine Stichprobe an Tieren beurteilt. Um diese Tiere jeweils genau untersuchen zu können, muss die Bucht betreten werden."]
[null,null,null,null,null,"Hautverletzung","Erläuterung der Boniturnote siehe „Tierschutzindikatoren: Leitfaden für die Praxis - Schwein\", Seite 46."]
[null,null,null,null,null,"Ohrverletzung","Erläuterung der Boniturnote siehe „Tierschutzindikatoren: Leitfaden für die Praxis - Schwein\", Seite 47."]
[null,null,null,null,null,"Schwanzverletzung","Erläuterung der Boniturnote siehe „Tierschutzindikatoren: Leitfaden für die Praxis - Schwein\", Seite 48."]
[null,null,null,null,null,"Anzeichen Ektoparasiten","Erläuterung siehe „Tierschutzindikatoren: Leitfaden für die Praxis - Schwein\", Seite 49."]
[null,null,null,null,null,"Direkteingabe","Zur direkten Eingabe der Gesamtanzahl von Werten über alle beurteilten Tiere (Tränken) einer Stichprobe."]
[null,null,null,null,null,"Wasserversorgung","Tabelle zur Ermittlung der Durchflussraten aller Tränken einer Bucht."]
[null,null,null,null,null,"Gewicht","Wählen Sie die entsprechende Produktionsstufe bzw. Gewichtsklasse aus, in der die Tiere der untersuchten Bucht liegen. Die für die Gewichtsklasse geltenden Sollwerte der Durchflussraten (min/max) werden automatisch angezeigt und für die Beurteilung der Durchflussraten der Tränken in der Bucht verwendet."]
[null,null,null,null,null,"Tränke defekt?","Wenn hier „defekt: Ja\" eingetragen wird, erübrigen sich das Auslitern der Tränke/weitere Eintragungen für diese Tränke."]
[null,null,null,null,null,"Dauer in Sek.","Tragen Sie hier die Zeit in Sekunden ein, wie lange das Tränkeventil geöffnet bzw. fixiert wurde."]
[null,null,null,null,null,"Menge in ml","Tragen Sie hier die Menge an ausströmendem Wasser in Milliliter ein, die in der Zeit in der das Tränkeventil geöffnet bzw. fixiert wurde, aufgefangen wurde."]
[null,null,null,null,null,"Rate","Automatisch berechnete Durchflussrate der untersuchten Tränke."]
[null,null,null,null,null,"Urteil","Urteil, ob die ermittelte Durchflussrate ausreichend (ok) oder unzureichend, da zu niedrig oder zu hoch ist (nicht ok)."]
[]
[]
["SW_SCHWANZ|"]
[null,null,"Hilfeseite „Schwanzlänge\""]
[null,null,null,null,null,null,"Das Formular „Schwanzlänge\" hilft Ihnen bei der Eingangskontrolle für die Beurteilung der Schwanzlänge beim Einstallen Ihrer Tiere in den Aufzucht- und Maststall. Dabei können Sie für einen Erhebungszeitraum Ihre Beurteilungen für mehrere Tiergruppen notieren. "]
[null,null,null,null,null,"Begriff im Formular","Erläuterung"]
[null,null,null,null,null,"Speichern und schließen","Speichert die eingebenen Werte einer Erhebung und schließt das Formular. Dabei wird automatisch die ganze Datei gespeichert. Zusätzlich sollten Sie Sicherheitskopien Ihrer Datei anlegen."]
[null,null,null,null,null,"Rot hinterlegte Felder","Rote Felder müssen ausgefüllt werden. Bleiben rote Felder nach einer Eintragung weiterhin rot, deuten sie auf eine fehlerhafte Eintragung hin. Dann sollte überprüft werden, ob die Summe aller Tiere, für die Boniturnoten vergeben wurden, der Anzahl an eingestallten Tieren entspricht."]
[null,null,null,null,null,"Einstallung Datum","Datum (TT.MM.JJJJ) der Einstallung einer Tiergruppe in den Aufzucht- oder Maststall."]
[null,null,null,null,null,"Beurteilung Schwanzlänge","Erläuterung siehe „Tierschutzindikatoren: Leitfaden für die Praxis - Schwein\", Seite 43."]
[]
["SW_BESTAND|SW_MAST|"]
[null,null,"Hilfeseite „Bestandsbezogene Indikatoren - Mastschweine\""]
[null,null,null,null,null,null,"Die hier gefragten bestandsbezogenen Indikatoren werden standardmäßig von Mastplanern bzw. anderen Datenmanagementsystemen berechnet. Der Berichtszeitraum für die zurückliegenden sechs Monate wird Ihnen angezeigt; lassen Sie sich für diesen Zeitraum einen Bericht zu Ihren bestandsbezogenen Indikatoren (= Leistungsdaten) aus dem Mastplaner erstellen. Die ermittelten Werte übertragen Sie in das Formular „Bestandsbezogene Indikatoren\"."]
[null,null,null,null,null,"Begriff im Formular","Erläuterung"]
[null,null,null,null,null,"Speichern und schließen","Speichert die eingebenen Werte einer Erhebung und schließt das Formular. Dabei wird automatisch die ganze Datei gespeichert. Zusätzlich sollten Sie Sicherheitskopien Ihrer Datei anlegen."]
[null,null,null,null,null,"Berichtszeitraum Enddatum","Enddatum (TT.MM.JJJJ) des Berichtszeitraums."]
[null,null,null,null,null,"Tierverluste","Erläuterung siehe „Tierschutzindikatoren: Leitfaden für die Praxis - Schwein\", Seite 39."]
[null,null,null,null,null,"Tägliche Gewichtszunahme","Erläuterung siehe „Tierschutzindikatoren: Leitfaden für die Praxis - Schwein\", Seite 41."]
[]
["SW_ERGEBNISSE|ERGEBNISSE|SW_FERKEL"]
[null,null,"Hilfeseite „Ergebnisse Übersicht\" (Aufzuchtferkel/Mastschweine)"]
[null,null,null,null,null,null,"Die Ergebnisseite ist eine Übersichtsseite mit allen relevanten Ergebnissen eines Erhebungszeitraums. Dafür werden für jeden Tierschutzindikator die relevanten Ergebnisse aus den von Ihnen eingegebenen Daten aus den jeweiligen Formularen  generiert. Sie können sich diese Ergebnisseite ausdrucken und in Ihren Unterlagen abheften. Sobald  auch Ergebnisseiten aus Folgeerhebungen vorliegen, können Sie anhand dieser Übersichtsseiten den zeitlichen Verlauf der Indikatorausprägungen gut nachvollziehen."]
[null,null,null,null,null,"Begriff im Formular","Erläuterung"]
[null,null,null,null,null,"Erhebung auswählen","Wählen Sie die Erhebung aus, für die Sie die Ergebnisse auswerten wollen."]
[null,null,null,null,null,"Auswerten","Damit aktualisieren Sie die Seite „Ergebnisse Übersicht\" des von Ihnen ausgewählten Erhebungszeitraums."]
[null,null,null,null,null,"Ergebnisse","Die gemäß Leitfaden relevanten Ergebnisse für jeden Tierschutzindikator, jeweils in der angegebenen Einheit."]
[null,null,null,null,null,"Beurteilte Tiere","Anzahl der insgesamt beurteilten Tiere."]
[null,null,null,null,null,"Beurteilte Tränken","Anzahl der insgesamt beurteilten Tränken."]
[]
["SW_ERGEBNISSE|ERGEBNISSE|SW_MAST"]
[null,null,"Hilfeseite „Ergebnisse Übersicht\" (Aufzuchtferkel/Mastschweine)"]
[null,null,null,null,null,null,"Die Ergebnisseite ist eine Übersichtsseite mit allen relevanten Ergebnissen eines Erhebungszeitraums. Dafür werden für jeden Tierschutzindikator die relevanten Ergebnisse aus den von Ihnen eingegebenen Daten aus den jeweiligen Formularen  generiert. Sie können sich diese Ergebnisseite ausdrucken und in Ihren Unterlagen abheften. Sobald  auch Ergebnisseiten aus Folgeerhebungen vorliegen, können Sie anhand dieser Übersichtsseiten den zeitlichen Verlauf der Indikatorausprägungen gut nachvollziehen."]
[null,null,null,null,null,"Begriff im Formular","Erläuterung"]
[null,null,null,null,null,"Erhebung auswählen","Wählen Sie die Erhebung aus, für die Sie die Ergebnisse auswerten wollen."]
[null,null,null,null,null,"Auswerten","Damit aktualisieren Sie die Seite „Ergebnisse Übersicht\" des von Ihnen ausgewählten Erhebungszeitraums."]
[null,null,null,null,null,"Ergebnisse","Die gemäß Leitfaden relevanten Ergebnisse für jeden Tierschutzindikator, jeweils in der angegebenen Einheit."]
[null,null,null,null,null,"Beurteilte Tiere","Anzahl der insgesamt beurteilten Tiere."]
[null,null,null,null,null,"Beurteilte Tränken","Anzahl der insgesamt beurteilten Tränken."]
[]
["SW_ERGEBNISSE|ERGEBNISSE|SW_SAU"]
[null,null,"Hilfeseite „Ergebnisse Übersicht\" (Sauen/Saugferkel)"]
[null,null,null,null,null,null,"Die Ergebnisseite ist eine Übersichtsseite mit allen relevanten Ergebnissen eines Erhebungszeitraums. Dafür werden für jeden Tierschutzindikator die relevanten Ergebnisse aus den von Ihnen eingegebenen Daten aus den jeweiligen Formularen  generiert. Sie können sich diese Ergebnisseite ausdrucken und in Ihren Unterlagen abheften. Sobald  auch Ergebnisseiten aus Folgeerhebungen vorliegen, können Sie anhand dieser Übersichtsseiten den zeitlichen Verlauf der Indikatorausprägungen gut nachvollziehen."]
[null,null,null,null,null,"Begriff im Formular","Erläuterung"]
[null,null,null,null,null,"Erhebung auswählen","Wählen Sie die Erhebung aus, für die Sie die Ergebnisse betrachten wollen."]
[null,null,null,null,null,"auswerten…","Damit aktualisieren Sie die Seite „Ergebnisse Übersicht\" des von Ihnen ausgewählten Erhebungszeitraums."]
[null,null,null,null,null,"Ergebnisse","Die gemäß Leitfaden relevanten Ergebnisse für jeden Tierschutzindikator, jeweils in der angegebenen Einheit."]
[null,null,null,null,null,"Beurteilte Tiere","Anzahl der insgesamt beurteilten Tiere."]
[null,null,null,null,null,"Beurteilte Tränken","Anzahl der insgesamt beurteilten Tränken."]
[]
[]
[]
["ENDEDATEN"]

{"sheet":"Information_GF","index":35,"n_rows":474,"n_cols":7,"rows_kept":474,"cut":false,"hidden":true,"merged":[]}
["Spalte für interne Verwaltung"]
[null,null,null,null,null,null,{"$f":"Intern_Eikotiger","v":"Eigenkontrolle Tiergerechtheit"}]
["GF_BETRIEB",null,null,null,null,null,"Erläuterungen und Bearbeitungshinweise"]
[]
["GF"]
[null,null,null,null,null,"zurück ..."]
[]
[]
[]
[]
[]
["GF_BETRIEB|"]
[null,null,"Hilfeseite „Allgemeine Betriebsdaten\" (Geflügel)"]
[null,null,null,null,null,null,"Auf der Seite „Allgemeine Betriebsdaten\" können Sie Angaben zu Ihrem Betrieb machen und die Produktionsrichtung(en) auswählen, für die Sie die betriebliche Eigenkontrolle machen wollen. Zusätzlich haben Sie auf der Seite die Möglichkeit, Ställe (Herden) anzulegen, für die Sie gesonderte Eigenkontrollen durchführen wollen. \nAllgemeiner Hinweis: Bitte legen Sie regelmäßig Sicherheitskopien Ihrer Datei an, damit Ihre Daten erhalten bleiben, falls die Excel-Anwendung unbeabsichtigt zerstört wird."]
[null,null,null,null,null,"Begriff im Formular","Erläuterung"]
[null,null,null,null,null,"Name","Bezeichnung Ihrer Person oder Ihres Betriebes. Der Name wird auf allen folgenden Erhebungs- und Ergebnisseiten im Seitenkopf automatisch angezeigt. Alternativ können Sie eine ID (Identifikation) für Ihren Betrieb im Feld „Betriebs-ID\" anlegen."]
[null,null,null,null,null,"Optionale Angaben","Optionale Daten können hier eingegeben und mit diesem Deckformular ausgedruckt werden, sie tauchen aber auf den Datenerhebungs- und Ergebnisseiten nicht auf."]
[null,null,null,null,null,"Optional: Bearbeiter","Die für betriebliche Eigenkontrolle im Betrieb zuständige Person. Sinnvollerweise sollte immer die gleiche Person die Daten erheben und eingeben."]
[null,null,null,null,null,"Betriebs-ID","Zeichenabfolge (Ziffern, Zahlen und/oder Zeichen), frei wählbar, anhand der Sie Ihren Betrieb identifizieren können. Die Betriebs-ID wird auf allen folgenden Erhebungs- und Ergebnisseiten im Seitenkopf automatisch angezeigt. Alternativ können Sie für Ihren Betrieb einen Namen angeben."]
[null,null,null,null,null,"Produktionsrichtung","Wählen Sie die im Betrieb vorhandene(n) Produktionsrichtung(en) aus. Auf dem Registerblatt „Erhebungen\" können Sie dann für die hier ausgewählte(n) Produktionsrichtung(en) Erhebungen anlegen. "]
[null,null,null,null,null,"Ställe (Herden)","Die Bezugsbasis für die betriebliche Eigenkontrolle bei Geflügel ist die Herde, also das gesamte Geflügel, das zeitgleich eingestallt wurde und im selben Stallraum (oder verschiedenen Ställen am gleichen Standort) gehalten wird, also eine epidemiologische Einheit bildet. Falls Sie je oben angekreuzter Produktionsrichtung nur für einen Stall eine Datenerhebung und -auswertung wollen, z. B. einen für Junghennen und einen für Legehennen, brauchen Sie hier nichts einzugeben. Falls Sie je Produktionsrichtung mehrere Ställe haben, für die Sie jeweils gesonderte Erhebungen und Auswertungen haben möchten, geben Sie hier für jeden dieser Ställe eine eigene Bezeichnung ein (z. B. Junghennenstall alt, Junghennenstall neu). Falls Sie je Produktionsrichtung mehrere Ställe haben, für die Sie eine gemeinsame Erhebung und Auswertung haben möchten, geben Sie hier für die gesamte Herde eine eigene Bezeichnung ein (z. B. Junghennenställe alt/neu). Auf dem Registerblatt „Erhebungen\" können Sie dann die Herde, die Sie gerade bearbeiten wollen, aus einer Liste Ihrer Ställe auswählen. "]
[null,null,null,null,null,"Lageskizze/Notizen","Optional, nur für Ihre Anmerkungen (z.B. Standort des Stalls)."]
[]
[]
["GF_ERHEBUNGEN|ERHEBUNGEN|GF_HENNE"]
[null,null,"Hilfeseite „Erhebungen Übersicht\" "]
[null,null,null,null,null,null,"Auf dieser Übersichtsseite mit der Registerbezeichnung „Erhebungen\" haben Sie alle Datenerhebungen eines Erhebungszeitraums, also eines gesamten Durchgangs, mit den zugehörigen Formularen zusammen im Blick. Für jeden Durchgang können Sie einen mittelblau hinterlegten „Block\" mit Formularen anlegen und/oder weiterbearbeiten. Angezeigt wird jeweils nur ein Block, auch wenn Sie ggf. schon mehrere Blöcke angelegt haben. Ein Teil der Indikatoren soll wiederholt an einer ausgewählten „Stichprobe\" von Tieren erhoben werden. Außerdem gibt es ein Formular „Fortlaufende Erhebungen\", das über den gesamten Durchgang ausgefüllt werden sollte, sowie „Abschlusserhebungen\", die am Ende des Durchgangs ausgewertet werden. \nAlle rot eingefärbten Felder müssen dringend ausgefüllt werden, da die eingegebenen Werte der Identifikation der Herde dienen bzw. für die weitere Berechnung verwendet werden."]
[null,null,null,null,null,"Begriff im Formular","Erläuterung"]
[null,null,null,null,null,"Neue Erhebung hinzufügen","Fügt eine neue Erhebung für eine Produktionsrichtung ein. Klicken Sie auf die Produktionsrichtung, für die Sie eine Erhebung einfügen möchten. Es öffnet sich eine Dialogbox. Um die neue Erhebung einzufügen, klicken Sie auf „Ja\"."]
[null,null,null,null,null,"Erhebung auswählen","Die hinzugefügten Erhebungen erscheinen in einer Drop-Down-Liste. Um die Erhebungen in der Liste anzusehen, klicken Sie auf den Pfeil am rechten Rand der Drop-Down-Liste. Wenn Sie eine bestimmte Erhebung ausgewählt haben, klicken Sie auf „anzeigen\"."]
[null,null,null,null,null,"Betriebs-ID","Hier steht die von Ihnen in „Allgemeine Betriebsdaten\" eingegebene Betriebs-ID, andernfalls Ihr Name."]
[null,null,null,null,null,"Erhebung löschen","Löscht den angezeigten Erhebungsblock und damit die gespeicherten Daten aller im Hintergrund dieses Erhebungsblocks abgelegten Formulare. Drücken Sie diesen Link nicht, wenn Sie nur die Daten aus einem Formular löschen möchten."]
[null,null,null,null,null,"Erhebung drucken ...","Hier werden Sie gefragt, welche Seiten gedruckt werden sollen: Die gerade angezeigte Seite \"Erhebungen Übersicht\", die zu Gruppen zusammengefassten Eingabeformulare (die mit \"ausfüllen\" angesteuert werden) oder die Seite \"Ergebnisse Übersicht\" des angezeigten Erhebungsblocks, mit allen bis dahin von Ihnen eingegebenen Daten. Falls Sie nur einzelne Eingabeformulare ausdrucken möchten, nutzen Sie bitte die normale Excel-Druckfunktion."]
[null,null,null,null,null,"Durchgang","Dieses Feld ist rot hinterlegt, da hier eine Eingabe dringend erfolgen sollte. Hier kann die jeweilige Durchgangs-Nummer eingetragen werden. Dabei können Sie frei auswählen, ob Sie die Liste von Durchgängen auf Ihrem Betrieb weiterführen (Nr. xx) oder die Nummerierung der Durchgänge mit betrieblicher Eigenkontrolle von vorne beginnen (Nr. 01)."]
[null,null,null,null,null,"Herdengröße","In diesem Feld soll die Herdengröße zum Einstallungstermin eingetragen werden. Junghennenhalter notieren hier die Zahl der eingestallten Eintagsküken und Legehennenhalter die Anzahl eingestallter Junghennen."]
[null,null,null,null,null,"Stall/Herde","Falls Sie auf der Seite „Allgemeine Betriebsdaten\" verschiedene Ställe/Herden eingegeben haben, erscheinen diese in einer Drop-down-Liste. Um die jeweiligen Ställe/Herden in der Liste auszuwählen, klicken Sie auf den Pfeil am rechten Rand der Drop-down-Liste und wählen Sie einen der Ställe/Herden aus."]
[null,null,null,null,null,"Schlupfdatum","Zur exakten Identifizierung der Herde wird hier das Schlupfdatum der Tiere eingetragen. Legehennenhalter müssen diese Information ggf. von ihren Aufzüchtern erfragen."]
[null,null,null,null,null,"Einstalldatum","Hiermit ist das Einstalldatum auf Ihrem Betrieb gemeint. Junghennenhalter: Einstallung der Küken; Legehennenhalter: Einstallung der Junghennen."]
[null,null,null,null,null,"Stichproben","Unter dieser Überschrift finden Sie die Formulare für die Indikatoren, die im Erhebungszeitraum mehrfach zu bestimmten Lebensabschnitten  (z. B. LW 4 = Lebenswoche 4) an einer Stichprobe von Tieren erhoben werden. Um ein Formular für die jeweilige Lebenswoche zu öffnen, klicken Sie „ausfüllen ...\". "]
[null,null,null,null,null,"Datum","Hier tragen Sie das Datum ein, an dem Sie das Formular ausgefüllt haben bzw. bei den fortlaufenden Erhebungen mit dem Erfassen begonnen haben."]
[null,null,null,null,null,"Sollgewicht","Das Sollgewicht für die jeweilige Lebenswoche entnehmen Sie bitte den Informationsblättern der Zuchtunternehmen. Für jede Genetik werden darin die zum jeweiligen Erhebungszeitraum erwartbaren Sollgewichte der Jung- bzw. Legehennen ausgewiesen."]
[null,null,null,null,null,"Fortlaufende Erhebungen","Enthält die Formulare für die Indikatoren, die im Erhebungszeitraum kontinuierlich am gesamten Bestand erhoben werden. Um ein Formular zu öffnen, klicken Sie „ausfüllen ...\"."]
[null,null,null,null,null,"Weiteren Monat hinzufügen …","Fügt ein neues Formular „Verluste, Wasser, Eier\" für einen weiteren Monat hinzu."]
[null,null,null,null,null,"Abschlusserhebungen","Enthält die Formulare für die Indikatoren, die Sie am Ende des Durchgangs aus den Unterlagen vom Schlachthof übertragen können. Um ein Formular zu öffnen, klicken Sie „ausfüllen ...\"."]
[]
["GF_SP|GF_HENNE|"]
[null,null,"Hilfeseite „Stichprobe: Tierbeurteilung\""]
[null,null,null,null,null,null,"Hier dokumentieren Sie die Tierschutzindikatoren, die Sie im Jung- bzw. Legehennenstall an einer Stichprobe erfassen. In Abhängigkeit der jeweiligen Lebenswoche sind unterschiedlich viele Tierschutzindikatoren zu erheben („Tierschutzindikatoren: Leitfaden für die Praxis – Geflügel\" Seite 10). Ihre Eintragungen zu den Tierbeurteilungen machen Sie im weiß hinterlegten Bereich. Sie haben dabei die Möglichkeit, die Tierbeurteilung für die Tiere der Stichprobe einzeln zu notieren (Tiernummer 1 bis 50) und sich die Summen errechnen zu lassen. Alternativ können Sie unter „Direkteingabe\" nur die bereits summierten Werte aller Tiere einer Stichprobe direkt eingeben. Im grün hinterlegten Bereich erscheinen die automatisch berechneten Ergebnisse aus den eingetragenen Werten für die Tierbeurteilung. Dies wird im Ausdruck nicht angezeigt. Die relevanten Ergebnisse aus diesem Formular werden automatisch auf die Seite „Ergebnisse\" übertragen. \nAlle rot eingefärbten Felder müssen dringend ausgefüllt werden, da die eingegebenen Werte der Identifikation der Herde dienen bzw. für die weitere Berechnung verwendet werden."]
[null,null,null,null,null,"Begriff im Formular","Erläuterung"]
[null,null,null,null,null,"Speichern und schließen","Speichert die eingegebenen Werte einer Erhebung und schließt das Formular. Dabei wird automatisch die ganze Datei gespeichert. Zusätzlich sollten Sie Sicherheitskopien Ihrer Datei anlegen."]
[null,null,null,null,null,"Tier","In jeder Stichprobe müssen unabhängig von der Herdengröße 50 Jung- bzw. Legehennen bonitiert werden. Die Stichprobenziehung sollte dabei repräsentativ erfolgen, d. h. die Tiere müssen möglichst gleichmäßig aus allen Ställen bzw. Abteilen entnommen werden."]
[null,null,null,null,null,"Stall","Falls Sie die Herde in mehreren Ställen halten, können Sie hier die zugehörige Stallbezeichnung eintragen."]
[null,null,null,null,null,"Abteil","Falls Sie die Herde in mehreren Abteilen halten, können Sie hier die zugehörige Abteilbezeichnung eintragen."]
[null,null,null,null,null,"Gefiederschäden","Hier werden die Ergebnisse für den Tierschutzindikator „Vollständigkeit Gefieder\" eingetragen, siehe „Tierschutzindikatoren: Leitfaden für die Praxis - Geflügel\" Seite 17 bis 19. In den eckigen Klammern stehen die jeweils möglichen Boniturstufen [0, 1, 2]."]
[null,null,null,null,null,"Hautverletzungen","Hier werden die Ergebnisse für den Tierschutzindikator „Hautverletzungen\" eingetragen, siehe „Tierschutzindikatoren: Leitfaden für die Praxis - Geflügel\" Seite 20 bis 21. In den eckigen Klammern stehen die jeweils möglichen Boniturstufen [0, 1, 2]."]
[null,null,null,null,null,"Zehenverletzungen","Hier werden die Ergebnisse für den Tierschutzindikator „Zehenverletzungen\" eingetragen, siehe „Tierschutzindikatoren: Leitfaden für die Praxis - Geflügel\" Seite 22. In den eckigen Klammern stehen die jeweils möglichen Boniturstufen [0, 1]."]
[null,null,null,null,null,"Fußballenveränderungen","Hier werden die Ergebnisse für den Tierschutzindikator „Fußballenveränderungen\" eingetragen, siehe „Tierschutzindikatoren: Leitfaden für die Praxis - Geflügel\" Seite 23. In den eckigen Klammern stehen die jeweils möglichen Boniturstufen [0 ,1, 2]."]
[null,null,null,null,null,"Brustbeinschäden","Hier werden die Ergebnisse für den Tierschutzindikator „Brustbeinschäden\" eingetragen, siehe „Tierschutzindikatoren: Leitfaden für die Praxis - Geflügel\" Seite 16. In den eckigen Klammern stehen die jeweils möglichen Boniturstufen [0, 1]."]
[null,null,null,null,null,"Tiergewicht","Hier werden die Ergebnisse für den Tierschutzindikator „Tiergewicht\" eingetragen, siehe „Tierschutzindikatoren: Leitfaden für die Praxis - Geflügel\" Seite 12. Die Angabe des Gewichts erfolgt in der Einheit Gramm (ohne Nachkommastelle). Bitte beachten Sie, dass Sie die Gewichte, die Sie zum Zeitpunkt der Tierbeurteilung erheben, ebenfalls in die entsprechende Woche des Formulars „Tiergewichte/Uniformität\" eintragen können. "]
[null,null,null,null,null,"Direkteingabe","Zur direkten Eingabe der Gesamtanzahl von Boniturwerten über alle beurteilten Tiere einer Stichprobe. Falls Sie eine Waage mit automatischer Anzeige von Durchschnittsgewicht und Uniformität nutzen, können Sie hier die bereits berechneten Werte eingeben."]
[null,null,null,null,null,"Sollgewichtserfüllung","Dieser Indikator zeigt an, ob das von Zuchtunternehmen angegebene Sollgewicht für die jeweilige Lebenswoche erreicht wurde (in Prozent). Ein Wert unterhalb von 100 %  bedeutet, die Tiere sind zu langsam gewachsen. Ein Wert oberhalb von 100 % bedeutet, die Tiere sind zu schnell gewachsen."]
[null,null,null,null,null,"Uniformität","Dieser Indikator zeigt an, ob die Herde gleichmäßig wächst oder die Einzeltiere sich in der Gewichtsentwicklung unterscheiden. Angegeben wird der Anteil an Tieren, die höchstens 10 % vom Durchschnittsgewicht abweichen (in Prozent)."]
[null,null,null,null,null,"Zu leichte Tiere","Dieser Indikator zeigt an, wie viele Tiere der Herde zu leicht sind. Angegeben wird der Anteil an Tieren die das Durchschnittsgewicht der Herde um mehr als 10 % unterschreiten (in Prozent). "]
[]
["ET_AZ|GF_HENNE|"]
[null,null,"Hilfeseite „Fortlaufende Erhebungen: Arzneimitteleinsatz\""]
[null,null,null,null,null,null,"Hier tragen Sie alle Einsätze von Antibiotika und anderen verschreibungspflichtigen Arzneimitteln in Ihrer Herde ein. Die jeweiligen Behandlungseinheiten des Durchgangs werden in einem Therapieindex für die gesamte Herde zusammengefasst („Tierschutzindikatoren: Leitfaden für die Praxis - Geflügel\" Seite 24). Im grün hinterlegten Bereich erscheint automatisch berechnet der Therapieindex aus den eingetragenen Werten für den Arzneimitteleinsatz. Dies wird im Ausdruck nicht angezeigt. Die relevanten Ergebnisse aus diesem Formular werden automatisch auf die Seite „Ergebnisse\" übertragen."]
[null,null,null,null,null,"Begriff im Formular","Erläuterung"]
[null,null,null,null,null,"Speichern und schließen","Speichert die eingegebenen Werte einer Erhebung und schließt das Formular. Dabei wird automatisch die ganze Datei gespeichert. Zusätzlich sollten Sie Sicherheitskopien Ihrer Datei anlegen."]
[null,null,null,null,null,"Nummer","Diese fortlaufende Nummer steht für eine Verabreichung von verschreibungspflichtigen Arzneimitteln im jeweiligen Durchgang. Eine Verabreichung kann mehrere Präparate umfassen, z. B. die Gabe von Schmerzmittel und Antibiotika aufgrund einer Erkrankung."]
[null,null,null,null,null,"Lebenswoche","Angabe der Lebenswoche in der verschreibungspflichtige Arzneimittel verabreicht wurden."]
[null,null,null,null,null,"Zeitraum Arzneimitteleinsatz","Datumsangabe vom ersten und letzten Tag der Medikamentengabe."]
[null,null,null,null,null,"Wirkdauer","Angabe der Tagesanzahl an der die Arzneimittel gewirkt haben (ggf. Information vom Tierarzt erfragen)."]
[null,null,null,null,null,"Arzneimittel/Präparat","Angabe der verabreichten Einzel- oder Kombinationspräparate."]
[null,null,null,null,null,"Wirkstoffe","Angabe der im jeweiligen Arzneimittel enthaltenen Wirkstoffe."]
[null,null,null,null,null,"Behandelte Tiere","Anzahl der von der Medikation betroffenen Tiere."]
[null,null,null,null,null,"Behandlungseinheit","Dies ist ein automatisch errechneter Wert je Arzneimittelverabreichung. Der Wert wird ermittelt anhand Ihrer Angaben von Wirktage, Anzahl Wirkstoffe und Anzahl behandelter Tiere („Tierschutzindikatoren: Leitfaden für die Praxis - Geflügel\" Seite 24). "]
[null,null,null,null,null,"Therapieindex","Berechnung des Therapieindex anhand der Behandlungseinheiten eines Durchgangs („Tierschutzindikatoren: Leitfaden für die Praxis - Geflügel\" Seite 24)."]
[]
["GF_GW|GF_HENNE|"]
[null,null,"Hilfeseite „Fortlaufende Erhebungen: Tiergewichte/Uniformität\""]
[null,null,null,null,null,null,"Falls Sie in Ihrem Stall automatische Waagen nutzen oder Ihre Tiere wöchentlich manuell wiegen, können Sie in diesem Formular die Ergebnisse für Sollgewichtserfüllung und Uniformität dokumentieren („Tierschutzindikatoren: Leitfaden für die Praxis - Geflügel\" Seite 12). Ihre Eintragungen zu den Tiergewichten machen Sie im weiß hinterlegten Bereich. In jedem Formular können bis zu 24 Lebenswochen eingetragen werden. Im grün hinterlegten Bereich erscheinen die automatisch berechneten Ergebnisse der Tierschutzindikatoren aus den eingetragenen Werten. Dies wird im Ausdruck nicht angezeigt. Die relevanten Ergebnisse aus diesem Formular werden automatisch auf die Seite „Ergebnisse\" übertragen."]
[null,null,null,null,null,"Begriff im Formular","Erläuterung"]
[null,null,null,null,null,"Speichern und schließen","Speichert die eingegebenen Werte einer Erhebung und schließt das Formular. Dabei wird automatisch die ganze Datei gespeichert. Zusätzlich sollten Sie Sicherheitskopien Ihrer Datei anlegen."]
[null,null,null,null,null,"Sollgewicht","Das Sollgewicht für die jeweilige Lebenswoche entnehmen Sie bitte den Informationsblättern der Zuchtunternehmen. Für jede Genetik werden darin die zum jeweiligen Erhebungszeitraum erwartbaren Sollgewichte der Jung- bzw. Legehennen ausgewiesen."]
[null,null,null,null,null,"Tier","In jeder Stichprobe müssen unabhängig von der Herdengröße 50 Jung- bzw. Legehennen bonitiert werden. Die Stichprobenziehung sollte dabei repräsentativ erfolgen, d. h. die Tiere müssen möglichst gleichmäßig aus allen Ställen bzw. Abteilen entnommen werden."]
[null,null,null,null,null,"Stall","Falls Sie die Herde in mehreren Ställen halten, können Sie hier die Stallnummer eintragen."]
[null,null,null,null,null,"Abteil","Falls Sie die Herde in mehreren Abteilen halten, können Sie hier die Abteilnummer eintragen."]
[null,null,null,null,null,"Gewicht","Hier werden die Ergebnisse für den Tierschutzindikator „Tiergewicht\" eingetragen. Die Angabe des Gewichts erfolgt in der Einheit Gramm (ohne Nachkommastelle)."]
[null,null,null,null,null,"Direkteingabe","Zur direkten Eingabe der Gewichte über alle beurteilten Tiere einer Stichprobe. Falls Sie eine Waage mit automatischer Anzeige von Durchschnittsgewicht und Uniformität nutzen, können Sie hier die bereits berechneten Werte eingeben."]
[null,null,null,null,null,"Uniformität","Dieser Indikator zeigt an, ob die Herde gleichmäßig wächst oder die Einzeltiere sich in der Gewichtsentwicklung unterscheiden. Angegeben wird der Anteil an Tieren, die höchstens 10 % vom Durchschnittsgewicht abweichen (in Prozent)."]
[null,null,null,null,null,"Sollgewichtserfüllung","Dieser Indikator zeigt an, ob das von Zuchtunternehmen angegebene Sollgewicht für die jeweilige Lebenswoche erreicht wurde (in Prozent). Ein Wert unterhalb von 100 %  bedeutet, die Tiere sind zu langsam gewachsen. Ein Wert oberhalb von 100 % bedeutet, die Tiere sind zu schnell gewachsen."]
[null,null,null,null,null,"Zu leichte Tiere","Dieser Indikator zeigt an, wie viele Tiere der Herde zu leicht sind. Angegeben wird der Anteil an Tieren, die das Durchschnittsgewicht der Herde um mehr als 10 % unterschreiten (in Prozent). "]
[null,null,null,null,null,"Monatswerte","Hier werden durchschnittliche Monatsergebnisse für die Tierschutzindikatoren „zu leichte Tiere\", „Uniformität\" und „Sollgewichtserfüllung\" ausgegeben."]
[null,null,null,null,null,"Durchschnittsgewicht","Dieser Wert ist das Durchschnittsgewicht einer Wiegung je Lebenswoche."]
[null,null,null,null,null,"Tiere im Bereich","Dieser Wert ist die Anzahl an Tieren, die im Toleranzbereich von +/- 10 % um das Sollgewicht liegen. "]
[null,null,null,null,null,"Zu leichte Tiere","Dieser Wert zeigt an, ob Tiere der Stichprobe zu leicht sind. Errechnet wird der Anteil (in Prozent) an Tieren, die das Durchschnittsgewicht der Stichprobe um mehr als 10 % unterschreiten. "]
[]
["GF_MB|GF_HENNE|"]
[null,null,"Hilfeseite „Fortlaufende Erhebungen: Tierverluste, Wasserverbrauch, Legeleistung und Eiqualität \""]
[null,null,null,null,null,null,"Dieses Formular dient der fortlaufenden Dokumentation der Tierschutzindikatoren „Tierverluste\", „Wasserverbrauch\" und „Legeleistung und Eiqualität\". Sie wählen die jeweiligen Formulare aus, indem Sie auf den entsprechenden Kreis klicken (◉: das Formular ist ausgewählt, ○: das Formular ist nicht ausgewählt). Ihre Eintragungen zu den Tierschutzindikatoren machen Sie im weiß hinterlegten Bereich. Im grün hinterlegten Bereich erscheinen die automatisch berechneten Ergebnisse der Tierschutzindikatoren aus den eingetragenen Werten. Dies wird im Ausdruck nicht angezeigt. Die relevanten Ergebnisse aus diesem Formular werden automatisch auf die Seite „Ergebnisse\" übertragen."]
[null,null,null,null,null,"Begriff im Formular","Erläuterung"]
[null,null,null,null,null,"Speichern und schließen","Speichert die eingegebenen Werte einer Erhebung und schließt das Formular. Dabei wird automatisch die ganze Datei gespeichert. Zusätzlich sollten Sie Sicherheitskopien Ihrer Datei anlegen."]
[null,null,null,null,null,"Tag","Hiermit ist der jeweilige Tag im Betrieb gemeint. Junghennenhalter: Tag 1 = Einstallung der Küken; Legehennenhalter: Tag 1 = Einstallung der Junghennen."]
[null,null,null,null,null,"Zahl eingestallter Tiere","Diese Zahl entspricht der Herdengröße am Tag der Einstallung. Sie wird direkt aus dem Formular „Erhebung Übersicht\" übernommen und braucht deshalb hier nicht manuell eingetragen werden. Die Zahl eingestallter Tiere dient als Bezugsgröße für die Tierverluste."]
[null,null,null,null,null,"Anzahl anwesende Legehennen","Diese Zahl berechnet sich aus der Herdengröße am Tag der Einstallung abzüglich der bis zum jeweiligen Zeitpunkt dokumentierten Tierverluste. Tragen Sie in dieses Feld bitte die Anzahl Tiere zum Ende des Vormonats ein. Beachten Sie, dass Sie für den 2. Lebensmonat ein neues Formular nutzen müssen. Die Zahl anwesender Legehennen dient als Bezugsgröße für den Wasserverbrauch und die Legeleistung. "]
[null,null,null,null,null,"Tierverluste","Hier werden täglich die Anzahl der im Stall verendeten Tiere – getrennt nach Ursache – dokumentiert, siehe „Tierschutzindikatoren: Leitfaden für die Praxis - Geflügel\" Seite 11. "]
[null,null,null,null,null,"Ergebnisse [Verluste]","In dieser Zeile werden Summen über den Zeitraum von einer Erhebungswoche automatisch errechnet. Bezugswert ist die Herdengröße bei der Einstallung (Zahl eingestallter Tiere).  "]
[null,null,null,null,null,"Startwert Zähler","Hier werden für jeden Wasserzähler separat die Zählerstände am Tag vor der Einstallung der Tiere notiert. "]
[null,null,null,null,null,"Zählerstand","Hier werden täglich für jeden Wasserzähler separat die aktuellen Zählerstände eingetragen (in Kubikmetern). Bitte beachten Sie, dass übersprungene Eingabefelder automatisch mit einem interpolierten Wert ausgefüllt werden. "]
[null,null,null,null,null,"Direkteingabe Wasserverbrauch (Liter)","Falls  z. B. in Mobilställen kein Wasserzähler vorhanden ist, können Sie hier die geschätzte Menge eintragen. Bitte beachten Sie, dass Sie bei der Direkteingabe einen täglichen Wasserverbrauch eingeben müssen. Falls Sie einen Wasserverbrauch über einen Zeitraum eingeben wollen, müssen Sie die Wassermenge durch die Anzahl Tage teilen und den Wert für jeden Tag einzeln eintragen. Beispiel: Sie haben einen Wasserverbrauch von 400 Liter über den Zeitraum von 4 Tagen gemessen. Somit wurden jeden Tag 100 Liter Wasser verbraucht. 100 Liter muss nun für jeden der 4 Tage eingetragen werden."]
[null,null,null,null,null,"Ergebnisse [Wasser]","In dieser Zeile werden Summen über den Zeitraum von einer Erhebungswoche automatisch errechnet. Bezugswert ist die Anzahl anwesender Legehennen in der jeweiligen Woche."]
[null,null,null,null,null,"Eier (Anzahl)","Hier wird die täglich von den Legehennen der Herde produzierte Gesamtanzahl Eier eingetragen."]
[null,null,null,null,null,"Legeleistung","Die Legeleistung berechnet sich aus der Gesamtanzahl Eier geteilt durch die Zahl anwesender Legehennen, siehe „Tierschutzindikatoren: Leitfaden für die Praxis - Geflügel\" Seite 13."]
[null,null,null,null,null,"Eiqualität","Hier wird täglich die Anzahl der nicht verkaufsfähigen Eier – getrennt nach Ursache – dokumentiert, „Tierschutzindikatoren: Leitfaden für die Praxis - Geflügel\" Seite 14. "]
[null,null,null,null,null,"Sekundaeier (Anzahl)","Dieser Wert entspricht der täglichen Gesamtmenge nicht verkaufsfähiger Eier (Anzahl)"]
[null,null,null,null,null,"Sekundaeier (Prozent)","Dieser Wert entspricht der täglichen Gesamtmenge nicht verkaufsfähiger Eier (Prozent)"]
[null,null,null,null,null,"Ergebnisse [Eier]","In dieser Zeile werden Summen über den Zeitraum von einer Erhebungswoche automatisch errechnet. Bezugswert ist die in der jeweiligen Woche von den Legehennen produzierte Gesamtanzahl Eier."]
[]
["GF_SB|GF_HENNE|"]
[null,null,"Hilfeseite „Fortlaufende Erhebungen: Schlachthofindikatoren\""]
[null,null,null,null,null,null,"Hier tragen Sie die standardmäßig vom Schlachthof zurückgemeldeten bestandsbezogenen Indikatoren für Ihre Legehennen ein. Falls Ihr Schlachthof nur eine Gesamtanzahl nicht schlachtfähiger und genussuntauglicher Tiere angibt, bitten Sie zukünftig um eine Aufschlüsselung der Verwurfursachen. Ihre Eintragungen zu den Tierschutzindikatoren machen Sie im weiß hinterlegten Bereich. Im grün hinterlegten Bereich erscheinen die automatisch berechneten Ergebnisse der Tierschutzindikatoren aus den eingetragenen Werten. Dies wird im Ausdruck nicht angezeigt. Die relevanten Ergebnisse aus diesem Formular werden automatisch auf die Seite „Ergebnisse\" übertragen. \nAlle rot eingefärbten Felder müssen dringend ausgefüllt werden, da die eingegebenen Werte der Identifikation der Herde dienen bzw. für die weitere Berechnung verwendet werden."]
[null,null,null,null,null,"Begriff im Formular","Erläuterung"]
[null,null,null,null,null,"Speichern und schließen","Speichert die eingegebenen Werte einer Erhebung und schließt das Formular. Dabei wird automatisch die ganze Datei gespeichert. Zusätzlich sollten Sie Sicherheitskopien Ihrer Datei anlegen."]
[null,null,null,null,null,"Ausstallung am ","Hier tragen Sie das Datum ein, an dem die Herde zur Schlachtung ausgestallt wurde."]
[null,null,null,null,null,"Gesamtanzahl Tiere","Die „Gesamtanzahl der angelieferten Tiere\" entnehmen Sie bitte der Schlachthofauswertung, siehe „Tierschutzindikatoren: Leitfaden für die Praxis – Geflügel\" Seite 25."]
[null,null,null,null,null,"Durchschnittliches Tiergewicht","Das „durchschnittliche Tiergewicht\" entnehmen Sie bitte der Schlachthofauswertung, siehe „Tierschutzindikatoren: Leitfaden für die Praxis – Geflügel\" Seite 26."]
[null,null,null,null,null,"Verletzt angelieferte Tiere","In der Schlachthofauswertung z. T. auch als „Fangfehler\" oder „Fangschäden\" aufgelistet, siehe „Tierschutzindikatoren: Leitfaden für die Praxis – Geflügel\" Seite 25."]
[null,null,null,null,null,"Tot angelieferte Tiere","In der Schlachthofauswertung z. T. auch als „Transporttote\" oder „Federtote\" aufgelistet, siehe „Tierschutzindikatoren: Leitfaden für die Praxis – Geflügel\" Seite 25."]
[null,null,null,null,null,"Verwürfe","Anzahl bzw. Anteil nicht schlachtfähiger und genussuntauglicher Tiere (nach Ursachen getrennt), siehe „Tierschutzindikatoren: Leitfaden für die Praxis – Geflügel\" Seite 27."]
[]
["GF_ERGEBNISSE|ERGEBNISSE|GF_HENNE"]
[null,null,"Hilfeseite „Ergebnisse Übersicht\""]
[null,null,null,null,null,null,"Die Ergebnisseite ist eine Übersichtsseite mit allen relevanten Ergebnissen eines Durchgangs. Dafür werden für jeden Tierschutzindikator die relevanten Ergebnisse aus den von Ihnen eingegebenen Daten aus den jeweiligen Formularen generiert. Sie können sich diese Ergebnisseite ausdrucken und in Ihren Unterlagen abheften. Sobald auch Ergebnisseiten aus Folgeerhebungen vorliegen, können Sie anhand dieser Übersichtsseiten den zeitlichen Verlauf der Indikatorausprägungen gut nachvollziehen."]
[null,null,null,null,null,"Begriff im Formular","Erläuterung"]
[null,null,null,null,null,"Erhebung auswählen","Wählen Sie die Erhebung aus, für die Sie die Ergebnisse betrachten wollen."]
[null,null,null,null,null,"auswerten …","Damit aktualisieren Sie die Seite „Ergebnisse Übersicht\" des von Ihnen ausgewählten Durchgangs."]
[null,null,null,null,null,"Ergebnisse","Die gemäß Leitfaden relevanten Ergebnisse für jeden Tierschutzindikator, jeweils in der angegebenen Einheit."]
[null,null,null,null,null,"Stichproben","Hier sind jeweils nur die tierschutzrelevanten Boniturwerte [1, 2] aus den verschiedenen Stichproben dargestellt. Bei den dunkel eingefärbten Zellen ist die Bonitur des Indikators nicht vorgesehen."]
[null,null,null,null,null,"Fortlaufende Erhebungen","Hier werden jeweils die Monatsmittelwerte der fortlaufend erhobenen Tierschutzindikatoren „Tierverluste\", „Wasserverbrauch\", „Legeleistung und Eiqualität\" und „Tiergewichte/Uniformität\" dargestellt."]
[null,null,null,null,null,"Summe Durchgang","Hier finden Sie die addierte monatliche Mortalitätsrate für den gesamten Durchgang. Diese ist sowohl angegeben für die Gesamtverluste, als auch für die einzelnen Verlustursachen."]
[null,null,null,null,null,"Mittelwert Durchgang","Hier finden Sie die monatlichen Durchschnittswerte über den gesamten Durchgang für die Tierschutzindikatoren „Tiergewichte/Uniformität\", „Legeleistung und Eiqualität\" sowie „Wasserverbrauch\"."]
[null,null,null,null,null,"Abschlusserhebungen","Hier werden jeweils die Ergebnisse der Schlachthofindikatoren „Gewicht bei Schlachtung\", „Verletzte und tot angelieferte Tiere\" und „Verwürfe und Ursachen\" dargestellt. Zusätzlich erfolgt an dieser Stelle die Angabe des Arzneimitteleinsatzes, da dieser erst nach Ende des Durchgangs sinnvoll ausgewertet werden kann."]
[]
["GF_SP|GF_HUHN|"]
[null,null,"Hilfeseite „Stichprobe: Tierbeurteilung\""]
[null,null,null,null,null,null,"Hier dokumentieren Sie die Tierschutzindikatoren, die Sie bei Ihren Masthühnern an einer Stichprobe erfassen. In Abhängigkeit der jeweiligen Lebenswoche sind unterschiedlich viele Tierschutzindikatoren zu erheben („Tierschutzindikatoren: Leitfaden für die Praxis - Geflügel\" Seite 28). Ihre Eintragungen zu den Tierbeurteilungen machen Sie im weiß hinterlegten Bereich. Sie haben dabei die Möglichkeit, die Tierbeurteilung für die Tiere der Stichprobe einzeln zu notieren (Tiernummer 1 bis 50) und sich die Summen errechnen zu lassen. Alternativ können Sie unter „Direkteingabe\" nur die bereits summierten Werte aller Tiere einer Stichprobe direkt eingeben. Am unteren Ende der Seite im grün hinterlegten Bereich erscheinen die automatisch berechneten Ergebnisse aus den eingetragenen Boniturnoten. Auf dem Ausdruck dieser Seite erscheint der Ergebnisbereich nicht.  Die Ergebnisse aus diesem Formular werden automatisch auf die Seite „Ergebnisse\" übertragen."]
[null,null,null,null,null,"Begriff im Formular","Erläuterung"]
[null,null,null,null,null,"Speichern und schließen","Speichert die eingegebenen Werte einer Erhebung und schließt das Formular. Dabei wird automatisch die ganze Datei gespeichert. Zusätzlich sollten Sie Sicherheitskopien Ihrer Datei anlegen."]
[null,null,null,null,null,"Tierummer","Eine Tiernummer steht für ein zu bonitierendes Tier. In jeder Stichprobe müssen unabhängig von der Herdengröße 50 Masthühner bonitiert werden. Bitte denken Sie daran, dass die Stichproben möglichst gleichmäßig aus allen Ställen bzw. Stallbereichen entnommen werden sollen."]
[null,null,null,null,null,"Stallbezeichnung","Falls Sie Ihre Herde in mehreren Ställen halten, können Sie hier die zugehörige Stallbezeichnung eintragen."]
[null,null,null,null,null,"Fußballenveränderungen","Hier werden die Boniturnoten für den Tierschutzindikator „Fußballenveränderungen\" eingetragen. In den eckigen Klammern stehen die jeweils möglichen Boniturstufen [0, 1] bei der Erhebung in der 2. Lebenswoche, siehe „Tierschutzindikatoren: Leitfaden für die Praxis - Geflügel\" Geflügel Seite 32. Falls hinsichtlich Fußballenveränderung durch den Schlachthof keine Rückmeldung erfolgt, sollte alternativ eine Fußballenbonitur mit den Boniturstufen [0, 1, 2] in der letzten Lebenswoche erfolgen, siehe „Tierschutzindikatoren: Leitfaden für die Praxis - Geflügel\" Seite 33."]
[null,null,null,null,null,"Lahmheit","Hier werden die Boniturnoten für den Tierschutzindikator „Lahmheit\" eingetragen, siehe „Tierschutzindikatoren: Leitfaden für die Praxis - Geflügel\" Seite 34. In den eckigen Klammern stehen die jeweils möglichen Boniturstufen [0, 1]."]
[null,null,null,null,null,"Direkteingabe","Diese Eingabemöglichkeit dient der direkten Angabe der Summe von Boniturwerten über alle beurteilten Tiere der Stichprobe. "]
[null,null,null,null,null,"Ergebnisse","In diesem Bereich werden die Ergebnisse der Tierbeurteilung je Tierschutzindikator und verwendeten Boniturnoten als Anzahl und Prozentangabe ausgegeben. "]
[]
["GF_ERHEBUNGEN|ERHEBUNGEN|GF_HUHN"]
[null,null,"Hilfeseite „Erhebungen Übersicht\" "]
[null,null,null,null,null,null,"Auf dieser Übersichtsseite mit der Registerbezeichnung „Erhebungen\" haben Sie alle Datenerhebungen eines Erhebungszeitraums, also eines gesamten Durchgangs, mit den zugehörigen Formularen zusammen im Blick. Für jeden Durchgang können Sie einen mittelblau hinterlegten „Block\" mit Formularen anlegen und/oder weiterbearbeiten. Angezeigt wird jeweils nur ein Block, auch wenn Sie ggf. schon mehrere Blöcke angelegt haben. Ein Teil der Indikatoren soll wiederholt an einer ausgewählten „Stichprobe\" von Tieren erhoben werden. Außerdem gibt es ein Formular für „Fortlaufende Erhebungen\", die über den gesamten Durchgang ausgefüllt werden sollte, sowie „Abschlusserhebungen\", die am Ende des Durchgangs ausgewertet werden. \nAlle rot eingefärbten Felder müssen dringend ausgefüllt werden, da die eingegebenen Werte der Identifikation der Herde dienen bzw. für die weitere Berechnung verwendet werden."]
[null,null,null,null,null,"Begriff im Formular","Erläuterung"]
[null,null,null,null,null,"Neue Erhebung hinzufügen","Fügt eine neue Erhebung für eine Produktionsrichtung ein. Klicken Sie auf die Produktionsrichtung, für die Sie eine Erhebung einfügen möchten. Es öffnet sich eine Dialogbox. Um die neue Erhebung einzufügen, klicken Sie auf „Ja\"."]
[null,null,null,null,null,"Erhebung auswählen","Die hinzugefügten Erhebungen erscheinen in einer Drop-down-Liste. Um die Erhebungen in der Liste anzusehen, klicken Sie auf den Pfeil am rechten Rand der Drop-down-Liste. Wenn Sie eine bestimmte Erhebung ausgewählt haben, klicken Sie auf „anzeigen\"."]
[null,null,null,null,null,"Betriebs-ID","Hier steht die von Ihnen in „Allgemeine Betriebsdaten\" eingegebene Betriebs-ID, andernfalls Ihr Name."]
[null,null,null,null,null,"Erhebung löschen","Löscht den angezeigten Erhebungsblock und damit die gespeicherten Daten aller im Hintergrund dieses Erhebungsblocks abgelegten Formulare. Drücken Sie diesen Link nicht, wenn Sie nur die Daten aus einem Formular löschen möchten."]
[null,null,null,null,null,"Erhebung drucken ...","Hier werden Sie gefragt, welche Seiten gedruckt werden sollen: Die gerade angezeigte Seite \"Erhebungen Übersicht\", die zu Gruppen zusammengefassten Eingabeformulare (die mit \"ausfüllen\" angesteuert werden) oder die Seite \"Ergebnisse Übersicht\" des angezeigten Erhebungsblocks, mit allen bis dahin von Ihnen eingegebenen Daten. Falls Sie nur einzelne Eingabeformulare ausdrucken möchten, nutzen Sie bitte die normale Excel Seiten-Druckfunktion."]
[null,null,null,null,null,"Durchgang","Dieses Feld ist rot hinterlegt, da hier eine Eingabe dringend erfolgen sollte. Hier kann die jeweilige Durchgangsnummer eingetragen werden. Dabei können Sie frei auswählen, ob Sie die Liste von Durchgängen auf Ihrem Betrieb weiterführen (Nr. xx) oder die Nummerierung der Durchgänge mit betrieblicher Eigenkontrolle von vorne beginnen (Nr. 01)."]
[null,null,null,null,null,"Herdengröße","Dieses Feld ist rot hinterlegt, da hier eine Eingabe dringend erfolgen sollte. In diesem Feld soll die Herdengröße zum Einstallungstermin eingetragen werden. "]
[null,null,null,null,null,"Stall/Herde","Falls Sie auf der Seite „Allgemeine Betriebsdaten\" verschiedene Ställe/Herden eingegeben haben, erscheinen diese in einer Drop-down-Liste. Um die jeweiligen Ställe/Herden in der Liste auszuwählen, klicken Sie auf den Pfeil am rechten Rand der Drop-down-Liste und wählen Sie einen der Ställe/Herden aus."]
[null,null,null,null,null,"Schlupfdatum","Dieses Feld ist rot hinterlegt, da eine Eingabe dringend erfolgen sollte. Zur exakten Identifizierung der Herde wird hier das Schlupfdatum der Tiere eingetragen. "]
[null,null,null,null,null,"Einstalldatum","Hiermit ist das Einstalldatum auf Ihrem Betrieb gemeint. "]
[null,null,null,null,null,"Stichproben","Unter dieser Überschrift finden Sie die Formulare für die Indikatoren, die im Erhebungszeitraum mehrfach zu bestimmten Lebensabschnitten (z. B.: LW 2 = Lebenswoche 2) an einer Stichprobe von Tieren erhoben werden. Um ein Formular für die jeweilige Lebenswoche zu öffnen, klicken Sie \"ausfüllen ...\". "]
[null,null,null,null,null,"Datum","Hier tragen Sie das Datum ein, an dem Sie das Formular ausgefüllt haben bzw. bei der Fortlaufenden Erhebung mit dem Erfassen begonnen haben."]
[null,null,null,null,null,"Fortlaufende Erhebungen","Enthält die Formulare für die Indikatoren, die im Erhebungszeitraum kontinuierlich am gesamten Bestand erhoben werden. Um ein Formular zu öffnen, klicken Sie „ausfüllen ...\"."]
[null,null,null,null,null,"Weiteren Monat hinzufügen …","Fügt ein neues Formular „Verluste, Wasser - x. Monat\" für einen weiteren Monat hinzu."]
[null,null,null,null,null,"Abschlusserhebungen","Enthält die Formulare für die Indikatoren, die Sie am Ende des Durchgangs aus den Unterlagen vom Schlachthof übertragen können. Um ein Formular zu öffnen, klicken Sie „ausfüllen ...\"."]
[]
["ET_AZ|GF_HUHN|"]
[null,null,"Hilfeseite „Fortlaufende Erhebungen: Arzneimitteleinsatz\""]
[null,null,null,null,null,null,"Hier tragen Sie alle Einsätze von Antibiotika und anderen verschreibungspflichtigen Arzneimitteln bei Ihrer Herde ein. Die jeweiligen Behandlungseinheiten des Durchgangs werden in einem Therapieindex für die gesamte Herde zusammengefasst („Tierschutzindikatoren: Leitfaden für die Praxis - Geflügel\" Seite 35). Im grün hinterlegten Bereich erscheint automatisch berechnet der Therapieindex aus den Angaben für den Arzneimitteleinsatz. Dieser Bereich wird im Ausdruck nicht angezeigt. Der Therapieindex aus diesem Formular wird automatisch auf die Seite „Ergebnisse\" übertragen."]
[null,null,null,null,null,"Begriff im Formular","Erläuterung"]
[null,null,null,null,null,"Speichern und schließen","Speichert die eingegebenen Werte einer Erhebung und schließt das Formular. Dabei wird automatisch die ganze Datei gespeichert. Zusätzlich sollten Sie Sicherheitskopien Ihrer Datei anlegen."]
[null,null,null,null,null,"Nummer","Diese fortlaufende Nummer steht für eine Verabreichung von verschreibungspflichtigen Arzneimitteln im jeweiligen Durchgang. Eine Verabreichung kann mehrere Präparate umfassen, z. B. die Gabe von Schmerzmittel und Antibiotika aufgrund einer Erkrankung."]
[null,null,null,null,null,"Lebenswoche","Angabe der Lebenswoche in der verschreibungspflichtige Arzneimittel verabreicht wurden."]
[null,null,null,null,null,"Zeitraum Arzneimitteleinsatz","Datumsangabe vom ersten und letzten Tag der Medikamentengabe."]
[null,null,null,null,null,"Wirkdauer","Angabe der Tagesanzahl an der die Arzneimittel gewirkt haben (ggf. Information vom Tierarzt erfragen)."]
[null,null,null,null,null,"Arzneimittel/Präparat","Angabe der verabreichten Einzel- oder Kombinationspräparate."]
[null,null,null,null,null,"Wirkstoffe","Angabe der im jeweiligen Arzneimittel enthaltenen Wirkstoffe."]
[null,null,null,null,null,"Behandelte Tiere","Anzahl der von der Medikation betroffenen Masthühner."]
[null,null,null,null,null,"Behandlungseinheit","Dies ist ein automatisch errechneter Wert je Arzneimittelverabreichung. Der Wert wird ermittelt anhand Ihrer Angaben von Wirktage, Anzahl Wirkstoffe und Anzahl behandelter Tiere („Tierschutzindikatoren: Leitfaden für die Praxis - Geflügel\" Seite 35). "]
[null,null,null,null,null,"Therapieindex","Berechnung des Therapieindex anhand der Behandlungseinheiten eines Durchgangs („Tierschutzindikatoren: Leitfaden für die Praxis - Geflügel\" Seite 35)."]
[]
["GF_GW|GF_HUHN|"]
[null,null,"Hilfeseite „Fortlaufende Erhebungen: Tiergewichte/Uniformität\""]
[null,null,null,null,null,null,"Falls Sie in Ihrem Stall automatische Waagen nutzen oder Ihre Tiere je Futterphasenwechsel manuell wiegen, können Sie in diesem Formular die Gewichte oder Ergebnisse für Sollgewichtserfüllung und Uniformität dokumentieren, „Tierschutzindikatoren: Leitfaden für die Praxis - Geflügel\" Seite 30. Ihre Eintragungen zu den Tiergewichten machen Sie im weiß hinterlegten Bereich. Im Formular können Tiergewichte von bis zu 5 Futterphasenwechsel eingetragen werden. Im grün hinterlegten Bereich erscheinen die automatisch berechneten Ergebnisse. Dieser Abschnitt wird im Ausdruck nicht angezeigt. Die Ergebnisse aus diesem Formular werden automatisch auf die Seite „Ergebnisse\" übertragen."]
[null,null,null,null,null,"Begriff im Formular","Erläuterung"]
[null,null,null,null,null,"Speichern und schließen","Speichert die eingegebenen Werte einer Erhebung und schließt das Formular. Dabei wird automatisch die ganze Datei gespeichert. Zusätzlich sollten Sie Sicherheitskopien Ihrer Datei anlegen."]
[null,null,null,null,null,"Tiernummer","Eine Tiernummer steht für ein zu bonitierendes Tier. Bei jeder manuellen Wiegung müssen unabhängig von der Herdengröße 50 Masthühner gewogen werden. Bitte denken Sie daran, dass ab der 4. Lebenswoche 25 Tiere je Geschlecht gewogen werden sollte. Es ist darauf zu achten die Stichproben möglichst gleichmäßig aus allen Ställen zu entnehmen."]
[null,null,null,null,null,"Stall","Falls Sie Ihre Herde in mehreren Ställen halten, können Sie hier die Stallbezeichnung eintragen."]
[null,null,null,null,null,"Geschlecht","In dieser Spalte können Sie sich je Tier das Geschlecht notieren. Bitte denken Sie daran, dass ab der 4. Lebenswoche 25 Tiere je Geschlecht gewogen werden sollte."]
[null,null,null,null,null,"Sollgewicht","In diese Felder tragen Sie das von den Zuchtfirmen vorgegebene Sollgewicht ein. Da die Wiegungen je Futterphasenwechsel erfolgen, ist das Sollgewicht für das Alter Ihrer Tiere bei Futterwechsel einzugeben. "]
[null,null,null,null,null,"Gewicht","Hier werden die Gewichte der Tiere für den Tierschutzindikator „Tiergewicht\" eingetragen. Die Angabe des Gewichts erfolgt in der Einheit Gramm (ohne Nachkommastelle)."]
[null,null,null,null,null,"Direkteingabe","Zur direkten Eingabe von Uniformität und Sollgewichtserfüllung über alle gewogenen Tiere zum Futterphasenwechsel, falls Sie eine Waage mit automatischer Berechnung besitzen. "]
[null,null,null,null,null,"Uniformität","Dieser Wert zeigt an, ob die Herde gleichmäßig wächst oder sich die Tiere in der Gewichtsentwicklung unterscheiden. Die Uniformität errechnet den Anteil (in Prozent) an Tieren, die höchstens 10 % vom Durchschnittsgewicht der gewogenen Tiere abweichen."]
[null,null,null,null,null,"Sollgewichtserfüllung","Dieser Wert zeigt in Prozent an, ob das von Zuchtunternehmen angegebene Sollgewicht für die jeweilige Lebenswoche erreicht wurde. Ein Wert unterhalb von 100 %  bedeutet die Tiere sind zu langsam gewachsen. Ein Wert oberhalb von 100 % bedeutet die Tiere sind zu schnell gewachsen."]
[null,null,null,null,null,"Durchschnittsgewicht","Dieser Wert ist das Durchschnittsgewicht einer Wiegung je Futterphasenwechsel."]
[null,null,null,null,null,"Tiere im Bereich","Dieser Wert ist die Anzahl an Tieren, die im Toleranzbereich von +/- 10 % um das Sollgewicht liegen. "]
[null,null,null,null,null,"Zu leichte Tiere","Dieser Wert zeigt an, ob Tiere der Stichprobe zu leicht sind. Errechnet wird der Anteil (in Prozent) an Tieren, die das Durchschnittsgewicht der Stichprobe um mehr als 10 % unterschreiten. "]
[]
["GF_MB|GF_HUHN|MH_TV"]
[null,null,"Hilfeseite „Fortlaufende Erhebungen: Tierverluste\""]
[null,null,null,null,null,null,"Dieses Formular dient der fortlaufenden Dokumentation der Tierschutzindikatoren „Tierverluste\", „Lahmheit\" (Separierung von lahmen Masthühnern) und „Wasserverbrauch\". Sie wählen die jeweiligen Formulare aus, indem Sie unter dem Seitenkopf auf den entsprechenden Kreisbutton klicken (◉: das Formular ist ausgewählt, ○: das Formular ist nicht ausgewählt). Ihre Eintragungen zu den Tierschutzindikatoren machen Sie im weiß hinterlegten Bereich. Die Eingaben zur Separierung werden im Formular „Verluste\" gemacht. Im grün hinterlegten Bereich erscheinen die automatisch berechneten Ergebnisse aus den eingetragenen Werten. Dieser Bereich wird im Ausdruck nicht angezeigt. Die Ergebnisse aus diesem Formular werden automatisch auf die Seite „Ergebnisse\" übertragen. \nRot eingefärbte Felder müssen dringend ausgefüllt werden, da der eingegebene Wert für die weitere Berechnung verwendet wird."]
[null,null,null,null,null,"Begriff im Formular","Erläuterung"]
[null,null,null,null,null,"Speichern und schließen","Speichert die eingegebenen Werte einer Erhebung und schließt das Formular. Dabei wird automatisch die ganze Datei gespeichert. Zusätzlich sollten Sie Sicherheitskopien Ihrer Datei anlegen."]
[null,null,null,null,null,"Herdengröße (Einstallung)","Die Anzahl der Masthühner bei Einstallung im Seitenkopf entspricht Ihren Angaben aus dem Reiter „Erhebungen Übersicht\"."]
[null,null,null,null,null,"Anfangsbestand","Die Anzahl der Masthühner bei Start der Erhebung ist in die rote Zelle einzugeben. Von dieser Tierzahl werden die im Formular eingetragenen Verluste abgezogen. Der Anfangsbestand ist nur im ersten Monat  identisch mit der Herdengröße (Einstallung). Beachten Sie, dass Sie für den 2. Lebensmonat ein neues Formular nutzen müssen. Tragen Sie die zuletzt berechnete Anzahl anwesender Masthühner in die Zelle des Anfangsbestands des 2. Formulars ein.   "]
[null,null,null,null,null,"Anzahl anwesender Masthühner","Diese Zahl berechnet sich aus dem Anfangsbestand am Tag der Einstallung abzüglich der bis zum jeweiligen Zeitpunkt dokumentierten Tierverluste. Die Zahl anwesender Masthühner dient als Bezugsgröße für die tägliche Berechnung der Mortalitätsrate. "]
[null,null,null,null,null,"Tagnummer","Dies kennzeichnet den jeweilige Tag im Betrieb. Tag 1 = Einstallung der Küken."]
[null,null,null,null,null,"Tierverluste","Hier werden täglich die Anzahl der verendeten Tiere - getrennt nach Ursache - dokumentiert, siehe „Tierschutzindikatoren: Leitfaden für die Praxis – Geflügel\" Seite 29. Bitte geben Sie auch Verluste von zuvor separierten Tieren an.  "]
[null,null,null,null,null,"Gesamtverluste ","Dieser automatisch berechnete Wert gibt die Anzahl und den dazu gehörigen Anteil (in Prozent) an verendeten Tieren pro Tag an. Der Wert bezieht sich auf die Anzahl an diesem Tag anwesender Masthühner. "]
[null,null,null,null,null,"Verluste nach Ursachen","In diesem Bereich werden für jeden Tag die Mortalitätsraten (in Prozent) je Ursache aufgeführt. Bezugswert ist die Anzahl der an diesem Tag anwesenden Masthühner.  "]
[null,null,null,null,null,"Separierung","In dieser Spalte wird die Anzahl an Masthühnern erfasst, die an diesem Tag aufgrund von Lahmheit separiert wurden, siehe „Tierschutzindikatoren: Leitfaden für die Praxis – Geflügel\" Seite 34. Diese Tiere sind weiterhin in der Anzahl anwesender Masthühner enthalten. "]
[]
["GF_MB|GF_HUHN|MH_WV"]
[null,null,"Hilfeseite „Fortlaufende Erhebungen: Wasserverbrauch\""]
[null,null,null,null,null,null,"Dieses Formular dient der fortlaufenden Dokumentation der Tierschutzindikatoren „Tierverluste\" und „Wasserverbrauch\". Sie wählen die jeweiligen Formulare aus, indem Sie unter dem Seitenkopf auf den entsprechenden Kreis klicken (◉: das Formular ist ausgewählt, ○: das Forumlar ist nicht ausgewählt). Ihre Eintragungen zu den Tierschutzindikatoren machen Sie im weiß hinterlegten Bereich. Im grün hinterlegten Bereich erscheinen die automatisch berechneten Ergebnisse aus den eingetragenen Werten. Dieser Bereich wird im Ausdruck nicht angezeigt. Die Ergebnisse aus diesem Formular werden automatisch auf die Seite „Ergebnisse\" übertragen."]
[null,null,null,null,null,"Begriff im Formular","Erläuterung"]
[null,null,null,null,null,"Speichern und schließen","Speichert die eingegebenen Werte einer Erhebung und schließt das Formular. Dabei wird automatisch die ganze Datei gespeichert. Zusätzlich sollten Sie Sicherheitskopien Ihrer Datei anlegen."]
[null,null,null,null,null,"Herdengröße (Einstallung)","Die Anzahl der Masthühner bei Einstallung im Seitenkopf entspricht Ihren Angaben aus dem Reiter „Erhebungen Übersicht\"."]
[null,null,null,null,null,"Anfangsbestand","Die Anzahl der Masthühner bei Start der Erhebung ist in die rot hinterlegte Zelle einzugeben. Von dieser Tierzahl werden die im Formular „Verluste\" eingetragenen verendeten Tiere abgezogen. Der Anfangsbestand ist nur im ersten Monat identisch mit der Herdengröße (Einstallung). Beachten Sie, dass Sie für den 2. Lebensmonat ein neues Formular nutzen müssen. Tragen Sie die zuletzt berechnete Anzahl anwesender Masthühner aus dem 1. Monat in die Zelle des Anfangsbestands des 2. Formulars ein.   "]
[null,null,null,null,null,"Anzahl anwesender Masthühner","Diese Zahl berechnet sich aus dem Anfangsbestand am Tag der Einstallung abzüglich der bis zum jeweiligen Zeitpunkt dokumentierten Tierverluste. Die Zahl anwesender Masthühner dient als Bezugsgröße für den täglichen Wasserverbrauch. "]
[null,null,null,null,null,"Tagnummer","Dies kennzeichnet den jeweilige Tag im Betrieb. Tag 1 = Einstallung der Küken."]
[null,null,null,null,null,"Startwert Zähler","Hier werden für jeden Wasserzähler separat die Zählerstände am Tag vor der Einstallung der Tiere notiert. "]
[null,null,null,null,null,"Zählerstand","Hier werden täglich für jeden Wasserzähler separat die aktuellen Zählerstände eingetragen (in Kubikmetern). Bitte beachten Sie, dass übersprungene Eingabefelder automatisch mit einem interpolierten Wert ausgefüllt werden. "]
[null,null,null,null,null,"Wasserverbrauch (Liter)","Direkteingabemöglichkeit des Wasserverbrauchs pro Tag. Falls z. B. in Mobilställen kein Wasserzähler vorhanden ist, können Sie hier die geschätzte Menge eintragen. Bitte beachten Sie, dass Sie bei der Direkteingabe einen täglichen Wasserverbrauch eingeben müssen. Falls Sie einen Wasserverbrauch über einen Zeitraum eingeben wollen, müssen Sie die Wassermenge durch die Anzahl Tage teilen und den Wert für jeden Tag einzeln eintragen. Beispiel: Sie haben einen Wasserverbrauch von 400 Liter über den Zeitraum von 4 Tagen gemessen. Somit wurden jeden Tag 100 Liter Wasser verbraucht. 100 Liter muss nun für jeden der 4 Tage eingetragen werden. "]
[null,null,null,null,null,"Täglicher Wasserverbrauch","Es wird der tägliche Wasserverbrauch (in Liter) pro Herde und pro 1.000 Tiere errechnet, siehe „Tierschutzindikatoren: Leitfaden für die Praxis - Geflügel\" Seite 31. Die Bezugsgröße ist die Anzahl anwesender Masthühner.    "]
[null,null,null,null,null,"Wasseruhr 1 bis 4","Dieser Wert gibt die Summe des Wasserverbrauchs je Wasseruhr in Kubikmetern an."]
[null,null,null,null,null,"Durchschnittsverbrauch","Es wird der monatliche Durchschnitt des täglichen Wasserverbrauchs errechnet. Der Wasserverbrauch wird in Liter pro Herde und pro 1.000 Tiere ausgegeben.    "]
[]
["GF_SB|GF_HUHN|"]
[null,null,"Hilfeseite „Fortlaufende Erhebungen: Schlachthofindikatoren\" "]
[null,null,null,null,null,null,"Hier tragen Sie die standardmäßig vom Schlachthof zurückgemeldeten bestandsbezogenen Indikatoren für Ihre Mastühner ein. Falls Ihr Schlachthof nur eine Gesamtanzahl nicht schlachtfähiger und genussuntauglicher Tiere angibt, bitten Sie zukünftig um eine Aufschlüsselung der Verwurfursachen. Ihre Eintragungen zu den Tierschutzindikatoren machen Sie im weiß hinterlegten Bereich. Im grün hinterlegten Bereich erscheinen die automatisch berechneten Ergebnisse der Tierschutzindikatoren aus den eingetragenen Werten. Dies wird im Ausdruck nicht angezeigt. Die Ergebnisse aus diesem Formular werden automatisch auf die Seite „Ergebnisse\" übertragen. \nRot eingefärbte Felder müssen dringend ausgefüllt werden, da der eingegebene Wert für die weitere Berechnung verwendet wird."]
[null,null,null,null,null,"Begriff im Formular","Erläuterung"]
[null,null,null,null,null,"Speichern und schließen","Speichert die eingegebenen Werte einer Erhebung und schließt das Formular. Dabei wird automatisch die ganze Datei gespeichert. Zusätzlich sollten Sie Sicherheitskopien Ihrer Datei anlegen."]
[null,null,null,null,null,"Ausstallung am ","Hier tragen Sie das Datum ein, an dem die Herde zur Schlachtung ausgestallt wurde."]
[null,null,null,null,null,"Gesamtanzahl angelieferter Tiere","Dieses Feld ist rot hinterlegt, da hier eine Eingabe dringend erfolgen sollte. Die „Gesamtanzahl der angelieferten Tiere\" entnehmen Sie bitte der Schlachthofauswertung."]
[null,null,null,null,null,"Verletzt angelieferte Tiere","In der Schlachthofauswertung z. T. auch als „Fangfehler\" oder „Fangschäden\" aufgelistet, siehe „Tierschutzindikatoren: Leitfaden für die Praxis - Geflügel\" Seite 36."]
[null,null,null,null,null,"Tot angelieferte Tiere","In der Schlachthofauswertung z. T. auch als „Transporttote\" oder „Federtote\" aufgelistet, siehe „Tierschutzindikatoren: Leitfaden für die Praxis - Geflügel\" Seite 36."]
[null,null,null,null,null,"Verwürfe","Anzahl bzw. Anteil nicht schlachtfähiger und genussuntauglicher Tiere (nach Ursachen getrennt)."]
[null,null,null,null,null,"Schlachtbefunde","Entnehmen Sie bitte Ihrer Schlachthofauswertung, falls enthalten, die Anzahl an Tieren mit tiefer Dermatitis („Tierschutzindikatoren: Leitfaden für die Praxis - Geflügel\" Seite 38), Brusthautveränderung („Tierschutzindikatoren: Leitfaden für die Praxis - Geflügel\"Seite 39) und Fersenhöckerveränderung („Tierschutzindikatoren: Leitfaden für die Praxis - Geflügel\" Seite 40). Wenn Ihr Schlachthof außerdem Rückmeldung zu Fußballenveränderung gibt, dann tragen Sie bitte die Anzahl an Tieren je Boniturnote ein („Tierschutzindikatoren: Leitfaden für die Praxis - Geflügel\" Seite 32-33)."]
[]
["GF_ERGEBNISSE|ERGEBNISSE|GF_HUHN"]
[null,null,"Hilfeseite „Ergebnisse Übersicht\""]
[null,null,null,null,null,null,"Die Ergebnisseite ist eine Übersichtsseite mit allen relevanten Ergebnissen eines Mastdurchgangs. Dafür werden für jeden Tierschutzindikator die Ergebnisse aus den von Ihnen eingegebenen Daten generiert. Sie können sich diese Ergebnisseite ausdrucken und in Ihren Unterlagen abheften. Sobald auch Ergebnisseiten aus Folgeerhebungen vorliegen, können Sie anhand dieser Übersichtsseiten den zeitlichen Verlauf der Indikatorausprägungen gut nachvollziehen. Angezeigt wird jeweils nur eine Ergebnisübersicht, auch wenn Sie ggf. schon mehrere Durchgänge ausgewertet haben."]
[null,null,null,null,null,"Begriff im Formular","Erläuterung"]
[null,null,null,null,null,"Erhebung auswählen","Die Ergebnisübersicht je Durchgang erscheinen in einer Drop-down-Liste. Um die Ergebnisübersicht in der Liste anzusehen, klicken Sie auf den Pfeil am rechten Rand der Drop-down-Liste. Wenn Sie eine bestimmte Ergebnisübersicht ausgewählt haben, klicken Sie auf „anzeigen\". "]
[null,null,null,null,null,"auswerten…","Damit öffnen Sie nicht nur eine zuvor ausgewählte Ergebnisübersicht, sondern Sie können auch nach erneuter Dateneingabe in den Formularen die zuvor ausgewählte Ergebnisübersicht aktualisieren. "]
[null,null,null,null,null,"Ergebnisse","Die gemäß Leitfaden relevanten Ergebnisse für jeden Tierschutzindikator, jeweils in der angegebenen Einheit."]
[null,null,null,null,null,"Stichproben","Hier sind jeweils nur die tierschutzrelevanten Boniturwerte [1, 2] aus den verschiedenen Stichproben Beurteilungen und die Ergebnisse aus der Tierwiegung dargestellt. Bei den dunkel eingefärbten Zellen ist die Bonitur des Indikators nicht vorgesehen. Desweiteren werden die Ergebnisse der Wiegungen je Futterphasenwechsel  angezeigt sowie ein Durchgangsergebnis als Mittelwert dieser Wiegungen. "]
[null,null,null,null,null,"Fortlaufende Erhebungen","Hier werden jeweils die Monatswerte der fortlaufend erhobenen Tierschutzindikatoren „Tierverluste\", „Lahmheit\" (Verluste und Separierung) und „Wasserverbrauch\" dargestellt. Die Durchgangswerte für „Tierverluste\" und „Lahmheit\" werden über den gesamten Durchgang anteilig berechnet. Der Durchgangswert für den „Wasserverbrauch\" stellt eine Mittelwert über den Durchgang dar."]
[null,null,null,null,null,"Abschlusserhebungen","Hier werden jeweils die Ergebnisse der Schlachthofindikatoren „Verletzte und tot angelieferte Tiere\", „Verwürfe und Ursachen\" und „Schlachthofbefunde\" dargestellt. Zusätzlich erfolgt an dieser Stelle die Angabe des Arzneimitteleinsatzes, da dieser erst nach Ende des Durchgangs sinnvoll ausgewertet werden kann."]
[]
["GF_ERHEBUNGEN|ERHEBUNGEN|GF_PUTE"]
[null,null,"Hilfeseite „Erhebungen Übersicht\" "]
[null,null,null,null,null,null,"Auf dieser Übersichtsseite mit der Registerbezeichnung „Erhebungen\" haben Sie alle Datenerhebungen eines Erhebungszeitraums, also eines gesamten Durchgangs, mit den zugehörigen Formularen zusammen im Blick. Für jeden Durchgang können Sie einen mittelblau hinterlegten „Block\" mit Formularen anlegen und/oder weiterbearbeiten. Angezeigt wird jeweils nur ein Block, auch wenn Sie ggf. schon mehrere Blöcke angelegt haben. Ein Teil der Indikatoren soll wiederholt an einer ausgewählten „Stichprobe\" von Tieren erhoben werden. Außerdem gibt es ein Formular für „Fortlaufende Erhebungen\", die über den gesamten Durchgang ausgefüllt werden sollte, sowie „Abschlusserhebungen\", die am Ende des Durchgangs ausgewertet werden. \nAlle rot eingefärbten Felder müssen dringend ausgefüllt werden, da die eingegebenen Werte der Identifikation der Herde dienen bzw. für die weitere Berechnung verwendet werden."]
[null,null,null,null,null,"Begriff im Formular","Erläuterung"]
[null,null,null,null,null,"Neue Erhebung hinzufügen","Fügt eine neue Erhebung für eine Produktionsrichtung ein. Klicken Sie auf die Produktionsrichtung, für die Sie eine Erhebung einfügen möchten. Es öffnet sich eine Dialogbox. Um die neue Erhebung einzufügen, klicken Sie auf „Ja\"."]
[null,null,null,null,null,"Erhebung auswählen","Die hinzugefügten Erhebungen erscheinen in einer Drop-down-Liste. Um die Erhebungen in der Liste anzusehen, klicken Sie auf den Pfeil am rechten Rand der Drop-down-Liste. Wenn Sie eine bestimmte Erhebung ausgewählt haben, klicken Sie auf „anzeigen\"."]
[null,null,null,null,null,"Betriebs-ID","Hier steht die von Ihnen in „Allgemeine Betriebsdaten\" eingegebene Betriebs-ID, andernfalls Ihr Name."]
[null,null,null,null,null,"Erhebung löschen","Löscht den angezeigten Erhebungsblock und damit die gespeicherten Daten aller im Hintergrund dieses Erhebungsblocks abgelegten Formulare. Drücken Sie diesen Link nicht, wenn Sie nur die Daten aus einem Formular löschen möchten."]
[null,null,null,null,null,"Erhebung drucken ...","Hier werden Sie gefragt, welche Seiten gedruckt werden sollen: Die gerade angezeigte Seite \"Erhebungen Übersicht\", die zu Gruppen zusammengefassten Eingabeformulare (die mit \"ausfüllen\" angesteuert werden) oder die Seite \"Ergebnisse Übersicht\" des angezeigten Erhebungsblocks, mit allen bis dahin von Ihnen eingegebenen Daten. Falls Sie nur einzelne Eingabeformulare ausdrucken möchten, nutzen Sie bitte die normale Excel Seiten-Druckfunktion."]
[null,null,null,null,null,"Durchgang","Dieses Feld ist rot hinterlegt, da hier eine Eingabe dringend erfolgen sollte. Hier kann die jeweilige Durchgangs-Nummer eingetragen werden. Dabei können Sie frei auswählen, ob Sie die Liste von Durchgängen auf Ihrem Betrieb weiterführen (Nr. xx) oder die Nummerierung der Durchgänge mit betrieblicher Eigenkontrolle von vorne beginnen (Nr. 01)."]
[null,null,null,null,null,"Herdengröße","Dieses Feld ist rot hinterlegt, da hier eine Eingabe dringend erfolgen sollte. In diesem Feld soll die Herdengröße zum Einstallungstermin eingetragen werden. Jungputenhalter notieren hier die Zahl der eingestallten Küken und Mastputenhalter die Anzahl eingestallter Jungputen."]
[null,null,null,null,null,"Aufzuchtsdauer (Tage)","Dieses Feld ist rot hinterlegt, da hier eine Eingabe dringend erfolgen sollte. Geben Sie hier bitte die Dauer der Aufzucht in Tagen an. Ihre Angabe bestimmt die Tageszahl/Wochenanzahl in den Formularen der fortlaufenden Erhebungen.  "]
[null,null,null,null,null,"Alter Jungputen bei Einstallung (Tage)","Dieses Feld ist rot hinterlegt, da hier eine Eingabe dringend erfolgen sollte. Mastputenhalter geben hier das Alter der eingestallten Jungputen an. Ihre Angabe legt im Formular \"Tiergewichte/Uniformität\" fest, für welche Lebenswochen die Indikatoren erfasst werden.  "]
[null,null,null,null,null,"Stall/Herde","Falls Sie auf der Seite „Allgemeine Betriebsdaten\" verschiedene Ställe/Herden eingegeben haben, erscheinen diese in einer Drop-down-Liste. Um die jeweiligen Ställe/Herden in der Liste auszuwählen, klicken Sie auf den Pfeil am rechten Rand der Drop-down-Liste und wählen Sie einen der Ställe/Herden aus."]
[null,null,null,null,null,"Schlupfdatum","Dieses Feld ist rot hinterlegt, da eine Eingabe dringend erfolgen sollte. Zur exakten Identifizierung der Herde wird hier das Schlupfdatum der Tiere eingetragen. "]
[null,null,null,null,null,"Einstalldatum","Hiermit ist das Einstalldatum auf Ihrem Betrieb gemeint. "]
[null,null,null,null,null,"Stichproben","Unter dieser Überschrift finden Sie die Formulare für die Indikatoren, die im Erhebungszeitraum mehrfach zu bestimmten Lebensabschnitten  (z. B.: LW 12 = Lebenswoche 12) an einer Stichprobe von Tieren erhoben werden. Um ein Formular für die jeweilige Lebenswoche zu öffnen, klicken Sie „ausfüllen ...\". "]
[null,null,null,null,null,"Datum","Hier tragen Sie das Datum ein, an dem Sie das Formular ausgefühlt haben bzw. bei der fortlaufenden Erhebung mit dem Erfassen begonnen haben."]
[null,null,null,null,null,"Fortlaufende Erhebungen","Enthält die Formulare für die Indikatoren, die im Erhebungszeitraum kontinuierlich am gesamten Bestand erhoben werden. Um ein Formular zu öffnen, klicken Sie „ausfüllen ...\"."]
[null,null,null,null,null,"Weiteren Monat hinzufügen …","Fügt ein neues Formular „Verluste, Wasser - x. Monat\" für einen weiteren Monat hinzu."]
[null,null,null,null,null,"Abschlusserhebungen","Enthält die Formulare für die Indikatoren, die Sie am Ende des Durchgangs aus den Unterlagen vom Schlachthof übertragen können. Um ein Formular zu öffnen, klicken Sie „ausfüllen ...\"."]
[]
["GF_SP|GF_PUTE|"]
[null,null,"Hilfeseite „Stichprobe: Tierbeurteilung\""]
[null,null,null,null,null,null,"Hier dokumentieren Sie die Tierschutzindikatoren, die Sie bei Ihren Puten an einer Stichprobe erfassen. In Abhängigkeit der jeweiligen Lebenswoche sind unterschiedlich viele Tierschutzindikatoren zu erheben („Tierschutzindikatoren: Leitfaden für die Praxis - Geflügel\" Seite 41). Ihre Eintragungen zu den Tierbeurteilungen machen Sie im weiß hinterlegten Bereich. Sie haben dabei die Möglichkeit, die Tierbeurteilung für die Tiere der Stichprobe einzeln zu notieren (Tiernummer 1 bis 50) und sich die Summen errechnen zu lassen. Alternativ können Sie unter „Direkteingabe\" nur die bereits summierten Werte aller Tiere einer Stichprobe direkt eingeben. Am unteren Ende der Seite im grün hinterlegten Bereich erscheinen automatisch berechnet die Ergebnisse aus den eingetragenen Boniturnoten. Auf dem Ausdruck dieser Seiten erscheint der Ergebnisbereich nicht.  Die Ergebnisse aus diesem Formular werden automatisch auf die Seite „Ergebnisse\" übertragen."]
[null,null,null,null,null,"Begriff im Formular","Erläuterung"]
[null,null,null,null,null,"Speichern und schließen","Speichert die eingegebenen Werte einer Erhebung und schließt das Formular. Dabei wird automatisch die ganze Datei gespeichert. Zusätzlich sollten Sie Sicherheitskopien Ihrer Datei anlegen."]
[null,null,null,null,null,"Tiernummer","Eine Tiernummer steht für ein zu bonitierendes Tier. In jeder Stichprobe müssen unabhängig von der Herdengröße 50 Puten bonitiert werden. Bitte denken Sie daran, dass die Stichproben möglichst gleichmäßig aus allen Ställen bzw. Stallbereichen entnommen werden sollen."]
[null,null,null,null,null,"Stallbezeichnung","Falls Sie Ihre Herde in mehreren Ställen halten, können Sie hier die zugehörige Stallbezeichnung eintragen."]
[null,null,null,null,null,"Geschlecht","In dieser Spalte können Sie sich je Tier das Geschlecht notieren. Bitte denken Sie daran, dass bei gemischtgeschlechtlicher Haltung 25 oder 50 Tiere je Geschlecht gewogen werden sollte."]
[null,null,null,null,null,"Schnabelkürzen","Hier werden die Boniturnoten für den Tierschutzindikator „Ausmaß und Qualität des Schnabelkürzens\" eingetragen,„Tierschutzindikatoren: Leitfaden für die Praxis - Geflügel\" Seite 48. In den eckigen Klammern stehen die jeweils möglichen Boniturstufen [0, 1, 2]."]
[null,null,null,null,null,"Gefiederschäden","Hier werden die Boniturnoten für den Tierschutzindikator „Vollständigkeit Gefieder\" eingetragen, siehe „Tierschutzindikatoren: Leitfaden für die Praxis - Geflügel\" Seite 50. In den eckigen Klammern stehen die jeweils möglichen Boniturstufen [0,1, 2]."]
[null,null,null,null,null,"Hautverletzung","Hier werden die Boniturnoten für den Tierschutzindikator „Hautverletzung\" eingetragen, siehe „Tierschutzindikatoren: Leitfaden für die Praxis - Geflügel\" Seite 44. In den eckigen Klammern stehen die jeweils möglichen Boniturstufen [0, 1, 2]."]
[null,null,null,null,null,"Fußballenveränderungen","Hier werden die Boniturnoten für den Tierschutzindikator „Fußballenveränderungen\" eingetragen, siehe „Tierschutzindikatoren: Leitfaden für die Praxis - Geflügel\" Seite 51 bis 52. In den eckigen Klammern stehen die jeweils möglichen Boniturstufen [A ,B, C]. "]
[null,null,null,null,null,"Lahmheit","Hier werden die Boniturnoten für den Tierschutzindikator „Lahmheit\" eingetragen, siehe „Tierschutzindikatoren: Leitfaden für die Praxis - Geflügel\" Seite 46. In den eckigen Klammern stehen die jeweils möglichen Boniturstufen [0, 1]."]
[null,null,null,null,null,"Tiergewicht","Hier werden die Ergebnisse für den Tierschutzindikator „Tiergewicht\" eingetragen, siehe „Tierschutzindikatoren: Leitfaden für die Praxis - Geflügel\" Seite 49. Die Angabe des Gewichts erfolgt in der Einheit Gramm (ohne Nachkommastelle). Bitte beachten Sie, dass Sie die Gewichte, die Sie zum Zeitpunkt der Tierbeurteilung erheben ebenfalls in die entsprechende Woche des Formulars „Tiergewichte/Uniformität\" eintragen können. "]
[null,null,null,null,null,"Direkteingabe","Zur direkten Eingabe der Gesamtanzahl von Boniturwerten über alle beurteilten Tiere einer Stichprobe. Falls Sie eine Waage mit automatischer Anzeige von Durchschnittsgewicht und Uniformität nutzen, können Sie hier die bereits berechneten Werte eingeben."]
[null,null,null,null,null,"Sollgewichtserfüllung","Dieser Indikator zeigt an, ob das von Zuchtunternehmen angegebene Sollgewicht für die jeweilige Lebenswoche erreicht wurde (in Prozent). Ein Wert unterhalb von 100 %  bedeutet, die Tiere sind zu langsam gewachsen. Ein Wert oberhalb von 100 % bedeutet, die Tiere sind zu schnell gewachsen."]
[null,null,null,null,null,"Uniformität","Dieser Indikator zeigt an, ob die Herde gleichmäßig wächst oder die Einzeltiere sich in der Gewichtsentwicklung unterscheiden. Angegeben wird der Anteil an Tieren, die höchstens 10 % vom Durchschnittsgewicht abweichen (in Prozent)."]
[null,null,null,null,null,"Zu leichte Tiere","Dieser Indikator zeigt an, wie viele Tiere der Herde zu leicht sind. Angegeben wird der Anteil an Tieren, die das Durchschnittsgewicht der Herde um mehr als 10 % unterschreiten (in Prozent). "]
[null,null,null,null,null,"Ergebnisse","In diesem Bereich werden die Ergebnisse der Tierbeurteilung je Tierschutzindikator und verwendeten Boniturnoten als Anzahl und Prozentangabe ausgegeben. "]
[]
["ET_AZ|GF_PUTE|"]
[null,null,"Hilfeseite „Fortlaufende Erhebungen: Arzneimitteleinsatz\""]
[null,null,null,null,null,null,"Hier tragen Sie alle Einsätze von Antibiotika und anderen verschreibungspflichtigen Arzneimitteln bei Ihrer Herde ein. Die jeweiligen Behandlungseinheiten des Durchgangs werden in einem Therapieindex für die gesamte Herde zusammengefasst („Tierschutzindikatoren: Leitfaden für die Praxis - Geflügel\" Seite 54). Im grün hinterlegten Bereich erscheint  automatisch berechnet der Therapieindex aus den Angaben für den Arzneimitteleinsatz. Dieser Bereich wird im Ausdruck nicht angezeigt. Der Therapieindex aus diesem Formular wird automatisch auf die Seite „Ergebnisse\" übertragen."]
[null,null,null,null,null,"Begriff im Formular","Erläuterung"]
[null,null,null,null,null,"Speichern und schließen","Speichert die eingegebenen Werte einer Erhebung und schließt das Formular. Dabei wird automatisch die ganze Datei gespeichert. Zusätzlich sollten Sie Sicherheitskopien Ihrer Datei anlegen."]
[null,null,null,null,null,"Nummer","Diese fortlaufende Nummer steht für eine Verabreichung von verschreibungspflichtigen Arzneimitteln im jeweiligen Durchgang. Eine Verabreichung kann mehrere Präparate umfassen, z. B. die Gabe von Schmerzmittel und Antibiotika aufgrund einer Erkrankung."]
[null,null,null,null,null,"Lebenswoche","Angabe der Lebenswoche in der verschreibungspflichtige Arzneimittel verabreicht wurden."]
[null,null,null,null,null,"Zeitraum Arzneimitteleinsatz","Datumsangabe vom ersten und letzten Tag der Medikamentengabe."]
[null,null,null,null,null,"Wirkdauer","Angabe der Tagesanzahl an der die Arzneimittel gewirkt haben (ggf. Information vom Tierarzt erfragen)."]
[null,null,null,null,null,"Arzneimittel/Präparat","Angabe der verabreichten Einzel- oder Kombinationspräparate."]
[null,null,null,null,null,"Wirkstoffe","Angabe der im jeweiligen Arzneimittel enthaltenen Wirkstoffe."]
[null,null,null,null,null,"Behandelte Tiere","Anzahl der von der Medikation betroffenen Puten."]
[null,null,null,null,null,"Behandlungseinheit","Dies ist ein automatisch errechneter Wert je Arzneimittelverabreichung. Der Wert wird ermittelt anhand Ihren Angaben von Wirktage, Anzahl Wirkstoffe und Anzahl behandelter Tiere („Tierschutzindikatoren: Leitfaden für die Praxis - Geflügel\" Seite 54). "]
[null,null,null,null,null,"Therapieindex","Berechnung des Therapieindex anhand der Behandlungseinheiten eines Durchgangs („Tierschutzindikatoren: Leitfaden für die Praxis - Geflügel\" Seite 54)."]
[]
["GF_GW|GF_PUTE|"]
[null,null,"Hilfeseite „Fortlaufende Erhebungen: Tiergewichte/Uniformität\""]
[null,null,null,null,null,null,"Falls Sie in Ihrem Stall automatische Waagen nutzen oder Ihre Tiere bei den Tierbeurteilungen bzw. besser wöchentlich manuell wiegen, können Sie in diesem Formular die Gewichte oder Ergebnisse für Sollgewichtserfüllung und Uniformität dokumentieren, siehe „Tierschutzindikatoren: Leitfaden für die Praxis - Geflügel\" Seite 49. Ihre Eintragungen zu den Tiergewichten machen Sie im weiß hinterlegten Bereich. Im Formular können Gewichte für bis zu 24 Lebenswochen eingetragen werden. Im grün hinterlegten Bereich erscheinen die automatisch berechneten Ergebnisse aus den eingetragenen Werten. Dieser Abschnitt wird im Ausdruck nicht angezeigt. Die Ergebnisse aus diesem Formular werden automatisch auf die Seite „Ergebnisse\" übertragen."]
[null,null,null,null,null,"Begriff im Formular","Erläuterung"]
[null,null,null,null,null,"Speichern und schließen","Speichert die eingegebenen Werte einer Erhebung und schließt das Formular. Dabei wird automatisch die ganze Datei gespeichert. Zusätzlich sollten Sie Sicherheitskopien Ihrer Datei anlegen."]
[null,null,null,null,null,"Sollgewicht","Das Sollgewicht für die jeweilige Lebenswoche entnehmen Sie bitte den Informationsblättern der Zuchtunternehmen. Für jede Genetik werden darin die zum jeweiligen Erhebungszeitraum erwartbaren Sollgewichte der Jung- bzw. Mastputen ausgewiesen."]
[null,null,null,null,null,"Tiernummer","Eine Tiernummer steht für ein zu bonitierendes Tier. Bei jeder manuellen Wiegung müssen unabhängig von der Herdengröße 50 Puten gewogen werden. Bitte denken Sie daran, dass bei gemischtgeschlechtlicher Haltung 50 Tiere je Geschlecht gewogen werden sollten. Es ist darauf zu achten die Stichproben möglichst gleichmäßig aus allen Ställen zu entnehmen."]
[null,null,null,null,null,"Stall","Falls Sie Ihre Herde in mehreren Ställen halten, können Sie hier die Stallbezeichnung eintragen."]
[null,null,null,null,null,"Geschlecht","In dieser Spalte können Sie sich je Tier das Geschlecht notieren. Bitte denken Sie daran, dass bei gemischtgeschlechtlicher Haltung 25 oder 50 Tiere je Geschlecht gewogen werden sollte."]
[null,null,null,null,null,"Gewicht","Hier werden die Gewichte der Tiere für den Tierschutzindikator „Tiergewicht\" eingetragen. Die Angabe des Gewichts erfolgt in der Einheit Gramm (ohne Nachkommastelle)."]
[null,null,null,null,null,"Direkteingabe","Zur wöchentlichen, direkten Eingabe von Uniformität und Sollgewichtserfüllung über alle gewogenen Tiere, falls Sie eine Waage mit automatischer Berechnung besitzen. "]
[null,null,null,null,null,"Uniformität","Dieser Wert zeigt an, ob die Herde gleichmäßig wächst oder sich die Tiere in der Gewichtsentwicklung unterscheidet. Die Uniformität errechnet den Anteil (%) an Tieren, die höchstens 10 % vom Durchschnittsgewicht der gewogenen Tiere abweichen."]
[null,null,null,null,null,"Sollgewichtserfüllung","Dieser Wert zeigt in Prozent an, ob das von Zuchtunternehmen angegebene Sollgewicht für die jeweilige Lebenswoche erreicht wurde. Ein Wert unterhalb von 100 %  bedeutet die Tiere sind zu langsam gewachsen. Ein Wert oberhalb von 100 % bedeutet die Tiere sind zu schnell gewachsen."]
[null,null,null,null,null,"Durchschnittsgewicht","Dieser Wert ist das wöchentliche Durchschnittsgewicht."]
[null,null,null,null,null,"Tiere im Bereich","Dieser Wert ist die Anzahl an Tieren, die im Toleranzbereich von +/- 10 % um das Sollgewicht liegen. "]
[null,null,null,null,null,"Zu leichte Tiere","Dieser Wert zeigt an, ob Tieren der Stichprobe zu leicht sind. Errechnet wird der Anteil (%) an Tieren, die das Durchschnittsgewicht der Stichprobe um mehr als 10 % unterschreiten. "]
[null,null,null,null,null,"Monatswerte","In diesen Feldern wird der monatliche Durchschnitt für „zu leichte Tiere\", „Uniformität\" und „Sollgewichtserfüllung\" errechnet."]
[]
["GF_MB|GF_PUTE|MP_TV"]
[null,null,"Hilfeseite „Fortlaufende Erhebungen: \"Tierverluste\""]
[null,null,null,null,null,null,"Dieses Formular dient der fortlaufenden Dokumentation der Tierschutzindikatoren „Tierverluste\", „Lahmheit\" (Separierung von lahmen Puten), „Hautverletzung\" (Separierung von verletzten Puten) und „Wasserverbrauch\". Sie wählen die jeweiligen Formulare aus, indem Sie unter dem Seitenkopf auf den entsprechenden Kreis klicken (◉: das Formular ist ausgewählt, ○: das Formular ist nicht ausgewählt). Ihre Eintragungen zu den Tierschutzindikatoren machen Sie im weiß hinterlegten Bereich. Die Eingaben zur Separierung werden im Formular „Verluste\" gemacht. Im grün hinterlegten Bereich erscheinen die automatisch berechneten Ergebnisse aus den eingetragenen Werten. Dieser Bereich wird im Ausdruck nicht angezeigt. Die Ergebnisse aus diesem Formular werden automatisch auf die Seite „Ergebnisse\" übertragen. \nRot eingefärbte Felder müssen dringend ausgefüllt werden, da der eingegebene Wert für die weitere Berechnung verwendet wird."]
[null,null,null,null,null,"Begriff im Formular","Erläuterung"]
[null,null,null,null,null,"Speichern und schließen","Speichert die eingegebenen Werte einer Erhebung und schließt das Formular. Dabei wird automatisch die ganze Datei gespeichert. Zusätzlich sollten Sie Sicherheitskopien Ihrer Datei anlegen."]
[null,null,null,null,null,"Herdengröße (Einstallung)","Die Anzahl der Puten bei Einstallung im Seitenkopf entspricht Ihren Angaben aus dem Reiter „Erhebungen Übersicht\"."]
[null,null,null,null,null,"Anfangsbestand","Die Anzahl der Puten bei Start der Erhebung ist in die rote Zelle einzugeben. Von dieser Tierzahl werden die im Formular eingetragenen Verluste abgezogen. Der Anfangsbestand ist nur in der Aufzucht oder bei reiner Mast  im ersten Monat der Mast identisch mit der Herdengröße (Einstallung). Beachten Sie, dass Sie für den 2. Monat der Mast ein neues Formular nutzen müssen. Tragen Sie die zuletzt berechnete Anzahl anwesender Puten in die Zelle des Anfangsbestands des 2. Formulars ein.   "]
[null,null,null,null,null,"Anzahl anwesender Puten","Diese Zahl berechnet sich aus dem Anfangsbestand am Tag der Einstallung abzüglich der bis zum jeweiligen Zeitpunkt dokumentierten Tierverluste. "]
[null,null,null,null,null,"Tagnummer","Dies kennzeichnet den jeweilige Tag im Betrieb. Tag 1 = Einstallung der Küken."]
[null,null,null,null,null,"Tierverluste","Hier werden täglich die Anzahl der verendeten Tiere - getrennt nach Ursache - dokumentiert, siehe „Tierschutzindikatoren: Leitfaden für die Praxis – Geflügel\" Seite 42. Bitte geben Sie auch Verluste von zuvor separierten Tieren an.  "]
[null,null,null,null,null,"Gesamtverluste ","Dieser automatisch berechnete Wert gibt die Anzahl und den dazu gehörigen Anteil (%) an verendeten Tieren pro Tag an. Der Wert bezieht sich auf die Herdengröße bei der Einstallung. "]
[null,null,null,null,null,"Separierung","In dieser Spalte wird die Anzahl an Puten erfasst, die an diesem Tag aufgrund von Lahmheit oder Hautverletzung separiert wurden. Diese Tiere werden weiterhin in der Anzahl anwesender Puten mit erfasst. "]
[null,null,null,null,null,"Ergebnisse ","In dieser Zeile werden Summen über den Zeitraum von einer Erhebungswoche automatisch errechnet. Bezugswert ist die Herdengröße bei der Einstallung.  "]
[]
["GF_MB|GF_PUTE|MP_WV"]
[null,null,"Hilfeseite „Fortlaufende Erhebungen: Wasserverbrauch\""]
[null,null,null,null,null,null,"Dieses Formular dient der fortlaufenden Dokumentation der Tierschutzindikatoren „Tierverluste\", „Lahmheit\" (Separierung von lahmen Puten), „Hautverletzung\" (Separierung von verletzten Puten) und „Wasserverbrauch\". Sie wählen die jeweiligen Formulare aus, indem Sie unter dem Seitenkopf auf den entsprechenden Kreis klicken (◉: das Formular ist ausgewählt, ○: das Formlar ist nicht ausgewählt). Ihre Eintragungen zu den Tierschutzindikatoren machen Sie im weiß hinterlegten Bereich. Die Eingaben zur Separierung werden im Formular „Verluste\" gemacht. Im grün hinterlegten Bereich erscheinen die automatisch berechneten Ergebnisse aus den eingetragenen Werten. Dieser Bereich wird im Ausdruck nicht angezeigt. Die Ergebnisse aus diesem Formular werden automatisch auf die Seite „Ergebnisse\" übertragen. \nRot eingefärbte Felder müssen dringend ausgefüllt werden, da der eingegebene Wert für die weitere Berechnung verwendet wird."]
[null,null,null,null,null,"Begriff im Formular","Erläuterung"]
[null,null,null,null,null,"Speichern und schließen","Speichert die eingegebenen Werte einer Erhebung und schließt das Formular. Dabei wird automatisch die ganze Datei gespeichert. Zusätzlich sollten Sie Sicherheitskopien Ihrer Datei anlegen."]
[null,null,null,null,null,"Herdengröße (Einstallung)","Die Anzahl der Puten bei Einstallung im Seitenkopf entspricht Ihren Angaben aus dem Reiter „Erhebungen Übersicht\"."]
[null,null,null,null,null,"Anfangsbestand","Die Anzahl der Puten bei Start der Erhebung ist in die rote Zelle einzugeben. Von dieser Tierzahl werden die im Formular eingetragenen Verluste abgezogen. Der Anfangsbestand ist nur in der Aufzucht oder bei reiner Mast  im ersten Monat der Mast identisch mit der Herdengröße (Einstallung). Beachten Sie, dass Sie für den 2. Monat der Mast ein neues Formular nutzen müssen. Tragen Sie die zuletzt berechnete Anzahl anwesender Puten in die Zelle des Anfangsbestands des 2. Formulars ein.   "]
[null,null,null,null,null,"Anzahl anwesender Puten","Diese Zahl berechnet sich aus dem Anfangsbestand am Tag der Einstallung abzüglich der bis zum jeweiligen Zeitpunkt dokumentierten Tierverluste. Die Zahl anwesender Puten dient als Bezugsgröße für den täglichen Wasserverbrauch. "]
[null,null,null,null,null,"Tagnummer","Dies kennzeichnet den jeweilige Tag im Betrieb. Tag 1 = Einstallung der Küken (Aufzucht) oder Jungputen (Mast)."]
[null,null,null,null,null,"Startwert Zähler","Hier werden für jeden Wasserzähler separat die Zählerstände am Tag vor der Einstallung der Tiere notiert. "]
[null,null,null,null,null,"Zählerstand","Hier werden täglich für jeden Wasserzähler separat die aktuellen Zählerstände eingetragen (in Kubikmetern). Bitte beachten Sie, dass übersprungene Eingabefelder automatisch mit einem interpolierten Wert ausgefüllt werden."]
[null,null,null,null,null,"Direkteingabe Wasserverbrauch (Liter)","Direkteingabemöglichkeit des Wasserverbrauchs pro Tag. Falls z. B. in Mobilställen kein Wasserzähler vorhanden ist, können Sie hier die geschätzte Menge eintragen. Bitte beachten Sie, dass Sie bei der Direkteingabe einen täglichen Wasserverbrauch eingeben müssen. Falls Sie einen Wasserverbrauch über einen Zeitraum eingeben wollen, müssen Sie die Wassermenge durch die Anzahl Tage teilen und den Wert für jeden Tag einzeln eintragen. Beispiel: Sie haben einen Wasserverbrauch von 400 Liter über den Zeitraum von 4 Tagen gemessen. Somit wurden jeden Tag 100 Liter Wasser verbraucht. 100 Liter muss nun für jeden der 4 Tage eingetragen werden. "]
[null,null,null,null,null,"Täglicher Wasserverbrauch","Es wird der tägliche Wasserverbrauch in Liter pro Herde und pro 1.000 Tiere errechnet, „Tierschutzindikatoren: Leitfaden für die Praxis - Geflügel\" Seite 47. Die Bezugsgröße ist die Anzahl anwesender Puten.    "]
[null,null,null,null,null,"Wasseruhr 1 bis 4","Dieser Wert gibt die Summe des Wasserverbrauchs je Wasseruhr in Kubikmetern an."]
[null,null,null,null,null,"Durchschnittsverbrauch","Es wird der monatliche Durchschnitt des täglichen Wasserverbrauchs errechnet. Der Wasserverbauch wird in Liter pro Herde und pro 1.000 Tiere ausgegeben.    "]
[null,null,null,null,null,"Ergebnisse","In dieser Zeile werden Summen über den Zeitraum von einer Erhebungswoche automatisch errechnet. Bezugswert ist die Herdengröße bei der Einstallung.  "]
[]
["GF_SB|GF_PUTE|"]
[null,null,"Hilfeseite „Fortlaufende Erhebungen: Schlachthofindikatoren\""]
[null,null,null,null,null,null,"Hier tragen Sie die standardmäßig vom Schlachthof zurückgemeldeten bestandsbezogenen Indikatoren für Ihre Puten ein. Falls Ihr Schlachthof nur eine Gesamtanzahl nicht schlachtfähiger und genussuntauglicher Tiere angibt, bitten Sie zukünftig um eine Aufschlüsselung der Verwurfursachen. Ihre Eintragungen zu den Tierschutzindikatoren machen Sie im weiß hinterlegten Bereich. Im grün hinterlegten Bereich erscheinen die automatisch berechneten Ergebnisse der Tierschutzindikatoren aus den eingetragenen Werten. Dies wird im Ausdruck nicht angezeigt. Die Ergebnisse aus diesem Formular werden automatisch auf die Seite „Ergebnisse\" übertragen. \nRot eingefärbte Felder müssen dringend ausgefüllt werden, da der eingegebene Wert für die weitere Berechnung verwendet wird."]
[null,null,null,null,null,"Begriff im Formular","Erläuterung"]
[null,null,null,null,null,"Speichern und schließen","Speichert die eingegebenen Werte einer Erhebung und schließt das Formular. Dabei wird automatisch die ganze Datei gespeichert. Zusätzlich sollten Sie Sicherheitskopien Ihrer Datei anlegen."]
[null,null,null,null,null,"Ausstallung am ","Hier tragen Sie das Datum ein, an dem die Herde zur Schlachtung ausgestallt wurde."]
[null,null,null,null,null,"Gesamtanzahl angelieferter Tiere","Dieses Feld ist rot hinterlegt, da hier eine Eingabe dringend erfolgen sollte. Die „Gesamtanzahl der angelieferten Tiere\" entnehmen Sie bitte der Schlachthofauswertung."]
[null,null,null,null,null,"Verletzt angelieferte Tiere","In der Schlachthofauswertung z. T. auch als „Fangfehler\" oder „Verladeschäden\" aufgelistet, siehe „Tierschutzindikatoren: Leitfaden für die Praxis – Geflügel\" Seite 55."]
[null,null,null,null,null,"Tot angelieferte Tiere","In der Schlachthofauswertung z. T. auch als „Federtote\" aufgelistet, siehe „Tierschutzindikatoren: Leitfaden für die Praxis – Geflügel\" Seite 55."]
[null,null,null,null,null,"Verwürfe","Anzahl bzw. Anteil nicht schlachtfähiger und genussuntauglicher Tiere (nach Ursachen getrennt)."]
[null,null,null,null,null,"Schlachtbefunde","Entnehmen Sie bitte Ihrer Schlachthofauswertung, falls enthalten, die Anzahl an je weiblichen und männlichen Tieren mit kleinen oder hochgradigen Brusthautveränderungen, siehe „Tierschutzindikatoren: Leitfaden für die Praxis – Geflügel\" Seite 57. Wenn Ihr Schlachthof außerdem Rückmeldung zu Fußballenveränderung gibt, dann tragen Sie bitte die Anzahl an betroffenen Tieren ein („Tierschutzindikatoren: Leitfaden für die Praxis – Geflügel\" Seite 53)."]
[]
["GF_ERGEBNISSE|ERGEBNISSE|GF_PUTE"]
[null,null,"Hilfeseite „Ergebnisse Übersicht\""]
[null,null,null,null,null,null,"Die Ergebnisseite ist eine Übersichtsseite mit allen relevanten Ergebnissen eines Aufzuchts- oder Mastdurchgangs. Dafür werden für jeden Tierschutzindikator die Ergebnisse aus den von Ihnen eingegebenen Daten generiert. Sie können sich diese Ergebnisseite ausdrucken und in Ihren Unterlagen abheften. Sobald  auch Ergebnisseiten aus Folgeerhebungen vorliegen, können Sie anhand dieser Übersichtsseiten den zeitlichen Verlauf der Indikatorausprägungen gut nachvollziehen. Angezeigt wird jeweils nur eine Ergebnisübersicht, auch wenn Sie ggf. schon mehrere Durchgänge ausgewertet haben."]
[null,null,null,null,null,"Begriff im Formular","Erläuterung"]
[null,null,null,null,null,"Erhebung auswählen","Die Ergebnisübersicht je Durchgang erscheinen in einer Drop-down-Liste. Um die Ergebnisübersicht in der Liste anzusehen, klicken Sie auf den Pfeil am rechten Rand der Drop-down-Liste. Wenn Sie eine bestimmte Ergebnisübersicht ausgewählt haben, klicken Sie auf „anzeigen\". "]
[null,null,null,null,null,"auswerten …","Damit öffnen Sie nicht nur eine zuvor ausgewählte Ergebnisübersicht, sondern Sie können auch nach erneuter Dateneingabe in den Formularen die zuvor ausgewählte Ergebnisübersicht aktualisieren. "]
[null,null,null,null,null,"Ergebnisse","Die gemäß Leitfaden relevanten Ergebnisse für jeden Tierschutzindikator, jeweils in der angegebenen Einheit."]
[null,null,null,null,null,"Stichproben","Hier sind jeweils nur die tierschutzrelevanten Boniturwerte [1, 2] aus den verschiedenen Stichproben-Beurteilungen und die Ergebnisse aus der Tierwiegung dargestellt. Bei den dunkel eingefärbten Zellen ist die Bonitur des Indikators nicht vorgesehen."]
[null,null,null,null,null,"Fortlaufende Erhebungen","Hier werden jeweils die Monats- und Durchgangswerte der fortlaufend erhobenen Tierschutzindikatoren „Tierverluste\", „Lahmheit\" (Verluste und Separierung), „Hautverletzung\" (Verluste und Separierung), „Wasserverbrauch\" und „Tiergewicht\" dargestellt. Die Durchgangswerte für „Tierverluste\", „Lahmheit\" und „Hautverletzung\" werden als Anteil über den gesamten Durchgang angegeben. Durchgangswerte für „Wasserverbrauch\" und „Tiergewicht\" werden als Mittelwert angezeigt. "]
[null,null,null,null,null,"Abschlusserhebungen","Hier werden jeweils die Ergebnisse der Schlachthofindikatoren „Verletzte und tot angelieferte Tiere\", „Verwürfe und Ursachen\" und „Schlachthofbefunde\" dargestellt. Zusätzlich erfolgt an dieser Stelle die Angabe des Arzneimitteleinsatzes, da dieser erst nach Ende des Durchgangs sinnvoll ausgewertet werden kann."]
[]
[]
[]
[]
[]
[]
[]
[]
[]
[]
[]
[]
[]
[]
[]
[]
[]
[]
[]
[]
[]
["GF_ERHEBUNGEN|ERHEBUNGEN|GF_PUTE"]
[]
[]
[]
[]
[]
[]
[]
[]
[]
[]
[]
[]
[]
[]
[]
[]
[]
[]
[]
[]
[]
[]
[]
[]
[]
[]
[]
[]
[]
[]
["GF_ERGEBNISSE|ERGEBNISSE|GF_HENNE"]
[]
[]
[]
[]
[]
[]
[]
[]
[]
[]
[]
[]
[]
[]
[]
[]
[]
[]
[]
[]
[]
[]
[]
[]
[]
[]
[]
[]
[]
[]
[]
["ENDEDATEN"]

{"sheet":"Information","index":36,"n_rows":214,"n_cols":7,"rows_kept":214,"cut":false,"hidden":true,"merged":[]}
["Spalte für interne Verwaltung"]
[null,null,null,null,null,null,{"$f":"Intern_Eikotiger","v":"Eigenkontrolle Tiergerechtheit"}]
["RD_BUCHT",null,null,null,null,null,"Erläuterungen und Bearbeitungshinweise"]
[]
["RD_MILCH"]
[null,null,null,null,null,"zurück ..."]
[]
[]
[]
[]
[]
[]
["RD_BETRIEB|"]
[null,null,"Hilfeseite „Allgemeine Betriebsdaten\""]
[null,null,null,null,null,null,"Auf der Seite „Allgemeine Betriebsdaten\" können Sie Angaben zu Ihrem Betrieb machen und die Produktionsrichtung(en) auswählen, für die Sie die betriebliche Eigenkontrolle machen wollen. Zusätzlich haben Sie auf der Seite die Möglichkeit mehrere Betriebsteile/Ställe anzulegen, wenn für eine Produktionsrichtung mehrere Ställe mit deutlich unterschiedlichen Fütterungs- und Haltungssystemen vorhanden sind. \nAllgemeiner Hinweis: Bitte legen Sie regelmäßig Sicherheitskopien Ihrer Datei an, damit Ihre Daten erhalten bleiben, falls die Excel-Anwendung unbeabsichtigt zerstört wird."]
[null,null,null,null,null,"Begriff im Formular","Erläuterung"]
[null,null,null,null,null,"Name","Bezeichnung Ihrer Person oder Ihres Betriebes. Der Name wird auf allen folgenden Erhebungs- und Ergebnisseiten im Seitenkopf automatisch angezeigt. Alternativ können Sie eine ID für Ihren Betrieb im Feld „Betriebs-ID\" anlegen."]
[null,null,null,null,null,"Optionale Angaben","In den mit * gekennzeichneten Feldern können Sie optionale Angaben zu Ihrem Betrieb machen. Diese optionalen Angaben tauchen auf den Erhebungs- und Ergebnisseiten nicht auf. "]
[null,null,null,null,null,"Optional: Bearbeiter","Die für betriebliche Eigenkontrolle im Betrieb zuständige Person. Sinnvollerweise sollte immer die gleiche Person die Daten erheben und eingeben."]
[null,null,null,null,null,"Betriebs-ID","Zeichenabfolge (Ziffern, Zahlen und Zeichen), frei wählbar, anhand der Sie Ihren Betrieb identifizieren können. Die Betriebs-ID wird auf allen folgenden Erhebungs- und Ergebnisseiten im Seitenkopf automatisch angezeigt. Alternativ können Sie für Ihren Betrieb oben einen Namen angeben. "]
[null,null,null,null,null,"MLP","Wählen Sie, ob Sie an der Milchleistungsprüfung des LKV teilnehmen und somit Daten aus der MLP vorhanden sind. "]
[null,null,null,null,null,"Produktionsrichtung","Wählen Sie die im Betrieb vorhandene(n) Produktionsrichtung(en) aus. Auf dem Registerblatt „Erhebungen\" können Sie dann für die hier ausgewählte(n) Produktionsrichtung(en) Erhebungen anlegen. "]
[null,null,null,null,null,"Betriebsteile/Ställe","Mindestens je Stalleinheit, also je VVVO-Nummer, soll eine gesonderte Erhebung durchgeführt werden. Falls  innerhalb einer Stalleinheit für eine Produktionsrichtung Ställe mit deutlich unterschiedlichen Bedingungen wie Fütterungs- oder Haltungssystemen vorhanden sind, empfiehlt es sich, je Stallart jeweils eine gesonderte Eigenkontrolle durchzuführen. Bitte vergeben Sie in diesem Fall für jeden Stall/jede Stallart, für den Sie eine gesonderte Datenerhebung und Datenauswertung haben wollen, eine eigene Bezeichnung. Auf dem Registerblatt „Erhebungen\" können Sie dann den Stall, den Sie gerade bearbeiten wollen, aus einer Liste Ihrer Ställe auswählen. Falls Sie je Produktionrichtung nur einen Stall betrachten wollen, z. B. einen Stall für Milchkühe und einen für Mastrinder, brauchen Sie unter Betriebsteile/Ställe keine Eintragungen machen. Falls Sie zur Mast Färsen und Bullen halten, können Sie eine gesonderte Erhebung durchführen und gesonderte Ergebnisse auswerfen lassen, indem Sie hier getrennte Bezeichnungen anlegen."]
[]
["RD_ERHEBUNGEN|"]
[null,null,"Hilfeseite „Erhebungen Übersicht\""]
[null,null,null,null,null,null,"Auf dieser Übersichtsseite mit der Registerbezeichnung „Erhebungen\" haben Sie alle Datenerhebungen eines Erhebungszeitraums, also eines Jahres, mit den zugehörigen Formularen zusammen im Blick. \nFür jeden Erhebungszeitraum können Sie einen mittelblau hinterlegten „Block\" anlegen („Neue Erhebung einfügen\" oben rechts in der Ecke) und/oder weiterbearbeiten („Erhebung auswählen\" - aus der Drop-down-Liste auswählen und „anzeigen ...\" klicken). Angezeigt wird jeweils nur ein Block, d. h. ein Jahr, auch wenn Sie ggf. schon mehrere angelegt haben. Ein Block besteht aus den Erhebungen eines Jahres und setzt sich aus zwei Erhebungsterminen zusammen: Alle Indikatoren (Prüfgrößen) sollen einmal im Sommerhalbjahr sowie einmal im Winterhalbjahr erhoben werden; teils nur an einer ausgewählten Stichprobe von Tieren. \nUnter Erhebungen Sommer- bzw. Winterhalbjahr geben Sie bitte die zum Erhebungszeitpunkt aktuellen Tierzahlen ein (u. a. für verschiedene Gruppen, Stallabteile usw.); sie sind für die Errechnung der Stichprobenempfehlung notwendig und die Formulare für die „Tierbeurteilung\" werden automatisiert auf die erforderliche Stichprobengröße zugeschnitten. Bei der Eingabe der Anzahl Kälber und Mastrinder werden ebenfalls die Anzahlen der Buchten abgefragt, in denen diese gehalten werden. Dieses erleichtet Ihnen die Aufteilung der zu beurteilenden Tiere auf die vorhandenen Stallabteile/ Buchten. \nDanach können Sie mit „ausfüllen\" in diesem Block die weiteren auszufüllenden „Eingabeformulare\" ansteuern.\nAußerdem gibt es ein Formular für \"Fortlaufende Erhebungen\", die den gesamten Bestand betreffen (z. B. Daten aus der MLP, Daten zu Tierverlusten aus dem HIT usw.)."]
[null,null,null,null,null,"Begriff im Formular","Erläuterung"]
[null,null,null,null,null,"Neue Erhebung einfügen","Fügt eine neue Erhebung für eine Produktionsrichtung ein. Klicken Sie auf die Produktionsrichtung, für die Sie eine Erhebung einfügen möchten. Es öffnet sich eine Dialogbox. Um die neue Erhebung einzufügen, klicken Sie auf „Ja\"."]
[null,null,null,null,null,"Erhebung auswählen","Die bereits eingefügten Erhebungen (jeweils bestehend aus Sommer- und Wintererhebung) erscheinen in einer Drop-down-Liste. Um die Erhebungen in der Liste anzusehen, klicken Sie auf den Pfeil am rechten Rand der Drop-down-Liste. Wenn Sie eine bestimmte Erhebung auswählen wollen, klicken Sie auf „Anzeigen\". Alle eingegebenen Daten in bereits angelegten Erhebungsblöcken bleiben erhalten.  "]
[null,null,null,null,null,"anzeigen …","Zeigt in Drop-down-Liste ausgewählte Erhebung (bestehend aus Sommer- und Wintererhebung) an."]
[null,null,null,null,null,"Erhebung löschen ...","Löscht den angezeigten Erhebungsblock und damit die gespeicherten Daten aller im Hintergrund dieses Erhebungsblocks abgelegten Formulare, d. h. alle Erhebungen eine Jahres (Sommer- und Wintererhebungen). Drücken Sie diesen Link nicht, wenn Sie für eine Erhebung nur die Daten aus einem Formular löschen möchten."]
[null,null,null,null,null,"Erhebung drucken ...","Hier werden Sie gefragt, welche Seiten gedruckt werden sollen: Die gerade angezeigte Seite \"Erhebungen Übersicht\", die zu Gruppen zusammengefassten Eingabeformulare (die mit \"ausfüllen\" angesteuert werden) oder die Seite \"Ergebnisse Übersicht\" des angezeigten Erhebungsblocks, mit allen bis dahin von Ihnen eingegebenen Daten. Die Eingabeformulare für die \"Tierbeurteilung\" werden automatisiert auf die erforderliche Stichprobengröße zugeschnitten, sobald Sie die aktuellen Tierzahlen des jeweiligen Halbjahres eingegeben haben. Falls Sie nur einzelne Eingabeformulare ausdrucken möchten, nutzen Sie bitte die normale Excel Seiten-Druckfunktion."]
[null,null,null,null,null,"Jahr","Jahreszahl (JJJJ), falls alle Erhebungen in einem Jahr liegen, oder mit Schrägstrich, z. B. 2017/2018, wenn die Halbjahresblöcke über das Kalenderjahr hinaus erhoben werden (Beispielsweise Sommererhebung im Juli 2017, Wintererhebung im Januar 2018). Die Jahresbenennung kann auch im Nachgang verändert werden. "]
[null,null,null,null,null,"Betriebs-ID","Feld wird automatisch ausgefüllt gemäß Ihrer Eintragung unter „Allgemeine Betriebsdaten\": Hier steht die von Ihnen eingegebene Betriebs-ID, andernfalls Ihr Name."]
[null,null,null,null,null,"Betriebsteil-Stall","Falls Sie auf der Seite „Allg. Betriebsdaten\" verschiedene Betriebsteile/Ställe eingegeben haben, erscheinen diese in einer Dropdownliste. Um die jeweiligen Betriebsteile/Ställe in der Liste auszuwählen, klicken Sie auf den Pfeil am rechten Rand der Dropdownliste und wählen Sie einen der Betriebsteile/Ställe aus. Die Erhebungen und Ergebnisse beziehen sich dann auf den jeweils ausgewählten Betriebsteil/Stall. "]
[null,null,null,null,null,"Stichprobenempfehlung","Wenn Sie die rot hinterlegten Felder zu Ihren Bestandsdaten ausfüllen, wird Ihnen automatisch eine Empfehlung errechnet, wie groß Ihre zufällig zu ziehende Stichprobe für die in Klammer angeführten Indikatoren der „Tierbeurteilung\" sein sollte, also wie viele Tiere insgesamt Sie betrachten sollten. Das bereits auf Ihre jeweils errechnete Stichprobenanzahl zugeschnittene Formular „Tierbeurteilung\" öffnen Sie danach mit „ausfüllen\". \nBei mehreren Gruppen/ Buchten/ Stallabteilen hilft Ihnen diese Empfehlung dabei, Ihre Stichprobe gleichmäßig auf die vorhanden Gruppen/Buchten/Stallabteile zu verteilen."]
[null,null,null,null,null,"ausfüllen …","Hier können Sie die jeweiligen  „Eingabeformulare\" für den angewählten Block öffnen und bearbeiten. Wenn Sie bereits Daten eingetragen haben, werden diese bei erneutem Öffnen wieder angezeigt und können ggf. ergänzt/bearbeitet werden. "]
[null,null,null,null,null,"Datum ","Hier geben Sie das Datum Ihrer Datenerhebung ein. Die Erhebungen sollten möglichst in der Mitte des Sommer- bzw. Winterhalbjahres durchgeführt werden. Die fortlaufenden Erhebungen sollen mindestens einmal jährlich zusammengefasst ausgewertet werden (für Milch- und Mastrinder sollen die Daten z. B. aus HI-Tier für die Tierverluste jeweils für ein abgeschlossenes Kalenderjahr ausgewertet werden, für Milchkühe die MLP-Daten möglichst beim Erhalt des MLP-Jahresberichts)."]
[]
["RD_EINZELAUSWEICH|"]
[null,null,"Hilfeseite „Ausweichdistanz\""]
[null,null,null,null,null,null,"Hier dokumentieren Sie Ihre tierindiviuell ermittelten Ausweichdistanzen für die vorgegebene Stichprobe an Kühen. Im grün hinterlegten Bereich erscheint die automatische Berechnung der Ergebnisse aus den eingetragenen Werten für die Ausweichdistanz, er wird im Ausdruck nicht angezeigt. Die relevanten Ergebnisse aus diesem Formular werden automatisch auf die Seite „Ergebnisse\" übertragen."]
[null,null,null,null,null,"Begriff im Formular","Erläuterung"]
[null,null,null,null,null,"Speichern und schließen","Speichert die eingegebenen Werte einer Erhebung und schließt das Formular. Dabei wird automatisch die ganze Datei gespeichert. Zusätzlich sollten Sie Sicherheitskopien Ihrer Datei anlegen."]
[null,null,null,null,null,"Tier","Laufende Nummer der Kühe, für die die Ausweichdistanz ermittelt werden soll (Anzahl entspricht der ermittelten Stichprobengröße).  "]
[null,null,null,null,null,"Nummer Transponder/Ohrmarke","Frei einzutragende tierindivduelle Kennung (Ohrmarke, Name, Transpondernummer)."]
[null,null,null,null,null,"Gruppenzugehörigkeit","Zur besseren Übersicht können Sie hier Anmerkungen zur Gruppenzughörigkeit der jeweiligen Kuh eintragen. Alle Haltungsgruppen (z. B.Tiere im Transitstall oder extra gehaltene Frischmelker sowie Laktierende und Trockensteher usw.) sollen so berücksichtigt werden, wie in der Stichprobenempfehlung auf dem Blatt „Erhebungen\" empfohlen. "]
[null,null,null,null,null,"Ausweichdistanz","Erläuterung des Indkators siehe „Tierschutzindikatoren: Leitfaden für die Praxis - Rind\", Seite 28. "]
[null,null,null,null,null,"Direkteingabe","Zur direkten Eingabe der Gesamtanzahl der Tiere mit den verschiedenen Boniturnoten (Ausweichdistanz).\nDiese Funktion kann den Übertrag aus einem gedruckten Formular erleichtern. \nAchtung: Eine tierindividuelle Zuordnung ist danach nicht mehr möglich. "]
[]
["RD_EINZEL|RD_MILCH|"]
[null,null,"Hilfeseite „Tierbeurteilung\""]
[null,null,null,null,null,null,"Hier dokumentieren Sie die Tierschutzindikatoren, die Sie in Ihrer Milchviehherde für die vorgegebene Stichprobe erfassen (alle Gruppen, z. B. Leistunggruppen, Trockensteher usw. hintereinander). Sie haben dabei die Möglichkeit, die Ergebnisse der Beurteilung für die einzelnen Tiere Ihrer Stichprobe tierindividuell zu notieren (Tier Nr. 1 ff.) und sich die Summen und Anteile errechnen zu lassen. \nAlternativ können Sie unter „Direkteingabe\" auch nur die bereits summierten Werte aller Tiere einer Stichprobe direkt eingeben. \nIm grün hinterlegten Bereich erscheint die automatische Berechnung der  Ergebnisse aus den eingetragenen Werten für die Tierbeurteilung, er wird im Ausdruck nicht angezeigt. Die relevanten Ergebnisse aus diesem Formular werden automatisch auf die Seite „Ergebnisse\" übertragen."]
[null,null,null,null,null,"Begriff im Formular","Erläuterung"]
[null,null,null,null,null,"Speichern und schließen","Speichert die eingegebenen Werte einer Erhebung und schließt das Formular. Dabei wird automatisch die ganze Datei gespeichert. Zusätzlich sollten Sie Sicherheitskopien Ihrer Datei anlegen."]
[null,null,null,null,null,"Tier","Laufende Nummer der Kühe, für die die Tierbeurteilung durchgeführt werden soll (Anzahl entspricht der ermittelten Stichprobengröße). "]
[null,null,null,null,null,"Nummer Transponder/Ohrmarke","Frei einzutragende tierindivduelle Kennung (Ohrmarke, Name, Transpondernummer)."]
[null,null,null,null,null,"Gruppenzugehörigkeit","Zur besseren Übersicht können Sie hier Anmerkungen zur Gruppenzughörigkeit der jeweiligen Kuh eintragen. Alle Haltungsgruppen (z. B.Tiere im Transitstall oder extra gehaltene Frischmelker sowie Laktierende und Trockensteher usw.) sollen so berücksichtigt weden, wie in der Stichprobenempfehlung auf dem Blatt „Erhebungen\" empfohlen. "]
[null,null,null,null,null,"Anbindehaltung","Für Kühe/Tiergruppen in Anbindung bitte hier 1 = ja angeben, andernfalls 0 = nein angeben. \nDie Eingabe aktiviert die Zellen für die Beurteilung der Lahmheit. "]
[null,null,null,null,null,"Körperkondition","Sie können entweder die einzelnen vier Körperregionen bewerten und das Programm ermittelt automatisch die Gesamtbonitur in der Spalte „Bonitur (gesamt)\" oder Sie vergeben eine Gesamtbonitur je Kuh in der Spalte „Direkteingabe.\" \nErläuterung der Boniturnote / des Indikators siehe „Tierschutzindikatoren: Leitfaden für die Praxis - Rind\", Seite 18 bis 20."]
[null,null,null,null,null,"Verschmutzung","Erläuterung der Boniturnote / des Indikators siehe „Tierschutzindikatoren: Leitfaden für die Praxis - Rind\", Seite 21."]
[null,null,null,null,null,"Integumentschäden","Erläuterung der Boniturnote / des Indikators siehe „Tierschutzindikatoren: Leitfaden für die Praxis - Rind\", Seite 22."]
[null,null,null,null,null,"Klauen","Erläuterung der Boniturnote / des Indikators siehe „Tierschutzindikatoren: Leitfaden für die Praxis - Rind\", Seite 23."]
[null,null,null,null,null,"Lahmheit","Ein roter Feldhintergrund zeigt an, dass noch ein Eintrag in der korrekten Zelle für die Lahmheitsbeurteilung fehlt: Entweder für Laufstall- oder für die Anbindehaltung.\n\nErläuterung der Boniturnote/des Indikators siehe „Tierschutzindikatoren: Leitfaden für die Praxis - Rind\", Seite 24 bis 25."]
[null,null,null,null,null,"Direkteingabe","Zur direkten Eingabe der Gesamtanzahl der Tiere mit den verschiedenen Boniturnoten.  \nDiese Funktion kann den Übertrag aus einem gedruckten Formular erleichtern. \nAchtung: Die tierindividuelle Zuordnung ist danach nicht mehr gegeben und das Gesamtergebnis für Tiere mit Integumentschäden kann nicht mehr errechnet werden. "]
[]
["RD_BUCHT|RD_MILCH|"]
[null,null,"Hilfeseite „Liegeplatz/Aufstehverhalten/Wasserversorgung\""]
[null,null,null,null,null,null,"Hier dokumentieren Sie Ihre Beobachtungen zur Liegeplatznutzung, dem Aufstehverhalten und der Wasserversorgung. Dabei werden getrennte Tiergruppen/Stallabteile jeweils für sich stehend erfasst. \nIm rechten Bereich des Formulars können Sie die automatisch kalkulierten Ergebnisse für die jeweiligen Tiergruppen/Stallabteile sehen. \nIm grün hinterlegten Bereich erscheint die automatische Berechnung der Ergebnisse aus den eingetragenen Werten für die Tierbeurteilung und Wasserversorgung, er wird im Ausdruck nicht angezeigt. \nAuf der „Ergebnisseite\" wird das Gesamtergebnis Ihrer Herde angezeigt. "]
[null,null,null,null,null,"Begriff im Formular","Erläuterung"]
[null,null,null,null,null,"Speichern und schließen","Speichert die eingegebenen Werte einer Erhebung und schließt das Formular. Dabei wird automatisch die ganze Datei gespeichert. Zusätzlich sollten Sie Sicherheitskopien Ihrer Datei anlegen."]
[null,null,null,null,null,"Drucken","Die Funktion „Drucken\" teilt das Formular in ein Erhebungsblatt für die Liegeplatznutzung und das Aufstehverhalten sowie für die Erfassung der Wasserversorgung. "]
[null,null,null,null,null,"Nummer","Fortlaufende Nummer der erfassten Tiergruppen. "]
[null,null,null,null,null,"Gruppe - Bezeichnung","Bezeichnung des Stallabteils/der Gruppe (z. B. Frischmelker, Trockensteher o. Ä.), wenn diese getrennt gehalten werden. "]
[null,null,null,null,null,"Tiere in der Gruppe","Geben Sie hier die Anzahl der Tiere je Stallabteil/ Gruppe ein (wichtig als Bezugsgröße für die Liegeplatznutzung und die Wasserversorgung)."]
[null,null,null,null,null,"Liegeplatznutzung - Tiere auf dem Liegeplatz","„Beurteilte Tiere\" summiert automatisch die Anzahl beurteilter Kühe auf der Liegefläche/in den Boxen auf. \nEin roter Feldhintergrund warnt vor Fehleingaben, z. B. wenn zu viele Tiere eingetragen wurden. \n„Tiere auf dem Liegeplatz\" = alle vollständig oder unvollständig im Liegebereich in den Liegeboxen (d. h. sowohl mit vier als auch mit zwei Beinen) liegenden oder stehenden Kühe.\nErläuterung des Indikators siehe „Tierschutzindikatoren: Leitfaden für die Praxis - Rind\", Seite 26. "]
[null,null,null,null,null,"Aufstehverhalten","„Beurteilte Tiere\" summiert automatisch die Anzahl der in ihrem Aufstehverhalten beurteilten Kühe auf.\nEin roter Feldhintergrund warnt vor Fehleingaben, z. B. wenn zu viele Tiere eingetragen wurden. \nErläuterung des Indikators siehe „Tierschutzindikatoren: Leitfaden für die Praxis - Rind\", Seite 27.\n"]
[null,null,null,null,null,"Wasserversorgung","Sie können entweder die Tränkeart und die gemessene Durchflußrate in 15 Sekunden eingeben und das Programm errechnet automatisch daraus die Beurteilung der Tränke („Urteil\") oder Sie vergeben das Urteil über die Spalte „Direkteingabe\". Bei Gruppen mit mehr als 6 Tränken können Sie die Gruppe auf mehrere Zeilen aufteilen. \n\nSchalentränken: Mit der 1 werten Sie den Durchfluss aller Tränken, an welchen gleichzeitig nur ein Tier trinken kann.\nTrogtränken: Mit der 2 bewerten Sie den Durchfluss aller Tränken, an welchen gleichzeitig theoretisch mehrere Tiere trinken können. \n\nAnbindehaltung: Bei Anbindehaltung muss jedes Tier eine funktionierende Tränke mit entsprechendem Durchfluss zur Verfügung haben. Das Formular bietet im Moment nur die Möglichkeit, die Funktion (richtige Durchflussrate) der einzelnen Tränken zu erfassen. Geben Sie jede Tränke ein und beachten Sie das Ergebnis für \"unzureichende Tränken\". Jedes Tier ohne funktionstüchtige Tränke bzw. mit zu geringer Durchflussrate können Sie als \"unzureichend versorgt\" werten.  \n\nWie die Beurteilung der Wasserversorgung erfolgen soll, entnehmen Sie  „Tierschutzindikatoren: Leitfaden für die Praxis - Rind\", Seite 29.\n"]
[null,null,null,null,null,"Ergebnisse je Gruppe","Ganz rechts auf dem Formular werden die Ergebnisse der einzelnen erfassten Stallabteile/ Gruppen dargestellt."]
[]
["RD_MILCH|MLP_JA|"]
[null,null,"Hilfeseite „Fortlaufende Erhebungen - MLP-Daten/Geburten/Nutzungsdauer/Tierverluste\""]
[null,null,null,null,null,null,"Die meisten der hier abgefragten Indikatoren werden über die MLP (monatliche Berichte sowie Jahresabschluss) standardmäßig dokumentiert bzw. sind über HIT-Abfragen zu ermitteln."]
[null,null,null,null,null,"Begriff im Formular","Erläuterung"]
[null,null,null,null,null,"Speichern und schließen","Speichert die eingegebenen Werte einer Erhebung und schließt das Formular. Dabei wird automatisch die ganze Datei gespeichert. Zusätzlich sollten Sie Sicherheitskopien Ihrer Datei anlegen."]
[null,null,null,null,null,"Milchlistungsprüfung - Zellgehalt","Alle Angaben zu den Zellzahlklassen beziehen sich auf alle laktierenden Milchkühe bzw. wenn angegeben auf erstlaktierende Kühe. Der Anteil Kühe in den einzelnen Zellzahlklassen (in %) sind der monatlichen MLP zu entnehmen. Dort ist ebenfalls der Anteil Kühe in der ersten Laktation mit  ≥  100.000 Zellgehalt ausgewiesen.\nErläuterung des Indikators siehe „Tierschutzindikatoren: Leitfaden für die Praxis - Rind\", Seite 12. "]
[null,null,null,null,null,"Milchlistungsprüfung - Fett-Eiweiß-Quotient (FEQ)","Alle Angaben zu den Tieren mit auffälligem FEQ beziehen sich auf die laktierenden Kühe in den ersten 100 Laktationstagen, daher ist deren Anzahl in die Spalte „Kühe Anzahl\" als Bezuggröße einzutragen. Jeweils daneben sind die Anzahlen dieser frischmelkenden Kühe mit FEQ <1,0 bzw. ≥ 1,5 einzutragen; der Prozentanteil errechnet sich dann automatisch.\nEin roter Feldhintergrund warnt vor Fehleingaben.\nErläuterung des Indikators siehe „Tierschutzindikatoren: Leitfaden für die Praxis - Rind\", Seite 14. "]
[null,null,null,null,null,"Schwergeburtenrate","Entweder pro Monat einzutragen (ein roter Feldhintergrund warnt vor Fehleingaben) oder über Direkteingabe „Schwergeburtenrate\" die im MLP-Bericht oder HI-Tier angegebene Rate (wenn bereits erfasst wird) eintragen. \nErläuterung des Indikators siehe „Tierschutzindikatoren: Leitfaden für die Praxis - Rind\", Seite 15. "]
[null,null,null,null,null,"Nutzungsdauer","Nutzungsdauer der gemerzten Kühe. Geben Sie die entsprechenden Jahreszahlen und die Nutzungsdauer in Monate ein. Sie können die Daten aus den MLP-Berichten oder aus der HI-Tier Abfrage entnehmen. \nErläuterung des Indikators siehe „Tierschutzindikatoren: Leitfaden für die Praxis - Rind\", Seite 16."]
[null,null,null,null,null,"Tierverluste","Mittels HI-Tier Abfrage und der Seite http://www.tschindi.org/ können Sie eine erleichterte Auswertung vornehmen. \nErläuterung des Indikators siehe „Tierschutzindikatoren: Leitfaden für die Praxis - Rind\", Seite 17."]
[]
["RD_MILCH|MLP_NEIN|"]
[null,null,"Hilfeseite „Fortlaufende Erhebungen - MLP-Daten/Geburten/Nutzungsdauer/Tierverluste\""]
[null,null,null,null,null,null,"Die meisten der hier abgefragten Indikatoren werden über die MLP (monatliche Berichte sowie Jahresabschluss) standardmäßig dokumentiert bzw. sind über HIT-Abfragen zu ermitteln."]
[null,null,null,null,null,"Begriff im Formular","Erläuterung"]
[null,null,null,null,null,"Speichern und schließen","Speichert die eingegebenen Werte einer Erhebung und schließt das Formular. Dabei wird automatisch die ganze Datei gespeichert. Zusätzlich sollten Sie Sicherheitskopien Ihrer Datei anlegen."]
[null,null,null,null,null,"Schwergeburtenrate","Entweder pro Monat einzutragen (ein roter Feldhintergrund warnt vor Fehleingaben) oder über Direkteingabe „Schwergeburtenrate\" die im MLP-Bericht oder HI-Tier angegebene Rate (wenn bereits erfasst wird) eintragen. \nErläuterung des Indikators siehe „Tierschutzindikatoren: Leitfaden für die Praxis - Rind\", Seite 15. "]
[null,null,null,null,null,"Nutzungsdauer","Nutzungsdauer der gemerzten Kühe. Geben Sie die entsprechenden Jahreszahlen und die Nutzungsdauer in Monate ein. Sie können die Daten aus den MLP-Berichten oder aus der HI-Tier Abfrage entnehmen. \nErläuterung des Indikators siehe „Tierschutzindikatoren: Leitfaden für die Praxis - Rind\", Seite 16."]
[null,null,null,null,null,"Tierverluste","Mittels HI-Tier Abfrage und der Seite http://www.tschindi.org/ können Sie eine erleichterte Auswertung vornehmen. \nErläuterung des Indikators siehe „Tierschutzindikatoren: Leitfaden für die Praxis - Rind\", Seite 17."]
[null,null,null,null,null,"Mastitisbehandlung","Hier geben Sie die Anzahl Euterbehandlungen je Monat ein. Als Bezugsgröße geben Sie die Gesamtzahl aller Kühe im jeweiligen Kalenderjahr an. "]
[]
[]
["RD_BUCHTKALB|RD_KALB|"]
[null,null,"Hilfeseite „Tierbeurteilung\""]
[null,null,null,null,null,null,"Hier dokumentieren Sie die Tierschutzindikatoren, die Sie bei Ihren Aufzuchtkälbern (bis 6 Monate), ggf. anhand von Stichproben, erfassen. Sie sollten zu Übersichtszwecken alle Einzelbuchten, -iglus und Gruppenbuchten, -iglus sowie die Stallabteile der älteren Kälber einzeln auflisten und angeben, wie viele Kälber dort jeweils untergebracht sind.\nIm grün hinterlegten Bereich erscheint die automatische Berechnung der Ergebnisse aus den eingetragenen Werten für die Tierbeurteilung, er wird im Ausdruck nicht angezeigt. Die relevanten Ergebnisse aus diesem Formular werden automatisch auf die Seite „Ergebnisse\" übertragen."]
[null,null,null,null,null,"Begriff im Formular","Erläuterung"]
[null,null,null,null,null,"Speichern und schließen","Speichert die eingegebenen Werte einer Erhebung und schließt das Formular. Dabei wird automatisch die ganze Datei gespeichert. Zusätzlich sollten Sie Sicherheitskopien Ihrer Datei anlegen."]
[null,null,null,null,null,"Buchten","Anzahl insgesamt beurteilter Buchten (max. 100). Die Größe des Formulars wird automatisch angepasst."]
[null,null,null,null,null,"Nummer","Fortlaufende Nummer der erfassten Bucht. "]
[null,null,null,null,null,"Buchtbezeichnung","Frei einzutragende Bezeichnung der Box/Gruppe/Bucht/ des Stallabteils (z. B. „EI 3 = Einzeliglu 3, EB 1 = Einzelbox 1 GI 1 = Gruppeniglu 1, GB 2 = Gruppenbox 2 usw.). "]
[null,null,null,null,null,"Gruppenhaltung","Geben Sie ein, ob in der Bucht Kälber in Gruppen gehalten werden.\n0 = nein / 1 = ja\nIn allen Gruppenbuchten ist der Indikator „Gegenseitiges Besaugen\" zu erfassen. "]
[null,null,null,null,null,"Bucht mit Einstreu?","Geben Sie an, ob in der Bucht Einstreu vorhanden ist. \n0 = nein/1 = ja\nIn allen eingestreuten Buchten ist der Indikator „Einstreumanagement\" zu erfassen. \nAuch Buchten mit eingestreuten Liegeboxen sind zu erfassen. "]
[null,null,null,null,null,"Tier in Bucht","Gesamtanzahl Kälber pro Box/Gruppe/Bucht."]
[null,null,null,null,null,"Verschmutzung - Beurteilte Kälber","Anzahl Kälber, deren Verschmutzung in den einzelnen Gruppen beurteilt wurde. Diese Anzahl kann von der Gesamtanzahl abweichen und kleiner sein, wenn in der Stichprobenempfehlung auf der Seite „Erhebungen\" ein Vorschlag für eine Stichprobe gemacht wird.\nEin roter Feldhintergrund warnt vor Fehleingaben z. B. wenn zu viele Tiere eingetragen wurden. "]
[null,null,null,null,null,"Verschmutzung - Verschmutzte Kälber","Erläuterung des Indikators siehe „Tierschutzindikatoren: Leitfaden für die Praxis - Rind\", Seite 35."]
[null,null,null,null,null,"Einstreumanagement","Nur in Gruppen/Buchten mit Einstreu zu erheben.\n„Anzahl liegender Kälber\" - Tragen Sie hier die Anzahl liegender Kälber ein, die beurteilt werden, damit diese Bezugsgröße zur Errechnung des Ergebnisses des Einstreumanagements erfolgen kann. Falls Sie einzelne Kälber nicht beurteilen können, da sie z. B. von anderen Tieren verdeckt sind, lassen sie diese hier weg. \nDie Summe der Kälber mit Nesting Score 1,  2 oder 3 muss der Gesamtanzahl liegender (bzw. beurteilbarer) Kälber in der Gruppe/Bucht entsprechen (ansonsten erscheinen die Felder rot).\nErläuterung der Boniturnote/des Indikators siehe „Tierschutzindikatoren: Leitfaden für die Praxis - Rind\", Seite 36."]
[null,null,null,null,null,"Unterentwickelte Kälber","Erläuterung des Indikators siehe „Tierschutzindikatoren: Leitfaden für die Praxis - Rind\", Seite 37."]
[null,null,null,null,null,"Gegenseitiges Besaugen/Nasenklammern","Nur in Buchten mit Gruppenhaltung zu erheben.\nErläuterung des Indikators siehe „Tierschutzindikatoren: Leitfaden für die Praxis - Rind\", Seite 38."]
[]
["RD_HORN|"]
[null,null,"Hilfeseite „Fortlaufende Erhebungen - Komplikationen nach der Enthornung\""]
[null,null,null,null,null,null,"Hier dokumentieren Sie, ob und welche Komplikationen zwei Wochen nach dem Enthornen der Aufzuchtkälber auftreten.\nZwei Blätter mit jeweils der Möglichkeit zur Erfassung von 40 Kälbern sind vorbereitet. Um neue Blätter hinzuzufügen drücken Sie „Neues Blatt hinzufügen\" am Registerblatt „Erhebungen\".  Das Gesamtergebnis wird aus allen Einzelblättern generiert.\nAlternativ können Sie unter „Direkteingabe\" auch nur die bereits summierten Werte aller Kälber (einer Enthornungsgruppe) direkt eingeben. \nIm grün hinterlegten Bereich erscheint die automatische Berechnung der Ergebnisse aus den eingetragenen Werten für die Tierbeurteilung, er wird im Ausdruck nicht angezeigt. Die relevanten Ergebnisse aus diesem Formular werden automatisch auf die Seite \"Ergebnisse\" übertragen."]
[null,null,null,null,null,"Begriff im Formular","Erläuterung"]
[null,null,null,null,null,"Speichern und schließen","Speichert die eingegebenen Werte einer Erhebung und schließt das Formular. Dabei wird automatisch die ganze Datei gespeichert. Zusätzlich sollten Sie Sicherheitskopien Ihrer Datei anlegen."]
[null,null,null,null,null,"Datum der Enthornung","Geben Sie das Datum der Enthorung je Kalb ein und nehmen Sie die Beurteilung nach Komplikationen zwei Wochen später vor. "]
[null,null,null,null,null,"Nummer Ohrmarke","Ohrmarkennummer, sonstige Nummer oder Name des Kalbs"]
[null,null,null,null,null,"Komplikationen (nach 2 Wochen)","0 = nein 1 = ja\nErläuterung des Indikators siehe „Tierschutzindikatoren: Leitfaden für die Praxis - Rind\", Seite 39."]
[null,null,null,null,null,"Anmerkungen","Ggf. können Sie Anmerkungen zur Art der Komplikation zwecks besserer Zuordnung vornehmen. "]
[null,null,null,null,null,"Direkteingabe","Hier können Sie die bereits summierten Werte aller Kälber eines Datenblattes direkt eingeben. "]
[]
["RD_KALB|RD_KALB|"]
[null,null,"Hilfeseite „Fortlaufende Erhebungen - Behandlungen/Tierverluste\""]
[null,null,null,null,null,null,"Hier dokumentieren Sie die Anzahl Kälber, die in den einzelnen Monaten wegen Atemwegs- sowie Durchfallerkrankungen behandelt wurden. Die Tierverlustraten für die Altersgruppen 7 Tage bis 12 Wochen sowie > 12 Wochen bis 6 Monate notieren Sie hier ebenfalls.\nIm grün hinterlegten Bereich erscheint die automatische Berechnung der Ergebnisse aus den eingetragenen Werten für die Tierbeurteilung; er wird im Ausdruck nicht angezeigt. Die relevanten Ergebnisse aus diesem Formular werden automatisch auf die Seite „Ergebnisse\" übertragen."]
[null,null,null,null,null,"Begriff im Formular","Erläuterung"]
[null,null,null,null,null,"Speichern und schließen","Speichert die eingegebenen Werte einer Erhebung und schließt das Formular. Dabei wird automatisch die ganze Datei gespeichert. Zusätzlich sollten Sie Sicherheitskopien Ihrer Datei anlegen."]
[null,null,null,null,null,"Anzahl Kälber im Zeitraum","Gesamtanzahl der Aufzuchtkälber im betrachteten Zeitraum/Jahr. "]
[null,null,null,null,null,"Atemwegserkrankungen","Geben Sie die Anzahl Atemwegsbehandlungen je Monat ein. \nErläuterung des Indikators siehe „Tierschutzindikatoren: Leitfaden für die Praxis - Rind\", Seite 32."]
[null,null,null,null,null,"Durchfallerkrankungen","Geben Sie die Anzahl Durchfallsbehandlungen je Monat ein. \nErläuterung des Indikators siehe „Tierschutzindikatoren: Leitfaden für die Praxis - Rind\", Seite 33."]
[null,null,null,null,null,"Tierverluste","Mittels HI-Tier Abfrage und der Seite http://www.tschindi.org/ können Sie eine erleichterte Auswertung vornehmen. \nErläuterung des Indikators siehe „Tierschutzindikatoren: Leitfaden für die Praxis - Rind\", Seite 34."]
[]
["RD_EINZEL|RD_MAST|"]
[null,null,"Hilfeseite „Tierbeurteilung\""]
[null,null,null,null,null,null,"Hier dokumentieren Sie die Tierschutzindikatoren, die Sie bei Ihren Mastrindern anhand von Stichproben erfassen. Sie haben dabei die Möglichkeit, die Tierbeurteilung für die Tiere der Stichprobe tierindviduell einzeln zu notieren (Tier Nr. 1 ff.) und sich die Summen errechnen zu lassen. Zur besseren Übersicht bietet es sich an, dass Sie jeweils notieren, in welcher Gruppe/Bucht das beurteilte Tier steht.\nAlternativ können Sie unter „Direkteingabe\" auch nur die bereits summierten Werte aller Tiere einer Stichprobe direkt eingeben. \nIm grün hinterlegten Bereich erscheint die automatische Berechnung der Ergebnisse aus den eingetragenen Werten für die Tierbeurteilung, er wird im Ausdruck nicht angezeigt. Die relevanten Ergebnisse aus diesem Formular werden automatisch auf die Seite „Ergebnisse\" übertragen.\nAllgemeiner Hinweis: Die Beurteilung der Mastrinder soll stehts vom Futtertisch aus erfolgen, die Buchten sollen nicht betreten werden. Nach Möglichkeit sollte die Entfernung zu den zu beurteilenden Mastrindern nicht mehr als 2 m betragen."]
[null,null,null,null,null,"Begriff im Formular","Erläuterung"]
[null,null,null,null,null,"Speichern und schließen","Speichert die eingegebenen Werte einer Erhebung und schließt das Formular. Dabei wird automatisch die ganze Datei gespeichert. Zusätzlich sollten Sie Sicherheitskopien Ihrer Datei anlegen."]
[null,null,null,null,null,"Tier","Laufende Nummer der Mastrinder, für die die Tierbeurteilung durchgeführt werden soll (Anzahl entspricht der Stichprobengröße). "]
[null,null,null,null,null,"Ohrmarkennnummer","Frei einzutragende tierindividuelle Kennung (Ohrmarke, Name, sonstige Nummer)."]
[null,null,null,null,null,"Bucht","Hier sollte zu Übersichtszwecken die Gruppe/Bucht/das Stallabteil aufgeführt werden, in dem das beurteilte Tier steht (z. B.  „Bullenbucht 5\", „Färsenbucht 1\", oder „Liegeboxenstall - Ochsen\"). Alle Haltungsgruppen sollten so berücksichtigt werden, wie in der Stichprobenempfehlung auf dem Blatt „Erhebungen\" empfohlen."]
[null,null,null,null,null,"Nasenausfluss","Erläuterung der Boniturnote/des Indikators siehe „Tierschutzindikatoren: Leitfaden für die Praxis - Rind\", Seite 43."]
[null,null,null,null,null,"Körperkondition","Erläuterung der Boniturnote/des Indikators siehe „Tierschutzindikatoren: Leitfaden für die Praxis - Rind\", Seite 44."]
[null,null,null,null,null,"Verschmutzung","Erläuterung der Boniturnote/des Indikators siehe „Tierschutzindikatoren: Leitfaden für die Praxis - Rind\", Seite 45"]
[null,null,null,null,null,"Integumentschäden","Erläuterung der Boniturnote/des Indikators siehe „Tierschutzindikatoren: Leitfaden für die Praxis - Rind\", Seite 46 bis 47."]
[null,null,null,null,null,"Klauen","Erläuterung der Boniturnote/des Indikators siehe „Tierschutzindikatoren: Leitfaden für die Praxis - Rind\", Seite 48."]
[null,null,null,null,null,"Lahmheit","Erläuterung der Boniturnote/des Indikators siehe „Tierschutzindikatoren: Leitfaden für die Praxis - Rind\", Seite 49."]
[null,null,null,null,null,"Direkteingabe","Zur direkten Eingabe der Gesamtanzahl von Tieren mit den verschiedenen Boniturnoten (für den jeweiligen Indikator).\nDiese Funktion kann den Übertrag aus einem gedruckten Formular erleichtern. \nAchtung: Die tierindividuelle Zuordnung ist danach nicht mehr gegeben und das Gesamtergebnis für Tiere mit Integumentschäden kann nicht mehr errechnet werde. "]
[]
["RD_BUCHT|RD_MAST|"]
[null,null,"Hilfeseite „Fläche/Wasserversorgung/Zungenrollen\""]
[null,null,null,null,null,null,"Hier tragen Sie die Flächen der einzelnen Mastrinderbuchten/-abteile sowie Ihre Ergebnisse zur Wasserversorgung ein. Diese werden für alle Stallabteile/Gruppen getrennt ermittelt. \nIm rechten Bereich des Formulars können sie die automatisch kalkulierten Ergebnisse für die jeweiligen Tiergruppen/Stallabteile ersehen. \nIm grün hinterlegten Bereich erscheint die automatische Berechnung der Ergebnisse aus den eingetragenen Werten für das Flächenangebot, die Wasserversorgung sowie zu den Beobachtungen von Zungenrollen, er wird im Ausdruck nicht angezeigt. Die relevanten Ergebnisse aus diesem Formular werden automatisch auf die Seite „Ergebnisse\" übertragen.\nAuf der „Ergebnisseite\" wird das Gesamtergebnis ihrer Herde angezeigt. \nAllgemeiner Hinweis: Die Beurteilung der Mastrinder soll stets vom Futtertisch aus erfolgen, die Buchten sollen nicht betreten werden. Nach Möglichkeit sollte die Entfernung zu den zu beurteilenden Mastrindern nicht mehr als 2 m betragen."]
[null,null,null,null,null,"Begriff im Formular","Erläuterung"]
[null,null,null,null,null,"Speichern und schließen","Speichert die eingegebenen Werte einer Erhebung und schließt das Formular. Dabei wird automatisch die ganze Datei gespeichert. Zusätzlich sollten Sie Sicherheitskopien Ihrer Datei anlegen."]
[null,null,null,null,null,"Zungenrollen","Anzahl insgesamt beobachteter Mastrinder als Bezugsgröße für die Anzahl Tiere, die in 30 Minuten beim Zungenrollen/Zungenschlagen beobachtet wurden. \nErläuterung des Indikators siehe „Tierschutzindikatoren: Leitfaden für die Praxis - Rind\", Seite 50"]
[null,null,null,null,null,"Buchten ","Anzahl insgesamt beurteilter Buchten (max. 100). Die Größe des Formulars wird automatisch angepasst."]
[null,null,null,null,null,"Nummer","Laufende Nummer der Buchten, für die die Flächen und Wasserversorgung beurteilt wird."]
[null,null,null,null,null,"Maststufe","Bitte ordnen Sie die Buchten verschiedenen Maststufen zu. Diese Angabe wird für die Darstellung des Flächenangebotes benötigt. \nA = Anfangsmast (bis 400 kg LM, M = Mittelmast (> 400 bis 600 kg LM), E = Endmast (> 600 kg LM),\nsiehe „Tierschutzindikatoren: Leitfaden für die Praxis - Rind\", Seite 51"]
[null,null,null,null,null,"Bezeichnung","Bezeichnung der Bucht bzw. des Stallabteils (z. B. „Bullenbucht 5\", „Färsenbucht 1\" oder „Liegeboxen - Ochsen\")"]
[null,null,null,null,null,"Tiere in der Bucht","Anzahl Tiere in der Bucht (wichtig als Bezugsgröße für das Flächenangebot sowie der Wasserversorgung)"]
[null,null,null,null,null,"Flächenangebot ","Sie können entweder Breite und Länge der Bucht (in Metern) eintragen und die Fläche wird automatisch errechnet, oder Sie geben die Fläche der Bucht (in Quadratmeter) ein. \nErläuterung des Indikators siehe „Tierschutzindikatoren: Leitfaden für die Praxis - Rind\", Seite 51."]
[null,null,null,null,null,"Wasserversorgung","\nSie können entweder die Tränkeart und die gemessene Durchflussrate in 15 Sekunden eingeben und das Programm errechnet automatisch daraus die Beurteilung der Tränke („Urteil\") oder Sie vergeben das Urteil über die Spalte „Direkteingabe\". Bei Gruppen mit mehr als 6 Tränken können Sie die Gruppe auf mehrere Zeilen aufteilen. \n\nSchalentränken: Mit der 1 werten Sie den Durchfluss aller Tränken, an denen gleichzeitig nur ein Tier trinken kann.\nTrogtränken: Mit der 2 bewerten Sie den Durchfluss aller Tränken, an denen gleichzeitig theoretisch mehrere Tiere trinken können. \n\nAnbindehaltung: Bei Anbindehaltung muss jedes Tier eine funktionierende Tränke mit entsprechendem Durchfluss zur Verfügung haben. Das Formular bietet im Moment nur die Möglichkeit, die Funktion (richtige Durchflussrate) der einzelnen Tränken zu erfassen. Geben Sie jede Tränke ein und beachten Sie das Ergebnis für „unzureichende Tränken\". Jedes Tier ohne funktionstüchtige Tränke bzw. mit zu geringer Durchflussrate können Sie als „unzureichend versorgt\" werten.   \n\nWie die Beurteilung der Wasserversorgung erfolgen soll, entnehmen Sie der Erläuterung siehe „Tierschutzindikatoren: Leitfaden für die Praxis - Rind\", Seite 52."]
[null,null,null,null,null,"Ergebnisse je Bucht","Ganz rechts auf dem Formular werden die Ergebnisse der einzelnen erfassten Buchten/Stallabteile dargestellt."]
[]
["RD_VERLUSTE|RD_MAST|"]
[null,null,"Hilfeseite „Fortlaufende Erhebungen - Tierverluste\""]
[]
[null,null,null,null,null,"Begriff im Formular","Erläuterung"]
[null,null,null,null,null,"Speichern und schließen","Speichert die eingegebenen Werte einer Erhebung und schließt das Formular. Dabei wird automatisch die ganze Datei gespeichert. Zusätzlich sollten Sie Sicherheitskopien Ihrer Datei anlegen."]
[null,null,null,null,null,"Tierverluste","Mittels HI-Tier Abfrage und der Seite http://www.tschindi.org/ können Sie eine erleichterte Auswertung vornehmen. \nErläuterung des Indikators siehe „Tierschutzindikatoren: Leitfaden für die Praxis - Rind\", Seite 42."]
[]
["RD_ERGEBNISSE|ERGEBNISSE|RD_MILCH"]
[null,null,"Hilfeseite „Ergebnisse / Ergebnisse Übersicht\""]
[null,null,null,null,null,null,"Die Ergebnisseite ist eine Übersichtsseite mit allen relevanten Ergebnissen eines Erhebungszeitraums. Dafür werden für jeden Tierschutzindikator die relevanten Ergebnisse aus den von Ihnen eingegebenen Daten aus den jeweiligen Formularen  generiert. Sie können sich diese Ergebnisseite ausdrucken und in Ihren Unterlagen abheften. Sobald  auch Ergebnisseiten aus Folgeerhebungen vorliegen, können Sie anhand dieser Übersichtsseiten den zeitlichen Verlauf der Indikatorausprägungen gut nachvollziehen.\nAlle Formeln für die Berechnung der Ergebnisse siehe: „Tierschutzindikatoren: Leitfaden für die Praxis - Rind\""]
[null,null,null,null,null,"Begriff im Formular","Erläuterung"]
[null,null,null,null,null,"Erhebung auswählen","Wählen Sie die Erhebung aus, für die Sie die Ergebnisse betrachten wollen. Zum Anzeigen klicken Sie auf „auswerten …\"."]
[null,null,null,null,null,"auswerten …","Damit aktualisieren Sie die Seite „Ergebnisse Übersicht\" des von Ihnen ausgewählten Erhebungszeitraums."]
[null,null,null,null,null,"Ergebnisse","Die gemäß Leitfaden relevanten Ergebnisse für jeden Tierschutzindikator, jeweils in der angegebenen Einheit."]
[null,null,null,null,null,"Beurteilte Tiere (insgesamt)","Anzahl der beurteilten Tiere je Indikator."]
[null,null,null,null,null,"Unzureichende Tränken","Tränken mit zu geringer Durchflussrate oder nicht funktionsfähige Tränken. \nErläuterung der Bewertung siehe „Tierschutzindikatoren: Leitfaden für die Praxis - Rind\", Seite 29 bzw. 52."]
[null,null,null,null,null,"Unzureichend versorgte Tiere","Anzahl Tiere mit nicht ausreichendem Angebot an Tränken. Tränken mit zu geringer Durchflussrate werden als fehlende Tränken gewertet. "]
[]
["RD_ERGEBNISSE|ERGEBNISSE|RD_MAST"]
[null,null,"Hilfeseite „Ergebnisse / Ergebnisse Übersicht\""]
[null,null,null,null,null,null,"Die Ergebnisseite ist eine Übersichtsseite mit allen relevanten Ergebnissen eines Erhebungszeitraums. Dafür werden für jeden Tierschutzindikator die relevanten Ergebnisse aus den von Ihnen eingegebenen Daten aus den jeweiligen Formularen  generiert. Sie können sich diese Ergebnisseite ausdrucken und in Ihren Unterlagen abheften. Sobald  auch Ergebnisseiten aus Folgeerhebungen vorliegen, können Sie anhand dieser Übersichtsseiten den zeitlichen Verlauf der Indikatorausprägungen gut nachvollziehen.\nAlle Formeln für die Berechnung der Ergebnisse siehe: „Tierschutzindikatoren: Leitfaden für die Praxis - Rind\""]
[null,null,null,null,null,"Begriff im Formular","Erläuterung"]
[null,null,null,null,null,"Erhebung auswählen","Wählen Sie die Erhebung aus, für die Sie die Ergebnisse betrachten wollen. Zum Anzeigen klicken Sie auf „auswerten …\"."]
[null,null,null,null,null,"auswerten …","Damit aktualisieren Sie die Seite „Ergebnisse Übersicht\" des von Ihnen ausgewählten Erhebungszeitraums."]
[null,null,null,null,null,"Ergebnisse","Die gemäß Leitfaden relevanten Ergebnisse für jeden Tierschutzindikator, jeweils in der angegebenen Einheit."]
[null,null,null,null,null,"Beurteilte Tiere (insgesamt)","Anzahl der beurteilten Tiere je Indikator."]
[null,null,null,null,null,"Unzureichende Tränken","Tränken mit zu geringer Durchflussrate oder nicht funktionsfähige Tränken. \nErläuterung der Bewertung siehe „Tierschutzindikatoren: Leitfaden für die Praxis - Rind\", Seite 29 bzw. 52."]
[null,null,null,null,null,"Unzureichend versorgte Tiere","Anzahl Tiere mit nicht ausreichendem Angebot an Tränken. Tränken mit zu geringer Durchflussrate werden als fehlende Tränken gewertet. "]
[]
[]
[]
["RD_ERGEBNISSE|ERGEBNISSE|RD_KALB"]
[null,null,"Hilfeseite „Ergebnisse / Ergebnisse Übersicht\""]
[null,null,null,null,null,null,"Die Ergebnisseite ist eine Übersichtsseite mit allen relevanten Ergebnissen eines Erhebungszeitraums. Dafür werden für jeden Tierschutzindikator die relevanten Ergebnisse aus den von Ihnen eingegebenen Daten aus den jeweiligen Formularen  generiert. Sie können sich diese Ergebnisseite ausdrucken und in Ihren Unterlagen abheften. Sobald  auch Ergebnisseiten aus Folgeerhebungen vorliegen, können Sie anhand dieser Übersichtsseiten den zeitlichen Verlauf der Indikatorausprägungen gut nachvollziehen.\nAlle Formeln für die Berechnung der Ergebnisse siehe: „Tierschutzindikatoren: Leitfaden für die Praxis - Rind\""]
[null,null,null,null,null,"Begriff im Formular","Erläuterung"]
[null,null,null,null,null,"Erhebung auswählen","Wählen Sie die Erhebung aus, für die Sie die Ergebnisse betrachten wollen. Zum Anzeigen klicken Sie auf „auswerten …\"."]
[null,null,null,null,null,"auswerten …","Damit aktualisieren Sie die Seite „Ergebnisse Übersicht\" des von Ihnen ausgewählten Erhebungszeitraums."]
[null,null,null,null,null,"Ergebnisse","Die gemäß Leitfaden relevanten Ergebnisse für jeden Tierschutzindikator, jeweils in der angegebenen Einheit."]
[null,null,null,null,null,"Beurteilte Tiere (insgesamt)","Anzahl der beurteilten Tiere je Indikator."]
[]
[]
["ENDEDATEN"]

{"sheet":"Impressum","index":37,"n_rows":45,"n_cols":4,"rows_kept":45,"cut":false,"hidden":false,"merged":[]}
[]
[]
[]
[]
[]
[null,"Fachliche Inhalte „Eigenkontrolle Rind“ "]
[null,null,"Kornel Cimer, Dr. Solveig March, Dr. Jan Brinkmann. Thünen-Institut für Ökologischen Landbau, Bundesforschungsinstitut für Ländliche Räume, Wald und Fischerei, Trenthorst 32, 23847 Westerau"]
[null,null,"Auf Basis von: Brinkmann, J.; Ivemeyer, S.; Pelzer, A.; Winckler, C.; Zapf, R. (2016): Tierschutzindikatoren: Leitfaden für die Praxis – Rind. Vorschläge für die Produktionsrichtungen Milchkuh, Aufzuchtkalb, Mastrind. KTBL-Sonderveröffentlichung 12616, Darmstadt, KTBL e.V."]
[]
[null,"Fachliche Inhalte „Eigenkontrolle Schwein“"]
[null,null,"Dr. Antje Schubbert, Dr. Lars Schrader, Friedrich-Loeffler-Institut, Bundesforschungsinstitut für Tiergesundheit, Institut für Tierschutz und Tierhaltung, Dörnbergstr. 25–27, 29223 Celle"]
[null,null,"Auf Basis von: Schrader, L.; Czycholl, I.; Krieter, J.; Leeb C.; Zapf, R.; Ziron, M. (2016): Tierschutzindikatoren: Leitfaden für die Praxis – Schwein. Vorschläge für die Produktionsrichtungen Sauen, Saugferkel, Aufzuchtferkel und Mastschweine. KTBL-Sonderveröffentlichung 12617, Darmstadt, KTBL e.V."]
[]
[null,"Fachliche Inhalte „Eigenkontrolle Geflügel“"]
[null,null,"Sarina Fetscher, Daniel Gieseke, Prof. Dr. Ute Knierim, Universität Kassel, Fachbereich Ökologische Agrarwissenschaften, Fachgebiet Nutztierethologie und Tierhaltung, Nordbahnhofstr. 1a, 37213 Witzenhausen"]
[null,null,"Auf Basis von: Knierim, U.; Andersson, R.; Keppler, C.; Petermann, S.; Rauch, E.; Spindler, B.; Zapf, R. (2016): Tierschutzindikatoren: Leitfaden für die Praxis – Geflügel. Vorschläge für die Produktionsrichtungen Jung- und Legehenne, Masthuhn, Mastpute. KTBL-Sonderveröffentlichung 12618, Darmstadt, KTBL e.V."]
[]
[null,"Redaktion"]
[null,null,"Rita Zapf, KTBL Darmstadt"]
[]
[null,"Programmierung"]
[null,null,"Dr. Ralf Uhte, Hannover",{"$f":"\"Version: 1.\" & Intern_Version","v":"Version: 1.17"}]
[]
[null,"Impressum"]
[]
[null,"Kuratorium für Technik und Bauwesen in der Landwirtschaft e. V. (KTBL)"]
[null,null,"Bartningstraße 49, 64289 Darmstadt"]
[null,null,"Tel.: +49 6151 7001-0, Fax: +49 6151 7001-123, E-Mail: ktbl‎@‎ktbl.de"]
[null,null,"eingetragen im Vereinsregister beim Amtsgericht Darmstadt, Aktenzeichen 8 VR 1351"]
[]
[null,"Vereinspräsident"]
[null,null,"Prof. Dr. Eberhard Hartung"]
[]
[null,"Hauptgeschäftsführer"]
[null,null,"Dr. Martin Kunisch"]
[]
[null,"Verantwortlich im Sinne des Presserechts"]
[null,null,"Dr. Martin Kunisch"]
[]
[null,"Haftungsausschluss und Rechte"]
[null,null,"Das KTBL übernimmt keinerlei Gewähr für Aktualität, Vollständigkeit, Fehlerfreiheit und Funktionalität der bereitgestellten Informationen und Datenbanken. Die Freiheit sämtlicher Online-Angebote von Viren und/oder sonstigen Beeinträchtigungen wird nicht garantiert. Das KTBL behält es sich ausdrücklich vor, Teile der Seiten oder das gesamte Angebot ohne gesonderte Ankündigung zu verändern, zu ergänzen, zu löschen oder die Veröffentlichung zeitweise oder endgültig einzustellen. Ein Nutzeranspruch auf ständige Bereitstellung besteht nicht. Fremde Seiten, zu denen Verknüpfungen (Links) bestehen, liegen ausschließlich in der Verantwortung des jeweiligen Anbieters (Urteil vom 12. Mai 1998, Az.: 312085/98, LG Hamburg)."]
[]
[null,null,"Das KTBL garantiert nicht, dass diese Seiten einwandfrei sind und immer funktionieren. Für Schäden, die durch die Nutzung der Internetseiten entstehen, sowie für Entscheidungen, die auf Basis der bereitgestellten Informationen und Datenbanken getroffen werden, und deren Folgen schließt das KTBL jegliche Haftung aus."]
[]
[null,null,"© 2017 KTBL, Darmstadt. Alle Rechte vorbehalten. Die Weitergabe oder Vervielfältigung der Anwendung sowie Teilen davon ist ohne Zustimmung des KTBL urheberrechtswidrig und strafbar."]